{"text_format":"1","workbook":"xlsx","n_sheets":11,"sheets":["INICIO","Modificacion","Patrones Cubrimiento","Patrones Punto a Punto","Transmoviles","cubrimiento","enlace","Validaciones","Control de Cambios","DANE-Municipios","DANE-OK"],"not_rendered":{"charts":0,"images":12,"macros":1,"external_links":0,"defined_names":71,"comments":2,"pivot_tables":0},"unopened":[],"bounds":{"document_bytes":16777216,"sheet_cells":100000,"rows_first":2000,"rows_last":500,"rows_between":2000,"halvings":0,"cell_chars":16384,"cell_head_chars":4096},"cells_cut":0,"cells_raw":0,"read":"row_number_cap","date_system":"1900"}

{"sheet":"INICIO","index":0,"n_rows":21,"n_cols":10,"rows_kept":21,"cut":false,"hidden":false,"merged":[[20,0,21,0],[6,0,8,7],[14,1,16,2],[18,1,18,2],[14,0,16,0],[20,1,21,2]]}
[]
[]
[]
[]
[]
["Version 2.0"]
["SELECCIONE EL PROCEDIMIENTO A REALIZAR"]
[]
[]
[]
[]
[]
["Modificación de Parametros Técnicos ó Solicitud de Aprobación de los Parametros Tecnicos para el Otorga de la Concesión",null,null,null,null,null,null,null,null,1]
[null,null,null,null,null,null,null,null,null,0]
["Presentación de los Patrones de Radiación de acuerdo al periodo de Transición estipulado en el Plan Técnico Nacional de Radiodifusión Sonora",null,null,null,null,null,null,null,null,0]
[null,null,null,null,null,null,null,null,null,0]
[]
[]
["Solicitud de Frecuencias para operación de Transmoviles"]
[]
["Procedimientos ANE"]

{"sheet":"Modificacion","index":1,"n_rows":308,"n_cols":27,"rows_kept":308,"cut":false,"hidden":false,"merged":[[56,1,56,2],[58,3,58,5],[94,4,94,5],[69,0,70,0],[69,1,70,8],[167,1,167,2],[168,1,168,2],[169,1,169,2],[75,0,80,0],[149,6,149,7],[94,6,94,7],[72,1,73,1],[76,3,80,3],[76,4,80,4],[142,6,142,7],[143,6,143,7],[144,6,144,7],[139,1,139,2],[140,1,140,2],[114,7,121,7],[76,7,80,8],[75,5,75,6],[93,4,93,5],[93,6,93,7],[104,3,105,3],[104,4,105,4],[73,5,73,6],[71,7,74,8],[138,6,138,7],[137,6,137,7],[141,1,141,2],[104,2,105,2],[76,1,80,1],[156,6,156,7],[157,6,157,7],[158,6,158,7],[159,6,159,7],[134,0,134,8],[123,0,132,7],[151,1,151,2],[81,1,81,8],[104,5,105,6],[145,6,145,7],[147,6,147,7],[148,6,148,7],[114,8,121,8],[150,6,150,7],[152,1,152,2],[140,6,140,7],[108,0,108,4],[101,0,101,8],[102,0,102,8],[104,0,105,0],[104,1,105,1],[109,5,109,7],[110,5,110,7],[93,1,94,2],[30,7,31,8],[34,1,34,6],[109,2,110,2],[139,6,139,7],[56,3,56,7],[57,3,57,7],[96,4,96,5],[20,1,20,2],[37,0,37,8],[39,1,40,1],[55,1,55,2],[55,0,58,0],[39,4,39,5],[40,4,40,5],[42,4,42,5],[51,0,52,0],[72,4,73,4],[135,0,135,8],[136,0,136,3],[137,1,137,2],[138,1,138,2],[112,0,112,8],[136,5,136,8],[106,5,106,6],[6,0,8,8],[45,0,45,8],[89,0,89,3],[89,4,89,7],[88,0,88,7],[61,0,61,7],[62,0,62,3],[62,4,62,7],[68,0,68,8],[72,0,73,0],[86,0,86,8],[87,0,87,8],[24,0,26,0],[27,0,27,8],[28,0,28,8],[10,0,10,8],[12,4,12,6],[72,3,73,3],[75,7,75,8],[14,1,14,4],[18,1,18,4],[22,1,22,4],[26,2,26,4],[76,5,80,6],[201,0,202,1],[184,0,185,1],[164,6,164,7],[160,6,160,7],[161,6,161,7],[146,6,146,7],[153,6,153,7],[154,6,154,7],[155,6,155,7],[147,1,147,2],[148,1,148,2],[149,1,149,2],[153,1,153,2],[154,1,154,2],[150,1,150,2],[162,6,162,7],[155,1,155,2],[156,1,156,2],[163,6,163,7],[157,1,157,2],[158,1,158,2],[165,6,165,7],[166,6,166,7],[167,6,167,7],[218,3,222,3],[218,4,222,4],[217,0,222,0],[217,5,217,6],[217,7,217,8],[218,5,222,6],[218,7,222,8],[223,1,223,8],[227,0,227,8],[226,0,226,8],[248,7,248,8],[243,3,243,4],[159,1,159,2],[196,0,196,3],[196,4,196,7],[178,0,178,7],[179,0,179,3],[179,4,179,7],[174,0,174,8],[173,0,173,8],[165,1,165,2],[168,6,168,7],[169,6,169,7],[171,4,171,7],[176,3,176,4],[176,1,176,2],[175,0,175,2],[160,1,160,2],[161,1,161,2],[162,1,162,2],[218,1,222,1],[231,0,238,0],[209,2,209,7],[238,1,238,2],[242,0,246,0],[242,1,242,2],[242,3,242,4],[242,5,242,6],[242,7,242,8],[238,3,238,4],[234,5,235,6],[236,5,237,6],[232,5,232,6],[239,1,239,6],[240,1,240,7],[233,5,233,6],[238,5,238,6],[233,3,233,4],[234,1,235,2],[232,7,238,8],[243,1,243,2],[243,7,246,8],[232,1,232,2],[233,1,233,2],[232,3,232,4],[298,3,298,4],[248,0,250,0],[249,5,249,6],[250,1,250,2],[250,3,250,4],[250,5,250,6],[244,1,244,2],[244,3,244,4],[244,5,244,6],[290,3,290,4],[292,0,294,0],[292,1,292,2],[292,3,292,4],[277,1,277,2],[293,3,293,4],[293,5,293,6],[258,1,258,2],[259,1,259,2],[270,1,270,2],[270,3,270,4],[270,5,270,6],[265,0,265,8],[266,0,266,8],[256,0,261,0],[304,1,304,2],[304,5,304,6],[304,7,304,8],[301,7,301,8],[302,1,302,2],[302,5,302,6],[302,7,302,8],[292,5,292,6],[292,7,292,8],[294,3,294,4],[294,5,294,6],[303,1,303,2],[303,5,303,6],[303,7,303,8],[300,5,300,6],[300,7,300,8],[301,1,301,2],[301,5,301,6],[297,1,297,2],[297,3,297,4],[297,5,297,6],[297,7,298,8],[298,1,298,2],[298,5,298,6],[296,1,296,2],[296,3,296,4],[296,5,296,6],[296,7,296,8],[243,5,243,6],[248,1,248,2],[248,3,248,4],[248,5,248,6],[259,5,259,6],[257,5,257,6],[256,5,256,6],[273,5,274,6],[275,1,276,2],[275,5,276,6],[271,3,271,4],[272,1,272,2],[261,7,261,8],[289,7,290,8],[258,7,258,8],[259,7,259,8],[260,7,260,8],[249,1,249,2],[249,3,249,4],[249,7,250,8],[294,1,294,2],[281,0,285,0],[271,7,277,8],[286,1,286,8],[284,1,285,2],[284,5,285,6],[288,7,288,8],[278,1,278,8],[271,5,271,6],[289,1,289,2],[289,3,289,4],[288,1,288,2],[288,3,288,4],[281,1,281,2],[281,3,281,4],[281,7,281,8],[281,5,281,6],[293,1,293,2],[290,1,290,2],[272,5,272,6],[270,0,277,0],[306,1,306,8],[296,0,298,0],[300,0,305,0],[252,0,254,0],[252,1,252,2],[252,3,252,4],[252,5,252,6],[252,7,252,8],[253,1,253,2],[253,3,253,4],[253,5,253,6],[253,7,254,8],[254,1,254,2],[254,3,254,4],[254,5,254,6],[288,0,290,0],[305,7,305,8],[288,5,288,6],[289,5,289,6],[290,5,290,6],[277,5,277,6],[305,1,305,2],[293,7,294,8],[305,5,305,6],[300,1,300,2],[163,1,163,2],[164,1,164,2],[141,6,141,7],[231,7,231,8],[228,0,229,8],[214,0,215,0],[214,1,215,1],[214,4,215,4],[214,7,215,7],[211,0,211,8],[212,1,212,8],[184,4,185,5],[193,0,193,2],[195,0,195,7],[171,1,171,2],[142,1,142,2],[143,1,143,2],[144,1,144,2],[145,1,145,2],[146,1,146,2],[151,6,151,7],[152,6,152,7],[166,1,166,2],[35,1,35,6],[49,7,51,7],[282,1,282,2],[282,3,282,4],[282,5,282,6],[282,7,285,8],[283,1,283,2],[283,3,283,4],[283,5,283,6],[231,1,231,2],[231,3,231,4],[231,5,231,6],[245,1,245,2],[245,3,245,4],[246,1,246,2],[246,3,246,4],[245,5,245,6],[246,5,246,6],[236,1,237,2],[272,3,272,4],[273,1,274,2],[277,3,277,4],[262,1,262,8],[271,1,271,2],[256,1,256,2],[267,0,268,8],[279,1,279,8],[260,1,260,2],[261,1,261,2],[260,5,260,6],[261,5,261,6],[258,5,258,6],[257,1,257,2],[256,7,256,8],[257,7,257,8],[270,7,270,8]]}
[]
[]
[]
[]
[]
["Versión 2.0"]
["IMPORTANTE\nEste formulario debe ser diligenciado en su totalidad y entregado como hoja de calculo, la recepción del mismo solo se hará en los siguiente formatos .xlsx y .xls\nLos Campos en Amarillo cargan la información de manera automática.\nEn algunos casos los campos cuentan con mensajes de entrada de ayuda.\nEl presente formulario no se debe modificar."]
[null,null,null,null,null,null,null,null,null,null,{"$f":"B19","v":0}]
[null,null,null,null,null,null,null,null,null,null,"arroba",{"$f":"+FIND(\"@\",K8)","v":{"$error":"#VALUE!"}}]
[null,null,null,null,null,null,null,null,null,null,"punto",{"$f":"+FIND(\".\",K8,FIND(\"@\",K8)+2)","v":{"$error":"#VALUE!"}}]
["1.0 IDENTIFICACIÓN DEL CONCESIONARIO",null,null,null,null,null,null,null,null,null,"Validación",{"$f":"+IFERROR(AND(FIND(\"@\",K8),FIND(\".\",K8,L9+2)),FALSE)","v":false}]
[]
["Código del expediente",null,null,"Nombre de la emisora",null,null,null,null,null,null,"Celular",{"$f":"LEN(B21)","v":0},{"$f":"IF(L13<>10,1,0)","v":1}]
[]
["Razón social",null,null,null,null,null,"NIT o C.C"]
[null,null,null,null,null,null,null,null,null,null,"Número","Fecha","LAS DOS CON Y","Activar","ESBLANCO CODIGO DAN"]
["Departamento Concesión",null,null,"Municipio Concesión",null,null,"Código DANE",{"$f":"VLOOKUP(E17,'DANE-OK'!A1:E1122,4,FALSE)","v":{"$error":"#N/A"}},null,"Resolución",{"$f":"ISBLANK(C25)","v":true},{"$f":"ISBLANK(E25)","v":true},{"$f":"AND(K17=TRUE,L17=TRUE)","v":true},{"$f":"AND(J25=3,M18=FALSE)","v":false}]
[null,null,null,null,null,null,null,null,null,"Contrato",{"$f":"ISBLANK(C26)","v":true},{"$f":"ISBLANK(E26)","v":true},{"$f":"AND(K18=TRUE,L18=TRUE)","v":true},{"$f":"AND(J25=1,M17=TRUE)","v":false}]
["e-mail del concesionario",null,null,null,null,null,"Clase de Estación","D",null,null,null,null,{"$f":"AND(M17=TRUE,M18=TRUE)","v":true}]
[]
["Celular del representante legal o número de contacto",null,null,null,null,null,"Tipo de Emisora"]
[]
["Tipo de trámite solicitado",null,null,null,null,null,"Distintivo de Llamada"]
[null,null,null,null,null,null,null,null,null,{"$f":"IF(B23=Validaciones!H5,\"NO\",\"SI\")","v":"SI"}]
["Acto administrativo a modificar",null,null,"Fecha",null,null,null,null,null,3,null,{"$f":"AND(J25=2,M19=TRUE)","v":false}]
[null,null,null,"Fecha"]
[null,null,{"$f":"IF(L25=FALSE,\"Debe borrar los datos de número y/o  fecha consignados en el apartado de contrato y/o resolución. \",\" \")","v":"Debe borrar los datos de número y/o  fecha consignados en el apartado de contrato y/o resolución. "},null,null,null,null,null,null,null,null,null,"ESBLANCO"]
["2.0 MODIFICACIÓN DE PARÁMETROS TÉCNICOS ESENCIALES",null,null,null,null,null,null,null,null,"Modificación",{"$f":"IF(B32=\"SI\",1,0)","v":0},"K20",{"$f":"ISBLANK(C32)","v":true}]
["Seleccionar los parámetros técnicos a modificar y/o asignación de la frecuencia de enlace\nEs responsabilidad del concesionario analizar y establecer, previamente a la presentación del estudio técnico ante el Ministerio de Tecnologías de la Información y las Comunicaciones, el cumplimiento en su integridad a lo establecido en el  Plan Técnico Nacional de Radiodifusión Sonora en FM.",null,null,null,null,null,null,null,null,"Ubicación",0,"K21",{"$f":"ISBLANK(C32)","v":true}]
[null,null,null,null,null,null,null,null,null,"PRA",{"$f":"IF(D32=\"SI\",1,0)","v":0},"K22",{"$f":"ISBLANK(D32)","v":true}]
[null,"¿Modificará algún parámetro técnico esencial?","Ubicación del sistema radiante","P.R.A","Área de servicio","Patrones de radiación del arreglo de antenas del sistema de transmisión","Frecuencia de enlace",null,null,"Área de Servicio",{"$f":"IF(E32=\"SI\",1,0)","v":0},"K23",{"$f":"ISBLANK(E32)","v":true}]
[null,null,null,null,null,null,null,null,null,"Patrones de Radiación",{"$f":"IF(F32=\"SI\",1,0)","v":0},"K24",{"$f":"ISBLANK(F32)","v":true}]
[null,null,null,null,null,null,null,null,null,"Frecuencia de Enlace",{"$f":"IF(G32=\"SI\",1,0)","v":0},"K25",{"$f":"ISBLANK(G32)","v":true}]
[null,null,null,null,null,null,null,null,null,null,{"$f":"OR(K29:K33)","v":false},"Y(ESBLANCO)=",{"$f":"OR(M28=FALSE,M29=FALSE,M30=FALSE,M31=FALSE,M32=FALSE,M33=FALSE)","v":false}]
[null,{"$f":"IF(AND(B32=\"NO\",M34=TRUE),\"Indico que no se van a realizar modificaciones, debe borrar los datos consignados como SI / NO para los parámetros técnicos.\",\" \")","v":" "}]
[]
[]
["3.0 AVAL DEL ESTUDIO TÉCNICO"]
[]
["Profesión del Ingeniero que ",null,null,"Apellidos",null,null,null,null,null,"Departamento Concesión",{"$f":"IF(ISBLANK(Modificacion!J55),0,1)","v":0}]
["avala el estudio",null,null,"Nombres",null,null,null,null,null,"Nit o CC",{"$f":"FIND(\".\",B43,0)","v":{"$error":"#VALUE!"}},{"$f":"FIND(\".\",Modificacion!P53)","v":{"$error":"#VALUE!"}},{"$f":"FIND(\"-\",Modificacion!P53)","v":{"$error":"#VALUE!"}},{"$f":"SUM(K42:M42)","v":0}]
[null,null,null,null,null,null,null,null,null,null,{"$f":"IF(ISERROR(K41),0,K41)","v":0},{"$f":"IF(ISERROR(L41),0,L41)","v":0},0]
["Cedula",null,null,"Tarjeta Profesional"]
[]
[]
["4.0 CERTIFICADO DE LA UNIDAD ADMINISTRATIVA ESPECIAL DE LA AERONÁUTICA CIVIL - UAEAC"]
[null,null,null,null,null,null,null,null,null,"Selección",2]
["Número de Referencia del Certificado",null,null,"Fecha del Certificado",null,null,"Dirección o Referencia\nde Ubicación"]
[]
["Departamento",null,null,"Ciudad / Mpio",null,null,"Altura Total Aprobada"]
[null,null,null,null,null,null,"para la Torre, Incluye",null,null,null,88,108,"Frecuencia",{"$f":"IF(OR(B57<K51,B57>L51),\"La frecuencia consignada no se encuentra dentro del rango permitido para la prestación del servicio de radiodifusión sonora en FM.\",\" \")","v":"La frecuencia consignada no se encuentra dentro del rango permitido para la prestación del servicio de radiodifusión sonora en FM."}]
[null,null,null,"Potencia (W)",null,null,"pararrayos (m)",null,null,null,null,null,"Rango"]
[null,null,null,"Modulación","FM"]
[null,null,null,null,null,null,null,null,null,null,"Frecuencia (MHz)"]
[null,null,null,null,null,null,null,null,null,null,{"$f":"ISBLANK(B57)","v":true}]
["Frecuencia Aprobada","Frecuencia (MHz)",null,null,null,null,null,null,null,null,"Inferior (MHz)","Superior (MHz)"]
[null,null,null,{"$f":"IF(OR(B57<K51,B57>L51),\"La frecuencia ingresada no se encuentra dentro del rango permitido para la prestación del servicio de radiodifusión sonora en FM.\",\" \")","v":"La frecuencia ingresada no se encuentra dentro del rango permitido para la prestación del servicio de radiodifusión sonora en FM."},null,null,null,null,null,null,{"$f":"ISBLANK(B59)","v":true},{"$f":"ISBLANK(C59)","v":true},{"$f":"AND(K57=TRUE,L57=TRUE)","v":true}]
[null,"Inferior (MHz)","Superior (MHz)",{"$f":"IF(OR(B59<K51,C59>L51),\"Los o uno de los valores ingresados no se encuentran dentro del rango de radiodifusión sonora en FM\",\" \")","v":"Los o uno de los valores ingresados no se encuentran dentro del rango de radiodifusión sonora en FM"}]
[null,null,null,{"$f":"IF(AND(C59<B59,NOT(ISBLANK(C59))),\"La frecuencia Superior no puede ser mayor a la inferior\",\" \")","v":" "}]
[]
[]
["Coordenadas WGS - 84",null,null,null,null,null,null,null,null,{"$f":"D65","v":0}]
["LATITUD",null,null,null,"LONGITUD",null,null,null,null,"N",0,14]
["Grados °","Minutos '","Segundos \"","N/S","Grados °","Minutos '","Segundos \"","W",null,"S",0,4]
[null,null,null,null,null,null,null,"W"]
[null,null,null,null,null,null,null,null,null,null,"LIMITES"]
["Elevación (msnm)"]
[]
["6.0 CÁLCULO DE LA POTENCIA RADIADA APARENTE (P.R.A) - RED DE CUBRIMIENTO"]
["NOMENCLATURA Y NOTAS","\n\nP.R.A: Potencia Radiada Aparente \nPn: Potencia Nominal Ajustada en el Transmisor\nPi: Potencia incidente\nPr: Potencia reflejada\nG: Ganancia del arreglo de antenas en veces, dBi y dBd\nPc: Pérdidas en los conectores\nPl: Pérdidas Totales en la línea de transmisión\n\nNOTA 1: Recuerde que al final del Cálculo el valor de potencia debe coincidir de manera exacta con el autorizado en el PTNRS en FM, salvo que se este solicitando una modificación de la P.R.A\n\nNOTA 2: Si en la opción de modificación de parámetros técnicos indico \"SI\" para la P.R.A solo se activara esta opción, se debe ingresar el valor solicitado de P.R.A. Si por el contrario no se va a modificar la P.R.A se debe ingresar el valor autorizado en el PTNRS en F.M\n"]
[]
[null,null,null,null,null,null,null,"Máximo 900 W de p. r. a., en la dirección de máxima ganancia de antena, para los municipios (sin incluir las ciudades capitales) pertenecientes a los departamentos de Guajira, Guainía, Chocó, Putumayo, Caquetá, Amazonas, Vaupés, Guaviare, Vichada, Meta, Casanare y Arauca.”"]
["Longitud de la línea de transmisión (metros)",null,null,"P.R.A Autorizada o Solicitada (W)",null,null,null,null,null,{"$f":"E73-0.5","v":-0.5},{"$f":"H73-0.5","v":-0.5},null,null,"Solicitada",{"$f":"ISBLANK(E73)","v":true},null,{"$f":"D32","v":0}]
[null,null,null,null,null,"El valor ingresado no se encuentra dentro del rango de la clase de estación  (Celda H19)",null,null,null,{"$f":"E73+0.5","v":0.5},{"$f":"H73+0.5","v":0.5},null,{"$f":"IF(OR(M78=TRUE,M77=0),\"1\",\"0\")","v":"1"},"Plan",{"$f":"ISBLANK(H73)","v":true},null,"SI","P.R.A Solicitada (W)"]
[null,null,null,null,null,null,null,null,null,null,null,null,null,"clase",{"$f":"ISBLANK(B84)","v":true},null,"NO","P.R.A Autorizada en Plan Técnico Nacional de Radiodifusión Sonora en FM (W)"]
["P.R.A del sistema de transmisión","P.R.A  (W)","G (veces)","Pc (dB)","Pl (dB)","Potencia Incidente (dBW)",null,"Potencia Nominal a Programar en el Equipo Tx (W)",null,{"$f":"GESTEP(I77,J73)","v":1},"mayor o igual",{"$f":"J73","v":-0.5}]
[null,null,{"$f":"POWER(10,(C81/10))","v":1},null,null,{"$f":"Y82","v":{"$error":"#NUM!"}},null,{"$f":"POWER(10,((T87)/10))","v":{"$error":"#NUM!"}},null,{"$f":"IF(I77<J74,\"1\",\"0\")","v":"1"},"menor",{"$f":"J74","v":0.5},{"$f":"IFERROR(I77,0)","v":0},{"$f":"OR(M77=0,M78=FALSE)","v":true},null,null,null,null,null,null,"Rural"]
[null,null,"G (dBi)",null,null,null,null,null,null,{"$f":"J76+J77","v":2},null,null,{"$f":"ISBLANK(E73)","v":true},null,null,null,null,null,null,null,"Urbana"]
[null,null,{"$f":"C81+2.15","v":2.15}]
[null,null,"G (dBd)",null,null,null,null,null,null,null,"Usuario",{"$f":"H19","v":"D"},{"$f":"IF(N84=1,\"D\",IF(N83=1,\"C_\",IF(N82=1,\"B\",IF(N81=1,\"A\",0))))","v":"D"},{"$f":"IF(L80=M80,1,0)","v":1}]
[null,null,null,null,null,null,null,null,null,null,"A",100000,15000,{"$f":"IF(AND($K$86>=M81,$K$86<=L81),1,0)","v":0}]
[null,{"$f":"IF(B77>E73,\"La Suma de las componentes horizontales y verticales no debé exceder la P.R.A Total o Autorizada y/o Solicitada\",\" \")","v":" "},null,null,null,null,null,null,null,{"$f":"ISBLANK(#REF!)","v":false},"B",14999,5001,0,null,null,null,null,"P.R.A pol-H",{"$f":"B77","v":0},null,"PI",{"$f":"T82/T85","v":0},null,{"$f":"10*(LOG10((W82+W83)/1))","v":{"$error":"#NUM!"}}]
[null,null,null,null,null,null,null,null,null,{"$f":"ISBLANK(H73)","v":true},"C_",5000,251,0,null,null,null,null,"P.R.A pol-V",{"$f":"B79","v":0},null,"PI",{"$f":"T83/T85","v":0}]
[null,null,null,null,null,null,null,null,null,null,"D",250,0,{"$f":"IF(AND($K$86>=M84,$K$86<=L84),1,0)","v":1}]
[null,null,null,null,null,null,null,null,null,null,null,null,null,null,null,null,null,null,"Ganancia Veces",{"$f":"C77","v":1}]
[null,null,null,null,null,null,null,null,null,null,{"$f":"E73","v":0},null,null,{"$f":"IF(AND(L80=\"D\",E73>250),1,0)","v":0}]
["7.0  SISTEMA RADIANTE",null,null,null,null,null,null,null,null,null,null,null,null,null,null,null,null,null,"Pnominal (dB)",{"$f":"F77+E77+D77","v":{"$error":"#NUM!"}}]
["Las coordenadas deben ser idénticas a las establecidas en el certificado de la Unidad Administrativa Especial de la Aeronáutica Civil.",null,null,null,null,null,null,null,null,null,null,14999,5001]
["Coordenadas WGS - 84"]
["LATITUD",null,null,null,"LONGITUD"]
["Grados °","Minutos '","Segundos \"","N/S","Grados °","Minutos '","Segundos \"","W"]
[{"$f":"A65","v":0},0,0,0,0,0,0,"W",null,{"$f":"A92","v":0},{"$f":"E92","v":0},{"$f":"TEXT(J92,0)","v":"0"},{"$f":"TEXT(K92,0)","v":"0"}]
[null,null,null,null,null,null,null,null,null,{"$f":"B92","v":0},{"$f":"F92","v":0},{"$f":"TEXT(J93,0)","v":"0"},{"$f":"TEXT(K93,0)","v":"0"}]
[null,"Coordenadas geográficas (Datum WGS84)\nGG.MMSSSS N/S (Norte + /Sur -)\n-GG.MMSSSS W (Oeste -)",null,null,"Departamento",null,"Municipio",null,null,{"$f":"C92*100","v":0},{"$f":"G92*100","v":0},{"$f":"TEXT(J94,\"####\")","v":""},{"$f":"TEXT(K94,\"####\")","v":""}]
[null,null,null,null,null,null,null,null,null,{"$f":"IF(B92<10,CONCATENATE(L92,\",\",\"0\",L93,L94),CONCATENATE(L92,\",\",L93,L94))","v":"0,00"},{"$f":"IF(F92<10,CONCATENATE(M92,\",\",\"0\",M93,M94),CONCATENATE(M92,\",\",M93,M94))","v":"0,00"}]
[null,"Latitud","Longitud",null,null,null,null,null,null,{"$f":"IF(D92=\"N\",\" \",\"-\")","v":"-"},"-"]
[null,{"$f":"CONCATENATE(J96,J95)","v":"-0,00"},{"$f":"CONCATENATE(K96,K95)","v":"-0,00"},null,"Área de ubicación en el municipio"]
[]
[]
[]
[]
["8.0 PATRONES DE RADIACIÓN DEL ARREGLO DE ANTENAS DEL SISTEMA RADIANTE"]
["Características técnicas del sistema radiante\n"]
[]
["Altura del centro de radiación (m)","Número de bahías del arreglo de antenas","Ganancia máxima del arreglo de antenas (dBd)","Polarización","Ángulo de TILT (°)","Azimut de la máxima intensidad de radiación del arreglo de antenas (°)"]
[null,null,null,null,null,null,null,null,null,{"$f":"ISBLANK(A107)","v":true},"AND",{"$f":"F107","v":0}]
[null,null,{"$f":"C81","v":0},null,null,null,null,null,null,{"$f":"ISBLANK(A111)","v":true},{"$f":"AND(J106,J107,J108,J109)","v":true},null,null,null,null,null,null,null,"V - Vertical"]
[null,null,null,null,null,null,null,null,null,{"$f":"ISBLANK(F107)","v":true},null,null,null,null,null,null,null,null,"H - Horizontal"]
["Descripción de la torre",null,null,null,null,null,null,null,null,{"$f":"ISBLANK(A111)","v":true},null,null,null,null,null,null,null,null,"M - Mixta"]
["Altura de la torre (metros)","Tipo de torre","Medidas","Dimensión lado 1 (metros)\nNota: Para torre circular diligenciar su diámetro"]
[null,null,null,"Dimensión lado 2 (metros)\nNota: Diligenciar solamente  para torre rectangular",null,{"$f":"IF(A107>A111,\"La altura del centro de radiación no puede ser superior a la de la torre.\",\" \")","v":" "},null,null,null,{"$f":"ISBLANK(E111)","v":true},{"$f":"ISBLANK(A111)","v":true}]
[null,null,null,null,null,null,null,null,null,null,null,null,null,null,null,null,null,null,"Circular"]
["8.1 Datos del arreglo de antenas\nNota: La # 1 deberá corresponder al elemento más alejado del suelo",null,null,null,null,null,null,null,null,null,null,null,null,null,null,null,null,null,"Cuadrada"]
["No.","Altura (metros)","Distancia horizontal (cm)","Azimut(°)","Ganancia Arreglo de Antenas (dB)","Polarización","Longitud del cable de alimentación (m)","Marca","Modelo",null,null,null,null,null,null,null,null,null,"Rectangular"]
[null,null,null,null,null,null,null,null,null,null,null,null,null,null,null,null,null,null,"Triangular"]
[]
[]
[null,null,null,null,null,null,null,null,null,null,null,null,null,null,null,null,null,null,"V - Vertical"]
[]
[]
[null,null,null,null,null,null,null,null,null,null,null,null,null,null,null,null,null,null,"H - Horizontal"]
[null,null,null,null,null,null,null,null,null,null,null,null,null,null,null,null,null,null,"C - Circular"]
[]
["No. : Número de antena según orden descendente en la torre.\nAltura: Altura de la antena en la torre referente al suelo, en metros.\nDistancia horizontal: Distancia entre la antena respectiva y el eje vertical soporte en la torre, en centímetros.\nAzimut: Ángulo de orientación de la antena respectiva referente al norte geográfico, en grados. \nGanancia de antena: Ganancia de la antena respectiva (una bahía), en dBd.\nPolarización: Polarización de la antena respectiva.\nLongitud del cable de alimentación (Latiguillos): Es la longitud del cable que va entre el divisor de potencia y la antena respectiva, en metros.\nMarca: Marca de la antena.\nModelo: Modelo de la antena."]
[]
[]
[]
[]
[]
[]
[]
[]
[]
[]
["9.0 ÁREA DE SERVICIO"]
["Relacionar los municipios que hacen parte del área de servicio establecidos en el canal del PTNRS en FM (Apéndice A o Apéndice B). Si el canal no tiene un área de servicio establecida esta sección no se debe diligenciar.\nSi solicita la modificación del área de servicio establecida en el canal del PTNRS en FM (Apéndice A o Apéndice B), debe relacionar los municipios solicitados para conformar la nueva el área de servicio. "]
["Municipios que conformarán la nueva zona de servicio",null,null,null,null,"Municipios que conformarán la nueva zona de servicio"]
["Departamento","Municipio",null,"Código DANE del municipio",null,"Departamento","Municipio",null,"Código DANE del municipio"]
[{"$f":"B17","v":0},{"$f":"E17","v":0},null,{"$f":"VLOOKUP($B139,'DANE-OK'!$A$1:$E$1122,4,FALSE)","v":{"$error":"#N/A"}},null,null,null,null,{"$f":"IF(K139=0,\" \",VLOOKUP($G139,'DANE-OK'!$A$1:$E$1122,4,FALSE))","v":" "},{"$f":"IF(ISBLANK(A139),0,1)","v":1},{"$f":"IF(ISBLANK(F139),0,1)","v":0},{"$f":"SUM(J139:J170)","v":1}]
[null,null,null,{"$f":"IF(J140=0,\" \",VLOOKUP($B140,'DANE-OK'!$A$1:$E$1122,4,FALSE))","v":" "},null,null,null,null,{"$f":"IF(K140=0,\" \",VLOOKUP($G140,'DANE-OK'!$A$1:$E$1122,4,FALSE))","v":" "},0,{"$f":"IF(ISBLANK(F140),0,1)","v":0},{"$f":"SUM(K139:K170)","v":0},{"$f":"_xlfn.IFNA(D139,\"0\")","v":"0"},{"$f":"IFERROR(I139,0)","v":" "},{"$f":"IF(M140=\" \",0,COUNTIF(M$140:N$171,M140))","v":1},{"$f":"IF(O140>1,1,0)","v":0}]
[null,null,null,{"$f":"IF(J141=0,\" \",VLOOKUP($B141,'DANE-OK'!$A$1:$E$1122,4,FALSE))","v":" "},null,null,null,null,{"$f":"IF(K141=0,\" \",VLOOKUP($G141,'DANE-OK'!$A$1:$E$1122,4,FALSE))","v":" "},0,0,null,{"$f":"_xlfn.IFNA(D140,\"0\")","v":" "},{"$f":"IFERROR(I140,0)","v":" "},{"$f":"IF(M141=\" \",0,COUNTIF(M$140:N$171,M141))","v":0},{"$f":"IF(O141>1,1,0)","v":0}]
[null,null,null,{"$f":"IF(J142=0,\" \",VLOOKUP($B142,'DANE-OK'!$A$1:$E$1122,4,FALSE))","v":" "},null,null,null,null,{"$f":"IF(K142=0,\" \",VLOOKUP($G142,'DANE-OK'!$A$1:$E$1122,4,FALSE))","v":" "},0,0,{"$f":"L139+L140","v":1}," "," ",0,0]
[null,null,null,{"$f":"IF(J143=0,\" \",VLOOKUP($B143,'DANE-OK'!$A$1:$E$1122,4,FALSE))","v":" "},null,null,null,null,{"$f":"IF(K143=0,\" \",VLOOKUP($G143,'DANE-OK'!$A$1:$E$1122,4,FALSE))","v":" "},0,0,null," "," ",0,0]
[null,null,null,{"$f":"IF(J144=0,\" \",VLOOKUP($B144,'DANE-OK'!$A$1:$E$1122,4,FALSE))","v":" "},null,null,null,null,{"$f":"IF(K144=0,\" \",VLOOKUP($G144,'DANE-OK'!$A$1:$E$1122,4,FALSE))","v":" "},0,0,null," "," ",0,0]
[null,null,null,{"$f":"IF(J145=0,\" \",VLOOKUP($B145,'DANE-OK'!$A$1:$E$1122,4,FALSE))","v":" "},null,null,null,null,{"$f":"IF(K145=0,\" \",VLOOKUP($G145,'DANE-OK'!$A$1:$E$1122,4,FALSE))","v":" "},0,0,null," "," ",0,0]
[null,null,null,{"$f":"IF(J146=0,\" \",VLOOKUP($B146,'DANE-OK'!$A$1:$E$1122,4,FALSE))","v":" "},null,null,null,null,{"$f":"IF(K146=0,\" \",VLOOKUP($G146,'DANE-OK'!$A$1:$E$1122,4,FALSE))","v":" "},0,0,null," "," ",0,0]
[null,null,null,{"$f":"IF(J147=0,\" \",VLOOKUP($B147,'DANE-OK'!$A$1:$E$1122,4,FALSE))","v":" "},null,null,null,null,{"$f":"IF(K147=0,\" \",VLOOKUP($G147,'DANE-OK'!$A$1:$E$1122,4,FALSE))","v":" "},0,0,null," "," ",0,0]
[null,null,null,{"$f":"IF(J148=0,\" \",VLOOKUP($B148,'DANE-OK'!$A$1:$E$1122,4,FALSE))","v":" "},null,null,null,null,{"$f":"IF(K148=0,\" \",VLOOKUP($G148,'DANE-OK'!$A$1:$E$1122,4,FALSE))","v":" "},0,0,null," "," ",0,0]
[null,null,null,{"$f":"IF(J149=0,\" \",VLOOKUP($B149,'DANE-OK'!$A$1:$E$1122,4,FALSE))","v":" "},null,null,null,null,{"$f":"IF(K149=0,\" \",VLOOKUP($G149,'DANE-OK'!$A$1:$E$1122,4,FALSE))","v":" "},0,0,null,{"$f":"_xlfn.IFNA(D148,\"0\")","v":" "}," ",0,0]
[null,null,null,{"$f":"IF(J150=0,\" \",VLOOKUP($B150,'DANE-OK'!$A$1:$E$1122,4,FALSE))","v":" "},null,null,null,null,{"$f":"IF(K150=0,\" \",VLOOKUP($G150,'DANE-OK'!$A$1:$E$1122,4,FALSE))","v":" "},0,0,null," "," ",0,0]
[null,null,null,{"$f":"IF(J151=0,\" \",VLOOKUP($B151,'DANE-OK'!$A$1:$E$1122,4,FALSE))","v":" "},null,null,null,null,{"$f":"IF(K151=0,\" \",VLOOKUP($G151,'DANE-OK'!$A$1:$E$1122,4,FALSE))","v":" "},0,0,null," "," ",0,0]
[null,null,null,{"$f":"IF(J152=0,\" \",VLOOKUP($B152,'DANE-OK'!$A$1:$E$1122,4,FALSE))","v":" "},null,null,null,null,{"$f":"IF(K152=0,\" \",VLOOKUP($G152,'DANE-OK'!$A$1:$E$1122,4,FALSE))","v":" "},0,0,null," "," ",0,0]
[null,null,null,{"$f":"IF(J153=0,\" \",VLOOKUP($B153,'DANE-OK'!$A$1:$E$1122,4,FALSE))","v":" "},null,null,null,null,{"$f":"IF(K153=0,\" \",VLOOKUP($G153,'DANE-OK'!$A$1:$E$1122,4,FALSE))","v":" "},0,0,null," "," ",0,0,null,null,null,null,null,null,null,null,null,null,{"$f":"VLOOKUP(B210,Z152:Z294,1,FALSE)","v":{"$error":"#N/A"}}]
[null,null,null,{"$f":"IF(J154=0,\" \",VLOOKUP($B154,'DANE-OK'!$A$1:$E$1122,4,FALSE))","v":" "},null,null,null,null,{"$f":"IF(K154=0,\" \",VLOOKUP($G154,'DANE-OK'!$A$1:$E$1122,4,FALSE))","v":" "},0,0,null," "," ",0,0]
[null,null,null,{"$f":"IF(J155=0,\" \",VLOOKUP($B155,'DANE-OK'!$A$1:$E$1122,4,FALSE))","v":" "},null,null,null,null,{"$f":"IF(K155=0,\" \",VLOOKUP($G155,'DANE-OK'!$A$1:$E$1122,4,FALSE))","v":" "},0,0,null," "," ",0,0]
[null,null,null,{"$f":"IF(J156=0,\" \",VLOOKUP($B156,'DANE-OK'!$A$1:$E$1122,4,FALSE))","v":" "},null,null,null,null,{"$f":"IF(K156=0,\" \",VLOOKUP($G156,'DANE-OK'!$A$1:$E$1122,4,FALSE))","v":" "},0,0,null," "," ",0,0]
[null,null,null,{"$f":"IF(J157=0,\" \",VLOOKUP($B157,'DANE-OK'!$A$1:$E$1122,4,FALSE))","v":" "},null,null,null,null,{"$f":"IF(K157=0,\" \",VLOOKUP($G157,'DANE-OK'!$A$1:$E$1122,4,FALSE))","v":" "},0,0,null," "," ",0,0]
[null,null,null,{"$f":"IF(J158=0,\" \",VLOOKUP($B158,'DANE-OK'!$A$1:$E$1122,4,FALSE))","v":" "},null,null,null,null,{"$f":"IF(K158=0,\" \",VLOOKUP($G158,'DANE-OK'!$A$1:$E$1122,4,FALSE))","v":" "},0,0,null," "," ",0,0]
[null,null,null,{"$f":"IF(J159=0,\" \",VLOOKUP($B159,'DANE-OK'!$A$1:$E$1122,4,FALSE))","v":" "},null,null,null,null,{"$f":"IF(K159=0,\" \",VLOOKUP($G159,'DANE-OK'!$A$1:$E$1122,4,FALSE))","v":" "},0,0,null," "," ",0,0]
[null,null,null,{"$f":"IF(J160=0,\" \",VLOOKUP($B160,'DANE-OK'!$A$1:$E$1122,4,FALSE))","v":" "},null,null,null,null,{"$f":"IF(K160=0,\" \",VLOOKUP($G160,'DANE-OK'!$A$1:$E$1122,4,FALSE))","v":" "},0,0,null," "," ",0,0]
[null,null,null,{"$f":"IF(J161=0,\" \",VLOOKUP($B161,'DANE-OK'!$A$1:$E$1122,4,FALSE))","v":" "},null,null,null,null,{"$f":"IF(K161=0,\" \",VLOOKUP($G161,'DANE-OK'!$A$1:$E$1122,4,FALSE))","v":" "},0,0,null," "," ",0,0]
[null,null,null,{"$f":"IF(J162=0,\" \",VLOOKUP($B162,'DANE-OK'!$A$1:$E$1122,4,FALSE))","v":" "},null,null,null,null,{"$f":"IF(K162=0,\" \",VLOOKUP($G162,'DANE-OK'!$A$1:$E$1122,4,FALSE))","v":" "},0,0,null," "," ",0,0]
[null,null,null,{"$f":"IF(J163=0,\" \",VLOOKUP($B163,'DANE-OK'!$A$1:$E$1122,4,FALSE))","v":" "},null,null,null,null,{"$f":"IF(K163=0,\" \",VLOOKUP($G163,'DANE-OK'!$A$1:$E$1122,4,FALSE))","v":" "},0,0,null," "," ",0,0]
[null,null,null,{"$f":"IF(J164=0,\" \",VLOOKUP($B164,'DANE-OK'!$A$1:$E$1122,4,FALSE))","v":" "},null,null,null,null,{"$f":"IF(K164=0,\" \",VLOOKUP($G164,'DANE-OK'!$A$1:$E$1122,4,FALSE))","v":" "},0,0,null," "," ",0,0]
[null,null,null,{"$f":"IF(J165=0,\" \",VLOOKUP($B165,'DANE-OK'!$A$1:$E$1122,4,FALSE))","v":" "},null,null,null,null,{"$f":"IF(K165=0,\" \",VLOOKUP($G165,'DANE-OK'!$A$1:$E$1122,4,FALSE))","v":" "},0,0,null," "," ",0,0]
[null,null,null,{"$f":"IF(J166=0,\" \",VLOOKUP($B166,'DANE-OK'!$A$1:$E$1122,4,FALSE))","v":" "},null,null,null,null,{"$f":"IF(K166=0,\" \",VLOOKUP($G166,'DANE-OK'!$A$1:$E$1122,4,FALSE))","v":" "},0,0,null," "," ",0,0]
[null,null,null,{"$f":"IF(J167=0,\" \",VLOOKUP($B167,'DANE-OK'!$A$1:$E$1122,4,FALSE))","v":" "},null,null,null,null,{"$f":"IF(K167=0,\" \",VLOOKUP($G167,'DANE-OK'!$A$1:$E$1122,4,FALSE))","v":" "},0,0,null," "," ",0,0]
[null,null,null,{"$f":"IF(J168=0,\" \",VLOOKUP($B168,'DANE-OK'!$A$1:$E$1122,4,FALSE))","v":" "},null,null,null,null,{"$f":"IF(K168=0,\" \",VLOOKUP($G168,'DANE-OK'!$A$1:$E$1122,4,FALSE))","v":" "},0,0,null," "," ",0,0]
[null,null,null,{"$f":"IF(J169=0,\" \",VLOOKUP($B169,'DANE-OK'!$A$1:$E$1122,4,FALSE))","v":" "},null,null,null,null,{"$f":"IF(K169=0,\" \",VLOOKUP($G169,'DANE-OK'!$A$1:$E$1122,4,FALSE))","v":" "},0,0,null," "," ",0,0]
[null,null,null,{"$f":"IF(J170=0,\" \",VLOOKUP($B170,'DANE-OK'!$A$1:$E$1122,4,FALSE))","v":" "},null,null,null,null,{"$f":"IF(K170=0,\" \",VLOOKUP($G170,'DANE-OK'!$A$1:$E$1122,4,FALSE))","v":" "},0,0,null," "," ",0,0]
[null,null,null,null,null,null,null,null,null,null,null,null," "," ",0,0]
["TOTAL DE MUNICIPIOS",{"$f":"L142","v":1},null,null,"Los Códigos DANE de municipios resaltados en ROJO representan municipios repetidos",null,null,null,null,{"$f":"SUM(P140:P171)","v":0},null,null,null,null,null,{"$f":"SUM(P140:P171)","v":0}]
[]
["11.0 RED DE ENLACE ENTRE EL ESTUDIO Y EL SISTEMA DE TRANSMISIÓN (RED PUNTO A PUNTO)"]
["Se debe diligenciar las características técnicas de la red de enlace\nSe deberá adjuntar los catálogos de los equipos utilizados en la red"]
["TORRE QUE SOPORTA LA ANTENA DE TRANSMICIÓN"]
["Departamento",null,null,"Municipio"]
[]
["Coordenadas WGS - 84"]
["LATITUD",null,null,null,"LONGITUD"]
["Grados °","Minutos '","Segundos \"","N/S","Grados °","Minutos '","Segundos \"","W"]
[null,null,null,null,null,null,null,"W",null,{"$f":"A182","v":0},{"$f":"E182","v":0}]
[null,null,null,null,null,null,null,null,null,{"$f":"B182","v":0},{"$f":"F182","v":0}]
[null,null,null,null,null,null,null,null,null,{"$f":"C182*100","v":0},{"$f":"G182*100","v":0}]
["Coordenadas geográficas (Datum WGS84)\nGG.MMSSSS N/S (Norte + /Sur -)\n-GG.MMSSSS W (Oeste -)"]
[null,null,null,null,null,null,null,null,null,{"$f":"IF(B182<10,CONCATENATE(J182,\",\",\"0\",J183,J184),CONCATENATE(J182,\",\",J183,J184))","v":"0,000"},{"$f":"IF(F182<10,CONCATENATE(K182,\",\",\"0\",K183,K184),CONCATENATE(K182,\",\",K183,K184))","v":"0,000"}]
["Latitud","Longitud",null,null,null,null,null,null,null,{"$f":"IF(D182=\"N\",\" \",\"-\")","v":"-"},"-"]
[{"$f":"CONCATENATE(J187,J186)","v":"-0,000"},{"$f":"CONCATENATE(K187,K186)","v":"-0,000"}]
[]
["Altura de la torre (metros)","Altura de la antena en la torre (metros)",null,null,null,null,null,null,null,{"$f":"ISBLANK(A191)","v":true},"AND"]
[null,null,null,null,null,null,null,null,null,{"$f":"ISBLANK(B191)","v":true},{"$f":"AND(J191,J190,J192,J193)","v":true}]
[null,null,null,null,null,null,null,null,null,{"$f":"ISBLANK(A208)","v":true}]
[null,null,null,null,null,null,null,null,null,{"$f":"ISBLANK(B208)","v":true}]
["TORRE QUE SOPORTA LA ANTENA DE RECEPCIÓN"]
[]
["Coordenadas WGS - 84"]
["LATITUD",null,null,null,"LONGITUD"]
["Grados °","Minutos '","Segundos \"","N/S","Grados °","Minutos '","Segundos \"","W"]
[null,null,null,null,null,null,null,"W",null,{"$f":"A199","v":0},{"$f":"E199","v":0},{"$f":"TEXT(J199,\"#\")","v":""},{"$f":"TEXT(K199,\"#\")","v":""}]
[null,null,null,null,null,null,null,null,null,{"$f":"B199","v":0},{"$f":"F199","v":0},{"$f":"TEXT(J200,\"#\")","v":""},{"$f":"TEXT(K200,\"#\")","v":""}]
[null,null,null,null,null,null,null,null,null,{"$f":"C199*100","v":0},{"$f":"G199*100","v":0},{"$f":"TEXT(J201,\"####\")","v":""},{"$f":"TEXT(K201,\"####\")","v":""}]
["Coordenadas geográficas (Datum WGS84)\nGG.MMSSSS N/S (Norte + /Sur -)\n-GG.MMSSSS W (Oeste -)"]
[null,null,null,null,null,null,null,null,null,{"$f":"IF(B199<10,CONCATENATE(L199,\",\",\"0\",L200,L201),CONCATENATE(L199,\",\",L200,L201))","v":",0"},{"$f":"IF(F199<10,CONCATENATE(M199,\",\",\"0\",M200,M201),CONCATENATE(M199,\",\",M200,M201))","v":",0"}]
["Latitud","Longitud",null,null,null,null,null,null,null,{"$f":"IF(D199=\"N\",\" \",\"-\")","v":"-"},"-"]
[{"$f":"CONCATENATE(J204,J203)","v":"-,0"},{"$f":"CONCATENATE(K204,K203)","v":"-,0"}]
[]
["Altura de la torre (metros)","Altura de la antena en la torre (metros)"]
[]
[]
["Frecuencia Sugerido o Aprobada (MHz)",null,null,null,null,null,null,null,null,"SI","Frecuencia sugerida para asignación o modificación (MHz)",null,{"$f":"IF(ISBLANK(G32),1,0)","v":1}]
[null,null,null,null,null,null,null,null,null,"NO","Frecuencia Aprobada (MHz)"]
["12.0 CÁLCULO DE LA POTENCIA RADIADA APARENTE (P.R.A) - RED PUNTO A PUNTO"]
["NOMENCLATURA Y NOTAS","\n\nP.R.A: Potencia Radiada Aparente \nPn: Potencia Nominal Ajustado en el Transmisor\nPi: Potencia incidente\nPr: Potencia reflejada\nG: Ganancia del arreglo de antenas en veces, dBi y dBd\nPc: Pérdidas en los conectores\nPl: Pérdidas Totales en la línea de transmisión\n\nNOTA 1: La máxima potencia nominal permitida para el transmisor es de 20 W\n"]
[]
["Longitud de la línea de trasmisión (metros)"]
[]
[]
["P.R.A del sistema de transmisión","P.R.A (W)","G (veces)","Pc (dB)","Pl (dB)","Potencia Incidente (dBW)",null,"Potencia Nominal a Programar en el Equipo Tx (W)",null,{"$f":"E215-0.5","v":-0.5},{"$f":"E215+0.5","v":0.5}]
[null,null,{"$f":"POWER(10,(C223/10))","v":1},null,null,{"$f":"Y224","v":{"$error":"#NUM!"}},null,{"$f":"POWER(10,((T229)/10))","v":{"$error":"#NUM!"}},null,null,null,null,null,null,null,null,null,null,null,null,"Rural"]
[null,null,"G (dBi)",null,null,null,null,null,null,null,null,null,null,null,null,null,null,null,null,null,"Urbana"]
[null,null,{"$f":"C223+2.15","v":2.15},null,null,null,null,null,null,{"$f":"NOT(ISBLANK(B219))","v":false},{"$f":"ISBLANK(F219)","v":false}]
[null,null,"G (dBd)",null,null,null,null,null,null,null,{"$f":"AND(K221=FALSE,I219>20)","v":false}]
[]
[null,{"$f":"IF(H219>10,\"La Potencia Nominal del Equipo es mayor a 10 W\",\" \")","v":{"$error":"#NUM!"}},null,null,null,null,null,null,null,null,null,null,null,null,null,null,null,null,"P.R.A pol-H",{"$f":"B219","v":0},null,"PI",{"$f":"T224/T227","v":0},null,{"$f":"10*(LOG10((W224+W225)/1))","v":{"$error":"#NUM!"}}]
[null,null,null,null,null,null,null,null,null,null,null,null,null,null,null,null,null,null,"P.R.A pol-V",{"$f":"B221","v":0},null,"PI",{"$f":"T225/T227","v":0}]
[]
["13  EQUIPOS A UTILIZAR EN LA RED DE CUBRIMIENTO",null,null,null,null,null,null,null,null,null,null,null,null,null,null,null,null,null,"Ganancia Veces",{"$f":"C219","v":1}]
["El concesionario deberá adjuntar los catálogos de los equipos a utilizar en la red.  (se deben adjuntar los catálogos)"]
[" La relación del enlace web para cada catálogo solicitado no excluye la obligación de aportar los catálogos. No aportar los catálogos solicitados es un incumplimiento a lo establecido en el Plan Técnico Nacional de Radiodifusión Sonora en FM.",null,null,null,null,null,null,null,null,null,null,null,null,null,null,null,null,null,"Pnominal (dB)",{"$f":"F219+E219+D219","v":{"$error":"#NUM!"}}]
[]
[]
["Equipo Transmisor","ITEM",null,"INFORMACIÓN",null,"OBSERVACIÓN",null,"URL Catalogo del Equipo"]
[null,"a. Marca"]
[null,"b. Modelo"]
[null,"c. Rango de Frecuencia (MHz)",null,"Inferior","Superior"]
[]
[null,"d. Rango de Potencia W",null,"Inferior","Superior",null,null,null,null,"Potencia"]
[null,null,null,null,null,null,null,null,null,{"$f":"H77","v":{"$error":"#NUM!"}}]
[null,"e. Ancho de Banda y Emisión",null,null,null,null,null,null,null,"Frecuencia en Rango",{"$f":"IF(OR(J238<D238,J238>E238),\"MAL\",\"OK\")","v":{"$error":"#NUM!"}}]
[]
[null,{"$f":"IF(K239=\"MAL\",\"El Rango de Potencia registrado para el equipo no cubre la potencia nominal indicado para el cálculo de la P.R.A de la red de cubrimiento.\",\" \")","v":{"$error":"#NUM!"}},null,null,null,null,null,null,null,{"$f":"ISBLANK(E238)","v":true}]
[]
["Línea de Transmisión","ITEM",null,"INFORMACIÓN",null,"OBSERVACIÓN",null,"URL Catalogo del Equipo"]
[null,"a. Marca"]
[null,"b. Modelo"]
[null,"c. Longitud de la Línea",null,{"$f":"B73","v":0}]
[null,"d. Pérdidas en dB para 100 m usadas para el cálculo"]
[]
["Monitor de Modulación","ITEM",null,"INFORMACIÓN",null,"OBSERVACIÓN",null,"URL Catalogo del Equipo"]
[null,"a. Marca"]
[null,"b. Modelo"]
[]
["Monitor de Frecuencia","ITEM",null,"INFORMACIÓN",null,"OBSERVACIÓN",null,"URL Catalogo del Equipo"]
[null,"a. Marca"]
[null,"b. Modelo"]
[]
["Otros equipos","Ítem",null,"Marca","Modelo","Observaciones",null,"URL Catalogo del Equipo",null,"Selección"]
[null,null,null,null,null,null,null,null,null,1,{"$f":"ISBLANK(B258:I262)","v":true},true,true,true,true,true,true,true]
[null,null,null,null,null,null,null,null,null,"Algo lleno",true,true,true,true,true,true,true,true]
[null,null,null,null,null,null,null,null,null,{"$f":"IF(AND(_xlfn.ANCHORARRAY(K258)=TRUE),1,0)","v":1},true,true,true,true,true,true,true,true]
[null,null,null,null,null,null,null,null,null,"Validación para que no siga",true,true,true,true,true,true,true,true]
[null,null,null,null,null,null,null,null,null,{"$f":"AND(J258=2,J260=0)","v":false},true,true,true,true,true,true,true,true]
[null,{"$f":"IF(J264=TRUE,\"Selecciono SI en la opción de otros equipos, pero no ingreso ningún tipo de información, si no va a reportar ningún equipo, seleccione la opción NO\",\" \" )","v":"Selecciono SI en la opción de otros equipos, pero no ingreso ningún tipo de información, si no va a reportar ningún equipo, seleccione la opción NO"},null,null,null,null,null,null,null,"Si y No lleno dada"]
[null,null,null,null,null,null,null,null,null,{"$f":"AND(J260=1,J258=1)","v":true}]
[]
["14.0 EQUIPOS A UTILIZAR EN LA RED DE PUNTO A PUNTO"]
["El concesionario deberá adjuntar los catálogos de los equipos a utilizar en la red.  (se deben adjuntar los catálogos)"]
["IMPORTANTE: Para el equipo transmisor de la red de cubrimiento la relación del enlace web en el formulario de Excel, no excluye la obligación de aportar el respectivo catálogo, el no hacerlo es un incumplimiento de lo requerido en el Plan Técnico Nacional de Radiodifusión Sonora."]
[]
[]
["Equipo Transmisor de Enlace","Ítem",null,"VALOR",null,"OBSERVACIÓN",null,"URL Catalogo del Equipo",null,"Es Blanco Valor de Marca"]
[null,"a. Marca",null,null,null,null,null,null,null,{"$f":"ISBLANK(D272)","v":true}]
[null,"b. Modelo"]
[null,"c. Rango de Frecuencia (MHz)",null,"Inferior","Superior",null,null,null,null,"Frecuencia de Enlace","En Rango"]
[null,null,null,null,null,null,null,null,null,{"$f":"B210","v":0},{"$f":"OR(J275<D275,J275>E275)","v":false},{"$f":"ISBLANK(E275)","v":true},{"$f":"ISBLANK(E277)","v":true}]
[null,"d. Rango de Potencia W",null,"Inferior","Superior"]
[null,null,null,null,null,null,null,null,null,"Potencia Nom  Enal","En Rango"]
[null,"e. Ancho de Banda y Emisión",null,null,null,null,null,null,null,{"$f":"B219","v":0},{"$f":"OR(J278<D277,J278>E277)","v":false}]
[null,{"$f":"IF(K275=TRUE,\"La frecuencia de operación para el enlace no se encuentra dentro del rango de operación del equipo transmisor de enlace.\",\" \")","v":" "}]
[null,{"$f":"IF(K278=TRUE,\"La potencia nominal de operación utilizada para el cálculo de la P.R.A del enlace no  encuentra dentro del rango de potencia de operación del equipo transmisor de enlace.\",\" \")","v":" "}]
[]
["Equipo Receptor de Enlace","Ítem",null,"VALOR",null,"OBSERVACIÓN",null,"URL Catalogo del Equipo",null,"Frecuencia de Enlace","En Rango"]
[null,"a. Marca",null,null,null,null,null,null,null,{"$f":"B210","v":0},{"$f":"OR(J283<D286,J283>E286)","v":false}]
[null,"b. Modelo"]
[null,"c. Rango de Frecuencia (MHz)",null,"Inferior","Superior",null,null,null,null,{"$f":"ISBLANK(E286)","v":true}]
[]
[null,{"$f":"IF(K283=TRUE,\"La frecuencia de operación para el enlace no se encuentra dentro del rango de operación del equipo receptor de enlace.\",\" \")","v":" "}]
[]
["Antena Transmisora de Enlace","Ítem",null,"VALOR",null,"OBSERVACIÓN",null,"URL Catalogo del Equipo"]
[null,"a. Marca"]
[null,"b. Modelo"]
[]
["Antena Receptora de Enlace","Ítem",null,"VALOR",null,"OBSERVACIÓN",null,"URL Catalogo del Equipo"]
[null,"a. Marca"]
[null,"b. Modelo"]
[]
["Línea de Transmisión","Ítem",null,"VALOR",null,"OBSERVACIÓN",null,"URL Catalogo del Equipo"]
[null,"a. Marca"]
[null,"b. Modelo"]
[]
["Otros equipos","Ítem",null,"Marca","Modelo","Observaciones",null,"URL Catalogo del Equipo",null,"Selección"]
[null,null,null,null,null,null,null,null,null,1,{"$f":"ISBLANK(B302:I306)","v":true},true,true,true,true,true,true,true]
[null,null,null,null,null,null,null,null,null,"Algo lleno",true,true,true,true,true,true,true,true]
[null,null,null,null,null,null,null,null,null,{"$f":"IF(AND(_xlfn.ANCHORARRAY(K302)=TRUE),1,0)","v":1},true,true,true,true,true,true,true,true]
[null,null,null,null,null,null,null,null,null,"Validación para que no siga",true,true,true,true,true,true,true,true]
[null,null,null,null,null,null,null,null,null,{"$f":"AND(J302=2,J304=0)","v":false},true,true,true,true,true,true,true,true]
[null,{"$f":"IF(J308=TRUE,\"Selecciono SI en la opción de otros equipos, pero no ingreso ningún tipo de información, si no va a reportar ningún equipo, seleccione la opción NO\",\" \" )","v":"Selecciono SI en la opción de otros equipos, pero no ingreso ningún tipo de información, si no va a reportar ningún equipo, seleccione la opción NO"},null,null,null,null,null,null,null,"Si y No lleno dada"]
[null,null,null,null,null,null,null,null,null,{"$f":"AND(J304=1,J302=1)","v":true}]

{"sheet":"Patrones Cubrimiento","index":2,"n_rows":727,"n_cols":36,"rows_kept":727,"cut":false,"hidden":false,"merged":[[190,0,190,8],[201,0,210,7],[184,5,184,6],[186,0,186,4],[187,2,188,2],[187,5,187,7],[188,5,188,7],[179,0,179,8],[180,0,180,8],[182,0,183,0],[182,1,183,1],[182,2,183,2],[182,3,183,3],[182,4,183,4],[182,5,183,6],[14,16,14,17],[6,0,6,17],[7,0,7,17],[14,1,14,2],[14,4,14,5],[14,7,14,8],[14,10,14,11],[14,13,14,14],[9,4,10,4],[9,5,10,5],[11,4,12,4],[11,5,12,5],[138,0,138,17],[139,0,139,17],[140,0,140,8],[140,9,140,17],[141,0,177,8],[141,9,177,17]],"read":"row_number_cap"}
[null,null,null,null,null,null,null,null,null,null,null,null,null,null,null,null,null,null,null,"NAME",{"$f":"C11","v":0}]
[null,null,null,null,null,null,null,null,null,null,null,null,null,null,null,null,null,null,null,"FREQUENCY",{"$f":"F12","v":0}]
[null,null,null,null,null,null,null,null,null,null,null,null,null,null,null,null,null,null,null,"GAIN",{"$f":"F10","v":0},"dBd"]
[null,null,null,null,null,null,null,null,null,null,null,null,null,null,null,null,null,null,null,"TILT","ELECTRICAL",{"$f":"C13","v":0}]
[null,null,null,null,null,null,null,null,null,null,null,null,null,null,null,null,null,null,null,"HORIZONTAL",360]
["Versión 2.0"]
["PATRONES DE RADIACIÓN PARA EL ARREGLO DE  ANTENAS DE LA RED DE CUBRIMIENTO",null,null,null,null,null,null,null,null,null,null,null,null,null,null,null,null,null,null,"0.0","0",{"$f":"LEN(U7)","v":1},{"$f":"IF(V7=1,CONCATENATE(AB7,\".\",\"0\"),AB7)","v":"0.0"},{"$f":"LEN(W7)","v":3},{"$f":"IF(X7=2,CONCATENATE(W7,\".\",\"0\"),W7)","v":"0.0"},{"$f":"C17","v":0},null,{"$f":"IF(Z7>9,MID(U7,1,4),MID(U7,1,3))","v":"0"}]
[null,null,null,null,null,null,null,null,null,null,null,null,null,null,null,null,null,null,null,"1.0","0",{"$f":"LEN(U8)","v":1},{"$f":"IF(V8=1,CONCATENATE(AB8,\".\",\"0\"),AB8)","v":"0.0"},{"$f":"LEN(W8)","v":3},{"$f":"IF(X8=2,CONCATENATE(W8,\".\",\"0\"),W8)","v":"0.0"},{"$f":"C18","v":0},null,{"$f":"IF(Z8>9,MID(U8,1,4),MID(U8,1,3))","v":"0"}]
[null,null,null,null,null,null,null,null,null,null,null,null,null,null,null,null,null,null,{"$f":"INICIO!J13","v":1},"2.0","0",1,"0.0",3,"0.0",0,null,"0"]
[null,"Marca Antena",{"$f":"IF(S9=1,Modificacion!H115,\" \")","v":0},null,"Ganancia en dBd",{"$f":"IF(S9=1,Modificacion!C81,\" \")","v":0},null,null,null,null,null,null,null,null,null,null,null,null,{"$f":"INICIO!J14","v":0},"3.0","0",1,"0.0",3,"0.0",0,null,"0"]
[null,"Modelo Antena",{"$f":"IF(S9=1,Modificacion!I115,\" \")","v":0},null,null,null,null,null,null,null,null,null,null,null,null,null,null,null,{"$f":"INICIO!J15","v":0},"4.0","0",1,"0.0",3,"0.0",0,null,"0"]
[null,"# de Bahías",{"$f":"IF(S9=1,Modificacion!B107,\" \")","v":0},null,"Azimuth",{"$f":"IF(S9=1,Modificacion!L106,\" \")","v":0},null,null,null,null,null,null,null,null,null,null,null,null,{"$f":"INICIO!J16","v":0},"5.0","0",1,"0.0",3,"0.0",0,null,"0"]
[null,"Tilt°",{"$f":"IF(S9=1,Modificacion!E107,\" \")","v":0},null,null,null,null,null,null,null,null,null,null,null,null,null,null,null,null,"6.0","0",1,"0.0",3,"0.0",0,null,"0",null,"Angulo","Valor","cos",null,"Angulo","Valor","cos"]
[null,null,null,null,null,null,null,null,null,null,null,null,null,null,null,null,null,null,null,"7.0","0",1,"0.0",3,"0.0",0,null,"0",null,{"$f":"B17","v":0},{"$f":"C17","v":0},{"$f":"0.375+0.625*COS(RADIANS(AE14))","v":1},null,{"$f":"K17","v":0},{"$f":"L17","v":0},{"$f":"0.375+0.625*COS(RADIANS(AI14))","v":1}]
[null,"Patrón de Radiación Horizontal",null,null,"Patrón de Radiación Horizontal",null,null,"Patrón de Radiación Horizontal",null,null,"Patrón de Radiación Vertical",null,null,"Patrón de Radiación Vertical",null,null,"Patrón de Radiación Vertical",null,null,"8.0","0",1,"0.0",3,"0.0",0,null,"0",null,{"$f":"B18","v":1},0,{"$f":"0.375+0.625*COS(RADIANS(AE15))","v":1},null,{"$f":"K18","v":1},{"$f":"L18","v":0},{"$f":"0.375+0.625*COS(RADIANS(AI15))","v":1}]
[null,"Angulo °","valor en dB",null,"Angulo °","valor en dB",null,"Angulo °","valor en dB",null,"Angulo °","valor en dB",null,"Angulo °","valor en dB",null,"Angulo °","valor en dB",null,"9.0","0",1,"0.0",3,"0.0",0,null,"0",null,{"$f":"B19","v":2},0,1,null,2,0,1]
[null,0,null,null,121,null,null,242,null,null,0,null,null,121,null,null,242,null,null,"10.0","0",1,"0.0",3,"0.0",0,null,"0",null,{"$f":"B20","v":3},0,1,null,3,0,1]
[null,1,null,null,122,null,null,243,null,null,1,null,null,122,null,null,243,null,null,"11.0","0",1,"0.0",3,"0.0",0,null,"0",null,{"$f":"B21","v":4},0,1,null,4,0,1]
[null,2,null,null,123,null,null,244,null,null,2,null,null,123,null,null,244,null,null,"12.0","0",1,"0.0",3,"0.0",0,null,"0",null,{"$f":"B22","v":5},0,1,null,5,0,1]
[null,3,null,null,124,null,null,245,null,null,3,null,null,124,null,null,245,null,null,"13.0","0",1,"0.0",3,"0.0",0,null,"0",null,{"$f":"B23","v":6},0,1,null,6,0,1]
[null,4,null,null,125,null,null,246,null,null,4,null,null,125,null,null,246,null,null,"14.0","0",1,"0.0",3,"0.0",0,null,"0",null,{"$f":"B24","v":7},0,1,null,7,0,1]
[null,5,null,null,126,null,null,247,null,null,5,null,null,126,null,null,247,null,null,"15.0","0",1,"0.0",3,"0.0",0,null,"0",null,{"$f":"B25","v":8},0,1,null,8,0,1]
[null,6,null,null,127,null,null,248,null,null,6,null,null,127,null,null,248,null,null,"16.0","0",1,"0.0",3,"0.0",0,null,"0",null,{"$f":"B26","v":9},0,1,null,9,0,1]
[null,7,null,null,128,null,null,249,null,null,7,null,null,128,null,null,249,null,null,"17.0","0",1,"0.0",3,"0.0",0,null,"0",null,{"$f":"B27","v":10},0,1,null,10,0,1]
[null,8,null,null,129,null,null,250,null,null,8,null,null,129,null,null,250,null,null,"18.0","0",1,"0.0",3,"0.0",0,null,"0",null,{"$f":"B28","v":11},0,1,null,11,0,1]
[null,9,null,null,130,null,null,251,null,null,9,null,null,130,null,null,251,null,null,"19.0","0",1,"0.0",3,"0.0",0,null,"0",null,{"$f":"B29","v":12},0,1,null,12,0,1]
[null,10,null,null,131,null,null,252,null,null,10,null,null,131,null,null,252,null,null,"20.0","0",1,"0.0",3,"0.0",0,null,"0",null,{"$f":"B30","v":13},0,1,null,13,0,1]
[null,11,null,null,132,null,null,253,null,null,11,null,null,132,null,null,253,null,null,"21.0","0",1,"0.0",3,"0.0",0,null,"0",null,{"$f":"B31","v":14},0,1,null,14,0,1]
[null,12,null,null,133,null,null,254,null,null,12,null,null,133,null,null,254,null,null,"22.0","0",1,"0.0",3,"0.0",0,null,"0",null,{"$f":"B32","v":15},0,1,null,15,0,1]
[null,13,null,null,134,null,null,255,null,null,13,null,null,134,null,null,255,null,null,"23.0","0",1,"0.0",3,"0.0",0,null,"0",null,{"$f":"B33","v":16},0,1,null,16,0,1]
[null,14,null,null,135,null,null,256,null,null,14,null,null,135,null,null,256,null,null,"24.0","0",1,"0.0",3,"0.0",0,null,"0",null,{"$f":"B34","v":17},0,1,null,17,0,1]
[null,15,null,null,136,null,null,257,null,null,15,null,null,136,null,null,257,null,null,"25.0","0.18",4,"0.1",3,"0.1",0,null,"0.1",null,{"$f":"B35","v":18},0,1,null,18,0,1]
[null,16,null,null,137,null,null,258,null,null,16,null,null,137,null,null,258,null,null,"26.0","0.18",4,"0.1",3,"0.1",0,null,"0.1",null,{"$f":"B36","v":19},0,1,null,19,0,1]
[null,17,null,null,138,null,null,259,null,null,17,null,null,138,null,null,259,null,null,"27.0","0.18",4,"0.1",3,"0.1",0,null,"0.1",null,{"$f":"B37","v":20},0,1,null,20,0,1]
[null,18,null,null,139,null,null,260,null,null,18,null,null,139,null,null,260,null,null,"28.0","0.18",4,"0.1",3,"0.1",0,null,"0.1",null,{"$f":"B38","v":21},0,1,null,21,0,1]
[null,19,null,null,140,null,null,261,null,null,19,null,null,140,null,null,261,null,null,"29.0","0.18",4,"0.1",3,"0.1",0,null,"0.1",null,{"$f":"B39","v":22},0,1,null,22,0,1]
[null,20,null,null,141,null,null,262,null,null,20,null,null,141,null,null,262,null,null,"30.0","0.18",4,"0.1",3,"0.1",0,null,"0.1",null,{"$f":"B40","v":23},0,1,null,23,0,1]
[null,21,null,null,142,null,null,263,null,null,21,null,null,142,null,null,263,null,null,"31.0","0.18",4,"0.1",3,"0.1",0,null,"0.1",null,{"$f":"B41","v":24},0,1,null,24,0,1]
[null,22,null,null,143,null,null,264,null,null,22,null,null,143,null,null,264,null,null,"32.0","0.18",4,"0.1",3,"0.1",0,null,"0.1",null,{"$f":"B42","v":25},0,1,null,25,0,1]
[null,23,null,null,144,null,null,265,null,null,23,null,null,144,null,null,265,null,null,"33.0","0.18",4,"0.1",3,"0.1",0,null,"0.1",null,{"$f":"B43","v":26},0,1,null,26,0,1]
[null,24,null,null,145,null,null,266,null,null,24,null,null,145,null,null,266,null,null,"34.0","0.8",3,"0.8",3,"0.8",0,null,"0.8",null,{"$f":"B44","v":27},0,1,null,27,0,1]
[null,25,null,null,146,null,null,267,null,null,25,null,null,146,null,null,267,null,null,"35.0","0.26",4,"0.2",3,"0.2",0,null,"0.2",null,{"$f":"B45","v":28},0,1,null,28,0,1]
[null,26,null,null,147,null,null,268,null,null,26,null,null,147,null,null,268,null,null,"36.0","0.26",4,"0.2",3,"0.2",0,null,"0.2",null,{"$f":"B46","v":29},0,1,null,29,0,1]
[null,27,null,null,148,null,null,269,null,null,27,null,null,148,null,null,269,null,null,"37.0","0.26",4,"0.2",3,"0.2",0,null,"0.2",null,{"$f":"B47","v":30},0,1,null,30,0,1]
[null,28,null,null,149,null,null,270,null,null,28,null,null,149,null,null,270,null,null,"38.0","0.26",4,"0.2",3,"0.2",0,null,"0.2",null,{"$f":"B48","v":31},0,1,null,31,0,1]
[null,29,null,null,150,null,null,271,null,null,29,null,null,150,null,null,271,null,null,"39.0","0.26",4,"0.2",3,"0.2",0,null,"0.2",null,{"$f":"B49","v":32},0,1,null,32,0,1]
[null,30,null,null,151,null,null,272,null,null,30,null,null,151,null,null,272,null,null,"40.0","0.26",4,"0.2",3,"0.2",0,null,"0.2",null,{"$f":"B50","v":33},0,1,null,33,0,1]
[null,31,null,null,152,null,null,273,null,null,31,null,null,152,null,null,273,null,null,"41.0","0.26",4,"0.2",3,"0.2",0,null,"0.2",null,{"$f":"B51","v":34},0,1,null,34,0,1]
[null,32,null,null,153,null,null,274,null,null,32,null,null,153,null,null,274,null,null,"42.0","0.26",4,"0.2",3,"0.2",0,null,"0.2",null,{"$f":"B52","v":35},0,1,null,35,0,1]
[null,33,null,null,154,null,null,275,null,null,33,null,null,154,null,null,275,null,null,"43.0","0.26",4,"0.2",3,"0.2",0,null,"0.2",null,{"$f":"B53","v":36},0,1,null,36,0,1]
[null,34,null,null,155,null,null,276,null,null,34,null,null,155,null,null,276,null,null,"44.0","0.26",4,"0.2",3,"0.2",0,null,"0.2",null,{"$f":"B54","v":37},0,1,null,37,0,1]
[null,35,null,null,156,null,null,277,null,null,35,null,null,156,null,null,277,null,null,"45.0","0.54",4,"0.5",3,"0.5",0,null,"0.5",null,{"$f":"B55","v":38},0,1,null,38,0,1]
[null,36,null,null,157,null,null,278,null,null,36,null,null,157,null,null,278,null,null,"46.0","0.54",4,"0.5",3,"0.5",0,null,"0.5",null,{"$f":"B56","v":39},0,1,null,39,0,1]
[null,37,null,null,158,null,null,279,null,null,37,null,null,158,null,null,279,null,null,"47.0","0.54",4,"0.5",3,"0.5",0,null,"0.5",null,{"$f":"B57","v":40},0,1,null,40,0,1]
[null,38,null,null,159,null,null,280,null,null,38,null,null,159,null,null,280,null,null,"48.0","0.54",4,"0.5",3,"0.5",0,null,"0.5",null,{"$f":"B58","v":41},0,1,null,41,0,1]
[null,39,null,null,160,null,null,281,null,null,39,null,null,160,null,null,281,null,null,"49.0","0.54",4,"0.5",3,"0.5",0,null,"0.5",null,{"$f":"B59","v":42},0,1,null,42,0,1]
[null,40,null,null,161,null,null,282,null,null,40,null,null,161,null,null,282,null,null,"50.0","0.63",4,"0.6",3,"0.6",0,null,"0.6",null,{"$f":"B60","v":43},0,1,null,43,0,1]
[null,41,null,null,162,null,null,283,null,null,41,null,null,162,null,null,283,null,null,"51.0","0.63",4,"0.6",3,"0.6",0,null,"0.6",null,{"$f":"B61","v":44},0,1,null,44,0,1]
[null,42,null,null,163,null,null,284,null,null,42,null,null,163,null,null,284,null,null,"52.0","0.63",4,"0.6",3,"0.6",0,null,"0.6",null,{"$f":"B62","v":45},0,1,null,45,0,1]
[null,43,null,null,164,null,null,285,null,null,43,null,null,164,null,null,285,null,null,"53.0","0.63",4,"0.6",3,"0.6",0,null,"0.6",null,{"$f":"B63","v":46},0,1,null,46,0,1]
[null,44,null,null,165,null,null,286,null,null,44,null,null,165,null,null,286,null,null,"54.0","0.63",4,"0.6",3,"0.6",0,null,"0.6",null,{"$f":"B64","v":47},0,1,null,47,0,1]
[null,45,null,null,166,null,null,287,null,null,45,null,null,166,null,null,287,null,null,"55.0","0.72",4,"0.7",3,"0.7",0,null,"0.7",null,{"$f":"B65","v":48},0,1,null,48,0,1]
[null,46,null,null,167,null,null,288,null,null,46,null,null,167,null,null,288,null,null,"56.0","0.72",4,"0.7",3,"0.7",0,null,"0.7",null,{"$f":"B66","v":49},0,1,null,49,0,1]
[null,47,null,null,168,null,null,289,null,null,47,null,null,168,null,null,289,null,null,"57.0","0.72",4,"0.7",3,"0.7",0,null,"0.7",null,{"$f":"B67","v":50},0,1,null,50,0,1]
[null,48,null,null,169,null,null,290,null,null,48,null,null,169,null,null,290,null,null,"58.0","0.72",4,"0.7",3,"0.7",0,null,"0.7",null,{"$f":"B68","v":51},0,1,null,51,0,1]
[null,49,null,null,170,null,null,291,null,null,49,null,null,170,null,null,291,null,null,"59.0","0.72",4,"0.7",3,"0.7",0,null,"0.7",null,{"$f":"B69","v":52},0,1,null,52,0,1]
[null,50,null,null,171,null,null,292,null,null,50,null,null,171,null,null,292,null,null,"60.0","0.72",4,"0.7",3,"0.7",0,null,"0.7",null,{"$f":"B70","v":53},0,1,null,53,0,1]
[null,51,null,null,172,null,null,293,null,null,51,null,null,172,null,null,293,null,null,"61.0","0.72",4,"0.7",3,"0.7",0,null,"0.7",null,{"$f":"B71","v":54},0,1,null,54,0,1]
[null,52,null,null,173,null,null,294,null,null,52,null,null,173,null,null,294,null,null,"62.0","0.72",4,"0.7",3,"0.7",0,null,"0.7",null,{"$f":"B72","v":55},0,1,null,55,0,1]
[null,53,null,null,174,null,null,295,null,null,53,null,null,174,null,null,295,null,null,"63.0","0.72",4,"0.7",3,"0.7",0,null,"0.7",null,{"$f":"B73","v":56},0,1,null,56,0,1]
[null,54,null,null,175,null,null,296,null,null,54,null,null,175,null,null,296,null,null,"64.0","0.72",4,"0.7",3,"0.7",0,null,"0.7",null,{"$f":"B74","v":57},0,1,null,57,0,1]
[null,55,null,null,176,null,null,297,null,null,55,null,null,176,null,null,297,null,null,"65.0","1.11",{"$f":"LEN(U72)","v":4},{"$f":"IF(V72=1,CONCATENATE(AB72,\".\",\"0\"),AB72)","v":"1.1"},{"$f":"LEN(W72)","v":3},{"$f":"IF(X72=2,CONCATENATE(W72,\".\",\"0\"),W72)","v":"1.1"},{"$f":"C82","v":0},null,{"$f":"IF(Z72>9,MID(U72,1,4),MID(U72,1,3))","v":"1.1"},null,{"$f":"B75","v":58},0,1,null,58,0,1]
[null,56,null,null,177,null,null,298,null,null,56,null,null,177,null,null,298,null,null,"66.0","1.11",4,"1.1",3,"1.1",0,null,"1.1",null,{"$f":"B76","v":59},0,1,null,59,0,1]
[null,57,null,null,178,null,null,299,null,null,57,null,null,178,null,null,299,null,null,"67.0","1.11",4,"1.1",3,"1.1",0,null,"1.1",null,{"$f":"B77","v":60},0,1,null,60,0,1]
[null,58,null,null,179,null,null,300,null,null,58,null,null,179,null,null,300,null,null,"68.0","1.11",4,"1.1",3,"1.1",0,null,"1.1",null,{"$f":"B78","v":61},0,1,null,61,0,1]
[null,59,null,null,180,null,null,301,null,null,59,null,null,180,null,null,301,null,null,"69.0","1.11",4,"1.1",3,"1.1",0,null,"1.1",null,{"$f":"B79","v":62},0,1,null,62,0,1]
[null,60,null,null,181,null,null,302,null,null,60,null,null,181,null,null,302,null,null,"70.0","1.11",4,"1.1",3,"1.1",0,null,"1.1",null,{"$f":"B80","v":63},0,1,null,63,0,1]
[null,61,null,null,182,null,null,303,null,null,61,null,null,182,null,null,303,null,null,"71.0","1.11",4,"1.1",3,"1.1",0,null,"1.1",null,{"$f":"B81","v":64},0,1,null,64,0,1]
[null,62,null,null,183,null,null,304,null,null,62,null,null,183,null,null,304,null,null,"72.0","1.11",4,"1.1",3,"1.1",0,null,"1.1",null,{"$f":"B82","v":65},0,{"$f":"0.375+0.625*COS(RADIANS(AE79))","v":1},null,{"$f":"K82","v":65},{"$f":"L82","v":0},{"$f":"0.375+0.625*COS(RADIANS(AI79))","v":1}]
[null,63,null,null,184,null,null,305,null,null,63,null,null,184,null,null,305,null,null,"73.0","1.11",4,"1.1",3,"1.1",0,null,"1.1",null,{"$f":"B83","v":66},0,1,null,66,0,1]
[null,64,null,null,185,null,null,306,null,null,64,null,null,185,null,null,306,null,null,"74.0","1.11",4,"1.1",3,"1.1",0,null,"1.1",null,{"$f":"B84","v":67},0,1,null,67,0,1]
[null,65,null,null,186,null,null,307,null,null,65,null,null,186,null,null,307,null,null,"75.0","1.21",4,"1.2",3,"1.2",0,null,"1.2",null,{"$f":"B85","v":68},0,1,null,68,0,1]
[null,66,null,null,187,null,null,308,null,null,66,null,null,187,null,null,308,null,null,"76.0","1.21",4,"1.2",3,"1.2",0,null,"1.2",null,{"$f":"B86","v":69},0,1,null,69,0,1]
[null,67,null,null,188,null,null,309,null,null,67,null,null,188,null,null,309,null,null,"77.0","1.21",4,"1.2",3,"1.2",0,null,"1.2",null,{"$f":"B87","v":70},0,1,null,70,0,1]
[null,68,null,null,189,null,null,310,null,null,68,null,null,189,null,null,310,null,null,"78.0","1.21",4,"1.2",3,"1.2",0,null,"1.2",null,{"$f":"B88","v":71},0,1,null,71,0,1]
[null,69,null,null,190,null,null,311,null,null,69,null,null,190,null,null,311,null,null,"79.0","1.21",4,"1.2",3,"1.2",0,null,"1.2",null,{"$f":"B89","v":72},0,1,null,72,0,1]
[null,70,null,null,191,null,null,312,null,null,70,null,null,191,null,null,312,null,null,"80.0","1.51",4,"1.5",3,"1.5",0,null,"1.5",null,{"$f":"B90","v":73},0,1,null,73,0,1]
[null,71,null,null,192,null,null,313,null,null,71,null,null,192,null,null,313,null,null,"81.0","1.51",4,"1.5",3,"1.5",0,null,"1.5",null,{"$f":"B91","v":74},0,1,null,74,0,1]
[null,72,null,null,193,null,null,314,null,null,72,null,null,193,null,null,314,null,null,"82.0","1.51",4,"1.5",3,"1.5",0,null,"1.5",null,{"$f":"B92","v":75},0,1,null,75,0,1]
[null,73,null,null,194,null,null,315,null,null,73,null,null,194,null,null,315,null,null,"83.0","1.51",4,"1.5",3,"1.5",0,null,"1.5",null,{"$f":"B93","v":76},0,1,null,76,0,1]
[null,74,null,null,195,null,null,316,null,null,74,null,null,195,null,null,316,null,null,"84.0","1.51",4,"1.5",3,"1.5",0,null,"1.5",null,{"$f":"B94","v":77},0,1,null,77,0,1]
[null,75,null,null,196,null,null,317,null,null,75,null,null,196,null,null,317,null,null,"85.0","1.51",4,"1.5",3,"1.5",0,null,"1.5",null,{"$f":"B95","v":78},0,1,null,78,0,1]
[null,76,null,null,197,null,null,318,null,null,76,null,null,197,null,null,318,null,null,"86.0","1.51",4,"1.5",3,"1.5",0,null,"1.5",null,{"$f":"B96","v":79},0,1,null,79,0,1]
[null,77,null,null,198,null,null,319,null,null,77,null,null,198,null,null,319,null,null,"87.0","1.51",4,"1.5",3,"1.5",0,null,"1.5",null,{"$f":"B97","v":80},0,1,null,80,0,1]
[null,78,null,null,199,null,null,320,null,null,78,null,null,199,null,null,320,null,null,"88.0","1.51",4,"1.5",3,"1.5",0,null,"1.5",null,{"$f":"B98","v":81},0,1,null,81,0,1]
[null,79,null,null,200,null,null,321,null,null,79,null,null,200,null,null,321,null,null,"89.0","1.51",4,"1.5",3,"1.5",0,null,"1.5",null,{"$f":"B99","v":82},0,1,null,82,0,1]
[null,80,null,null,201,null,null,322,null,null,80,null,null,201,null,null,322,null,null,"90.0","1.94",4,"1.9",3,"1.9",0,null,"1.9",null,{"$f":"B100","v":83},0,1,null,83,0,1]
[null,81,null,null,202,null,null,323,null,null,81,null,null,202,null,null,323,null,null,"91.0","1.94",4,"1.9",3,"1.9",0,null,"1.9",null,{"$f":"B101","v":84},0,1,null,84,0,1]
[null,82,null,null,203,null,null,324,null,null,82,null,null,203,null,null,324,null,null,"92.0","1.94",4,"1.9",3,"1.9",0,null,"1.9",null,{"$f":"B102","v":85},0,1,null,85,0,1]
[null,83,null,null,204,null,null,325,null,null,83,null,null,204,null,null,325,null,null,"93.0","1.94",4,"1.9",3,"1.9",0,null,"1.9",null,{"$f":"B103","v":86},0,1,null,86,0,1]
[null,84,null,null,205,null,null,326,null,null,84,null,null,205,null,null,326,null,null,"94.0","1.94",4,"1.9",3,"1.9",0,null,"1.9",null,{"$f":"B104","v":87},0,1,null,87,0,1]
[null,85,null,null,206,null,null,327,null,null,85,null,null,206,null,null,327,null,null,"95.0","2.27",4,"2.2",3,"2.2",0,null,"2.2",null,{"$f":"B105","v":88},0,1,null,88,0,1]
[null,86,null,null,207,null,null,328,null,null,86,null,null,207,null,null,328,null,null,"96.0","2.27",4,"2.2",3,"2.2",0,null,"2.2",null,{"$f":"B106","v":89},0,1,null,89,0,1]
[null,87,null,null,208,null,null,329,null,null,87,null,null,208,null,null,329,null,null,"97.0","2.27",4,"2.2",3,"2.2",0,null,"2.2",null,{"$f":"B107","v":90},0,1,null,90,0,1]
[null,88,null,null,209,null,null,330,null,null,88,null,null,209,null,null,330,null,null,"98.0","2.27",4,"2.2",3,"2.2",0,null,"2.2",null,{"$f":"B108","v":91},0,1,null,91,0,1]
[null,89,null,null,210,null,null,331,null,null,89,null,null,210,null,null,331,null,null,"99.0","2.27",4,"2.2",3,"2.2",0,null,"2.2",null,{"$f":"B109","v":92},0,1,null,92,0,1]
[null,90,null,null,211,null,null,332,null,null,90,null,null,211,null,null,332,null,null,"100.0","2.38",4,"2.3",3,"2.3",0,null,"2.3",null,{"$f":"B110","v":93},0,1,null,93,0,1]
[null,91,null,null,212,null,null,333,null,null,91,null,null,212,null,null,333,null,null,"101.0","2.38",4,"2.3",3,"2.3",0,null,"2.3",null,{"$f":"B111","v":94},0,1,null,94,0,1]
[null,92,null,null,213,null,null,334,null,null,92,null,null,213,null,null,334,null,null,"102.0","2.38",4,"2.3",3,"2.3",0,null,"2.3",null,{"$f":"B112","v":95},0,1,null,95,0,1]
[null,93,null,null,214,null,null,335,null,null,93,null,null,214,null,null,335,null,null,"103.0","2.38",4,"2.3",3,"2.3",0,null,"2.3",null,{"$f":"B113","v":96},0,1,null,96,0,1]
[null,94,null,null,215,null,null,336,null,null,94,null,null,215,null,null,336,null,null,"104.0","2.38",4,"2.3",3,"2.3",0,null,"2.3",null,{"$f":"B114","v":97},0,1,null,97,0,1]
[null,95,null,null,216,null,null,337,null,null,95,null,null,216,null,null,337,null,null,"105.0","2.5",3,"2.5",3,"2.5",0,null,"2.5",null,{"$f":"B115","v":98},0,1,null,98,0,1]
[null,96,null,null,217,null,null,338,null,null,96,null,null,217,null,null,338,null,null,"106.0","2.5",3,"2.5",3,"2.5",0,null,"2.5",null,{"$f":"B116","v":99},0,1,null,99,0,1]
[null,97,null,null,218,null,null,339,null,null,97,null,null,218,null,null,339,null,null,"107.0","2.5",3,"2.5",3,"2.5",0,null,"2.5",null,{"$f":"B117","v":100},0,1,null,100,0,1]
[null,98,null,null,219,null,null,340,null,null,98,null,null,219,null,null,340,null,null,"108.0","2.5",3,"2.5",3,"2.5",0,null,"2.5",null,{"$f":"B118","v":101},0,1,null,101,0,1]
[null,99,null,null,220,null,null,341,null,null,99,null,null,220,null,null,341,null,null,"109.0","2.5",3,"2.5",3,"2.5",0,null,"2.5",null,{"$f":"B119","v":102},0,1,null,102,0,1]
[null,100,null,null,221,null,null,342,null,null,100,null,null,221,null,null,342,null,null,"110.0","2.62",4,"2.6",3,"2.6",0,null,"2.6",null,{"$f":"B120","v":103},0,1,null,103,0,1]
[null,101,null,null,222,null,null,343,null,null,101,null,null,222,null,null,343,null,null,"111.0","2.62",4,"2.6",3,"2.6",0,null,"2.6",null,{"$f":"B121","v":104},0,1,null,104,0,1]
[null,102,null,null,223,null,null,344,null,null,102,null,null,223,null,null,344,null,null,"112.0","2.62",4,"2.6",3,"2.6",0,null,"2.6",null,{"$f":"B122","v":105},0,1,null,105,0,1]
[null,103,null,null,224,null,null,345,null,null,103,null,null,224,null,null,345,null,null,"113.0","2.62",4,"2.6",3,"2.6",0,null,"2.6",null,{"$f":"B123","v":106},0,1,null,106,0,1]
[null,104,null,null,225,null,null,346,null,null,104,null,null,225,null,null,346,null,null,"114.0","2.62",4,"2.6",3,"2.6",0,null,"2.6",null,{"$f":"B124","v":107},0,1,null,107,0,1]
[null,105,null,null,226,null,null,347,null,null,105,null,null,226,null,null,347,null,null,"115.0","2.62",4,"2.6",3,"2.6",0,null,"2.6",null,{"$f":"B125","v":108},0,1,null,108,0,1]
[null,106,null,null,227,null,null,348,null,null,106,null,null,227,null,null,348,null,null,"116.0","2.62",4,"2.6",3,"2.6",0,null,"2.6",null,{"$f":"B126","v":109},0,1,null,109,0,1]
[null,107,null,null,228,null,null,349,null,null,107,null,null,228,null,null,349,null,null,"117.0","2.62",4,"2.6",3,"2.6",0,null,"2.6",null,{"$f":"B127","v":110},0,1,null,110,0,1]
[null,108,null,null,229,null,null,350,null,null,108,null,null,229,null,null,350,null,null,"118.0","2.62",4,"2.6",3,"2.6",0,null,"2.6",null,{"$f":"B128","v":111},0,1,null,111,0,1]
[null,109,null,null,230,null,null,351,null,null,109,null,null,230,null,null,351,null,null,"119.0","2.62",4,"2.6",3,"2.6",0,null,"2.6",null,{"$f":"B129","v":112},0,1,null,112,0,1]
[null,110,null,null,231,null,null,352,null,null,110,null,null,231,null,null,352,null,null,"120.0","2.73",4,"2.7",3,"2.7",0,null,"2.7",null,{"$f":"B130","v":113},0,1,null,113,0,1]
[null,111,null,null,232,null,null,353,null,null,111,null,null,232,null,null,353,null,null,"121.0","2.73",4,"2.7",3,"2.7",{"$f":"F17","v":0},null,"2.7",null,{"$f":"B131","v":114},0,1,null,114,0,1]
[null,112,null,null,233,null,null,354,null,null,112,null,null,233,null,null,354,null,null,"122.0","2.73",4,"2.7",3,"2.7",{"$f":"F18","v":0},null,"2.7",null,{"$f":"B132","v":115},{"$f":"C132","v":0},1,null,115,0,1]
[null,113,null,null,234,null,null,355,null,null,113,null,null,234,null,null,355,null,null,"123.0","2.73",4,"2.7",3,"2.7",0,null,"2.7",null,{"$f":"B133","v":116},{"$f":"C133","v":0},1,null,116,0,1]
[null,114,null,null,235,null,null,356,null,null,114,null,null,235,null,null,356,null,null,"124.0","2.73",4,"2.7",3,"2.7",0,null,"2.7",null,117,0,1,null,117,0,1]
[null,115,null,null,236,null,null,357,null,null,115,null,null,236,null,null,357,null,null,"125.0","2.73",4,"2.7",3,"2.7",0,null,"2.7",null,118,0,1,null,118,0,1]
[null,116,null,null,237,null,null,358,null,null,116,null,null,237,null,null,358,null,null,"126.0","2.73",4,"2.7",3,"2.7",0,null,"2.7",null,119,0,1,null,119,0,1]
[null,117,null,null,238,null,null,359,null,null,117,null,null,238,null,null,359,null,null,"127.0","2.73",4,"2.7",3,"2.7",0,null,"2.7",null,{"$f":"B137","v":120},{"$f":"C137","v":0},1,null,120,0,1]
[null,118,null,null,239,null,null,null,null,null,118,null,null,239,null,null,null,null,null,"128.0","2.73",4,"2.7",3,"2.7",0,null,"2.7",null,{"$f":"E17","v":121},{"$f":"F17","v":0},1,null,121,{"$f":"O17","v":0},1]
[null,119,null,null,240,null,null,null,null,null,119,null,null,240,null,null,null,null,null,"129.0","2.73",{"$f":"LEN(U136)","v":4},{"$f":"IF(V136=1,CONCATENATE(AB136,\".\",\"0\"),AB136)","v":"2.7"},{"$f":"LEN(W136)","v":3},{"$f":"IF(X136=2,CONCATENATE(W136,\".\",\"0\"),W136)","v":"2.7"},0,null,{"$f":"IF(Z136>9,MID(U136,1,4),MID(U136,1,3))","v":"2.7"},null,{"$f":"E18","v":122},0,1,null,122,{"$f":"O18","v":0},1]
[null,120,null,null,241,null,null,null,null,null,120,null,null,241,null,null,null,null,null,"130.0","2.97",4,"2.9",3,"2.9",0,null,"2.9",null,{"$f":"E19","v":123},0,1,null,123,0,1]
[null,null,null,null,null,null,null,null,null,null,null,null,null,null,null,null,null,null,null,"131.0","2.97",4,"2.9",3,"2.9",0,null,"2.9",null,{"$f":"E20","v":124},0,1,null,124,0,1]
["DIAGRAMAS DE RADIACIÓN DEL ARREGLO DE ANTENAS",null,null,null,null,null,null,null,null,null,null,null,null,null,null,null,null,null,null,"132.0","2.97",4,"2.9",3,"2.9",0,null,"2.9",null,{"$f":"E21","v":125},0,1,null,125,0,1]
["PEGAR LAS IMÁGENES DE LOS PATRONES DE RADIACIÓN",null,null,null,null,null,null,null,null,null,null,null,null,null,null,null,null,null,null,"133.0","2.97",{"$f":"LEN(U140)","v":4},{"$f":"IF(V140=1,CONCATENATE(AB140,\".\",\"0\"),AB140)","v":"2.9"},{"$f":"LEN(W140)","v":3},{"$f":"IF(X140=2,CONCATENATE(W140,\".\",\"0\"),W140)","v":"2.9"},{"$f":"C150","v":0},null,{"$f":"IF(Z140>9,MID(U140,1,4),MID(U140,1,3))","v":"2.9"},null,{"$f":"E22","v":126},0,1,null,126,0,1]
["DIAGRAMA DE RADIACIÓN HORIZONTAL",null,null,null,null,null,null,null,null,"DIAGRAMA DE RADIACIÓN VERTICAL",null,null,null,null,null,null,null,null,null,"134.0","2.97",4,"2.9",3,"2.9",0,null,"2.9",null,{"$f":"E23","v":127},0,1,null,127,0,1]
[null,null,null,null,null,null,null,null,null,null,null,null,null,null,null,null,null,null,null,"135.0","2.97",4,"2.9",3,"2.9",0,null,"2.9",null,{"$f":"E24","v":128},0,1,null,128,0,1]
[null,null,null,null,null,null,null,null,null,null,null,null,null,null,null,null,null,null,null,"136.0","2.97",4,"2.9",3,"2.9",0,null,"2.9",null,{"$f":"E25","v":129},0,{"$f":"0.375+0.625*COS(RADIANS(AE143))","v":1},null,129,0,{"$f":"0.375+0.625*COS(RADIANS(AI143))","v":1}]
[null,null,null,null,null,null,null,null,null,null,null,null,null,null,null,null,null,null,null,"137.0","2.97",4,"2.9",3,"2.9",0,null,"2.9",null,{"$f":"E26","v":130},0,1,null,130,0,1]
[null,null,null,null,null,null,null,null,null,null,null,null,null,null,null,null,null,null,null,"138.0","2.97",4,"2.9",3,"2.9",0,null,"2.9",null,{"$f":"E27","v":131},0,1,null,131,0,1]
[null,null,null,null,null,null,null,null,null,null,null,null,null,null,null,null,null,null,null,"139.0","2.97",4,"2.9",3,"2.9",0,null,"2.9",null,{"$f":"E28","v":132},0,1,null,132,0,1]
[null,null,null,null,null,null,null,null,null,null,null,null,null,null,null,null,null,null,null,"140.0","3.35",4,"3.3",3,"3.3",0,null,"3.3",null,{"$f":"E29","v":133},0,1,null,133,0,1]
[null,null,null,null,null,null,null,null,null,null,null,null,null,null,null,null,null,null,null,"141.0","3.35",4,"3.3",3,"3.3",0,null,"3.3",null,{"$f":"E30","v":134},0,1,null,134,0,1]
[null,null,null,null,null,null,null,null,null,null,null,null,null,null,null,null,null,null,null,"142.0","3.35",4,"3.3",3,"3.3",0,null,"3.3",null,{"$f":"E31","v":135},0,1,null,135,0,1]
[null,null,null,null,null,null,null,null,null,null,null,null,null,null,null,null,null,null,null,"143.0","3.35",4,"3.3",3,"3.3",0,null,"3.3",null,{"$f":"E32","v":136},0,1,null,136,0,1]
[null,null,null,null,null,null,null,null,null,null,null,null,null,null,null,null,null,null,null,"144.0","3.35",4,"3.3",3,"3.3",0,null,"3.3",null,{"$f":"E33","v":137},0,1,null,137,0,1]
[null,null,null,null,null,null,null,null,null,null,null,null,null,null,null,null,null,null,null,"145.0","3.48",4,"3.4",3,"3.4",0,null,"3.4",null,{"$f":"E34","v":138},0,1,null,138,0,1]
[null,null,null,null,null,null,null,null,null,null,null,null,null,null,null,null,null,null,null,"146.0","3.48",4,"3.4",3,"3.4",0,null,"3.4",null,{"$f":"E35","v":139},0,1,null,139,0,1]
[null,null,null,null,null,null,null,null,null,null,null,null,null,null,null,null,null,null,null,"147.0","3.48",4,"3.4",3,"3.4",0,null,"3.4",null,{"$f":"E36","v":140},0,1,null,140,0,1]
[null,null,null,null,null,null,null,null,null,null,null,null,null,null,null,null,null,null,null,"148.0","3.48",4,"3.4",3,"3.4",0,null,"3.4",null,{"$f":"E37","v":141},0,1,null,141,0,1]
[null,null,null,null,null,null,null,null,null,null,null,null,null,null,null,null,null,null,null,"149.0","3.48",4,"3.4",3,"3.4",0,null,"3.4",null,{"$f":"E38","v":142},0,1,null,142,0,1]
[null,null,null,null,null,null,null,null,null,null,null,null,null,null,null,null,null,null,null,"150.0","3.88",4,"3.8",3,"3.8",0,null,"3.8",null,{"$f":"E39","v":143},0,1,null,143,0,1]
[null,null,null,null,null,null,null,null,null,null,null,null,null,null,null,null,null,null,null,"151.0","3.88",4,"3.8",3,"3.8",0,null,"3.8",null,{"$f":"E40","v":144},0,1,null,144,0,1]
[null,null,null,null,null,null,null,null,null,null,null,null,null,null,null,null,null,null,null,"152.0","3.88",4,"3.8",3,"3.8",0,null,"3.8",null,{"$f":"E41","v":145},0,1,null,145,0,1]
[null,null,null,null,null,null,null,null,null,null,null,null,null,null,null,null,null,null,null,"153.0","3.88",4,"3.8",3,"3.8",0,null,"3.8",null,{"$f":"E42","v":146},0,1,null,146,0,1]
[null,null,null,null,null,null,null,null,null,null,null,null,null,null,null,null,null,null,null,"154.0","3.88",4,"3.8",3,"3.8",0,null,"3.8",null,{"$f":"E43","v":147},0,1,null,147,0,1]
[null,null,null,null,null,null,null,null,null,null,null,null,null,null,null,null,null,null,null,"155.0","3.88",4,"3.8",3,"3.8",0,null,"3.8",null,{"$f":"E44","v":148},0,1,null,148,0,1]
[null,null,null,null,null,null,null,null,null,null,null,null,null,null,null,null,null,null,null,"156.0","3.88",4,"3.8",3,"3.8",0,null,"3.8",null,{"$f":"E45","v":149},0,1,null,149,0,1]
[null,null,null,null,null,null,null,null,null,null,null,null,null,null,null,null,null,null,null,"157.0","3.88",4,"3.8",3,"3.8",0,null,"3.8",null,{"$f":"E46","v":150},0,1,null,150,0,1]
[null,null,null,null,null,null,null,null,null,null,null,null,null,null,null,null,null,null,null,"158.0","3.88",4,"3.8",3,"3.8",0,null,"3.8",null,{"$f":"E47","v":151},0,1,null,151,0,1]
[null,null,null,null,null,null,null,null,null,null,null,null,null,null,null,null,null,null,null,"159.0","3.88",4,"3.8",3,"3.8",0,null,"3.8",null,{"$f":"E48","v":152},0,1,null,152,0,1]
[null,null,null,null,null,null,null,null,null,null,null,null,null,null,null,null,null,null,null,"160.0","3.88",4,"3.8",3,"3.8",0,null,"3.8",null,{"$f":"E49","v":153},0,1,null,153,0,1]
[null,null,null,null,null,null,null,null,null,null,null,null,null,null,null,null,null,null,null,"161.0","3.88",4,"3.8",3,"3.8",0,null,"3.8",null,{"$f":"E50","v":154},0,1,null,154,0,1]
[null,null,null,null,null,null,null,null,null,null,null,null,null,null,null,null,null,null,null,"162.0","3.88",4,"3.8",3,"3.8",0,null,"3.8",null,{"$f":"E51","v":155},0,1,null,155,0,1]
[null,null,null,null,null,null,null,null,null,null,null,null,null,null,null,null,null,null,null,"163.0","3.88",4,"3.8",3,"3.8",0,null,"3.8",null,{"$f":"E52","v":156},0,1,null,156,0,1]
[null,null,null,null,null,null,null,null,null,null,null,null,null,null,null,null,null,null,null,"164.0","3.88",4,"3.8",3,"3.8",0,null,"3.8",null,{"$f":"E53","v":157},0,1,null,157,0,1]
[null,null,null,null,null,null,null,null,null,null,null,null,null,null,null,null,null,null,null,"165.0","4.01",4,"4.0",3,"4.0",0,null,"4.0",null,{"$f":"E54","v":158},0,1,null,158,0,1]
[null,null,null,null,null,null,null,null,null,null,null,null,null,null,null,null,null,null,null,"166.0","4.01",4,"4.0",3,"4.0",0,null,"4.0",null,{"$f":"E55","v":159},0,1,null,159,0,1]
[null,null,null,null,null,null,null,null,null,null,null,null,null,null,null,null,null,null,null,"167.0","4.01",4,"4.0",3,"4.0",0,null,"4.0",null,{"$f":"E56","v":160},0,1,null,160,0,1]
[null,null,null,null,null,null,null,null,null,null,null,null,null,null,null,null,null,null,null,"168.0","4.01",4,"4.0",3,"4.0",0,null,"4.0",null,{"$f":"E57","v":161},0,1,null,161,0,1]
[null,null,null,null,null,null,null,null,null,null,null,null,null,null,null,null,null,null,null,"169.0","4.01",4,"4.0",3,"4.0",0,null,"4.0",null,{"$f":"E58","v":162},0,1,null,162,0,1]
[null,null,null,null,null,null,null,null,null,null,null,null,null,null,null,null,null,null,null,"170.0","4.58",4,"4.5",3,"4.5",0,null,"4.5",null,{"$f":"E59","v":163},0,1,null,163,0,1]
[null,null,null,null,null,null,null,null,null,null,null,null,null,null,null,null,null,null,null,"171.0","4.58",4,"4.5",3,"4.5",0,null,"4.5",null,{"$f":"E60","v":164},0,1,null,164,0,1]
[null,null,null,null,null,null,null,null,null,null,null,null,null,null,null,null,null,null,null,"172.0","4.58",4,"4.5",3,"4.5",0,null,"4.5",null,{"$f":"E61","v":165},0,1,null,165,0,1]
[null,null,null,null,null,null,null,null,null,null,null,null,null,null,null,null,null,null,null,"173.0","4.58",4,"4.5",3,"4.5",0,null,"4.5",null,{"$f":"E62","v":166},0,1,null,166,0,1]
["Características técnicas del sistema radiante\n",null,null,null,null,null,null,null,null,null,null,null,null,null,null,null,null,null,{"$f":"INICIO!J13","v":1},"174.0","4.58",4,"4.5",3,"4.5",0,null,"4.5",null,{"$f":"E63","v":167},0,1,null,167,0,1]
[null,null,null,null,null,null,null,null,null,null,null,null,null,null,null,null,null,null,null,"175.0","4.73",4,"4.7",3,"4.7",0,null,"4.7",null,{"$f":"E64","v":168},0,1,null,168,0,1]
["Altura del centro de radiación (m)","Número de bahías del arreglo de antenas","Ganancia máxima del arreglo de antenas (dBd)","Polarización","Ángulo de TILT (°)","Azimut de la máxima intensidad de radiación del arreglo de antenas (°)",null,null,null,null,null,null,null,null,null,null,null,null,null,"176.0","4.73",4,"4.7",3,"4.7",0,null,"4.7",null,{"$f":"E65","v":169},0,1,null,169,0,1]
[null,null,null,null,null,null,null,null,null,null,null,null,null,null,null,null,null,null,null,"177.0","4.73",4,"4.7",3,"4.7",0,null,"4.7",null,{"$f":"E66","v":170},0,1,null,170,0,1]
[null,null,null,null,null,null,null,null,null,null,null,null,null,null,null,null,null,null,null,"178.0","4.73",4,"4.7",3,"4.7",0,null,"4.7",null,{"$f":"E67","v":171},0,1,null,171,0,1]
[null,null,null,null,null,null,null,null,null,null,null,null,null,null,null,null,null,null,null,"179.0","4.73",4,"4.7",3,"4.7",0,null,"4.7",null,{"$f":"E68","v":172},0,1,null,172,0,1]
["Descripción de la torre",null,null,null,null,null,null,null,null,null,null,null,null,null,null,null,null,null,null,"180.0","4.73",4,"4.7",3,"4.7",0,null,"4.7",null,{"$f":"E69","v":173},0,1,null,173,0,1]
["Altura de la torre (metros)","Tipo de torre","Medidas","Dimensión lado 1 (metros)\nNota: Para torre circular diligenciar su diámetro",null,null,null,null,null,null,null,null,null,null,null,null,null,null,null,"181.0","4.73",4,"4.7",3,"4.7",0,null,"4.7",null,{"$f":"E70","v":174},0,1,null,174,0,1]
[null,"Cuadrada",null,"Dimensión lado 2 (metros)\nNota: Diligenciar solamente  para torre rectangular",null,{"$f":"IF(A185>A189,\"La altura del centro de radiación no puede ser superior al de la torre.\",\" \")","v":" "},null,null,null,null,null,null,null,null,null,null,null,null,null,"182.0","4.73",4,"4.7",3,"4.7",0,null,"4.7",null,{"$f":"E71","v":175},0,1,null,175,0,1]
[null,null,null,null,null,null,null,null,null,null,null,null,null,null,null,null,null,null,null,"183.0","4.73",4,"4.7",3,"4.7",0,null,"4.7",null,{"$f":"E72","v":176},0,1,null,176,0,1]
["8.1 Datos del arreglo de antenas\nNota: La # 1 deberá corresponder al elemento más alejado del suelo",null,null,null,null,null,null,null,null,null,null,null,null,null,null,null,null,null,null,"184.0","4.73",4,"4.7",3,"4.7",0,null,"4.7",null,{"$f":"E73","v":177},0,1,null,177,0,1]
["No.","Altura (metros)","Distancia horizontal (cm)","Azimut(°)","Ganancia de antena (dBd) por Bahía","Polarización","Longitud del cable de alimentación (m)","Marca","Modelo",null,null,null,null,null,null,null,null,null,null,"185.0","4.73",4,"4.7",3,"4.7",0,null,"4.7",null,{"$f":"E74","v":178},0,1,null,178,0,1]
[null,null,null,null,null,null,null,null,null,null,null,null,null,null,null,null,null,null,null,"186.0","4.73",4,"4.7",3,"4.7",{"$f":"F82","v":0},null,"4.7",null,{"$f":"E75","v":179},0,1,null,179,0,1]
[null,null,null,null,null,null,null,null,null,null,null,null,null,null,null,null,null,null,null,"187.0","4.73",4,"4.7",3,"4.7",0,null,"4.7",null,{"$f":"E76","v":180},0,1,null,180,0,1]
[null,null,null,null,null,null,null,null,null,null,null,null,null,null,null,null,null,null,null,"188.0","4.73",4,"4.7",3,"4.7",0,null,"4.7",null,{"$f":"E77","v":181},0,1,null,181,0,1]
[null,null,null,null,null,null,null,null,null,null,null,null,null,null,null,null,null,null,null,"189.0","4.73",4,"4.7",3,"4.7",0,null,"4.7",null,{"$f":"E78","v":182},0,1,null,182,0,1]
[null,null,null,null,null,null,null,null,null,null,null,null,null,null,null,null,null,null,null,"190.0","4.58",4,"4.5",3,"4.5",0,null,"4.5",null,{"$f":"E79","v":183},0,1,null,183,0,1]
[null,null,null,null,null,null,null,null,null,null,null,null,null,null,null,null,null,null,null,"191.0","4.58",4,"4.5",3,"4.5",0,null,"4.5",null,{"$f":"E80","v":184},0,1,null,184,0,1]
[null,null,null,null,null,null,null,null,null,null,null,null,null,null,null,null,null,null,null,"192.0","4.58",4,"4.5",3,"4.5",0,null,"4.5",null,{"$f":"E81","v":185},{"$f":"F81","v":0},1,null,185,0,1]
[null,null,null,null,null,null,null,null,null,null,null,null,null,null,null,null,null,null,null,"193.0","4.58",{"$f":"LEN(U200)","v":4},{"$f":"IF(V200=1,CONCATENATE(AB200,\".\",\"0\"),AB200)","v":"4.5"},{"$f":"LEN(W200)","v":3},{"$f":"IF(X200=2,CONCATENATE(W200,\".\",\"0\"),W200)","v":"4.5"},0,null,{"$f":"IF(Z200>9,MID(U200,1,4),MID(U200,1,3))","v":"4.5"},null,{"$f":"E82","v":186},{"$f":"F82","v":0},1,null,186,{"$f":"O82","v":0},1]
[null,null,null,null,null,null,null,null,null,null,null,null,null,null,null,null,null,null,null,"194.0","4.58",4,"4.5",3,"4.5",0,null,"4.5",null,187,0,1,null,187,0,1]
["No. : Número de antena según orden descendente en la torre.\nAltura: Altura de la antena en la torre referente al suelo, en metros.\nDistancia horizontal: Distancia entre la antena respectiva y el eje vertical soporte en la torre, en centímetros.\nAzimut: Ángulo de orientación de la antena respectiva referente al norte geográfico, en grados. \nGanancia de antena: Ganancia de la antena respectiva (una bahía), en dBd.\nPolarización: Polarización de la antena respectiva.\nLongitud del cable de alimentación (Latiguillos): Es la longitud del cable que va entre el divisor de potencia y la antena respectiva, en metros.\nMarca: Marca de la antena.\nModelo: Modelo de la antena.",null,null,null,null,null,null,null,null,null,null,null,null,null,null,null,null,null,null,"195.0","4.01",4,"4.0",3,"4.0",0,null,"4.0",null,188,0,1,null,188,0,1]
[null,null,null,null,null,null,null,null,null,null,null,null,null,null,null,null,null,null,null,"196.0","4.01",4,"4.0",3,"4.0",0,null,"4.0",null,189,0,1,null,189,0,1]
[null,null,null,null,null,null,null,null,null,null,null,null,null,null,null,null,null,null,null,"197.0","4.01",4,"4.0",3,"4.0",0,null,"4.0",null,190,0,1,null,190,0,1]
[null,null,null,null,null,null,null,null,null,null,null,null,null,null,null,null,null,null,null,"198.0","4.01",4,"4.0",3,"4.0",0,null,"4.0",null,191,0,1,null,191,0,1]
[null,null,null,null,null,null,null,null,null,null,null,null,null,null,null,null,null,null,null,"199.0","4.01",4,"4.0",3,"4.0",0,null,"4.0",null,192,0,1,null,192,0,1]
[null,null,null,null,null,null,null,null,null,null,null,null,null,null,null,null,null,null,null,"200.0","3.88",4,"3.8",3,"3.8",0,null,"3.8",null,193,0,{"$f":"0.375+0.625*COS(RADIANS(AE207))","v":1},null,193,0,{"$f":"0.375+0.625*COS(RADIANS(AI207))","v":1}]
[null,null,null,null,null,null,null,null,null,null,null,null,null,null,null,null,null,null,null,"201.0","3.88",4,"3.8",3,"3.8",0,null,"3.8",null,194,0,1,null,194,0,1]
[null,null,null,null,null,null,null,null,null,null,null,null,null,null,null,null,null,null,null,"202.0","3.88",4,"3.8",3,"3.8",0,null,"3.8",null,195,0,1,null,195,0,1]
[null,null,null,null,null,null,null,null,null,null,null,null,null,null,null,null,null,null,null,"203.0","3.88",4,"3.8",3,"3.8",0,null,"3.8",null,196,0,1,null,196,0,1]
[null,null,null,null,null,null,null,null,null,null,null,null,null,null,null,null,null,null,null,"204.0","3.88",4,"3.8",3,"3.8",0,null,"3.8",null,197,0,1,null,197,0,1]
[null,null,null,null,null,null,null,null,null,null,null,null,null,null,null,null,null,null,null,"205.0","3.88",4,"3.8",3,"3.8",0,null,"3.8",null,{"$f":"E94","v":198},{"$f":"F94","v":0},1,null,198,0,1]
[null,null,null,null,null,null,null,null,null,null,null,null,null,null,null,null,null,null,null,"206.0","3.88",4,"3.8",3,"3.8",0,null,"3.8",null,{"$f":"E95","v":199},{"$f":"F95","v":0},1,null,199,0,1]
[null,null,null,null,null,null,null,null,null,null,null,null,null,null,null,null,null,null,null,"207.0","3.88",4,"3.8",3,"3.8",0,null,"3.8",null,200,0,1,null,200,0,1]
[null,null,null,null,null,null,null,null,null,null,null,null,null,null,null,null,null,null,null,"208.0","3.88",4,"3.8",3,"3.8",0,null,"3.8",null,201,0,1,null,201,0,1]
[null,null,null,null,null,null,null,null,null,null,null,null,null,null,null,null,null,null,null,"209.0","3.88",4,"3.8",3,"3.8",0,null,"3.8",null,202,0,1,null,202,0,1]
[null,null,null,null,null,null,null,null,null,null,null,null,null,null,null,null,null,null,null,"210.0","3.88",4,"3.8",3,"3.8",0,null,"3.8",null,203,0,1,null,203,0,1]
[null,null,null,null,null,null,null,null,null,null,null,null,null,null,null,null,null,null,null,"211.0","3.88",4,"3.8",3,"3.8",0,null,"3.8",null,204,0,1,null,204,0,1]
[null,null,null,null,null,null,null,null,null,null,null,null,null,null,null,null,null,null,null,"212.0","3.88",4,"3.8",3,"3.8",0,null,"3.8",null,205,0,1,null,205,0,1]
[null,null,null,null,null,null,null,null,null,null,null,null,null,null,null,null,null,null,null,"213.0","3.88",4,"3.8",3,"3.8",0,null,"3.8",null,206,0,1,null,206,0,1]
[null,null,null,null,null,null,null,null,null,null,null,null,null,null,null,null,null,null,null,"214.0","3.88",4,"3.8",3,"3.8",0,null,"3.8",null,207,0,1,null,207,0,1]
[null,null,null,null,null,null,null,null,null,null,null,null,null,null,null,null,null,null,null,"215.0","3.48",4,"3.4",3,"3.4",0,null,"3.4",null,{"$f":"E104","v":208},{"$f":"F104","v":0},1,null,208,0,1]
[null,null,null,null,null,null,null,null,null,null,null,null,null,null,null,null,null,null,null,"216.0","3.48",4,"3.4",3,"3.4",0,null,"3.4",null,{"$f":"E105","v":209},{"$f":"F105","v":0},1,null,209,0,1]
[null,null,null,null,null,null,null,null,null,null,null,null,null,null,null,null,null,null,null,"217.0","3.48",4,"3.4",3,"3.4",0,null,"3.4",null,210,0,1,null,210,0,1]
[null,null,null,null,null,null,null,null,null,null,null,null,null,null,null,null,null,null,null,"218.0","3.48",4,"3.4",3,"3.4",0,null,"3.4",null,211,0,1,null,211,0,1]
[null,null,null,null,null,null,null,null,null,null,null,null,null,null,null,null,null,null,null,"219.0","3.48",4,"3.4",3,"3.4",0,null,"3.4",null,212,0,1,null,212,0,1]
[null,null,null,null,null,null,null,null,null,null,null,null,null,null,null,null,null,null,null,"220.0","3.35",4,"3.3",3,"3.3",0,null,"3.3",null,213,0,1,null,213,0,1]
[null,null,null,null,null,null,null,null,null,null,null,null,null,null,null,null,null,null,null,"221.0","3.35",4,"3.3",3,"3.3",0,null,"3.3",null,214,0,1,null,214,0,1]
[null,null,null,null,null,null,null,null,null,null,null,null,null,null,null,null,null,null,null,"222.0","3.35",4,"3.3",3,"3.3",0,null,"3.3",null,215,0,1,null,215,0,1]
[null,null,null,null,null,null,null,null,null,null,null,null,null,null,null,null,null,null,null,"223.0","3.35",4,"3.3",3,"3.3",0,null,"3.3",null,{"$f":"E112","v":216},{"$f":"F112","v":0},1,null,216,0,1]
[null,null,null,null,null,null,null,null,null,null,null,null,null,null,null,null,null,null,null,"224.0","3.35",4,"3.3",3,"3.3",0,null,"3.3",null,{"$f":"E113","v":217},{"$f":"F113","v":0},1,null,217,0,1]
[null,null,null,null,null,null,null,null,null,null,null,null,null,null,null,null,null,null,null,"225.0","2.97",4,"2.9",3,"2.9",0,null,"2.9",null,218,0,1,null,218,0,1]
[null,null,null,null,null,null,null,null,null,null,null,null,null,null,null,null,null,null,null,"226.0","2.97",4,"2.9",3,"2.9",0,null,"2.9",null,219,0,1,null,219,0,1]
[null,null,null,null,null,null,null,null,null,null,null,null,null,null,null,null,null,null,null,"227.0","2.97",4,"2.9",3,"2.9",0,null,"2.9",null,220,0,1,null,220,0,1]
[null,null,null,null,null,null,null,null,null,null,null,null,null,null,null,null,null,null,null,"228.0","2.97",4,"2.9",3,"2.9",0,null,"2.9",null,221,0,1,null,221,0,1]
[null,null,null,null,null,null,null,null,null,null,null,null,null,null,null,null,null,null,null,"229.0","2.97",4,"2.9",3,"2.9",0,null,"2.9",null,222,0,1,null,222,0,1]
[null,null,null,null,null,null,null,null,null,null,null,null,null,null,null,null,null,null,null,"230.0","2.97",4,"2.9",3,"2.9",0,null,"2.9",null,223,0,1,null,223,0,1]
[null,null,null,null,null,null,null,null,null,null,null,null,null,null,null,null,null,null,null,"231.0","2.97",4,"2.9",3,"2.9",0,null,"2.9",null,224,0,1,null,224,0,1]
[null,null,null,null,null,null,null,null,null,null,null,null,null,null,null,null,null,null,null,"232.0","2.97",4,"2.9",3,"2.9",0,null,"2.9",null,{"$f":"E121","v":225},{"$f":"F121","v":0},1,null,225,0,1]
[null,null,null,null,null,null,null,null,null,null,null,null,null,null,null,null,null,null,null,"233.0","2.97",4,"2.9",3,"2.9",0,null,"2.9",null,{"$f":"E122","v":226},{"$f":"F122","v":0},1,null,226,0,1]
[null,null,null,null,null,null,null,null,null,null,null,null,null,null,null,null,null,null,null,"234.0","2.97",4,"2.9",3,"2.9",0,null,"2.9",null,227,0,1,null,227,0,1]
[null,null,null,null,null,null,null,null,null,null,null,null,null,null,null,null,null,null,null,"235.0","2.73",4,"2.7",3,"2.7",0,null,"2.7",null,228,0,1,null,228,0,1]
[null,null,null,null,null,null,null,null,null,null,null,null,null,null,null,null,null,null,null,"236.0","2.73",4,"2.7",3,"2.7",0,null,"2.7",null,229,0,1,null,229,0,1]
[null,null,null,null,null,null,null,null,null,null,null,null,null,null,null,null,null,null,null,"237.0","2.73",4,"2.7",3,"2.7",0,null,"2.7",null,230,0,1,null,230,0,1]
[null,null,null,null,null,null,null,null,null,null,null,null,null,null,null,null,null,null,null,"238.0","2.73",4,"2.7",3,"2.7",0,null,"2.7",null,231,0,1,null,231,0,1]
[null,null,null,null,null,null,null,null,null,null,null,null,null,null,null,null,null,null,null,"239.0","2.73",4,"2.7",3,"2.7",0,null,"2.7",null,232,0,1,null,232,0,1]
[null,null,null,null,null,null,null,null,null,null,null,null,null,null,null,null,null,null,null,"240.0","2.73",4,"2.7",3,"2.7",0,null,"2.7",null,233,0,1,null,233,0,1]
[null,null,null,null,null,null,null,null,null,null,null,null,null,null,null,null,null,null,null,"241.0","2.73",4,"2.7",3,"2.7",0,null,"2.7",null,{"$f":"E130","v":234},{"$f":"F130","v":0},1,null,234,0,1]
[null,null,null,null,null,null,null,null,null,null,null,null,null,null,null,null,null,null,null,"242.0","2.73",4,"2.7",3,"2.7",{"$f":"I17","v":0},null,"2.7",null,{"$f":"E131","v":235},{"$f":"F131","v":0},1,null,235,0,1]
[null,null,null,null,null,null,null,null,null,null,null,null,null,null,null,null,null,null,null,"243.0","2.73",4,"2.7",3,"2.7",{"$f":"I18","v":0},null,"2.7",null,236,0,1,null,236,0,1]
[null,null,null,null,null,null,null,null,null,null,null,null,null,null,null,null,null,null,null,"244.0","2.73",4,"2.7",3,"2.7",0,null,"2.7",null,237,0,1,null,237,0,1]
[null,null,null,null,null,null,null,null,null,null,null,null,null,null,null,null,null,null,null,"245.0","2.62",4,"2.6",3,"2.6",0,null,"2.6",null,238,0,1,null,238,0,1]
[null,null,null,null,null,null,null,null,null,null,null,null,null,null,null,null,null,null,null,"246.0","2.62",4,"2.6",3,"2.6",0,null,"2.6",null,{"$f":"E135","v":239},{"$f":"F135","v":0},1,null,239,0,1]
[null,null,null,null,null,null,null,null,null,null,null,null,null,null,null,null,null,null,null,"247.0","2.62",4,"2.6",3,"2.6",0,null,"2.6",null,{"$f":"E136","v":240},{"$f":"F136","v":0},1,null,240,0,1]
[null,null,null,null,null,null,null,null,null,null,null,null,null,null,null,null,null,null,null,"248.0","2.62",4,"2.6",3,"2.6",0,null,"2.6",null,241,0,1,null,241,0,1]
[null,null,null,null,null,null,null,null,null,null,null,null,null,null,null,null,null,null,null,"249.0","2.62",4,"2.6",3,"2.6",0,null,"2.6",null,{"$f":"H17","v":242},{"$f":"I17","v":0},1,null,242,{"$f":"R17","v":0},1]
[null,null,null,null,null,null,null,null,null,null,null,null,null,null,null,null,null,null,null,"250.0","2.62",4,"2.6",3,"2.6",0,null,"2.6",null,{"$f":"H18","v":243},0,1,null,243,{"$f":"R18","v":0},1]
[null,null,null,null,null,null,null,null,null,null,null,null,null,null,null,null,null,null,null,"251.0","2.62",4,"2.6",3,"2.6",0,null,"2.6",null,{"$f":"H19","v":244},0,1,null,244,0,1]
[null,null,null,null,null,null,null,null,null,null,null,null,null,null,null,null,null,null,null,"252.0","2.62",4,"2.6",3,"2.6",0,null,"2.6",null,{"$f":"H20","v":245},0,1,null,245,0,1]
[null,null,null,null,null,null,null,null,null,null,null,null,null,null,null,null,null,null,null,"253.0","2.62",4,"2.6",3,"2.6",0,null,"2.6",null,{"$f":"H21","v":246},0,1,null,246,0,1]
[null,null,null,null,null,null,null,null,null,null,null,null,null,null,null,null,null,null,null,"254.0","2.62",4,"2.6",3,"2.6",0,null,"2.6",null,{"$f":"H22","v":247},0,1,null,247,0,1]
[null,null,null,null,null,null,null,null,null,null,null,null,null,null,null,null,null,null,null,"255.0","2.5",3,"2.5",3,"2.5",0,null,"2.5",null,{"$f":"H23","v":248},0,1,null,248,0,1]
[null,null,null,null,null,null,null,null,null,null,null,null,null,null,null,null,null,null,null,"256.0","2.5",3,"2.5",3,"2.5",0,null,"2.5",null,{"$f":"H24","v":249},0,1,null,249,0,1]
[null,null,null,null,null,null,null,null,null,null,null,null,null,null,null,null,null,null,null,"257.0","2.5",{"$f":"LEN(U264)","v":3},{"$f":"IF(V264=1,CONCATENATE(AB264,\".\",\"0\"),AB264)","v":"2.5"},{"$f":"LEN(W264)","v":3},{"$f":"IF(X264=2,CONCATENATE(W264,\".\",\"0\"),W264)","v":"2.5"},0,null,{"$f":"IF(Z264>9,MID(U264,1,4),MID(U264,1,3))","v":"2.5"},null,{"$f":"H25","v":250},0,1,null,250,0,1]
[null,null,null,null,null,null,null,null,null,null,null,null,null,null,null,null,null,null,null,"258.0","2.5",3,"2.5",3,"2.5",0,null,"2.5",null,{"$f":"H26","v":251},0,1,null,251,0,1]
[null,null,null,null,null,null,null,null,null,null,null,null,null,null,null,null,null,null,null,"259.0","2.5",3,"2.5",3,"2.5",0,null,"2.5",null,{"$f":"H27","v":252},0,1,null,252,0,1]
[null,null,null,null,null,null,null,null,null,null,null,null,null,null,null,null,null,null,null,"260.0","2.38",4,"2.3",3,"2.3",0,null,"2.3",null,{"$f":"H28","v":253},0,1,null,253,0,1]
[null,null,null,null,null,null,null,null,null,null,null,null,null,null,null,null,null,null,null,"261.0","2.38",4,"2.3",3,"2.3",0,null,"2.3",null,{"$f":"H29","v":254},0,1,null,254,0,1]
[null,null,null,null,null,null,null,null,null,null,null,null,null,null,null,null,null,null,null,"262.0","2.38",4,"2.3",3,"2.3",0,null,"2.3",null,{"$f":"H30","v":255},0,1,null,255,0,1]
[null,null,null,null,null,null,null,null,null,null,null,null,null,null,null,null,null,null,null,"263.0","2.38",4,"2.3",3,"2.3",0,null,"2.3",null,{"$f":"H31","v":256},0,1,null,256,0,1]
[null,null,null,null,null,null,null,null,null,null,null,null,null,null,null,null,null,null,null,"264.0","2.38",4,"2.3",3,"2.3",0,null,"2.3",null,{"$f":"H32","v":257},0,{"$f":"0.375+0.625*COS(RADIANS(AE271))","v":1},null,257,0,{"$f":"0.375+0.625*COS(RADIANS(AI271))","v":1}]
[null,null,null,null,null,null,null,null,null,null,null,null,null,null,null,null,null,null,null,"265.0","2.27",4,"2.2",3,"2.2",0,null,"2.2",null,{"$f":"H33","v":258},0,1,null,258,0,1]
[null,null,null,null,null,null,null,null,null,null,null,null,null,null,null,null,null,null,null,"266.0","1.94",4,"1.9",3,"1.9",0,null,"1.9",null,{"$f":"H34","v":259},0,1,null,259,0,1]
[null,null,null,null,null,null,null,null,null,null,null,null,null,null,null,null,null,null,null,"267.0","1.94",4,"1.9",3,"1.9",0,null,"1.9",null,{"$f":"H35","v":260},0,1,null,260,0,1]
[null,null,null,null,null,null,null,null,null,null,null,null,null,null,null,null,null,null,null,"268.0","1.94",4,"1.9",3,"1.9",0,null,"1.9",null,{"$f":"H36","v":261},0,1,null,261,0,1]
[null,null,null,null,null,null,null,null,null,null,null,null,null,null,null,null,null,null,null,"269.0","1.94",4,"1.9",3,"1.9",0,null,"1.9",null,{"$f":"H37","v":262},0,1,null,262,0,1]
[null,null,null,null,null,null,null,null,null,null,null,null,null,null,null,null,null,null,null,"270.0","1.94",4,"1.9",3,"1.9",0,null,"1.9",null,{"$f":"H38","v":263},0,1,null,263,0,1]
[null,null,null,null,null,null,null,null,null,null,null,null,null,null,null,null,null,null,null,"271.0","1.94",4,"1.9",3,"1.9",0,null,"1.9",null,{"$f":"H39","v":264},0,1,null,264,0,1]
[null,null,null,null,null,null,null,null,null,null,null,null,null,null,null,null,null,null,null,"272.0","1.94",4,"1.9",3,"1.9",0,null,"1.9",null,{"$f":"H40","v":265},0,1,null,265,0,1]
[null,null,null,null,null,null,null,null,null,null,null,null,null,null,null,null,null,null,null,"273.0","1.94",4,"1.9",3,"1.9",0,null,"1.9",null,{"$f":"H41","v":266},0,1,null,266,0,1]
[null,null,null,null,null,null,null,null,null,null,null,null,null,null,null,null,null,null,null,"274.0","1.94",4,"1.9",3,"1.9",0,null,"1.9",null,{"$f":"H42","v":267},0,1,null,267,0,1]
[null,null,null,null,null,null,null,null,null,null,null,null,null,null,null,null,null,null,null,"275.0","1.51",4,"1.5",3,"1.5",0,null,"1.5",null,{"$f":"H43","v":268},0,1,null,268,0,1]
[null,null,null,null,null,null,null,null,null,null,null,null,null,null,null,null,null,null,null,"276.0","1.51",4,"1.5",3,"1.5",0,null,"1.5",null,{"$f":"H44","v":269},0,1,null,269,0,1]
[null,null,null,null,null,null,null,null,null,null,null,null,null,null,null,null,null,null,null,"277.0","1.51",4,"1.5",3,"1.5",0,null,"1.5",null,{"$f":"H45","v":270},0,1,null,270,0,1]
[null,null,null,null,null,null,null,null,null,null,null,null,null,null,null,null,null,null,null,"278.0","1.51",4,"1.5",3,"1.5",0,null,"1.5",null,{"$f":"H46","v":271},0,1,null,271,0,1]
[null,null,null,null,null,null,null,null,null,null,null,null,null,null,null,null,null,null,null,"279.0","1.51",4,"1.5",3,"1.5",0,null,"1.5",null,{"$f":"H47","v":272},0,1,null,272,0,1]
[null,null,null,null,null,null,null,null,null,null,null,null,null,null,null,null,null,null,null,"280.0","1.51",4,"1.5",3,"1.5",0,null,"1.5",null,{"$f":"H48","v":273},0,1,null,273,0,1]
[null,null,null,null,null,null,null,null,null,null,null,null,null,null,null,null,null,null,null,"281.0","1.51",4,"1.5",3,"1.5",0,null,"1.5",null,{"$f":"H49","v":274},0,1,null,274,0,1]
[null,null,null,null,null,null,null,null,null,null,null,null,null,null,null,null,null,null,null,"282.0","1.51",4,"1.5",3,"1.5",0,null,"1.5",null,{"$f":"H50","v":275},0,1,null,275,0,1]
[null,null,null,null,null,null,null,null,null,null,null,null,null,null,null,null,null,null,null,"283.0","1.51",4,"1.5",3,"1.5",0,null,"1.5",null,{"$f":"H51","v":276},0,1,null,276,0,1]
[null,null,null,null,null,null,null,null,null,null,null,null,null,null,null,null,null,null,null,"284.0","1.51",4,"1.5",3,"1.5",0,null,"1.5",null,{"$f":"H52","v":277},0,1,null,277,0,1]
[null,null,null,null,null,null,null,null,null,null,null,null,null,null,null,null,null,null,null,"285.0","1.51",4,"1.5",3,"1.5",0,null,"1.5",null,{"$f":"H53","v":278},0,1,null,278,0,1]
[null,null,null,null,null,null,null,null,null,null,null,null,null,null,null,null,null,null,null,"286.0","1.51",4,"1.5",3,"1.5",0,null,"1.5",null,{"$f":"H54","v":279},0,1,null,279,0,1]
[null,null,null,null,null,null,null,null,null,null,null,null,null,null,null,null,null,null,null,"287.0","1.51",4,"1.5",3,"1.5",0,null,"1.5",null,{"$f":"H55","v":280},0,1,null,280,0,1]
[null,null,null,null,null,null,null,null,null,null,null,null,null,null,null,null,null,null,null,"288.0","1.51",4,"1.5",3,"1.5",0,null,"1.5",null,{"$f":"H56","v":281},0,1,null,281,0,1]
[null,null,null,null,null,null,null,null,null,null,null,null,null,null,null,null,null,null,null,"289.0","1.51",4,"1.5",3,"1.5",0,null,"1.5",null,{"$f":"H57","v":282},0,1,null,282,0,1]
[null,null,null,null,null,null,null,null,null,null,null,null,null,null,null,null,null,null,null,"290.0","1.11",4,"1.1",3,"1.1",0,null,"1.1",null,{"$f":"H58","v":283},0,1,null,283,0,1]
[null,null,null,null,null,null,null,null,null,null,null,null,null,null,null,null,null,null,null,"291.0","1.11",4,"1.1",3,"1.1",0,null,"1.1",null,{"$f":"H59","v":284},0,1,null,284,0,1]
[null,null,null,null,null,null,null,null,null,null,null,null,null,null,null,null,null,null,null,"292.0","1.11",4,"1.1",3,"1.1",0,null,"1.1",null,{"$f":"H60","v":285},0,1,null,285,0,1]
[null,null,null,null,null,null,null,null,null,null,null,null,null,null,null,null,null,null,null,"293.0","1.11",4,"1.1",3,"1.1",0,null,"1.1",null,{"$f":"H61","v":286},0,1,null,286,0,1]
[null,null,null,null,null,null,null,null,null,null,null,null,null,null,null,null,null,null,null,"294.0","1.11",4,"1.1",3,"1.1",0,null,"1.1",null,{"$f":"H62","v":287},0,1,null,287,0,1]
[null,null,null,null,null,null,null,null,null,null,null,null,null,null,null,null,null,null,null,"295.0","1.11",4,"1.1",3,"1.1",0,null,"1.1",null,{"$f":"H63","v":288},0,1,null,288,0,1]
[null,null,null,null,null,null,null,null,null,null,null,null,null,null,null,null,null,null,null,"296.0","1.11",4,"1.1",3,"1.1",0,null,"1.1",null,{"$f":"H64","v":289},0,1,null,289,0,1]
[null,null,null,null,null,null,null,null,null,null,null,null,null,null,null,null,null,null,null,"297.0","1.11",4,"1.1",3,"1.1",0,null,"1.1",null,{"$f":"H65","v":290},0,1,null,290,0,1]
[null,null,null,null,null,null,null,null,null,null,null,null,null,null,null,null,null,null,null,"298.0","1.11",4,"1.1",3,"1.1",0,null,"1.1",null,{"$f":"H66","v":291},0,1,null,291,0,1]
[null,null,null,null,null,null,null,null,null,null,null,null,null,null,null,null,null,null,null,"299.0","1.11",4,"1.1",3,"1.1",0,null,"1.1",null,{"$f":"H67","v":292},0,1,null,292,0,1]
[null,null,null,null,null,null,null,null,null,null,null,null,null,null,null,null,null,null,null,"300.0","0.72",4,"0.7",3,"0.7",0,null,"0.7",null,{"$f":"H68","v":293},0,1,null,293,0,1]
[null,null,null,null,null,null,null,null,null,null,null,null,null,null,null,null,null,null,null,"301.0","0.72",4,"0.7",3,"0.7",0,null,"0.7",null,{"$f":"H69","v":294},0,1,null,294,0,1]
[null,null,null,null,null,null,null,null,null,null,null,null,null,null,null,null,null,null,null,"302.0","0.72",4,"0.7",3,"0.7",0,null,"0.7",null,{"$f":"H70","v":295},0,1,null,295,0,1]
[null,null,null,null,null,null,null,null,null,null,null,null,null,null,null,null,null,null,null,"303.0","0.72",4,"0.7",3,"0.7",0,null,"0.7",null,{"$f":"H71","v":296},0,1,null,296,0,1]
[null,null,null,null,null,null,null,null,null,null,null,null,null,null,null,null,null,null,null,"304.0","0.72",4,"0.7",3,"0.7",0,null,"0.7",null,{"$f":"H72","v":297},0,1,null,297,0,1]
[null,null,null,null,null,null,null,null,null,null,null,null,null,null,null,null,null,null,null,"305.0","0.72",4,"0.7",3,"0.7",0,null,"0.7",null,{"$f":"H73","v":298},0,1,null,298,0,1]
[null,null,null,null,null,null,null,null,null,null,null,null,null,null,null,null,null,null,null,"306.0","0.72",4,"0.7",3,"0.7",0,null,"0.7",null,{"$f":"H74","v":299},0,1,null,299,0,1]
[null,null,null,null,null,null,null,null,null,null,null,null,null,null,null,null,null,null,null,"307.0","0.72",4,"0.7",3,"0.7",{"$f":"I82","v":0},null,"0.7",null,{"$f":"H75","v":300},0,1,null,300,0,1]
[null,null,null,null,null,null,null,null,null,null,null,null,null,null,null,null,null,null,null,"308.0","0.72",4,"0.7",3,"0.7",0,null,"0.7",null,{"$f":"H76","v":301},0,1,null,301,0,1]
[null,null,null,null,null,null,null,null,null,null,null,null,null,null,null,null,null,null,null,"309.0","0.72",4,"0.7",3,"0.7",0,null,"0.7",null,{"$f":"H77","v":302},0,1,null,302,0,1]
[null,null,null,null,null,null,null,null,null,null,null,null,null,null,null,null,null,null,null,"310.0","0.63",4,"0.6",3,"0.6",0,null,"0.6",null,{"$f":"H78","v":303},0,1,null,303,0,1]
[null,null,null,null,null,null,null,null,null,null,null,null,null,null,null,null,null,null,null,"311.0","0.63",4,"0.6",3,"0.6",0,null,"0.6",null,{"$f":"H79","v":304},0,1,null,304,0,1]
[null,null,null,null,null,null,null,null,null,null,null,null,null,null,null,null,null,null,null,"312.0","0.63",4,"0.6",3,"0.6",0,null,"0.6",null,{"$f":"H80","v":305},0,1,null,305,0,1]
[null,null,null,null,null,null,null,null,null,null,null,null,null,null,null,null,null,null,null,"313.0","0.63",4,"0.6",3,"0.6",0,null,"0.6",null,{"$f":"H81","v":306},0,1,null,306,0,1]
[null,null,null,null,null,null,null,null,null,null,null,null,null,null,null,null,null,null,null,"314.0","0.63",4,"0.6",3,"0.6",0,null,"0.6",null,{"$f":"H82","v":307},0,1,null,307,{"$f":"R82","v":0},1]
[null,null,null,null,null,null,null,null,null,null,null,null,null,null,null,null,null,null,null,"315.0","0.54",4,"0.5",3,"0.5",0,null,"0.5",null,{"$f":"H83","v":308},0,1,null,308,0,1]
[null,null,null,null,null,null,null,null,null,null,null,null,null,null,null,null,null,null,null,"316.0","0.54",4,"0.5",3,"0.5",0,null,"0.5",null,{"$f":"H84","v":309},0,1,null,309,0,1]
[null,null,null,null,null,null,null,null,null,null,null,null,null,null,null,null,null,null,null,"317.0","0.54",4,"0.5",3,"0.5",0,null,"0.5",null,{"$f":"H85","v":310},0,1,null,310,0,1]
[null,null,null,null,null,null,null,null,null,null,null,null,null,null,null,null,null,null,null,"318.0","0.54",4,"0.5",3,"0.5",0,null,"0.5",null,{"$f":"H86","v":311},0,1,null,311,0,1]
[null,null,null,null,null,null,null,null,null,null,null,null,null,null,null,null,null,null,null,"319.0","0.54",4,"0.5",3,"0.5",0,null,"0.5",null,{"$f":"H87","v":312},0,1,null,312,0,1]
[null,null,null,null,null,null,null,null,null,null,null,null,null,null,null,null,null,null,null,"320.0","0.26",4,"0.2",3,"0.2",0,null,"0.2",null,{"$f":"H88","v":313},0,1,null,313,0,1]
[null,null,null,null,null,null,null,null,null,null,null,null,null,null,null,null,null,null,null,"321.0","0.26",{"$f":"LEN(U328)","v":4},{"$f":"IF(V328=1,CONCATENATE(AB328,\".\",\"0\"),AB328)","v":"0.2"},{"$f":"LEN(W328)","v":3},{"$f":"IF(X328=2,CONCATENATE(W328,\".\",\"0\"),W328)","v":"0.2"},0,null,{"$f":"IF(Z328>9,MID(U328,1,4),MID(U328,1,3))","v":"0.2"},null,{"$f":"H89","v":314},0,1,null,314,0,1]
[null,null,null,null,null,null,null,null,null,null,null,null,null,null,null,null,null,null,null,"322.0","0.26",4,"0.2",3,"0.2",0,null,"0.2",null,{"$f":"H90","v":315},0,1,null,315,0,1]
[null,null,null,null,null,null,null,null,null,null,null,null,null,null,null,null,null,null,null,"323.0","0.26",4,"0.2",3,"0.2",0,null,"0.2",null,{"$f":"H91","v":316},0,1,null,316,0,1]
[null,null,null,null,null,null,null,null,null,null,null,null,null,null,null,null,null,null,null,"324.0","0.26",4,"0.2",3,"0.2",0,null,"0.2",null,{"$f":"H92","v":317},0,1,null,317,0,1]
[null,null,null,null,null,null,null,null,null,null,null,null,null,null,null,null,null,null,null,"325.0","0.26",4,"0.2",3,"0.2",0,null,"0.2",null,{"$f":"H93","v":318},0,1,null,318,0,1]
[null,null,null,null,null,null,null,null,null,null,null,null,null,null,null,null,null,null,null,"326.0","0.26",4,"0.2",3,"0.2",0,null,"0.2",null,{"$f":"H94","v":319},0,1,null,319,0,1]
[null,null,null,null,null,null,null,null,null,null,null,null,null,null,null,null,null,null,null,"327.0","0.26",4,"0.2",3,"0.2",0,null,"0.2",null,{"$f":"H95","v":320},0,1,null,320,0,1]
[null,null,null,null,null,null,null,null,null,null,null,null,null,null,null,null,null,null,null,"328.0","0.26",4,"0.2",3,"0.2",0,null,"0.2",null,{"$f":"H96","v":321},0,{"$f":"0.375+0.625*COS(RADIANS(AE335))","v":1},null,321,0,{"$f":"0.375+0.625*COS(RADIANS(AI335))","v":1}]
[null,null,null,null,null,null,null,null,null,null,null,null,null,null,null,null,null,null,null,"329.0","0.26",4,"0.2",3,"0.2",0,null,"0.2",null,{"$f":"H97","v":322},0,1,null,322,0,1]
[null,null,null,null,null,null,null,null,null,null,null,null,null,null,null,null,null,null,null,"330.0","0.18",4,"0.1",3,"0.1",0,null,"0.1",null,{"$f":"H98","v":323},0,1,null,323,0,1]
[null,null,null,null,null,null,null,null,null,null,null,null,null,null,null,null,null,null,null,"331.0","0.18",4,"0.1",3,"0.1",0,null,"0.1",null,{"$f":"H99","v":324},0,1,null,324,0,1]
[null,null,null,null,null,null,null,null,null,null,null,null,null,null,null,null,null,null,null,"332.0","0.18",4,"0.1",3,"0.1",0,null,"0.1",null,{"$f":"H100","v":325},0,1,null,325,0,1]
[null,null,null,null,null,null,null,null,null,null,null,null,null,null,null,null,null,null,null,"333.0","0.18",4,"0.1",3,"0.1",0,null,"0.1",null,{"$f":"H101","v":326},0,1,null,326,0,1]
[null,null,null,null,null,null,null,null,null,null,null,null,null,null,null,null,null,null,null,"334.0","0.18",4,"0.1",3,"0.1",0,null,"0.1",null,{"$f":"H102","v":327},0,1,null,327,0,1]
[null,null,null,null,null,null,null,null,null,null,null,null,null,null,null,null,null,null,null,"335.0","0.18",4,"0.1",3,"0.1",0,null,"0.1",null,{"$f":"H103","v":328},0,1,null,328,0,1]
[null,null,null,null,null,null,null,null,null,null,null,null,null,null,null,null,null,null,null,"336.0","0.18",4,"0.1",3,"0.1",0,null,"0.1",null,{"$f":"H104","v":329},0,1,null,329,0,1]
[null,null,null,null,null,null,null,null,null,null,null,null,null,null,null,null,null,null,null,"337.0","0.18",4,"0.1",3,"0.1",0,null,"0.1",null,{"$f":"H105","v":330},0,1,null,330,0,1]
[null,null,null,null,null,null,null,null,null,null,null,null,null,null,null,null,null,null,null,"338.0","0.18",4,"0.1",3,"0.1",0,null,"0.1",null,{"$f":"H106","v":331},0,1,null,331,0,1]
[null,null,null,null,null,null,null,null,null,null,null,null,null,null,null,null,null,null,null,"339.0","0.18",4,"0.1",3,"0.1",0,null,"0.1",null,{"$f":"H107","v":332},0,1,null,332,0,1]
[null,null,null,null,null,null,null,null,null,null,null,null,null,null,null,null,null,null,null,"340.0","0",1,"0.0",3,"0.0",0,null,"0",null,{"$f":"H108","v":333},0,1,null,333,0,1]
[null,null,null,null,null,null,null,null,null,null,null,null,null,null,null,null,null,null,null,"341.0","0",1,"0.0",3,"0.0",0,null,"0",null,{"$f":"H109","v":334},0,1,null,334,0,1]
[null,null,null,null,null,null,null,null,null,null,null,null,null,null,null,null,null,null,null,"342.0","0",1,"0.0",3,"0.0",0,null,"0",null,{"$f":"H110","v":335},0,1,null,335,0,1]
[null,null,null,null,null,null,null,null,null,null,null,null,null,null,null,null,null,null,null,"343.0","0",1,"0.0",3,"0.0",0,null,"0",null,{"$f":"H111","v":336},0,1,null,336,0,1]
[null,null,null,null,null,null,null,null,null,null,null,null,null,null,null,null,null,null,null,"344.0","0",1,"0.0",3,"0.0",0,null,"0",null,{"$f":"H112","v":337},0,1,null,337,0,1]
[null,null,null,null,null,null,null,null,null,null,null,null,null,null,null,null,null,null,null,"345.0","0",1,"0.0",3,"0.0",0,null,"0",null,{"$f":"H113","v":338},0,1,null,338,0,1]
[null,null,null,null,null,null,null,null,null,null,null,null,null,null,null,null,null,null,null,"346.0","0",1,"0.0",3,"0.0",0,null,"0",null,{"$f":"H114","v":339},0,1,null,339,0,1]
[null,null,null,null,null,null,null,null,null,null,null,null,null,null,null,null,null,null,null,"347.0","0",1,"0.0",3,"0.0",0,null,"0",null,{"$f":"H115","v":340},0,1,null,340,0,1]
[null,null,null,null,null,null,null,null,null,null,null,null,null,null,null,null,null,null,null,"348.0","0",1,"0.0",3,"0.0",0,null,"0",null,{"$f":"H116","v":341},0,1,null,341,0,1]
[null,null,null,null,null,null,null,null,null,null,null,null,null,null,null,null,null,null,null,"349.0","0",1,"0.0",3,"0.0",0,null,"0",null,{"$f":"H117","v":342},0,1,null,342,0,1]
[null,null,null,null,null,null,null,null,null,null,null,null,null,null,null,null,null,null,null,"350.0","0",1,"0.0",3,"0.0",0,null,"0",null,{"$f":"H118","v":343},0,1,null,343,0,1]
[null,null,null,null,null,null,null,null,null,null,null,null,null,null,null,null,null,null,null,"351.0","0",1,"0.0",3,"0.0",0,null,"0",null,{"$f":"H119","v":344},0,1,null,344,0,1]
[null,null,null,null,null,null,null,null,null,null,null,null,null,null,null,null,null,null,null,"352.0","0",1,"0.0",3,"0.0",0,null,"0",null,{"$f":"H120","v":345},0,1,null,345,0,1]
[null,null,null,null,null,null,null,null,null,null,null,null,null,null,null,null,null,null,null,"353.0","0",1,"0.0",3,"0.0",0,null,"0",null,{"$f":"H121","v":346},0,1,null,346,0,1]
[null,null,null,null,null,null,null,null,null,null,null,null,null,null,null,null,null,null,null,"354.0","0",1,"0.0",3,"0.0",0,null,"0",null,{"$f":"H122","v":347},0,1,null,347,0,1]
[null,null,null,null,null,null,null,null,null,null,null,null,null,null,null,null,null,null,null,"355.0","0",1,"0.0",3,"0.0",0,null,"0",null,{"$f":"H123","v":348},0,1,null,348,0,1]
[null,null,null,null,null,null,null,null,null,null,null,null,null,null,null,null,null,null,null,"356.0","0",1,"0.0",3,"0.0",0,null,"0",null,{"$f":"H124","v":349},0,1,null,349,0,1]
[null,null,null,null,null,null,null,null,null,null,null,null,null,null,null,null,null,null,null,"357.0","0",1,"0.0",3,"0.0",0,null,"0",null,{"$f":"H125","v":350},0,1,null,350,0,1]
[null,null,null,null,null,null,null,null,null,null,null,null,null,null,null,null,null,null,null,"358.0","0",1,"0.0",3,"0.0",0,null,"0",null,{"$f":"H126","v":351},0,1,null,351,0,1]
[null,null,null,null,null,null,null,null,null,null,null,null,null,null,null,null,null,null,null,"359.0","0",1,"0.0",3,"0.0",0,null,"0",null,{"$f":"H127","v":352},0,1,null,352,0,1]
[null,null,null,null,null,null,null,null,null,null,null,null,null,null,null,null,null,null,null,"VERTICAL","360",3,"360",3,"360",360,null,"360",null,{"$f":"H128","v":353},0,1,null,353,0,1]
[null,null,null,null,null,null,null,null,null,null,null,null,null,null,null,null,null,null,null,"0.0","0",1,"0.0",3,"0.0",{"$f":"L17","v":0},null,"0",null,{"$f":"H129","v":354},0,1,null,354,0,1]
[null,null,null,null,null,null,null,null,null,null,null,null,null,null,null,null,null,null,null,"1.0","0",1,"0.0",3,"0.0",0,null,"0",null,{"$f":"H130","v":355},0,1,null,355,0,1]
[null,null,null,null,null,null,null,null,null,null,null,null,null,null,null,null,null,null,null,"2.0","0",1,"0.0",3,"0.0",0,null,"0",null,{"$f":"H131","v":356},0,1,null,356,0,1]
[null,null,null,null,null,null,null,null,null,null,null,null,null,null,null,null,null,null,null,"3.0","0",1,"0.0",3,"0.0",0,null,"0",null,{"$f":"H132","v":357},0,1,null,357,0,1]
[null,null,null,null,null,null,null,null,null,null,null,null,null,null,null,null,null,null,null,"4.0","0",1,"0.0",3,"0.0",0,null,"0",null,{"$f":"H133","v":358},0,1,null,358,0,1]
[null,null,null,null,null,null,null,null,null,null,null,null,null,null,null,null,null,null,null,"5.0","0.9",3,"0.9",3,"0.9",0,null,"0.9",null,{"$f":"H134","v":359},0,1,null,359,0,1]
[null,null,null,null,null,null,null,null,null,null,null,null,null,null,null,null,null,null,null,"6.0","0.9",3,"0.9",3,"0.9",0,null,"0.9"]
[null,null,null,null,null,null,null,null,null,null,null,null,null,null,null,null,null,null,null,"7.0","0.9",3,"0.9",3,"0.9",0,null,"0.9"]
[null,null,null,null,null,null,null,null,null,null,null,null,null,null,null,null,null,null,null,"8.0","0.9",3,"0.9",3,"0.9",0,null,"0.9"]
[null,null,null,null,null,null,null,null,null,null,null,null,null,null,null,null,null,null,null,"9.0","0.9",3,"0.9",3,"0.9",0,null,"0.9"]
[null,null,null,null,null,null,null,null,null,null,null,null,null,null,null,null,null,null,null,"10.0","4.4",3,"4.4",3,"4.4",0,null,"4.4"]
[null,null,null,null,null,null,null,null,null,null,null,null,null,null,null,null,null,null,null,"11.0","4.4",3,"4.4",3,"4.4",0,null,"4.4"]
[null,null,null,null,null,null,null,null,null,null,null,null,null,null,null,null,null,null,null,"12.0","4.4",3,"4.4",3,"4.4",0,null,"4.4"]
[null,null,null,null,null,null,null,null,null,null,null,null,null,null,null,null,null,null,null,"13.0","4.4",3,"4.4",3,"4.4",0,null,"4.4"]
[null,null,null,null,null,null,null,null,null,null,null,null,null,null,null,null,null,null,null,"14.0","4.4",3,"4.4",3,"4.4",0,null,"4.4"]
[null,null,null,null,null,null,null,null,null,null,null,null,null,null,null,null,null,null,null,"15.0","10.2",4,"10.",3,"10.",0,null,"10."]
[null,null,null,null,null,null,null,null,null,null,null,null,null,null,null,null,null,null,null,"16.0","10.2",4,"10.",3,"10.",0,null,"10."]
[null,null,null,null,null,null,null,null,null,null,null,null,null,null,null,null,null,null,null,"17.0","10.2",4,"10.",3,"10.",0,null,"10."]
[null,null,null,null,null,null,null,null,null,null,null,null,null,null,null,null,null,null,null,"18.0","10.2",4,"10.",3,"10.",0,null,"10."]
[null,null,null,null,null,null,null,null,null,null,null,null,null,null,null,null,null,null,null,"19.0","10.2",4,"10.",3,"10.",0,null,"10."]
[null,null,null,null,null,null,null,null,null,null,null,null,null,null,null,null,null,null,null,"20.0","30.9",4,"30.",3,"30.",0,null,"30."]
[null,null,null,null,null,null,null,null,null,null,null,null,null,null,null,null,null,null,null,"21.0","30.9",4,"30.",3,"30.",0,null,"30."]
[null,null,null,null,null,null,null,null,null,null,null,null,null,null,null,null,null,null,null,"22.0","30.9",4,"30.",3,"30.",0,null,"30."]
[null,null,null,null,null,null,null,null,null,null,null,null,null,null,null,null,null,null,null,"23.0","30.9",4,"30.",3,"30.",0,null,"30."]
[null,null,null,null,null,null,null,null,null,null,null,null,null,null,null,null,null,null,null,"24.0","30.9",{"$f":"LEN(U392)","v":4},{"$f":"IF(V392=1,CONCATENATE(AB392,\".\",\"0\"),AB392)","v":"30."},{"$f":"LEN(W392)","v":3},{"$f":"IF(X392=2,CONCATENATE(W392,\".\",\"0\"),W392)","v":"30."},0,null,{"$f":"IF(Z392>9,MID(U392,1,4),MID(U392,1,3))","v":"30."}]
[null,null,null,null,null,null,null,null,null,null,null,null,null,null,null,null,null,null,null,"25.0","13.9",4,"13.",3,"13.",0,null,"13."]
[null,null,null,null,null,null,null,null,null,null,null,null,null,null,null,null,null,null,null,"26.0","13.9",4,"13.",3,"13.",0,null,"13."]
[null,null,null,null,null,null,null,null,null,null,null,null,null,null,null,null,null,null,null,"27.0","13.9",4,"13.",3,"13.",0,null,"13."]
[null,null,null,null,null,null,null,null,null,null,null,null,null,null,null,null,null,null,null,"28.0","13.9",4,"13.",3,"13.",0,null,"13."]
[null,null,null,null,null,null,null,null,null,null,null,null,null,null,null,null,null,null,null,"29.0","13.9",4,"13.",3,"13.",0,null,"13."]
[null,null,null,null,null,null,null,null,null,null,null,null,null,null,null,null,null,null,null,"30.0","12.5",4,"12.",3,"12.",0,null,"12."]
[null,null,null,null,null,null,null,null,null,null,null,null,null,null,null,null,null,null,null,"31.0","12.5",4,"12.",3,"12.",0,null,"12."]
[null,null,null,null,null,null,null,null,null,null,null,null,null,null,null,null,null,null,null,"32.0","12.5",4,"12.",3,"12.",{"$f":"L49","v":0},null,"12."]
[null,null,null,null,null,null,null,null,null,null,null,null,null,null,null,null,null,null,null,"33.0","12.5",4,"12.",3,"12.",0,null,"12."]
[null,null,null,null,null,null,null,null,null,null,null,null,null,null,null,null,null,null,null,"34.0","12.5",4,"12.",3,"12.",0,null,"12."]
[null,null,null,null,null,null,null,null,null,null,null,null,null,null,null,null,null,null,null,"35.0","17",2,"17",2,"17.0",0,null,"17"]
[null,null,null,null,null,null,null,null,null,null,null,null,null,null,null,null,null,null,null,"36.0","17",2,"17",2,"17.0",0,null,"17"]
[null,null,null,null,null,null,null,null,null,null,null,null,null,null,null,null,null,null,null,"37.0","17",2,"17",2,"17.0",0,null,"17"]
[null,null,null,null,null,null,null,null,null,null,null,null,null,null,null,null,null,null,null,"38.0","17",2,"17",2,"17.0",0,null,"17"]
[null,null,null,null,null,null,null,null,null,null,null,null,null,null,null,null,null,null,null,"39.0","17",2,"17",2,"17.0",0,null,"17"]
[null,null,null,null,null,null,null,null,null,null,null,null,null,null,null,null,null,null,null,"40.0","27.3",4,"27.",3,"27.",0,null,"27."]
[null,null,null,null,null,null,null,null,null,null,null,null,null,null,null,null,null,null,null,"41.0","27.3",4,"27.",3,"27.",0,null,"27."]
[null,null,null,null,null,null,null,null,null,null,null,null,null,null,null,null,null,null,null,"42.0","27.3",4,"27.",3,"27.",0,null,"27."]
[null,null,null,null,null,null,null,null,null,null,null,null,null,null,null,null,null,null,null,"43.0","27.3",4,"27.",3,"27.",0,null,"27."]
[null,null,null,null,null,null,null,null,null,null,null,null,null,null,null,null,null,null,null,"44.0","27.3",4,"27.",3,"27.",0,null,"27."]
[null,null,null,null,null,null,null,null,null,null,null,null,null,null,null,null,null,null,null,"45.0","26",2,"26",2,"26.0",0,null,"26"]
[null,null,null,null,null,null,null,null,null,null,null,null,null,null,null,null,null,null,null,"46.0","26",2,"26",2,"26.0",0,null,"26"]
[null,null,null,null,null,null,null,null,null,null,null,null,null,null,null,null,null,null,null,"47.0","26",2,"26",2,"26.0",0,null,"26"]
[null,null,null,null,null,null,null,null,null,null,null,null,null,null,null,null,null,null,null,"48.0","26",2,"26",2,"26.0",0,null,"26"]
[null,null,null,null,null,null,null,null,null,null,null,null,null,null,null,null,null,null,null,"49.0","26",2,"26",2,"26.0",0,null,"26"]
[null,null,null,null,null,null,null,null,null,null,null,null,null,null,null,null,null,null,null,"50.0","19.4",4,"19.",3,"19.",0,null,"19."]
[null,null,null,null,null,null,null,null,null,null,null,null,null,null,null,null,null,null,null,"51.0","19.4",4,"19.",3,"19.",0,null,"19."]
[null,null,null,null,null,null,null,null,null,null,null,null,null,null,null,null,null,null,null,"52.0","19.4",4,"19.",3,"19.",0,null,"19."]
[null,null,null,null,null,null,null,null,null,null,null,null,null,null,null,null,null,null,null,"53.0","19.4",4,"19.",3,"19.",0,null,"19."]
[null,null,null,null,null,null,null,null,null,null,null,null,null,null,null,null,null,null,null,"54.0","19.4",4,"19.",3,"19.",0,null,"19."]
[null,null,null,null,null,null,null,null,null,null,null,null,null,null,null,null,null,null,null,"55.0","18.8",4,"18.",3,"18.",0,null,"18."]
[null,null,null,null,null,null,null,null,null,null,null,null,null,null,null,null,null,null,null,"56.0","18.8",4,"18.",3,"18.",0,null,"18."]
[null,null,null,null,null,null,null,null,null,null,null,null,null,null,null,null,null,null,null,"57.0","18.8",4,"18.",3,"18.",0,null,"18."]
[null,null,null,null,null,null,null,null,null,null,null,null,null,null,null,null,null,null,null,"58.0","18.8",4,"18.",3,"18.",0,null,"18."]
[null,null,null,null,null,null,null,null,null,null,null,null,null,null,null,null,null,null,null,"59.0","18.8",4,"18.",3,"18.",0,null,"18."]
[null,null,null,null,null,null,null,null,null,null,null,null,null,null,null,null,null,null,null,"60.0","22.1",4,"22.",3,"22.",0,null,"22."]
[null,null,null,null,null,null,null,null,null,null,null,null,null,null,null,null,null,null,null,"61.0","22.1",4,"22.",3,"22.",0,null,"22."]
[null,null,null,null,null,null,null,null,null,null,null,null,null,null,null,null,null,null,null,"62.0","22.1",4,"22.",3,"22.",0,null,"22."]
[null,null,null,null,null,null,null,null,null,null,null,null,null,null,null,null,null,null,null,"63.0","22.1",4,"22.",3,"22.",0,null,"22."]
[null,null,null,null,null,null,null,null,null,null,null,null,null,null,null,null,null,null,null,"64.0","22.1",4,"22.",3,"22.",{"$f":"L81","v":0},null,"22."]
[null,null,null,null,null,null,null,null,null,null,null,null,null,null,null,null,null,null,null,"65.0","26",2,"26",2,"26.0",0,null,"26"]
[null,null,null,null,null,null,null,null,null,null,null,null,null,null,null,null,null,null,null,"66.0","26",2,"26",2,"26.0",0,null,"26"]
[null,null,null,null,null,null,null,null,null,null,null,null,null,null,null,null,null,null,null,"67.0","26",2,"26",2,"26.0",0,null,"26"]
[null,null,null,null,null,null,null,null,null,null,null,null,null,null,null,null,null,null,null,"68.0","26",2,"26",2,"26.0",0,null,"26"]
[null,null,null,null,null,null,null,null,null,null,null,null,null,null,null,null,null,null,null,"69.0","26",2,"26",2,"26.0",0,null,"26"]
[null,null,null,null,null,null,null,null,null,null,null,null,null,null,null,null,null,null,null,"70.0","32",2,"32",2,"32.0",0,null,"32"]
[null,null,null,null,null,null,null,null,null,null,null,null,null,null,null,null,null,null,null,"71.0","32",2,"32",2,"32.0",0,null,"32"]
[null,null,null,null,null,null,null,null,null,null,null,null,null,null,null,null,null,null,null,"72.0","32",2,"32",2,"32.0",0,null,"32"]
[null,null,null,null,null,null,null,null,null,null,null,null,null,null,null,null,null,null,null,"73.0","32",2,"32",2,"32.0",0,null,"32"]
[null,null,null,null,null,null,null,null,null,null,null,null,null,null,null,null,null,null,null,"74.0","32",2,"32",2,"32.0",0,null,"32"]
[null,null,null,null,null,null,null,null,null,null,null,null,null,null,null,null,null,null,null,"75.0","36.9",4,"36.",3,"36.",0,null,"36."]
[null,null,null,null,null,null,null,null,null,null,null,null,null,null,null,null,null,null,null,"76.0","36.9",4,"36.",3,"36.",0,null,"36."]
[null,null,null,null,null,null,null,null,null,null,null,null,null,null,null,null,null,null,null,"77.0","36.9",4,"36.",3,"36.",0,null,"36."]
[null,null,null,null,null,null,null,null,null,null,null,null,null,null,null,null,null,null,null,"78.0","36.9",4,"36.",3,"36.",0,null,"36."]
[null,null,null,null,null,null,null,null,null,null,null,null,null,null,null,null,null,null,null,"79.0","36.9",4,"36.",3,"36.",0,null,"36."]
[null,null,null,null,null,null,null,null,null,null,null,null,null,null,null,null,null,null,null,"80.0","42.9",4,"42.",3,"42.",0,null,"42."]
[null,null,null,null,null,null,null,null,null,null,null,null,null,null,null,null,null,null,null,"81.0","42.9",4,"42.",3,"42.",0,null,"42."]
[null,null,null,null,null,null,null,null,null,null,null,null,null,null,null,null,null,null,null,"82.0","42.9",4,"42.",3,"42.",0,null,"42."]
[null,null,null,null,null,null,null,null,null,null,null,null,null,null,null,null,null,null,null,"83.0","42.9",4,"42.",3,"42.",0,null,"42."]
[null,null,null,null,null,null,null,null,null,null,null,null,null,null,null,null,null,null,null,"84.0","42.9",4,"42.",3,"42.",0,null,"42."]
[null,null,null,null,null,null,null,null,null,null,null,null,null,null,null,null,null,null,null,"85.0","99.9",4,"99.",3,"99.",0,null,"99."]
[null,null,null,null,null,null,null,null,null,null,null,null,null,null,null,null,null,null,null,"86.0","99.9",4,"99.",3,"99.",0,null,"99."]
[null,null,null,null,null,null,null,null,null,null,null,null,null,null,null,null,null,null,null,"87.0","99.9",4,"99.",3,"99.",0,null,"99."]
[null,null,null,null,null,null,null,null,null,null,null,null,null,null,null,null,null,null,null,"88.0","99.9",{"$f":"LEN(U456)","v":4},{"$f":"IF(V456=1,CONCATENATE(AB456,\".\",\"0\"),AB456)","v":"99."},{"$f":"LEN(W456)","v":3},{"$f":"IF(X456=2,CONCATENATE(W456,\".\",\"0\"),W456)","v":"99."},0,null,{"$f":"IF(Z456>9,MID(U456,1,4),MID(U456,1,3))","v":"99."}]
[null,null,null,null,null,null,null,null,null,null,null,null,null,null,null,null,null,null,null,"89.0","99.9",4,"99.",3,"99.",0,null,"99."]
[null,null,null,null,null,null,null,null,null,null,null,null,null,null,null,null,null,null,null,"90.0","99.9",4,"99.",3,"99.",0,null,"99."]
[null,null,null,null,null,null,null,null,null,null,null,null,null,null,null,null,null,null,null,"91.0","99.9",4,"99.",3,"99.",0,null,"99."]
[null,null,null,null,null,null,null,null,null,null,null,null,null,null,null,null,null,null,null,"92.0","99.9",4,"99.",3,"99.",0,null,"99."]
[null,null,null,null,null,null,null,null,null,null,null,null,null,null,null,null,null,null,null,"93.0","99.9",4,"99.",3,"99.",0,null,"99."]
[null,null,null,null,null,null,null,null,null,null,null,null,null,null,null,null,null,null,null,"94.0","99.9",4,"99.",3,"99.",0,null,"99."]
[null,null,null,null,null,null,null,null,null,null,null,null,null,null,null,null,null,null,null,"95.0","40",2,"40",2,"40.0",0,null,"40"]
[null,null,null,null,null,null,null,null,null,null,null,null,null,null,null,null,null,null,null,"96.0","40",2,"40",2,"40.0",{"$f":"L113","v":0},null,"40"]
[null,null,null,null,null,null,null,null,null,null,null,null,null,null,null,null,null,null,null,"97.0","40",2,"40",2,"40.0",0,null,"40"]
[null,null,null,null,null,null,null,null,null,null,null,null,null,null,null,null,null,null,null,"98.0","40",2,"40",2,"40.0",0,null,"40"]
[null,null,null,null,null,null,null,null,null,null,null,null,null,null,null,null,null,null,null,"99.0","40",2,"40",2,"40.0",0,null,"40"]
[null,null,null,null,null,null,null,null,null,null,null,null,null,null,null,null,null,null,null,"100.0","40",2,"40",2,"40.0",0,null,"40"]
[null,null,null,null,null,null,null,null,null,null,null,null,null,null,null,null,null,null,null,"101.0","40",2,"40",2,"40.0",0,null,"40"]
[null,null,null,null,null,null,null,null,null,null,null,null,null,null,null,null,null,null,null,"102.0","40",2,"40",2,"40.0",0,null,"40"]
[null,null,null,null,null,null,null,null,null,null,null,null,null,null,null,null,null,null,null,"103.0","40",2,"40",2,"40.0",0,null,"40"]
[null,null,null,null,null,null,null,null,null,null,null,null,null,null,null,null,null,null,null,"104.0","40",2,"40",2,"40.0",0,null,"40"]
[null,null,null,null,null,null,null,null,null,null,null,null,null,null,null,null,null,null,null,"105.0","30.4",4,"30.",3,"30.",0,null,"30."]
[null,null,null,null,null,null,null,null,null,null,null,null,null,null,null,null,null,null,null,"106.0","30.4",4,"30.",3,"30.",0,null,"30."]
[null,null,null,null,null,null,null,null,null,null,null,null,null,null,null,null,null,null,null,"107.0","30.4",4,"30.",3,"30.",0,null,"30."]
[null,null,null,null,null,null,null,null,null,null,null,null,null,null,null,null,null,null,null,"108.0","30.4",4,"30.",3,"30.",0,null,"30."]
[null,null,null,null,null,null,null,null,null,null,null,null,null,null,null,null,null,null,null,"109.0","30.4",4,"30.",3,"30.",0,null,"30."]
[null,null,null,null,null,null,null,null,null,null,null,null,null,null,null,null,null,null,null,"110.0","26",2,"26",2,"26.0",0,null,"26"]
[null,null,null,null,null,null,null,null,null,null,null,null,null,null,null,null,null,null,null,"111.0","26",2,"26",2,"26.0",0,null,"26"]
[null,null,null,null,null,null,null,null,null,null,null,null,null,null,null,null,null,null,null,"112.0","26",2,"26",2,"26.0",0,null,"26"]
[null,null,null,null,null,null,null,null,null,null,null,null,null,null,null,null,null,null,null,"113.0","26",2,"26",2,"26.0",0,null,"26"]
[null,null,null,null,null,null,null,null,null,null,null,null,null,null,null,null,null,null,null,"114.0","26",2,"26",2,"26.0",0,null,"26"]
[null,null,null,null,null,null,null,null,null,null,null,null,null,null,null,null,null,null,null,"115.0","23.1",4,"23.",3,"23.",0,null,"23."]
[null,null,null,null,null,null,null,null,null,null,null,null,null,null,null,null,null,null,null,"116.0","23.1",4,"23.",3,"23.",0,null,"23."]
[null,null,null,null,null,null,null,null,null,null,null,null,null,null,null,null,null,null,null,"117.0","23.1",4,"23.",3,"23.",0,null,"23."]
[null,null,null,null,null,null,null,null,null,null,null,null,null,null,null,null,null,null,null,"118.0","23.1",4,"23.",3,"23.",0,null,"23."]
[null,null,null,null,null,null,null,null,null,null,null,null,null,null,null,null,null,null,null,"119.0","23.1",4,"23.",3,"23.",0,null,"23."]
[null,null,null,null,null,null,null,null,null,null,null,null,null,null,null,null,null,null,null,"120.0","20.9",4,"20.",3,"20.",0,null,"20."]
[null,null,null,null,null,null,null,null,null,null,null,null,null,null,null,null,null,null,null,"121.0","20",2,"20",2,"20.0",{"$f":"O17","v":0},null,"20"]
[null,null,null,null,null,null,null,null,null,null,null,null,null,null,null,null,null,null,null,"122.0","20",2,"20",2,"20.0",0,null,"20"]
[null,null,null,null,null,null,null,null,null,null,null,null,null,null,null,null,null,null,null,"123.0","20",2,"20",2,"20.0",0,null,"20"]
[null,null,null,null,null,null,null,null,null,null,null,null,null,null,null,null,null,null,null,"124.0","20",2,"20",2,"20.0",0,null,"20"]
[null,null,null,null,null,null,null,null,null,null,null,null,null,null,null,null,null,null,null,"125.0","20",2,"20",2,"20.0",0,null,"20"]
[null,null,null,null,null,null,null,null,null,null,null,null,null,null,null,null,null,null,null,"126.0","20",2,"20",2,"20.0",0,null,"20"]
[null,null,null,null,null,null,null,null,null,null,null,null,null,null,null,null,null,null,null,"127.0","20",2,"20",2,"20.0",0,null,"20"]
[null,null,null,null,null,null,null,null,null,null,null,null,null,null,null,null,null,null,null,"128.0","20",2,"20",2,"20.0",0,null,"20"]
[null,null,null,null,null,null,null,null,null,null,null,null,null,null,null,null,null,null,null,"129.0","20",2,"20",2,"20.0",0,null,"20"]
[null,null,null,null,null,null,null,null,null,null,null,null,null,null,null,null,null,null,null,"130.0","26",2,"26",2,"26.0",0,null,"26"]
[null,null,null,null,null,null,null,null,null,null,null,null,null,null,null,null,null,null,null,"131.0","26",2,"26",2,"26.0",0,null,"26"]
[null,null,null,null,null,null,null,null,null,null,null,null,null,null,null,null,null,null,null,"132.0","26",2,"26",2,"26.0",0,null,"26"]
[null,null,null,null,null,null,null,null,null,null,null,null,null,null,null,null,null,null,null,"133.0","26",2,"26",2,"26.0",0,null,"26"]
[null,null,null,null,null,null,null,null,null,null,null,null,null,null,null,null,null,null,null,"134.0","24.4",4,"24.",3,"24.",0,null,"24."]
[null,null,null,null,null,null,null,null,null,null,null,null,null,null,null,null,null,null,null,"135.0","24.4",4,"24.",3,"24.",0,null,"24."]
[null,null,null,null,null,null,null,null,null,null,null,null,null,null,null,null,null,null,null,"136.0","24.4",4,"24.",3,"24.",0,null,"24."]
[null,null,null,null,null,null,null,null,null,null,null,null,null,null,null,null,null,null,null,"137.0","24.4",4,"24.",3,"24.",0,null,"24."]
[null,null,null,null,null,null,null,null,null,null,null,null,null,null,null,null,null,null,null,"138.0","24.4",4,"24.",3,"24.",0,null,"24."]
[null,null,null,null,null,null,null,null,null,null,null,null,null,null,null,null,null,null,null,"139.0","24.4",4,"24.",3,"24.",0,null,"24."]
[null,null,null,null,null,null,null,null,null,null,null,null,null,null,null,null,null,null,null,"140.0","20.9",4,"20.",3,"20.",0,null,"20."]
[null,null,null,null,null,null,null,null,null,null,null,null,null,null,null,null,null,null,null,"141.0","20.9",4,"20.",3,"20.",0,null,"20."]
[null,null,null,null,null,null,null,null,null,null,null,null,null,null,null,null,null,null,null,"142.0","20.9",4,"20.",3,"20.",0,null,"20."]
[null,null,null,null,null,null,null,null,null,null,null,null,null,null,null,null,null,null,null,"143.0","20.9",4,"20.",3,"20.",0,null,"20."]
[null,null,null,null,null,null,null,null,null,null,null,null,null,null,null,null,null,null,null,"144.0","20.9",4,"20.",3,"20.",0,null,"20."]
[null,null,null,null,null,null,null,null,null,null,null,null,null,null,null,null,null,null,null,"145.0","14.8",4,"14.",3,"14.",0,null,"14."]
[null,null,null,null,null,null,null,null,null,null,null,null,null,null,null,null,null,null,null,"146.0","14.8",4,"14.",3,"14.",0,null,"14."]
[null,null,null,null,null,null,null,null,null,null,null,null,null,null,null,null,null,null,null,"147.0","14.8",4,"14.",3,"14.",0,null,"14."]
[null,null,null,null,null,null,null,null,null,null,null,null,null,null,null,null,null,null,null,"148.0","14.8",4,"14.",3,"14.",0,null,"14."]
[null,null,null,null,null,null,null,null,null,null,null,null,null,null,null,null,null,null,null,"149.0","14.8",4,"14.",3,"14.",0,null,"14."]
[null,null,null,null,null,null,null,null,null,null,null,null,null,null,null,null,null,null,null,"150.0","13.9",4,"13.",3,"13.",0,null,"13."]
[null,null,null,null,null,null,null,null,null,null,null,null,null,null,null,null,null,null,null,"151.0","13.9",4,"13.",3,"13.",0,null,"13."]
[null,null,null,null,null,null,null,null,null,null,null,null,null,null,null,null,null,null,null,"152.0","13.9",{"$f":"LEN(U520)","v":4},{"$f":"IF(V520=1,CONCATENATE(AB520,\".\",\"0\"),AB520)","v":"13."},{"$f":"LEN(W520)","v":3},{"$f":"IF(X520=2,CONCATENATE(W520,\".\",\"0\"),W520)","v":"13."},0,null,{"$f":"IF(Z520>9,MID(U520,1,4),MID(U520,1,3))","v":"13."}]
[null,null,null,null,null,null,null,null,null,null,null,null,null,null,null,null,null,null,null,"153.0","13.9",4,"13.",3,"13.",{"$f":"O49","v":0},null,"13."]
[null,null,null,null,null,null,null,null,null,null,null,null,null,null,null,null,null,null,null,"154.0","13.9",4,"13.",3,"13.",0,null,"13."]
[null,null,null,null,null,null,null,null,null,null,null,null,null,null,null,null,null,null,null,"155.0","19.1",4,"19.",3,"19.",0,null,"19."]
[null,null,null,null,null,null,null,null,null,null,null,null,null,null,null,null,null,null,null,"156.0","19.1",4,"19.",3,"19.",0,null,"19."]
[null,null,null,null,null,null,null,null,null,null,null,null,null,null,null,null,null,null,null,"157.0","19.1",4,"19.",3,"19.",0,null,"19."]
[null,null,null,null,null,null,null,null,null,null,null,null,null,null,null,null,null,null,null,"158.0","19.1",4,"19.",3,"19.",0,null,"19."]
[null,null,null,null,null,null,null,null,null,null,null,null,null,null,null,null,null,null,null,"159.0","19.1",4,"19.",3,"19.",0,null,"19."]
[null,null,null,null,null,null,null,null,null,null,null,null,null,null,null,null,null,null,null,"160.0","16.4",4,"16.",3,"16.",0,null,"16."]
[null,null,null,null,null,null,null,null,null,null,null,null,null,null,null,null,null,null,null,"161.0","16.4",4,"16.",3,"16.",0,null,"16."]
[null,null,null,null,null,null,null,null,null,null,null,null,null,null,null,null,null,null,null,"162.0","16.4",4,"16.",3,"16.",0,null,"16."]
[null,null,null,null,null,null,null,null,null,null,null,null,null,null,null,null,null,null,null,"163.0","16.4",4,"16.",3,"16.",0,null,"16."]
[null,null,null,null,null,null,null,null,null,null,null,null,null,null,null,null,null,null,null,"164.0","16.4",4,"16.",3,"16.",0,null,"16."]
[null,null,null,null,null,null,null,null,null,null,null,null,null,null,null,null,null,null,null,"165.0","6.9",3,"6.9",3,"6.9",0,null,"6.9"]
[null,null,null,null,null,null,null,null,null,null,null,null,null,null,null,null,null,null,null,"166.0","6.9",3,"6.9",3,"6.9",0,null,"6.9"]
[null,null,null,null,null,null,null,null,null,null,null,null,null,null,null,null,null,null,null,"167.0","6.9",3,"6.9",3,"6.9",0,null,"6.9"]
[null,null,null,null,null,null,null,null,null,null,null,null,null,null,null,null,null,null,null,"168.0","6.9",3,"6.9",3,"6.9",0,null,"6.9"]
[null,null,null,null,null,null,null,null,null,null,null,null,null,null,null,null,null,null,null,"169.0","6.9",3,"6.9",3,"6.9",0,null,"6.9"]
[null,null,null,null,null,null,null,null,null,null,null,null,null,null,null,null,null,null,null,"170.0","2.2",3,"2.2",3,"2.2",0,null,"2.2"]
[null,null,null,null,null,null,null,null,null,null,null,null,null,null,null,null,null,null,null,"171.0","2.2",3,"2.2",3,"2.2",0,null,"2.2"]
[null,null,null,null,null,null,null,null,null,null,null,null,null,null,null,null,null,null,null,"172.0","2.2",3,"2.2",3,"2.2",0,null,"2.2"]
[null,null,null,null,null,null,null,null,null,null,null,null,null,null,null,null,null,null,null,"173.0","2.2",3,"2.2",3,"2.2",0,null,"2.2"]
[null,null,null,null,null,null,null,null,null,null,null,null,null,null,null,null,null,null,null,"174.0","2.2",3,"2.2",3,"2.2",0,null,"2.2"]
[null,null,null,null,null,null,null,null,null,null,null,null,null,null,null,null,null,null,null,"175.0","0.5",3,"0.5",3,"0.5",0,null,"0.5"]
[null,null,null,null,null,null,null,null,null,null,null,null,null,null,null,null,null,null,null,"176.0","0.5",3,"0.5",3,"0.5",0,null,"0.5"]
[null,null,null,null,null,null,null,null,null,null,null,null,null,null,null,null,null,null,null,"177.0","0.5",3,"0.5",3,"0.5",0,null,"0.5"]
[null,null,null,null,null,null,null,null,null,null,null,null,null,null,null,null,null,null,null,"178.0","0.5",3,"0.5",3,"0.5",0,null,"0.5"]
[null,null,null,null,null,null,null,null,null,null,null,null,null,null,null,null,null,null,null,"179.0","0.5",3,"0.5",3,"0.5",0,null,"0.5"]
[null,null,null,null,null,null,null,null,null,null,null,null,null,null,null,null,null,null,null,"180.0","0.5",3,"0.5",3,"0.5",0,null,"0.5"]
[null,null,null,null,null,null,null,null,null,null,null,null,null,null,null,null,null,null,null,"181.0","0.5",3,"0.5",3,"0.5",0,null,"0.5"]
[null,null,null,null,null,null,null,null,null,null,null,null,null,null,null,null,null,null,null,"182.0","0.5",3,"0.5",3,"0.5",0,null,"0.5"]
[null,null,null,null,null,null,null,null,null,null,null,null,null,null,null,null,null,null,null,"183.0","0.5",3,"0.5",3,"0.5",0,null,"0.5"]
[null,null,null,null,null,null,null,null,null,null,null,null,null,null,null,null,null,null,null,"184.0","0.5",3,"0.5",3,"0.5",0,null,"0.5"]
[null,null,null,null,null,null,null,null,null,null,null,null,null,null,null,null,null,null,null,"185.0","2.2",3,"2.2",3,"2.2",{"$f":"O81","v":0},null,"2.2"]
[null,null,null,null,null,null,null,null,null,null,null,null,null,null,null,null,null,null,null,"186.0","2.2",3,"2.2",3,"2.2",0,null,"2.2"]
[null,null,null,null,null,null,null,null,null,null,null,null,null,null,null,null,null,null,null,"187.0","2.2",3,"2.2",3,"2.2",0,null,"2.2"]
[null,null,null,null,null,null,null,null,null,null,null,null,null,null,null,null,null,null,null,"188.0","2.2",3,"2.2",3,"2.2",0,null,"2.2"]
[null,null,null,null,null,null,null,null,null,null,null,null,null,null,null,null,null,null,null,"189.0","2.2",3,"2.2",3,"2.2",0,null,"2.2"]
[null,null,null,null,null,null,null,null,null,null,null,null,null,null,null,null,null,null,null,"190.0","6.9",3,"6.9",3,"6.9",0,null,"6.9"]
[null,null,null,null,null,null,null,null,null,null,null,null,null,null,null,null,null,null,null,"191.0","6.9",3,"6.9",3,"6.9",0,null,"6.9"]
[null,null,null,null,null,null,null,null,null,null,null,null,null,null,null,null,null,null,null,"192.0","6.9",3,"6.9",3,"6.9",0,null,"6.9"]
[null,null,null,null,null,null,null,null,null,null,null,null,null,null,null,null,null,null,null,"193.0","6.9",3,"6.9",3,"6.9",0,null,"6.9"]
[null,null,null,null,null,null,null,null,null,null,null,null,null,null,null,null,null,null,null,"194.0","6.9",3,"6.9",3,"6.9",0,null,"6.9"]
[null,null,null,null,null,null,null,null,null,null,null,null,null,null,null,null,null,null,null,"195.0","14.4",4,"14.",3,"14.",0,null,"14."]
[null,null,null,null,null,null,null,null,null,null,null,null,null,null,null,null,null,null,null,"196.0","14.4",4,"14.",3,"14.",0,null,"14."]
[null,null,null,null,null,null,null,null,null,null,null,null,null,null,null,null,null,null,null,"197.0","14.4",4,"14.",3,"14.",0,null,"14."]
[null,null,null,null,null,null,null,null,null,null,null,null,null,null,null,null,null,null,null,"198.0","14.4",4,"14.",3,"14.",0,null,"14."]
[null,null,null,null,null,null,null,null,null,null,null,null,null,null,null,null,null,null,null,"199.0","14.4",4,"14.",3,"14.",0,null,"14."]
[null,null,null,null,null,null,null,null,null,null,null,null,null,null,null,null,null,null,null,"200.0","18.4",4,"18.",3,"18.",0,null,"18."]
[null,null,null,null,null,null,null,null,null,null,null,null,null,null,null,null,null,null,null,"201.0","18.4",4,"18.",3,"18.",0,null,"18."]
[null,null,null,null,null,null,null,null,null,null,null,null,null,null,null,null,null,null,null,"202.0","18.4",4,"18.",3,"18.",0,null,"18."]
[null,null,null,null,null,null,null,null,null,null,null,null,null,null,null,null,null,null,null,"203.0","18.4",4,"18.",3,"18.",0,null,"18."]
[null,null,null,null,null,null,null,null,null,null,null,null,null,null,null,null,null,null,null,"204.0","18.4",4,"18.",3,"18.",0,null,"18."]
[null,null,null,null,null,null,null,null,null,null,null,null,null,null,null,null,null,null,null,"205.0","19.1",4,"19.",3,"19.",0,null,"19."]
[null,null,null,null,null,null,null,null,null,null,null,null,null,null,null,null,null,null,null,"206.0","19.1",4,"19.",3,"19.",0,null,"19."]
[null,null,null,null,null,null,null,null,null,null,null,null,null,null,null,null,null,null,null,"207.0","19.1",4,"19.",3,"19.",0,null,"19."]
[null,null,null,null,null,null,null,null,null,null,null,null,null,null,null,null,null,null,null,"208.0","19.1",4,"19.",3,"19.",0,null,"19."]
[null,null,null,null,null,null,null,null,null,null,null,null,null,null,null,null,null,null,null,"209.0","19.1",4,"19.",3,"19.",0,null,"19."]
[null,null,null,null,null,null,null,null,null,null,null,null,null,null,null,null,null,null,null,"210.0","13.9",4,"13.",3,"13.",0,null,"13."]
[null,null,null,null,null,null,null,null,null,null,null,null,null,null,null,null,null,null,null,"211.0","13.9",4,"13.",3,"13.",0,null,"13."]
[null,null,null,null,null,null,null,null,null,null,null,null,null,null,null,null,null,null,null,"212.0","13.9",4,"13.",3,"13.",0,null,"13."]
[null,null,null,null,null,null,null,null,null,null,null,null,null,null,null,null,null,null,null,"213.0","13.9",4,"13.",3,"13.",0,null,"13."]
[null,null,null,null,null,null,null,null,null,null,null,null,null,null,null,null,null,null,null,"214.0","13.9",4,"13.",3,"13.",0,null,"13."]
[null,null,null,null,null,null,null,null,null,null,null,null,null,null,null,null,null,null,null,"215.0","14.8",4,"14.",3,"14.",0,null,"14."]
[null,null,null,null,null,null,null,null,null,null,null,null,null,null,null,null,null,null,null,"216.0","14.8",{"$f":"LEN(U584)","v":4},{"$f":"IF(V584=1,CONCATENATE(AB584,\".\",\"0\"),AB584)","v":"14."},{"$f":"LEN(W584)","v":3},{"$f":"IF(X584=2,CONCATENATE(W584,\".\",\"0\"),W584)","v":"14."},0,null,{"$f":"IF(Z584>9,MID(U584,1,4),MID(U584,1,3))","v":"14."}]
[null,null,null,null,null,null,null,null,null,null,null,null,null,null,null,null,null,null,null,"217.0","14.8",4,"14.",3,"14.",{"$f":"O113","v":0},null,"14."]
[null,null,null,null,null,null,null,null,null,null,null,null,null,null,null,null,null,null,null,"218.0","14.8",4,"14.",3,"14.",0,null,"14."]
[null,null,null,null,null,null,null,null,null,null,null,null,null,null,null,null,null,null,null,"219.0","14.8",4,"14.",3,"14.",0,null,"14."]
[null,null,null,null,null,null,null,null,null,null,null,null,null,null,null,null,null,null,null,"220.0","20.9",4,"20.",3,"20.",0,null,"20."]
[null,null,null,null,null,null,null,null,null,null,null,null,null,null,null,null,null,null,null,"221.0","20.9",4,"20.",3,"20.",0,null,"20."]
[null,null,null,null,null,null,null,null,null,null,null,null,null,null,null,null,null,null,null,"222.0","20.9",4,"20.",3,"20.",0,null,"20."]
[null,null,null,null,null,null,null,null,null,null,null,null,null,null,null,null,null,null,null,"223.0","20.9",4,"20.",3,"20.",0,null,"20."]
[null,null,null,null,null,null,null,null,null,null,null,null,null,null,null,null,null,null,null,"224.0","20.9",4,"20.",3,"20.",0,null,"20."]
[null,null,null,null,null,null,null,null,null,null,null,null,null,null,null,null,null,null,null,"225.0","24.4",4,"24.",3,"24.",0,null,"24."]
[null,null,null,null,null,null,null,null,null,null,null,null,null,null,null,null,null,null,null,"226.0","24.4",4,"24.",3,"24.",0,null,"24."]
[null,null,null,null,null,null,null,null,null,null,null,null,null,null,null,null,null,null,null,"227.0","24.4",4,"24.",3,"24.",0,null,"24."]
[null,null,null,null,null,null,null,null,null,null,null,null,null,null,null,null,null,null,null,"228.0","24.4",4,"24.",3,"24.",0,null,"24."]
[null,null,null,null,null,null,null,null,null,null,null,null,null,null,null,null,null,null,null,"229.0","24.4",4,"24.",3,"24.",0,null,"24."]
[null,null,null,null,null,null,null,null,null,null,null,null,null,null,null,null,null,null,null,"230.0","26",2,"26",2,"26.0",0,null,"26"]
[null,null,null,null,null,null,null,null,null,null,null,null,null,null,null,null,null,null,null,"231.0","26",2,"26",2,"26.0",0,null,"26"]
[null,null,null,null,null,null,null,null,null,null,null,null,null,null,null,null,null,null,null,"232.0","26",2,"26",2,"26.0",0,null,"26"]
[null,null,null,null,null,null,null,null,null,null,null,null,null,null,null,null,null,null,null,"233.0","26",2,"26",2,"26.0",0,null,"26"]
[null,null,null,null,null,null,null,null,null,null,null,null,null,null,null,null,null,null,null,"234.0","26",2,"26",2,"26.0",0,null,"26"]
[null,null,null,null,null,null,null,null,null,null,null,null,null,null,null,null,null,null,null,"235.0","20",2,"20",2,"20.0",0,null,"20"]
[null,null,null,null,null,null,null,null,null,null,null,null,null,null,null,null,null,null,null,"236.0","20",2,"20",2,"20.0",0,null,"20"]
[null,null,null,null,null,null,null,null,null,null,null,null,null,null,null,null,null,null,null,"237.0","20",2,"20",2,"20.0",0,null,"20"]
[null,null,null,null,null,null,null,null,null,null,null,null,null,null,null,null,null,null,null,"238.0","20",2,"20",2,"20.0",0,null,"20"]
[null,null,null,null,null,null,null,null,null,null,null,null,null,null,null,null,null,null,null,"239.0","20",2,"20",2,"20.0",0,null,"20"]
[null,null,null,null,null,null,null,null,null,null,null,null,null,null,null,null,null,null,null,"240.0","20.9",4,"20.",3,"20.",0,null,"20."]
[null,null,null,null,null,null,null,null,null,null,null,null,null,null,null,null,null,null,null,"241.0","20.9",4,"20.",3,"20.",0,null,"20."]
[null,null,null,null,null,null,null,null,null,null,null,null,null,null,null,null,null,null,null,"242.0","20.9",4,"20.",3,"20.",{"$f":"R17","v":0},null,"20."]
[null,null,null,null,null,null,null,null,null,null,null,null,null,null,null,null,null,null,null,"243.0","20.9",4,"20.",3,"20.",0,null,"20."]
[null,null,null,null,null,null,null,null,null,null,null,null,null,null,null,null,null,null,null,"244.0","20.9",4,"20.",3,"20.",0,null,"20."]
[null,null,null,null,null,null,null,null,null,null,null,null,null,null,null,null,null,null,null,"245.0","20.9",4,"20.",3,"20.",0,null,"20."]
[null,null,null,null,null,null,null,null,null,null,null,null,null,null,null,null,null,null,null,"246.0","20.9",4,"20.",3,"20.",0,null,"20."]
[null,null,null,null,null,null,null,null,null,null,null,null,null,null,null,null,null,null,null,"247.0","20.9",4,"20.",3,"20.",0,null,"20."]
[null,null,null,null,null,null,null,null,null,null,null,null,null,null,null,null,null,null,null,"248.0","20.9",4,"20.",3,"20.",0,null,"20."]
[null,null,null,null,null,null,null,null,null,null,null,null,null,null,null,null,null,null,null,"249.0","20.9",4,"20.",3,"20.",0,null,"20."]
[null,null,null,null,null,null,null,null,null,null,null,null,null,null,null,null,null,null,null,"250.0","23.1",4,"23.",3,"23.",0,null,"23."]
[null,null,null,null,null,null,null,null,null,null,null,null,null,null,null,null,null,null,null,"251.0","23.1",4,"23.",3,"23.",0,null,"23."]
[null,null,null,null,null,null,null,null,null,null,null,null,null,null,null,null,null,null,null,"252.0","23.1",4,"23.",3,"23.",0,null,"23."]
[null,null,null,null,null,null,null,null,null,null,null,null,null,null,null,null,null,null,null,"253.0","23.1",4,"23.",3,"23.",0,null,"23."]
[null,null,null,null,null,null,null,null,null,null,null,null,null,null,null,null,null,null,null,"254.0","23.1",4,"23.",3,"23.",0,null,"23."]
[null,null,null,null,null,null,null,null,null,null,null,null,null,null,null,null,null,null,null,"255.0","26",2,"26",2,"26.0",0,null,"26"]
[null,null,null,null,null,null,null,null,null,null,null,null,null,null,null,null,null,null,null,"256.0","26",2,"26",2,"26.0",0,null,"26"]
[null,null,null,null,null,null,null,null,null,null,null,null,null,null,null,null,null,null,null,"257.0","26",2,"26",2,"26.0",0,null,"26"]
[null,null,null,null,null,null,null,null,null,null,null,null,null,null,null,null,null,null,null,"258.0","26",2,"26",2,"26.0",0,null,"26"]
[null,null,null,null,null,null,null,null,null,null,null,null,null,null,null,null,null,null,null,"259.0","26",2,"26",2,"26.0",0,null,"26"]
[null,null,null,null,null,null,null,null,null,null,null,null,null,null,null,null,null,null,null,"260.0","30.4",4,"30.",3,"30.",0,null,"30."]
[null,null,null,null,null,null,null,null,null,null,null,null,null,null,null,null,null,null,null,"261.0","30.4",4,"30.",3,"30.",0,null,"30."]
[null,null,null,null,null,null,null,null,null,null,null,null,null,null,null,null,null,null,null,"262.0","30.4",4,"30.",3,"30.",0,null,"30."]
[null,null,null,null,null,null,null,null,null,null,null,null,null,null,null,null,null,null,null,"263.0","30.4",4,"30.",3,"30.",0,null,"30."]
[null,null,null,null,null,null,null,null,null,null,null,null,null,null,null,null,null,null,null,"264.0","30.4",4,"30.",3,"30.",0,null,"30."]
[null,null,null,null,null,null,null,null,null,null,null,null,null,null,null,null,null,null,null,"265.0","40",2,"40",2,"40.0",0,null,"40"]
[null,null,null,null,null,null,null,null,null,null,null,null,null,null,null,null,null,null,null,"266.0","40",2,"40",2,"40.0",0,null,"40"]
[null,null,null,null,null,null,null,null,null,null,null,null,null,null,null,null,null,null,null,"267.0","40",2,"40",2,"40.0",0,null,"40"]
[null,null,null,null,null,null,null,null,null,null,null,null,null,null,null,null,null,null,null,"268.0","40",2,"40",2,"40.0",0,null,"40"]
[null,null,null,null,null,null,null,null,null,null,null,null,null,null,null,null,null,null,null,"269.0","40",2,"40",2,"40.0",0,null,"40"]
[null,null,null,null,null,null,null,null,null,null,null,null,null,null,null,null,null,null,null,"270.0","40",2,"40",2,"40.0",0,null,"40"]
[null,null,null,null,null,null,null,null,null,null,null,null,null,null,null,null,null,null,null,"271.0","40",2,"40",2,"40.0",0,null,"40"]
[null,null,null,null,null,null,null,null,null,null,null,null,null,null,null,null,null,null,null,"272.0","40",2,"40",2,"40.0",0,null,"40"]
[null,null,null,null,null,null,null,null,null,null,null,null,null,null,null,null,null,null,null,"273.0","40",2,"40",2,"40.0",0,null,"40"]
[null,null,null,null,null,null,null,null,null,null,null,null,null,null,null,null,null,null,null,"274.0","40",2,"40",2,"40.0",{"$f":"R49","v":0},null,"40"]
[null,null,null,null,null,null,null,null,null,null,null,null,null,null,null,null,null,null,null,"275.0","99",2,"99",2,"99.0",0,null,"99"]
[null,null,null,null,null,null,null,null,null,null,null,null,null,null,null,null,null,null,null,"276.0","99",2,"99",2,"99.0",0,null,"99"]
[null,null,null,null,null,null,null,null,null,null,null,null,null,null,null,null,null,null,null,"277.0","99",2,"99",2,"99.0",0,null,"99"]
[null,null,null,null,null,null,null,null,null,null,null,null,null,null,null,null,null,null,null,"278.0","99",2,"99",2,"99.0",0,null,"99"]
[null,null,null,null,null,null,null,null,null,null,null,null,null,null,null,null,null,null,null,"279.0","99",2,"99",2,"99.0",0,null,"99"]
[null,null,null,null,null,null,null,null,null,null,null,null,null,null,null,null,null,null,null,"280.0","99",{"$f":"LEN(U648)","v":2},{"$f":"IF(V648=1,CONCATENATE(AB648,\".\",\"0\"),AB648)","v":"99"},{"$f":"LEN(W648)","v":2},{"$f":"IF(X648=2,CONCATENATE(W648,\".\",\"0\"),W648)","v":"99.0"},0,null,{"$f":"IF(Z648>9,MID(U648,1,4),MID(U648,1,3))","v":"99"}]
[null,null,null,null,null,null,null,null,null,null,null,null,null,null,null,null,null,null,null,"281.0","99",2,"99",2,"99.0",0,null,"99"]
[null,null,null,null,null,null,null,null,null,null,null,null,null,null,null,null,null,null,null,"282.0","99",2,"99",2,"99.0",0,null,"99"]
[null,null,null,null,null,null,null,null,null,null,null,null,null,null,null,null,null,null,null,"283.0","99",2,"99",2,"99.0",0,null,"99"]
[null,null,null,null,null,null,null,null,null,null,null,null,null,null,null,null,null,null,null,"284.0","42.9",4,"42.",3,"42.",0,null,"42."]
[null,null,null,null,null,null,null,null,null,null,null,null,null,null,null,null,null,null,null,"285.0","42.9",4,"42.",3,"42.",0,null,"42."]
[null,null,null,null,null,null,null,null,null,null,null,null,null,null,null,null,null,null,null,"286.0","42.9",4,"42.",3,"42.",0,null,"42."]
[null,null,null,null,null,null,null,null,null,null,null,null,null,null,null,null,null,null,null,"287.0","42.9",4,"42.",3,"42.",0,null,"42."]
[null,null,null,null,null,null,null,null,null,null,null,null,null,null,null,null,null,null,null,"288.0","42.9",4,"42.",3,"42.",0,null,"42."]
[null,null,null,null,null,null,null,null,null,null,null,null,null,null,null,null,null,null,null,"289.0","42.9",4,"42.",3,"42.",0,null,"42."]
[null,null,null,null,null,null,null,null,null,null,null,null,null,null,null,null,null,null,null,"290.0","36.9",4,"36.",3,"36.",0,null,"36."]
[null,null,null,null,null,null,null,null,null,null,null,null,null,null,null,null,null,null,null,"291.0","36.9",4,"36.",3,"36.",0,null,"36."]
[null,null,null,null,null,null,null,null,null,null,null,null,null,null,null,null,null,null,null,"292.0","36.9",4,"36.",3,"36.",0,null,"36."]
[null,null,null,null,null,null,null,null,null,null,null,null,null,null,null,null,null,null,null,"293.0","36.9",4,"36.",3,"36.",0,null,"36."]
[null,null,null,null,null,null,null,null,null,null,null,null,null,null,null,null,null,null,null,"294.0","32",2,"32",2,"32.0",0,null,"32"]
[null,null,null,null,null,null,null,null,null,null,null,null,null,null,null,null,null,null,null,"295.0","32",2,"32",2,"32.0",0,null,"32"]
[null,null,null,null,null,null,null,null,null,null,null,null,null,null,null,null,null,null,null,"296.0","32",2,"32",2,"32.0",0,null,"32"]
[null,null,null,null,null,null,null,null,null,null,null,null,null,null,null,null,null,null,null,"297.0","32",2,"32",2,"32.0",0,null,"32"]
[null,null,null,null,null,null,null,null,null,null,null,null,null,null,null,null,null,null,null,"298.0","32",2,"32",2,"32.0",0,null,"32"]
[null,null,null,null,null,null,null,null,null,null,null,null,null,null,null,null,null,null,null,"299.0","32",2,"32",2,"32.0",0,null,"32"]
[null,null,null,null,null,null,null,null,null,null,null,null,null,null,null,null,null,null,null,"300.0","26",2,"26",2,"26.0",0,null,"26"]
[null,null,null,null,null,null,null,null,null,null,null,null,null,null,null,null,null,null,null,"301.0","26",2,"26",2,"26.0",0,null,"26"]
[null,null,null,null,null,null,null,null,null,null,null,null,null,null,null,null,null,null,null,"302.0","26",2,"26",2,"26.0",0,null,"26"]
[null,null,null,null,null,null,null,null,null,null,null,null,null,null,null,null,null,null,null,"303.0","26",2,"26",2,"26.0",0,null,"26"]
[null,null,null,null,null,null,null,null,null,null,null,null,null,null,null,null,null,null,null,"304.0","26",2,"26",2,"26.0",0,null,"26"]
[null,null,null,null,null,null,null,null,null,null,null,null,null,null,null,null,null,null,null,"305.0","22.1",4,"22.",3,"22.",0,null,"22."]
[null,null,null,null,null,null,null,null,null,null,null,null,null,null,null,null,null,null,null,"306.0","22.1",4,"22.",3,"22.",{"$f":"R81","v":0},null,"22."]
[null,null,null,null,null,null,null,null,null,null,null,null,null,null,null,null,null,null,null,"307.0","22.1",4,"22.",3,"22.",0,null,"22."]
[null,null,null,null,null,null,null,null,null,null,null,null,null,null,null,null,null,null,null,"308.0","22.1",4,"22.",3,"22.",0,null,"22."]
[null,null,null,null,null,null,null,null,null,null,null,null,null,null,null,null,null,null,null,"309.0","22.1",4,"22.",3,"22.",0,null,"22."]
[null,null,null,null,null,null,null,null,null,null,null,null,null,null,null,null,null,null,null,"310.0","18.8",4,"18.",3,"18.",0,null,"18."]
[null,null,null,null,null,null,null,null,null,null,null,null,null,null,null,null,null,null,null,"311.0","18.8",4,"18.",3,"18.",0,null,"18."]
[null,null,null,null,null,null,null,null,null,null,null,null,null,null,null,null,null,null,null,"312.0","18.8",4,"18.",3,"18.",0,null,"18."]
[null,null,null,null,null,null,null,null,null,null,null,null,null,null,null,null,null,null,null,"313.0","18.8",4,"18.",3,"18.",0,null,"18."]
[null,null,null,null,null,null,null,null,null,null,null,null,null,null,null,null,null,null,null,"314.0","18.8",4,"18.",3,"18.",0,null,"18."]
[null,null,null,null,null,null,null,null,null,null,null,null,null,null,null,null,null,null,null,"315.0","19.4",4,"19.",3,"19.",0,null,"19."]
[null,null,null,null,null,null,null,null,null,null,null,null,null,null,null,null,null,null,null,"316.0","19.4",4,"19.",3,"19.",0,null,"19."]
[null,null,null,null,null,null,null,null,null,null,null,null,null,null,null,null,null,null,null,"317.0","19.4",4,"19.",3,"19.",0,null,"19."]
[null,null,null,null,null,null,null,null,null,null,null,null,null,null,null,null,null,null,null,"318.0","19.4",4,"19.",3,"19.",0,null,"19."]
[null,null,null,null,null,null,null,null,null,null,null,null,null,null,null,null,null,null,null,"319.0","19.4",4,"19.",3,"19.",0,null,"19."]
[null,null,null,null,null,null,null,null,null,null,null,null,null,null,null,null,null,null,null,"320.0","26",2,"26",2,"26.0",0,null,"26"]
[null,null,null,null,null,null,null,null,null,null,null,null,null,null,null,null,null,null,null,"321.0","26",2,"26",2,"26.0",0,null,"26"]
[null,null,null,null,null,null,null,null,null,null,null,null,null,null,null,null,null,null,null,"322.0","26",2,"26",2,"26.0",0,null,"26"]
[null,null,null,null,null,null,null,null,null,null,null,null,null,null,null,null,null,null,null,"323.0","26",2,"26",2,"26.0",0,null,"26"]
[null,null,null,null,null,null,null,null,null,null,null,null,null,null,null,null,null,null,null,"324.0","26",2,"26",2,"26.0",0,null,"26"]
[null,null,null,null,null,null,null,null,null,null,null,null,null,null,null,null,null,null,null,"325.0","27.3",4,"27.",3,"27.",0,null,"27."]
[null,null,null,null,null,null,null,null,null,null,null,null,null,null,null,null,null,null,null,"326.0","27.3",4,"27.",3,"27.",0,null,"27."]
[null,null,null,null,null,null,null,null,null,null,null,null,null,null,null,null,null,null,null,"327.0","27.3",4,"27.",3,"27.",0,null,"27."]
[null,null,null,null,null,null,null,null,null,null,null,null,null,null,null,null,null,null,null,"328.0","27.3",4,"27.",3,"27.",0,null,"27."]
[null,null,null,null,null,null,null,null,null,null,null,null,null,null,null,null,null,null,null,"329.0","27.3",4,"27.",3,"27.",0,null,"27."]
[null,null,null,null,null,null,null,null,null,null,null,null,null,null,null,null,null,null,null,"330.0","15.6",4,"15.",3,"15.",0,null,"15."]
[null,null,null,null,null,null,null,null,null,null,null,null,null,null,null,null,null,null,null,"331.0","15.6",4,"15.",3,"15.",0,null,"15."]
[null,null,null,null,null,null,null,null,null,null,null,null,null,null,null,null,null,null,null,"332.0","15.6",4,"15.",3,"15.",0,null,"15."]
[null,null,null,null,null,null,null,null,null,null,null,null,null,null,null,null,null,null,null,"333.0","15.6",4,"15.",3,"15.",0,null,"15."]
[null,null,null,null,null,null,null,null,null,null,null,null,null,null,null,null,null,null,null,"334.0","15.6",4,"15.",3,"15.",0,null,"15."]
[null,null,null,null,null,null,null,null,null,null,null,null,null,null,null,null,null,null,null,"335.0","12.5",4,"12.",3,"12.",0,null,"12."]
[null,null,null,null,null,null,null,null,null,null,null,null,null,null,null,null,null,null,null,"336.0","12.5",4,"12.",3,"12.",0,null,"12."]
[null,null,null,null,null,null,null,null,null,null,null,null,null,null,null,null,null,null,null,"337.0","12.5",4,"12.",3,"12.",0,null,"12."]
[null,null,null,null,null,null,null,null,null,null,null,null,null,null,null,null,null,null,null,"338.0","12.5",4,"12.",3,"12.",{"$f":"R113","v":0},null,"12."]
[null,null,null,null,null,null,null,null,null,null,null,null,null,null,null,null,null,null,null,"339.0","12.5",4,"12.",3,"12.",0,null,"12."]
[null,null,null,null,null,null,null,null,null,null,null,null,null,null,null,null,null,null,null,"340.0","13.9",4,"13.",3,"13.",0,null,"13."]
[null,null,null,null,null,null,null,null,null,null,null,null,null,null,null,null,null,null,null,"341.0","13.9",4,"13.",3,"13.",0,null,"13."]
[null,null,null,null,null,null,null,null,null,null,null,null,null,null,null,null,null,null,null,"342.0","13.9",4,"13.",3,"13.",0,null,"13."]
[null,null,null,null,null,null,null,null,null,null,null,null,null,null,null,null,null,null,null,"343.0","13.9",4,"13.",3,"13.",0,null,"13."]
[null,null,null,null,null,null,null,null,null,null,null,null,null,null,null,null,null,null,null,"344.0","13.9",{"$f":"LEN(U712)","v":4},{"$f":"IF(V712=1,CONCATENATE(AB712,\".\",\"0\"),AB712)","v":"13."},{"$f":"LEN(W712)","v":3},{"$f":"IF(X712=2,CONCATENATE(W712,\".\",\"0\"),W712)","v":"13."},0,null,{"$f":"IF(Z712>9,MID(U712,1,4),MID(U712,1,3))","v":"13."}]
[null,null,null,null,null,null,null,null,null,null,null,null,null,null,null,null,null,null,null,"345.0","30.9",4,"30.",3,"30.",0,null,"30."]
[null,null,null,null,null,null,null,null,null,null,null,null,null,null,null,null,null,null,null,"346.0","30.9",4,"30.",3,"30.",0,null,"30."]
[null,null,null,null,null,null,null,null,null,null,null,null,null,null,null,null,null,null,null,"347.0","30.9",4,"30.",3,"30.",0,null,"30."]
[null,null,null,null,null,null,null,null,null,null,null,null,null,null,null,null,null,null,null,"348.0","30.9",4,"30.",3,"30.",0,null,"30."]
[null,null,null,null,null,null,null,null,null,null,null,null,null,null,null,null,null,null,null,"349.0","30.9",4,"30.",3,"30.",0,null,"30."]
[null,null,null,null,null,null,null,null,null,null,null,null,null,null,null,null,null,null,null,"350.0","10.2",4,"10.",3,"10.",0,null,"10."]
[null,null,null,null,null,null,null,null,null,null,null,null,null,null,null,null,null,null,null,"351.0","10.2",4,"10.",3,"10.",0,null,"10."]
[null,null,null,null,null,null,null,null,null,null,null,null,null,null,null,null,null,null,null,"352.0","10.2",4,"10.",3,"10.",0,null,"10."]
[null,null,null,null,null,null,null,null,null,null,null,null,null,null,null,null,null,null,null,"353.0","10.2",4,"10.",3,"10.",0,null,"10."]
[null,null,null,null,null,null,null,null,null,null,null,null,null,null,null,null,null,null,null,"354.0","10.2",4,"10.",3,"10.",0,null,"10."]
[null,null,null,null,null,null,null,null,null,null,null,null,null,null,null,null,null,null,null,"355.0","4.4",3,"4.4",3,"4.4",0,null,"4.4"]
[null,null,null,null,null,null,null,null,null,null,null,null,null,null,null,null,null,null,null,"356.0","4.4",3,"4.4",3,"4.4",0,null,"4.4"]
[null,null,null,null,null,null,null,null,null,null,null,null,null,null,null,null,null,null,null,"357.0","4.4",3,"4.4",3,"4.4",0,null,"4.4"]
[null,null,null,null,null,null,null,null,null,null,null,null,null,null,null,null,null,null,null,"358.0","4.4",3,"4.4",3,"4.4",0,null,"4.4"]
[null,null,null,null,null,null,null,null,null,null,null,null,null,null,null,null,null,null,null,"359.0","0.9",3,"0.9",3,"0.9",0,null,"0.9"]

{"sheet":"Patrones Punto a Punto","index":3,"n_rows":728,"n_cols":36,"rows_kept":728,"cut":false,"hidden":false,"merged":[[209,0,210,1],[192,0,193,1],[192,4,193,5],[201,0,201,2],[203,0,203,7],[204,0,204,3],[204,4,204,7],[182,0,182,8],[184,0,184,2],[186,0,186,7],[187,0,187,3],[187,4,187,7],[6,0,6,17],[7,0,7,17],[9,4,10,4],[9,5,10,5],[11,4,12,4],[11,5,12,5],[140,9,140,17],[141,0,177,8],[141,9,177,17],[181,0,181,8],[14,16,14,17],[14,1,14,2],[14,4,14,5],[14,7,14,8],[14,10,14,11],[14,13,14,14],[138,0,138,17],[139,0,139,17],[140,0,140,8]],"read":"row_number_cap"}
[null,null,null,null,null,null,null,null,null,null,null,null,null,null,null,null,null,null,null,"NAME",{"$f":"C11","v":0}]
[null,null,null,null,null,null,null,null,null,null,null,null,null,null,null,null,null,null,null,"FREQUENCY",{"$f":"F12","v":0}]
[null,null,null,null,null,null,null,null,null,null,null,null,null,null,null,null,null,null,null,"GAIN",{"$f":"F10","v":0},"dBd"]
[null,null,null,null,null,null,null,null,null,null,null,null,null,null,null,null,null,null,null,"TILT","ELECTRICAL",{"$f":"C13","v":0}]
[null,null,null,null,null,null,null,null,null,null,null,null,null,null,null,null,null,null,null,"HORIZONTAL",360]
["Versión 2.0"]
["PATRONES DE RADIACIÓN PARA EL ARREGLO DE  ANTENAS DE LA RED PUNTO A PUNTO",null,null,null,null,null,null,null,null,null,null,null,null,null,null,null,null,null,null,"0.0","0",{"$f":"LEN(U7)","v":1},{"$f":"IF(V7=1,CONCATENATE(AB7,\".\",\"0\"),AB7)","v":"0.0"},{"$f":"LEN(W7)","v":3},{"$f":"IF(X7=2,CONCATENATE(W7,\".\",\"0\"),W7)","v":"0.0"},{"$f":"C17","v":0},null,{"$f":"IF(Z7>9,MID(U7,1,4),MID(U7,1,3))","v":"0"}]
[null,null,null,null,null,null,null,null,null,null,null,null,null,null,null,null,null,null,null,"1.0","0",{"$f":"LEN(U8)","v":1},{"$f":"IF(V8=1,CONCATENATE(AB8,\".\",\"0\"),AB8)","v":"0.0"},{"$f":"LEN(W8)","v":3},{"$f":"IF(X8=2,CONCATENATE(W8,\".\",\"0\"),W8)","v":"0.0"},{"$f":"C18","v":0},null,{"$f":"IF(Z8>9,MID(U8,1,4),MID(U8,1,3))","v":"0"}]
[null,null,null,null,null,null,null,null,null,null,null,null,null,null,null,null,null,null,null,"2.0","0",1,"0.0",3,"0.0",0,null,"0"]
[null,"Marca Antena",{"$f":"IF('Patrones Cubrimiento'!S9=1,Modificacion!D290,\" \")","v":0},null,"Ganancia en dBd",{"$f":"IF('Patrones Cubrimiento'!S9=1,Modificacion!C223,\" \")","v":0},null,null,null,null,null,null,null,null,null,null,null,null,null,"3.0","0",1,"0.0",3,"0.0",0,null,"0"]
[null,"Modelo Antena",{"$f":"IF('Patrones Cubrimiento'!S9=1,Modificacion!D291,\" \")","v":0},null,null,null,null,null,null,null,null,null,null,null,null,null,null,null,null,"4.0","0",1,"0.0",3,"0.0",0,null,"0"]
[null,null,null,null,null,null,null,null,null,null,null,null,null,null,null,null,null,null,null,"5.0","0",1,"0.0",3,"0.0",0,null,"0"]
[null,null,null,null,null,null,null,null,null,null,null,null,null,null,null,null,null,null,null,"6.0","0",1,"0.0",3,"0.0",0,null,"0",null,"Angulo","Valor","cos",null,"Angulo","Valor","cos"]
[null,null,null,null,null,null,null,null,null,null,null,null,null,null,null,null,null,null,null,"7.0","0",1,"0.0",3,"0.0",0,null,"0",null,{"$f":"B17","v":0},{"$f":"C17","v":0},{"$f":"0.375+0.625*COS(RADIANS(AE14))","v":1},null,{"$f":"K17","v":0},{"$f":"L17","v":0},{"$f":"0.375+0.625*COS(RADIANS(AI14))","v":1}]
[null,"Patrón de Radiación Horizontal",null,null,"Patrón de Radiación Horizontal",null,null,"Patrón de Radiación Horizontal",null,null,"Patrón de Radiación Vertical",null,null,"Patrón de Radiación Vertical",null,null,"Patrón de Radiación Vertical",null,null,"8.0","0",1,"0.0",3,"0.0",0,null,"0",null,{"$f":"B18","v":1},0,{"$f":"0.375+0.625*COS(RADIANS(AE15))","v":1},null,{"$f":"K18","v":1},0,{"$f":"0.375+0.625*COS(RADIANS(AI15))","v":1}]
[null,"Angulo °","valor en dB",null,"Angulo °","valor en dB",null,"Angulo °","valor en dB",null,"Angulo °","valor en dB",null,"Angulo °","valor en dB",null,"Angulo °","valor en dB",null,"9.0","0",1,"0.0",3,"0.0",0,null,"0",null,2,0,1,null,2,0,1]
[null,0,null,null,121,null,null,242,null,null,0,null,null,121,null,null,242,null,null,"10.0","0",1,"0.0",3,"0.0",0,null,"0",null,3,0,1,null,3,0,1]
[null,1,null,null,122,null,null,243,null,null,1,null,null,122,null,null,243,null,null,"11.0","0",1,"0.0",3,"0.0",0,null,"0",null,4,0,1,null,4,0,1]
[null,2,null,null,123,null,null,244,null,null,2,null,null,123,null,null,244,null,null,"12.0","0",1,"0.0",3,"0.0",0,null,"0",null,5,0,1,null,5,0,1]
[null,3,null,null,124,null,null,245,null,null,3,null,null,124,null,null,245,null,null,"13.0","0",1,"0.0",3,"0.0",0,null,"0",null,6,0,1,null,6,0,1]
[null,4,null,null,125,null,null,246,null,null,4,null,null,125,null,null,246,null,null,"14.0","0",1,"0.0",3,"0.0",0,null,"0",null,7,0,1,null,7,0,1]
[null,5,null,null,126,null,null,247,null,null,5,null,null,126,null,null,247,null,null,"15.0","0.26",4,"0.2",3,"0.2",0,null,"0.2",null,8,0,1,null,8,0,1]
[null,6,null,null,127,null,null,248,null,null,6,null,null,127,null,null,248,null,null,"16.0","0.26",4,"0.2",3,"0.2",0,null,"0.2",null,9,0,1,null,9,0,1]
[null,7,null,null,128,null,null,249,null,null,7,null,null,128,null,null,249,null,null,"17.0","0.26",4,"0.2",3,"0.2",0,null,"0.2",null,10,0,1,null,10,0,1]
[null,8,null,null,129,null,null,250,null,null,8,null,null,129,null,null,250,null,null,"18.0","0.26",4,"0.2",3,"0.2",0,null,"0.2",null,11,0,1,null,11,0,1]
[null,9,null,null,130,null,null,251,null,null,9,null,null,130,null,null,251,null,null,"19.0","0.26",4,"0.2",3,"0.2",0,null,"0.2",null,12,0,1,null,12,0,1]
[null,10,null,null,131,null,null,252,null,null,10,null,null,131,null,null,252,null,null,"20.0","0.45",4,"0.4",3,"0.4",0,null,"0.4",null,13,0,1,null,13,0,1]
[null,11,null,null,132,null,null,253,null,null,11,null,null,132,null,null,253,null,null,"21.0","0.45",4,"0.4",3,"0.4",0,null,"0.4",null,14,0,1,null,14,0,1]
[null,12,null,null,133,null,null,254,null,null,12,null,null,133,null,null,254,null,null,"22.0","0.45",4,"0.4",3,"0.4",0,null,"0.4",null,15,0,1,null,15,0,1]
[null,13,null,null,134,null,null,255,null,null,13,null,null,134,null,null,255,null,null,"23.0","0.45",4,"0.4",3,"0.4",0,null,"0.4",null,16,0,1,null,16,0,1]
[null,14,null,null,135,null,null,256,null,null,14,null,null,135,null,null,256,null,null,"24.0","0.45",4,"0.4",3,"0.4",0,null,"0.4",null,{"$f":"B34","v":17},0,1,null,17,0,1]
[null,15,null,null,136,null,null,257,null,null,15,null,null,136,null,null,257,null,null,"25.0","0.63",4,"0.6",3,"0.6",0,null,"0.6",null,18,0,1,null,18,0,1]
[null,16,null,null,137,null,null,258,null,null,16,null,null,137,null,null,258,null,null,"26.0","0.63",4,"0.6",3,"0.6",0,null,"0.6",null,19,0,1,null,19,0,1]
[null,17,null,null,138,null,null,259,null,null,17,null,null,138,null,null,259,null,null,"27.0","0.63",4,"0.6",3,"0.6",0,null,"0.6",null,20,0,1,null,20,0,1]
[null,18,null,null,139,null,null,260,null,null,18,null,null,139,null,null,260,null,null,"28.0","0.63",4,"0.6",3,"0.6",0,null,"0.6",null,21,0,1,null,21,0,1]
[null,19,null,null,140,null,null,261,null,null,19,null,null,140,null,null,261,null,null,"29.0","0.63",4,"0.6",3,"0.6",0,null,"0.6",null,22,0,1,null,22,0,1]
[null,20,null,null,141,null,null,262,null,null,20,null,null,141,null,null,262,null,null,"30.0","1.21",4,"1.2",3,"1.2",0,null,"1.2",null,23,0,1,null,23,0,1]
[null,21,null,null,142,null,null,263,null,null,21,null,null,142,null,null,263,null,null,"31.0","1.21",4,"1.2",3,"1.2",0,null,"1.2",null,24,0,1,null,24,0,1]
[null,22,null,null,143,null,null,264,null,null,22,null,null,143,null,null,264,null,null,"32.0","1.21",4,"1.2",3,"1.2",0,null,"1.2",null,25,0,1,null,25,0,1]
[null,23,null,null,144,null,null,265,null,null,23,null,null,144,null,null,265,null,null,"33.0","1.21",4,"1.2",3,"1.2",0,null,"1.2",null,26,0,1,null,26,0,1]
[null,24,null,null,145,null,null,266,null,null,24,null,null,145,null,null,266,null,null,"34.0","1.21",4,"1.2",3,"1.2",0,null,"1.2",null,27,0,1,null,27,0,1]
[null,25,null,null,146,null,null,267,null,null,25,null,null,146,null,null,267,null,null,"35.0","1.62",4,"1.6",3,"1.6",0,null,"1.6",null,28,0,1,null,28,0,1]
[null,26,null,null,147,null,null,268,null,null,26,null,null,147,null,null,268,null,null,"36.0","1.62",4,"1.6",3,"1.6",0,null,"1.6",null,29,0,1,null,29,0,1]
[null,27,null,null,148,null,null,269,null,null,27,null,null,148,null,null,269,null,null,"37.0","1.62",4,"1.6",3,"1.6",0,null,"1.6",null,30,0,1,null,30,0,1]
[null,28,null,null,149,null,null,270,null,null,28,null,null,149,null,null,270,null,null,"38.0","1.62",4,"1.6",3,"1.6",0,null,"1.6",null,31,0,1,null,31,0,1]
[null,29,null,null,150,null,null,271,null,null,29,null,null,150,null,null,271,null,null,"39.0","1.62",4,"1.6",3,"1.6",0,null,"1.6",null,32,0,1,null,32,0,1]
[null,30,null,null,151,null,null,272,null,null,30,null,null,151,null,null,272,null,null,"40.0","2.5",3,"2.5",3,"2.5",0,null,"2.5",null,{"$f":"B50","v":33},0,1,null,33,0,1]
[null,31,null,null,152,null,null,273,null,null,31,null,null,152,null,null,273,null,null,"41.0","2.5",3,"2.5",3,"2.5",0,null,"2.5",null,34,0,1,null,34,0,1]
[null,32,null,null,153,null,null,274,null,null,32,null,null,153,null,null,274,null,null,"42.0","2.5",3,"2.5",3,"2.5",0,null,"2.5",null,35,0,1,null,35,0,1]
[null,33,null,null,154,null,null,275,null,null,33,null,null,154,null,null,275,null,null,"43.0","2.5",3,"2.5",3,"2.5",0,null,"2.5",null,36,0,1,null,36,0,1]
[null,34,null,null,155,null,null,276,null,null,34,null,null,155,null,null,276,null,null,"44.0","2.5",3,"2.5",3,"2.5",0,null,"2.5",null,37,0,1,null,37,0,1]
[null,35,null,null,156,null,null,277,null,null,35,null,null,156,null,null,277,null,null,"45.0","3.48",4,"3.4",3,"3.4",0,null,"3.4",null,38,0,1,null,38,0,1]
[null,36,null,null,157,null,null,278,null,null,36,null,null,157,null,null,278,null,null,"46.0","3.48",4,"3.4",3,"3.4",0,null,"3.4",null,39,0,1,null,39,0,1]
[null,37,null,null,158,null,null,279,null,null,37,null,null,158,null,null,279,null,null,"47.0","3.48",4,"3.4",3,"3.4",0,null,"3.4",null,40,0,1,null,40,0,1]
[null,38,null,null,159,null,null,280,null,null,38,null,null,159,null,null,280,null,null,"48.0","3.48",4,"3.4",3,"3.4",0,null,"3.4",null,41,0,1,null,41,0,1]
[null,39,null,null,160,null,null,281,null,null,39,null,null,160,null,null,281,null,null,"49.0","3.48",4,"3.4",3,"3.4",0,null,"3.4",null,42,0,1,null,42,0,1]
[null,40,null,null,161,null,null,282,null,null,40,null,null,161,null,null,282,null,null,"50.0","4.58",4,"4.5",3,"4.5",0,null,"4.5",null,43,0,1,null,43,0,1]
[null,41,null,null,162,null,null,283,null,null,41,null,null,162,null,null,283,null,null,"51.0","4.58",4,"4.5",3,"4.5",0,null,"4.5",null,44,0,1,null,44,0,1]
[null,42,null,null,163,null,null,284,null,null,42,null,null,163,null,null,284,null,null,"52.0","4.58",4,"4.5",3,"4.5",0,null,"4.5",null,45,0,1,null,45,0,1]
[null,43,null,null,164,null,null,285,null,null,43,null,null,164,null,null,285,null,null,"53.0","4.58",4,"4.5",3,"4.5",0,null,"4.5",null,46,0,1,null,46,0,1]
[null,44,null,null,165,null,null,286,null,null,44,null,null,165,null,null,286,null,null,"54.0","4.58",4,"4.5",3,"4.5",0,null,"4.5",null,47,0,1,null,47,0,1]
[null,45,null,null,166,null,null,287,null,null,45,null,null,166,null,null,287,null,null,"55.0","5.85",4,"5.8",3,"5.8",0,null,"5.8",null,48,0,1,null,48,0,1]
[null,46,null,null,167,null,null,288,null,null,46,null,null,167,null,null,288,null,null,"56.0","5.85",4,"5.8",3,"5.8",0,null,"5.8",null,{"$f":"B66","v":49},0,1,null,49,0,1]
[null,47,null,null,168,null,null,289,null,null,47,null,null,168,null,null,289,null,null,"57.0","5.85",4,"5.8",3,"5.8",0,null,"5.8",null,50,0,1,null,50,0,1]
[null,48,null,null,169,null,null,290,null,null,48,null,null,169,null,null,290,null,null,"58.0","5.85",4,"5.8",3,"5.8",0,null,"5.8",null,51,0,1,null,51,0,1]
[null,49,null,null,170,null,null,291,null,null,49,null,null,170,null,null,291,null,null,"59.0","5.85",4,"5.8",3,"5.8",0,null,"5.8",null,52,0,1,null,52,0,1]
[null,50,null,null,171,null,null,292,null,null,50,null,null,171,null,null,292,null,null,"60.0","7.96",4,"7.9",3,"7.9",0,null,"7.9",null,53,0,1,null,53,0,1]
[null,51,null,null,172,null,null,293,null,null,51,null,null,172,null,null,293,null,null,"61.0","7.96",4,"7.9",3,"7.9",0,null,"7.9",null,54,0,1,null,54,0,1]
[null,52,null,null,173,null,null,294,null,null,52,null,null,173,null,null,294,null,null,"62.0","7.96",4,"7.9",3,"7.9",0,null,"7.9",null,55,0,1,null,55,0,1]
[null,53,null,null,174,null,null,295,null,null,53,null,null,174,null,null,295,null,null,"63.0","7.96",4,"7.9",3,"7.9",0,null,"7.9",null,56,0,1,null,56,0,1]
[null,54,null,null,175,null,null,296,null,null,54,null,null,175,null,null,296,null,null,"64.0","7.96",4,"7.9",3,"7.9",0,null,"7.9",null,57,0,1,null,57,0,1]
[null,55,null,null,176,null,null,297,null,null,55,null,null,176,null,null,297,null,null,"65.0","8.4",{"$f":"LEN(U72)","v":3},{"$f":"IF(V72=1,CONCATENATE(AB72,\".\",\"0\"),AB72)","v":"8.4"},{"$f":"LEN(W72)","v":3},{"$f":"IF(X72=2,CONCATENATE(W72,\".\",\"0\"),W72)","v":"8.4"},{"$f":"C82","v":0},null,{"$f":"IF(Z72>9,MID(U72,1,4),MID(U72,1,3))","v":"8.4"},null,58,0,1,null,58,0,1]
[null,56,null,null,177,null,null,298,null,null,56,null,null,177,null,null,298,null,null,"66.0","8.4",3,"8.4",3,"8.4",0,null,"8.4",null,59,0,1,null,59,0,1]
[null,57,null,null,178,null,null,299,null,null,57,null,null,178,null,null,299,null,null,"67.0","8.4",3,"8.4",3,"8.4",0,null,"8.4",null,60,0,1,null,60,0,1]
[null,58,null,null,179,null,null,300,null,null,58,null,null,179,null,null,300,null,null,"68.0","8.4",3,"8.4",3,"8.4",0,null,"8.4",null,61,0,1,null,61,0,1]
[null,59,null,null,180,null,null,301,null,null,59,null,null,180,null,null,301,null,null,"69.0","8.4",3,"8.4",3,"8.4",0,null,"8.4",null,62,0,1,null,62,0,1]
[null,60,null,null,181,null,null,302,null,null,60,null,null,181,null,null,302,null,null,"70.0","10.46",5,"10.",3,"10.",0,null,"10.",null,63,0,1,null,63,0,1]
[null,61,null,null,182,null,null,303,null,null,61,null,null,182,null,null,303,null,null,"71.0","10.46",5,"10.",3,"10.",0,null,"10.",null,64,0,1,null,64,0,1]
[null,62,null,null,183,null,null,304,null,null,62,null,null,183,null,null,304,null,null,"72.0","10.46",5,"10.",3,"10.",0,null,"10.",null,{"$f":"B82","v":65},0,{"$f":"0.375+0.625*COS(RADIANS(AE79))","v":1},null,{"$f":"K82","v":65},0,{"$f":"0.375+0.625*COS(RADIANS(AI79))","v":1}]
[null,63,null,null,184,null,null,305,null,null,63,null,null,184,null,null,305,null,null,"73.0","10.46",5,"10.",3,"10.",0,null,"10.",null,66,0,1,null,66,0,1]
[null,64,null,null,185,null,null,306,null,null,64,null,null,185,null,null,306,null,null,"74.0","10.46",5,"10.",3,"10.",0,null,"10.",null,67,0,1,null,67,0,1]
[null,65,null,null,186,null,null,307,null,null,65,null,null,186,null,null,307,null,null,"75.0","11.7",4,"11.",3,"11.",0,null,"11.",null,68,0,1,null,68,0,1]
[null,66,null,null,187,null,null,308,null,null,66,null,null,187,null,null,308,null,null,"76.0","11.7",4,"11.",3,"11.",0,null,"11.",null,69,0,1,null,69,0,1]
[null,67,null,null,188,null,null,309,null,null,67,null,null,188,null,null,309,null,null,"77.0","11.7",4,"11.",3,"11.",0,null,"11.",null,70,0,1,null,70,0,1]
[null,68,null,null,189,null,null,310,null,null,68,null,null,189,null,null,310,null,null,"78.0","11.7",4,"11.",3,"11.",0,null,"11.",null,71,0,1,null,71,0,1]
[null,69,null,null,190,null,null,311,null,null,69,null,null,190,null,null,311,null,null,"79.0","11.7",4,"11.",3,"11.",0,null,"11.",null,72,0,1,null,72,0,1]
[null,70,null,null,191,null,null,312,null,null,70,null,null,191,null,null,312,null,null,"80.0","12.4",4,"12.",3,"12.",0,null,"12.",null,73,0,1,null,73,0,1]
[null,71,null,null,192,null,null,313,null,null,71,null,null,192,null,null,313,null,null,"81.0","12.4",4,"12.",3,"12.",0,null,"12.",null,74,0,1,null,74,0,1]
[null,72,null,null,193,null,null,314,null,null,72,null,null,193,null,null,314,null,null,"82.0","12.4",4,"12.",3,"12.",0,null,"12.",null,75,0,1,null,75,0,1]
[null,73,null,null,194,null,null,315,null,null,73,null,null,194,null,null,315,null,null,"83.0","12.4",4,"12.",3,"12.",0,null,"12.",null,76,0,1,null,76,0,1]
[null,74,null,null,195,null,null,316,null,null,74,null,null,195,null,null,316,null,null,"84.0","12.4",4,"12.",3,"12.",0,null,"12.",null,77,0,1,null,77,0,1]
[null,75,null,null,196,null,null,317,null,null,75,null,null,196,null,null,317,null,null,"85.0","12.4",4,"12.",3,"12.",0,null,"12.",null,78,0,1,null,78,0,1]
[null,76,null,null,197,null,null,318,null,null,76,null,null,197,null,null,318,null,null,"86.0","12.4",4,"12.",3,"12.",0,null,"12.",null,79,0,1,null,79,0,1]
[null,77,null,null,198,null,null,319,null,null,77,null,null,198,null,null,319,null,null,"87.0","12.4",4,"12.",3,"12.",0,null,"12.",null,80,0,1,null,80,0,1]
[null,78,null,null,199,null,null,320,null,null,78,null,null,199,null,null,320,null,null,"88.0","12.4",4,"12.",3,"12.",0,null,"12.",null,{"$f":"B98","v":81},0,1,null,81,0,1]
[null,79,null,null,200,null,null,321,null,null,79,null,null,200,null,null,321,null,null,"89.0","12.4",4,"12.",3,"12.",0,null,"12.",null,82,0,1,null,82,0,1]
[null,80,null,null,201,null,null,322,null,null,80,null,null,201,null,null,322,null,null,"90.0","13.15",5,"13.",3,"13.",0,null,"13.",null,83,0,1,null,83,0,1]
[null,81,null,null,202,null,null,323,null,null,81,null,null,202,null,null,323,null,null,"91.0","13.15",5,"13.",3,"13.",0,null,"13.",null,84,0,1,null,84,0,1]
[null,82,null,null,203,null,null,324,null,null,82,null,null,203,null,null,324,null,null,"92.0","13.15",5,"13.",3,"13.",0,null,"13.",null,85,0,1,null,85,0,1]
[null,83,null,null,204,null,null,325,null,null,83,null,null,204,null,null,325,null,null,"93.0","13.15",5,"13.",3,"13.",0,null,"13.",null,86,0,1,null,86,0,1]
[null,84,null,null,205,null,null,326,null,null,84,null,null,205,null,null,326,null,null,"94.0","13.15",5,"13.",3,"13.",0,null,"13.",null,87,0,1,null,87,0,1]
[null,85,null,null,206,null,null,327,null,null,85,null,null,206,null,null,327,null,null,"95.0","11.7",4,"11.",3,"11.",0,null,"11.",null,88,0,1,null,88,0,1]
[null,86,null,null,207,null,null,328,null,null,86,null,null,207,null,null,328,null,null,"96.0","11.7",4,"11.",3,"11.",0,null,"11.",null,89,0,1,null,89,0,1]
[null,87,null,null,208,null,null,329,null,null,87,null,null,208,null,null,329,null,null,"97.0","11.7",4,"11.",3,"11.",0,null,"11.",null,90,0,1,null,90,0,1]
[null,88,null,null,209,null,null,330,null,null,88,null,null,209,null,null,330,null,null,"98.0","11.7",4,"11.",3,"11.",0,null,"11.",null,91,0,1,null,91,0,1]
[null,89,null,null,210,null,null,331,null,null,89,null,null,210,null,null,331,null,null,"99.0","11.7",4,"11.",3,"11.",0,null,"11.",null,92,0,1,null,92,0,1]
[null,90,null,null,211,null,null,332,null,null,90,null,null,211,null,null,332,null,null,"100.0","10.46",5,"10.",3,"10.",0,null,"10.",null,93,0,1,null,93,0,1]
[null,91,null,null,212,null,null,333,null,null,91,null,null,212,null,null,333,null,null,"101.0","10.46",5,"10.",3,"10.",0,null,"10.",null,94,0,1,null,94,0,1]
[null,92,null,null,213,null,null,334,null,null,92,null,null,213,null,null,334,null,null,"102.0","10.46",5,"10.",3,"10.",0,null,"10.",null,95,0,1,null,95,0,1]
[null,93,null,null,214,null,null,335,null,null,93,null,null,214,null,null,335,null,null,"103.0","10.46",5,"10.",3,"10.",0,null,"10.",null,96,0,1,null,96,0,1]
[null,94,null,null,215,null,null,336,null,null,94,null,null,215,null,null,336,null,null,"104.0","10.46",5,"10.",3,"10.",0,null,"10.",null,{"$f":"B114","v":97},0,1,null,97,0,1]
[null,95,null,null,216,null,null,337,null,null,95,null,null,216,null,null,337,null,null,"105.0","9.9",3,"9.9",3,"9.9",0,null,"9.9",null,98,0,1,null,98,0,1]
[null,96,null,null,217,null,null,338,null,null,96,null,null,217,null,null,338,null,null,"106.0","9.9",3,"9.9",3,"9.9",0,null,"9.9",null,99,0,1,null,99,0,1]
[null,97,null,null,218,null,null,339,null,null,97,null,null,218,null,null,339,null,null,"107.0","9.9",3,"9.9",3,"9.9",0,null,"9.9",null,100,0,1,null,100,0,1]
[null,98,null,null,219,null,null,340,null,null,98,null,null,219,null,null,340,null,null,"108.0","9.9",3,"9.9",3,"9.9",0,null,"9.9",null,101,0,1,null,101,0,1]
[null,99,null,null,220,null,null,341,null,null,99,null,null,220,null,null,341,null,null,"109.0","9.9",3,"9.9",3,"9.9",0,null,"9.9",null,102,0,1,null,102,0,1]
[null,100,null,null,221,null,null,342,null,null,100,null,null,221,null,null,342,null,null,"110.0","7.96",4,"7.9",3,"7.9",0,null,"7.9",null,103,0,1,null,103,0,1]
[null,101,null,null,222,null,null,343,null,null,101,null,null,222,null,null,343,null,null,"111.0","7.96",4,"7.9",3,"7.9",0,null,"7.9",null,104,0,1,null,104,0,1]
[null,102,null,null,223,null,null,344,null,null,102,null,null,223,null,null,344,null,null,"112.0","7.96",4,"7.9",3,"7.9",0,null,"7.9",null,105,0,1,null,105,0,1]
[null,103,null,null,224,null,null,345,null,null,103,null,null,224,null,null,345,null,null,"113.0","7.96",4,"7.9",3,"7.9",0,null,"7.9",null,106,0,1,null,106,0,1]
[null,104,null,null,225,null,null,346,null,null,104,null,null,225,null,null,346,null,null,"114.0","7.96",4,"7.9",3,"7.9",0,null,"7.9",null,107,0,1,null,107,0,1]
[null,105,null,null,226,null,null,347,null,null,105,null,null,226,null,null,347,null,null,"115.0","6.74",4,"6.7",3,"6.7",0,null,"6.7",null,108,0,1,null,108,0,1]
[null,106,null,null,227,null,null,348,null,null,106,null,null,227,null,null,348,null,null,"116.0","6.74",4,"6.7",3,"6.7",0,null,"6.7",null,109,0,1,null,109,0,1]
[null,107,null,null,228,null,null,349,null,null,107,null,null,228,null,null,349,null,null,"117.0","6.74",4,"6.7",3,"6.7",0,null,"6.7",null,110,0,1,null,110,0,1]
[null,108,null,null,229,null,null,350,null,null,108,null,null,229,null,null,350,null,null,"118.0","6.74",4,"6.7",3,"6.7",0,null,"6.7",null,111,0,1,null,111,0,1]
[null,109,null,null,230,null,null,351,null,null,109,null,null,230,null,null,351,null,null,"119.0","6.74",4,"6.7",3,"6.7",0,null,"6.7",null,112,0,1,null,112,0,1]
[null,110,null,null,231,null,null,352,null,null,110,null,null,231,null,null,352,null,null,"120.0","5.85",4,"5.8",3,"5.8",0,null,"5.8",null,{"$f":"B130","v":113},0,1,null,113,0,1]
[null,111,null,null,232,null,null,353,null,null,111,null,null,232,null,null,353,null,null,"121.0","5.85",4,"5.8",3,"5.8",{"$f":"F17","v":0},null,"5.8",null,114,0,1,null,114,0,1]
[null,112,null,null,233,null,null,354,null,null,112,null,null,233,null,null,354,null,null,"122.0","5.85",4,"5.8",3,"5.8",{"$f":"F18","v":0},null,"5.8",null,{"$f":"B132","v":115},{"$f":"C132","v":0},1,null,115,0,1]
[null,113,null,null,234,null,null,355,null,null,113,null,null,234,null,null,355,null,null,"123.0","5.85",4,"5.8",3,"5.8",0,null,"5.8",null,{"$f":"B133","v":116},0,1,null,116,0,1]
[null,114,null,null,235,null,null,356,null,null,114,null,null,235,null,null,356,null,null,"124.0","5.85",4,"5.8",3,"5.8",0,null,"5.8",null,117,0,1,null,117,0,1]
[null,115,null,null,236,null,null,357,null,null,115,null,null,236,null,null,357,null,null,"125.0","5.19",4,"5.1",3,"5.1",0,null,"5.1",null,118,0,1,null,118,0,1]
[null,116,null,null,237,null,null,358,null,null,116,null,null,237,null,null,358,null,null,"126.0","5.19",4,"5.1",3,"5.1",0,null,"5.1",null,119,0,1,null,119,0,1]
[null,117,null,null,238,null,null,359,null,null,117,null,null,238,null,null,359,null,null,"127.0","5.19",4,"5.1",3,"5.1",0,null,"5.1",null,{"$f":"B137","v":120},{"$f":"C137","v":0},1,null,120,0,1]
[null,118,null,null,239,null,null,null,null,null,118,null,null,239,null,null,null,null,null,"128.0","5.19",4,"5.1",3,"5.1",0,null,"5.1",null,{"$f":"E17","v":121},{"$f":"F17","v":0},1,null,121,{"$f":"O17","v":0},1]
[null,119,null,null,240,null,null,null,null,null,119,null,null,240,null,null,null,null,null,"129.0","5.19",{"$f":"LEN(U136)","v":4},{"$f":"IF(V136=1,CONCATENATE(AB136,\".\",\"0\"),AB136)","v":"5.1"},{"$f":"LEN(W136)","v":3},{"$f":"IF(X136=2,CONCATENATE(W136,\".\",\"0\"),W136)","v":"5.1"},0,null,{"$f":"IF(Z136>9,MID(U136,1,4),MID(U136,1,3))","v":"5.1"},null,{"$f":"E18","v":122},0,1,null,122,{"$f":"O18","v":0},1]
[null,120,null,null,241,null,null,null,null,null,120,null,null,241,null,null,null,null,null,"130.0","5.19",4,"5.1",3,"5.1",0,null,"5.1",null,123,0,1,null,123,0,1]
[null,null,null,null,null,null,null,null,null,null,null,null,null,null,null,null,null,null,null,"131.0","5.19",4,"5.1",3,"5.1",0,null,"5.1",null,124,0,1,null,124,0,1]
["DIAGRAMAS DE RADIACIÓN DEL ARREGLO DE ANTENAS",null,null,null,null,null,null,null,null,null,null,null,null,null,null,null,null,null,null,"132.0","5.19",4,"5.1",3,"5.1",0,null,"5.1",null,125,0,1,null,125,0,1]
["PEGAR LAS IMÁGENES DE LOS PATRONES DE RADIACIÓN",null,null,null,null,null,null,null,null,null,null,null,null,null,null,null,null,null,null,"133.0","5.19",{"$f":"LEN(U140)","v":4},{"$f":"IF(V140=1,CONCATENATE(AB140,\".\",\"0\"),AB140)","v":"5.1"},{"$f":"LEN(W140)","v":3},{"$f":"IF(X140=2,CONCATENATE(W140,\".\",\"0\"),W140)","v":"5.1"},{"$f":"C150","v":0},null,{"$f":"IF(Z140>9,MID(U140,1,4),MID(U140,1,3))","v":"5.1"},null,126,0,1,null,126,0,1]
["DIAGRAMA DE RADIACIÓN HORIZONTAL",null,null,null,null,null,null,null,null,"DIAGRAMA DE RADIACIÓN VERTICAL",null,null,null,null,null,null,null,null,null,"134.0","5.19",4,"5.1",3,"5.1",0,null,"5.1",null,127,0,1,null,127,0,1]
[null,null,null,null,null,null,null,null,null,null,null,null,null,null,null,null,null,null,null,"135.0","4.88",4,"4.8",3,"4.8",0,null,"4.8",null,128,0,1,null,128,0,1]
[null,null,null,null,null,null,null,null,null,null,null,null,null,null,null,null,null,null,null,"136.0","4.88",4,"4.8",3,"4.8",0,null,"4.8",null,129,0,{"$f":"0.375+0.625*COS(RADIANS(AE143))","v":1},null,129,0,{"$f":"0.375+0.625*COS(RADIANS(AI143))","v":1}]
[null,null,null,null,null,null,null,null,null,null,null,null,null,null,null,null,null,null,null,"137.0","4.88",4,"4.8",3,"4.8",0,null,"4.8",null,130,0,1,null,130,0,1]
[null,null,null,null,null,null,null,null,null,null,null,null,null,null,null,null,null,null,null,"138.0","4.88",4,"4.8",3,"4.8",0,null,"4.8",null,131,0,1,null,131,0,1]
[null,null,null,null,null,null,null,null,null,null,null,null,null,null,null,null,null,null,null,"139.0","4.88",4,"4.8",3,"4.8",0,null,"4.8",null,132,0,1,null,132,0,1]
[null,null,null,null,null,null,null,null,null,null,null,null,null,null,null,null,null,null,null,"140.0","4.88",4,"4.8",3,"4.8",0,null,"4.8",null,133,0,1,null,133,0,1]
[null,null,null,null,null,null,null,null,null,null,null,null,null,null,null,null,null,null,null,"141.0","4.88",4,"4.8",3,"4.8",0,null,"4.8",null,134,0,1,null,134,0,1]
[null,null,null,null,null,null,null,null,null,null,null,null,null,null,null,null,null,null,null,"142.0","4.88",4,"4.8",3,"4.8",0,null,"4.8",null,135,0,1,null,135,0,1]
[null,null,null,null,null,null,null,null,null,null,null,null,null,null,null,null,null,null,null,"143.0","4.88",4,"4.8",3,"4.8",0,null,"4.8",null,136,0,1,null,136,0,1]
[null,null,null,null,null,null,null,null,null,null,null,null,null,null,null,null,null,null,null,"144.0","4.88",4,"4.8",3,"4.8",0,null,"4.8",null,137,0,1,null,137,0,1]
[null,null,null,null,null,null,null,null,null,null,null,null,null,null,null,null,null,null,null,"145.0","4.88",4,"4.8",3,"4.8",0,null,"4.8",null,{"$f":"E34","v":138},0,1,null,138,0,1]
[null,null,null,null,null,null,null,null,null,null,null,null,null,null,null,null,null,null,null,"146.0","4.88",4,"4.8",3,"4.8",0,null,"4.8",null,139,0,1,null,139,0,1]
[null,null,null,null,null,null,null,null,null,null,null,null,null,null,null,null,null,null,null,"147.0","4.88",4,"4.8",3,"4.8",0,null,"4.8",null,140,0,1,null,140,0,1]
[null,null,null,null,null,null,null,null,null,null,null,null,null,null,null,null,null,null,null,"148.0","4.88",4,"4.8",3,"4.8",0,null,"4.8",null,141,0,1,null,141,0,1]
[null,null,null,null,null,null,null,null,null,null,null,null,null,null,null,null,null,null,null,"149.0","4.88",4,"4.8",3,"4.8",0,null,"4.8",null,142,0,1,null,142,0,1]
[null,null,null,null,null,null,null,null,null,null,null,null,null,null,null,null,null,null,null,"150.0","4.88",4,"4.8",3,"4.8",0,null,"4.8",null,143,0,1,null,143,0,1]
[null,null,null,null,null,null,null,null,null,null,null,null,null,null,null,null,null,null,null,"151.0","4.88",4,"4.8",3,"4.8",0,null,"4.8",null,144,0,1,null,144,0,1]
[null,null,null,null,null,null,null,null,null,null,null,null,null,null,null,null,null,null,null,"152.0","4.88",4,"4.8",3,"4.8",0,null,"4.8",null,145,0,1,null,145,0,1]
[null,null,null,null,null,null,null,null,null,null,null,null,null,null,null,null,null,null,null,"153.0","4.88",4,"4.8",3,"4.8",0,null,"4.8",null,146,0,1,null,146,0,1]
[null,null,null,null,null,null,null,null,null,null,null,null,null,null,null,null,null,null,null,"154.0","4.88",4,"4.8",3,"4.8",0,null,"4.8",null,147,0,1,null,147,0,1]
[null,null,null,null,null,null,null,null,null,null,null,null,null,null,null,null,null,null,null,"155.0","4.88",4,"4.8",3,"4.8",0,null,"4.8",null,148,0,1,null,148,0,1]
[null,null,null,null,null,null,null,null,null,null,null,null,null,null,null,null,null,null,null,"156.0","4.88",4,"4.8",3,"4.8",0,null,"4.8",null,149,0,1,null,149,0,1]
[null,null,null,null,null,null,null,null,null,null,null,null,null,null,null,null,null,null,null,"157.0","4.88",4,"4.8",3,"4.8",0,null,"4.8",null,150,0,1,null,150,0,1]
[null,null,null,null,null,null,null,null,null,null,null,null,null,null,null,null,null,null,null,"158.0","4.88",4,"4.8",3,"4.8",0,null,"4.8",null,151,0,1,null,151,0,1]
[null,null,null,null,null,null,null,null,null,null,null,null,null,null,null,null,null,null,null,"159.0","4.88",4,"4.8",3,"4.8",0,null,"4.8",null,152,0,1,null,152,0,1]
[null,null,null,null,null,null,null,null,null,null,null,null,null,null,null,null,null,null,null,"160.0","4.88",4,"4.8",3,"4.8",0,null,"4.8",null,153,0,1,null,153,0,1]
[null,null,null,null,null,null,null,null,null,null,null,null,null,null,null,null,null,null,null,"161.0","4.88",4,"4.8",3,"4.8",0,null,"4.8",null,{"$f":"E50","v":154},0,1,null,154,0,1]
[null,null,null,null,null,null,null,null,null,null,null,null,null,null,null,null,null,null,null,"162.0","4.88",4,"4.8",3,"4.8",0,null,"4.8",null,155,0,1,null,155,0,1]
[null,null,null,null,null,null,null,null,null,null,null,null,null,null,null,null,null,null,null,"163.0","4.88",4,"4.8",3,"4.8",0,null,"4.8",null,156,0,1,null,156,0,1]
[null,null,null,null,null,null,null,null,null,null,null,null,null,null,null,null,null,null,null,"164.0","4.88",4,"4.8",3,"4.8",0,null,"4.8",null,157,0,1,null,157,0,1]
[null,null,null,null,null,null,null,null,null,null,null,null,null,null,null,null,null,null,null,"165.0","4.88",4,"4.8",3,"4.8",0,null,"4.8",null,158,0,1,null,158,0,1]
[null,null,null,null,null,null,null,null,null,null,null,null,null,null,null,null,null,null,null,"166.0","4.88",4,"4.8",3,"4.8",0,null,"4.8",null,159,0,1,null,159,0,1]
[null,null,null,null,null,null,null,null,null,null,null,null,null,null,null,null,null,null,null,"167.0","4.88",4,"4.8",3,"4.8",0,null,"4.8",null,160,0,1,null,160,0,1]
[null,null,null,null,null,null,null,null,null,null,null,null,null,null,null,null,null,null,null,"168.0","4.88",4,"4.8",3,"4.8",0,null,"4.8",null,161,0,1,null,161,0,1]
[null,null,null,null,null,null,null,null,null,null,null,null,null,null,null,null,null,null,null,"169.0","4.88",4,"4.8",3,"4.8",0,null,"4.8",null,162,0,1,null,162,0,1]
[null,null,null,null,null,null,null,null,null,null,null,null,null,null,null,null,null,null,null,"170.0","4.88",4,"4.8",3,"4.8",0,null,"4.8",null,163,0,1,null,163,0,1]
[null,null,null,null,null,null,null,null,null,null,null,null,null,null,null,null,null,null,null,"171.0","4.88",4,"4.8",3,"4.8",0,null,"4.8",null,164,0,1,null,164,0,1]
[null,null,null,null,null,null,null,null,null,null,null,null,null,null,null,null,null,null,null,"172.0","4.88",4,"4.8",3,"4.8",0,null,"4.8",null,165,0,1,null,165,0,1]
[null,null,null,null,null,null,null,null,null,null,null,null,null,null,null,null,null,null,null,"173.0","4.88",4,"4.8",3,"4.8",0,null,"4.8",null,166,0,1,null,166,0,1]
[null,null,null,null,null,null,null,null,null,null,null,null,null,null,null,null,null,null,null,"174.0","4.88",4,"4.8",3,"4.8",0,null,"4.8",null,167,0,1,null,167,0,1]
["11.0 RED DE ENLACE ENTRE EL ESTUDIO Y EL SISTEMA DE TRANSMISIÓN (RED PUNTO A PUNTO)",null,null,null,null,null,null,null,null,null,null,null,null,null,null,null,null,null,null,"175.0","4.73",4,"4.7",3,"4.7",0,null,"4.7",null,168,0,1,null,168,0,1]
["Se debe diligenciar las características técnicas de la red de enlace\nSe deberá adjuntar los catálogos de los equipos utilizados en la red"]
[null,null,null,null,null,null,null,null,null,null,null,null,null,null,null,null,null,null,null,"176.0","4.73",4,"4.7",3,"4.7",{"$f":"F72","v":0},null,"4.7",null,{"$f":"E65","v":169},{"$f":"F65","v":0},1,null,169,{"$f":"O65","v":0},1]
["TORRE QUE SOPORTA LA ANTENA DE TRANSMISIÓN",null,null,null,null,null,null,null,null,null,null,null,null,null,null,null,null,null,null,"177.0","4.73",4,"4.7",3,"4.7",0,null,"4.7",null,170,0,1,null,170,0,1]
[null,null,null,null,null,null,null,null,null,null,null,null,null,null,null,null,null,null,null,"178.0","4.73",4,"4.7",3,"4.7",0,null,"4.7",null,171,0,1,null,171,0,1]
["Coordenadas WGS - 84",null,null,null,null,null,null,null,null,null,null,null,null,null,null,null,null,null,null,"179.0","4.73",4,"4.7",3,"4.7",0,null,"4.7",null,172,0,1,null,172,0,1]
["LATITUD",null,null,null,"LONGITUD",null,null,null,null,null,null,null,null,null,null,null,null,null,null,"180.0","4.73",4,"4.7",3,"4.7",0,null,"4.7",null,173,0,1,null,173,0,1]
["Grados °","Minutos '","Segundos \"","N/S","Grados °","Minutos '","Segundos \"","W",null,null,null,null,null,null,null,null,null,null,null,"181.0","4.73",4,"4.7",3,"4.7",0,null,"4.7",null,174,0,1,null,174,0,1]
[null,null,null,null,null,null,null,"W",null,null,null,null,null,null,null,null,null,null,null,"182.0","4.73",4,"4.7",3,"4.7",0,null,"4.7",null,175,0,1,null,175,0,1]
[null,null,null,null,null,null,null,null,null,null,null,null,null,null,null,null,null,null,null,"183.0","4.73",4,"4.7",3,"4.7",0,null,"4.7",null,176,0,1,null,176,0,1]
[null,null,null,null,null,null,null,null,null,null,null,null,null,null,null,null,null,null,null,"184.0","4.73",4,"4.7",3,"4.7",{"$f":"F80","v":0},null,"4.7",null,{"$f":"E73","v":177},{"$f":"F73","v":0},1,null,177,{"$f":"O73","v":0},1]
["Coordenadas geográficas (Datum WGS84)\nGG.MMSSSS N/S (Norte + /Sur -)\n-GG.MMSSSS W (Oeste -)",null,null,null,null,null,null,null,null,null,null,null,null,null,null,null,null,null,null,"185.0","4.73",4,"4.7",3,"4.7",0,null,"4.7",null,178,0,1,null,178,0,1]
[null,null,null,null,null,null,null,null,null,null,null,{"$f":"INICIO!J13","v":1},null,null,null,null,null,null,null,"186.0","4.73",4,"4.7",3,"4.7",0,null,"4.7",null,179,0,1,null,179,0,1]
["Latitud","Longitud",null,null,null,null,null,null,null,null,null,{"$f":"INICIO!J14","v":0},null,null,null,null,null,null,null,"187.0","4.73",4,"4.7",3,"4.7",0,null,"4.7",null,180,0,1,null,180,0,1]
[{"$f":"CONCATENATE(J195,J194)","v":""},{"$f":"CONCATENATE(K195,K194)","v":""},null,null,null,null,null,null,null,null,null,{"$f":"INICIO!J15","v":0},null,null,null,null,null,null,null,"188.0","4.73",4,"4.7",3,"4.7",0,null,"4.7",null,181,0,1,null,181,0,1]
[null,null,null,null,null,null,null,null,null,null,null,{"$f":"INICIO!J16","v":0},null,null,null,null,null,null,null,"189.0","4.73",4,"4.7",3,"4.7",0,null,"4.7",null,182,0,1,null,182,0,1]
["Altura de la torre (metros)","Altura de la antena en la torre (metros)",null,null,null,null,null,null,null,null,null,null,null,null,null,null,null,null,null,"190.0","4.88",4,"4.8",3,"4.8",0,null,"4.8",null,183,0,1,null,183,0,1]
[null,null,null,null,null,null,null,null,null,null,null,null,null,null,null,null,null,null,null,"191.0","4.88",4,"4.8",3,"4.8",0,null,"4.8",null,184,0,1,null,184,0,1]
[null,null,null,null,null,null,null,null,null,null,null,null,null,null,null,null,null,null,null,"192.0","4.88",4,"4.8",3,"4.8",0,null,"4.8",null,185,0,1,null,185,0,1]
[null,null,null,null,null,null,null,null,null,null,null,null,null,null,null,null,null,null,null,"193.0","4.88",{"$f":"LEN(U201)","v":4},{"$f":"IF(V201=1,CONCATENATE(AB201,\".\",\"0\"),AB201)","v":"4.8"},{"$f":"LEN(W201)","v":3},{"$f":"IF(X201=2,CONCATENATE(W201,\".\",\"0\"),W201)","v":"4.8"},0,null,{"$f":"IF(Z201>9,MID(U201,1,4),MID(U201,1,3))","v":"4.8"},null,186,0,1,null,186,0,1]
["TORRE QUE SOPORTA LA ANTENA DE RECEPCIÓN",null,null,null,null,null,null,null,null,null,null,null,null,null,null,null,null,null,null,"194.0","4.88",4,"4.8",3,"4.8",0,null,"4.8",null,187,0,1,null,187,0,1]
[null,null,null,null,null,null,null,null,null,null,null,null,null,null,null,null,null,null,null,"195.0","4.88",4,"4.8",3,"4.8",0,null,"4.8",null,188,0,1,null,188,0,1]
["Coordenadas WGS - 84",null,null,null,null,null,null,null,null,null,null,null,null,null,null,null,null,null,null,"196.0","4.88",4,"4.8",3,"4.8",0,null,"4.8",null,189,0,1,null,189,0,1]
["LATITUD",null,null,null,"LONGITUD",null,null,null,null,null,null,null,null,null,null,null,null,null,null,"197.0","4.88",4,"4.8",3,"4.8",0,null,"4.8",null,190,0,1,null,190,0,1]
["Grados °","Minutos '","Segundos \"","N/S","Grados °","Minutos '","Segundos \"","W",null,null,null,null,null,null,null,null,null,null,null,"198.0","4.88",4,"4.8",3,"4.8",0,null,"4.8",null,191,0,1,null,191,0,1]
[null,null,null,null,null,null,null,"W",null,null,null,null,null,null,null,null,null,null,null,"199.0","4.88",4,"4.8",3,"4.8",0,null,"4.8",null,192,0,1,null,192,0,1]
[null,null,null,null,null,null,null,null,null,null,null,null,null,null,null,null,null,null,null,"200.0","4.88",4,"4.8",3,"4.8",0,null,"4.8",null,193,0,{"$f":"0.375+0.625*COS(RADIANS(AE208))","v":1},null,193,0,{"$f":"0.375+0.625*COS(RADIANS(AI208))","v":1}]
[null,null,null,null,null,null,null,null,null,null,null,null,null,null,null,null,null,null,null,"201.0","4.88",4,"4.8",3,"4.8",0,null,"4.8",null,194,0,1,null,194,0,1]
["Coordenadas geográficas (Datum WGS84)\nGG.MMSSSS N/S (Norte + /Sur -)\n-GG.MMSSSS W (Oeste -)",null,null,null,null,null,null,null,null,null,null,null,null,null,null,null,null,null,null,"202.0","4.88",4,"4.8",3,"4.8",0,null,"4.8",null,195,0,1,null,195,0,1]
[null,null,null,null,null,null,null,null,null,null,null,null,null,null,null,null,null,null,null,"203.0","4.88",4,"4.8",3,"4.8",0,null,"4.8",null,196,0,1,null,196,0,1]
["Latitud","Longitud",null,null,null,null,null,null,null,null,null,null,null,null,null,null,null,null,null,"204.0","4.88",4,"4.8",3,"4.8",0,null,"4.8",null,197,0,1,null,197,0,1]
[{"$f":"CONCATENATE(J212,J211)","v":""},{"$f":"CONCATENATE(K212,K211)","v":""},null,null,null,null,null,null,null,null,null,null,null,null,null,null,null,null,null,"205.0","4.58",4,"4.5",3,"4.5",0,null,"4.5",null,198,0,1,null,198,0,1]
[null,null,null,null,null,null,null,null,null,null,null,null,null,null,null,null,null,null,null,"206.0","4.58",4,"4.5",3,"4.5",0,null,"4.5",null,199,0,1,null,199,0,1]
["Altura de la torre (metros)","Altura de la antena en la torre (metros)",null,null,null,null,null,null,null,null,null,null,null,null,null,null,null,null,null,"207.0","4.58",4,"4.5",3,"4.5",0,null,"4.5",null,200,0,1,null,200,0,1]
[null,null,null,null,null,null,null,null,null,null,null,null,null,null,null,null,null,null,null,"208.0","4.58",4,"4.5",3,"4.5",0,null,"4.5",null,201,0,1,null,201,0,1]
[null,null,null,null,null,null,null,null,null,null,null,null,null,null,null,null,null,null,null,"209.0","4.58",4,"4.5",3,"4.5",0,null,"4.5",null,202,0,1,null,202,0,1]
[null,null,null,null,null,null,null,null,null,null,null,null,null,null,null,null,null,null,null,"210.0","4.58",4,"4.5",3,"4.5",0,null,"4.5",null,203,0,1,null,203,0,1]
[null,null,null,null,null,null,null,null,null,null,null,null,null,null,null,null,null,null,null,"211.0","4.58",4,"4.5",3,"4.5",0,null,"4.5",null,204,0,1,null,204,0,1]
[null,null,null,null,null,null,null,null,null,null,null,null,null,null,null,null,null,null,null,"212.0","4.58",4,"4.5",3,"4.5",0,null,"4.5",null,205,0,1,null,205,0,1]
[null,null,null,null,null,null,null,null,null,null,null,null,null,null,null,null,null,null,null,"213.0","4.58",4,"4.5",3,"4.5",0,null,"4.5",null,206,0,1,null,206,0,1]
[null,null,null,null,null,null,null,null,null,null,null,null,null,null,null,null,null,null,null,"214.0","4.58",4,"4.5",3,"4.5",0,null,"4.5",null,207,0,1,null,207,0,1]
[null,null,null,null,null,null,null,null,null,null,null,null,null,null,null,null,null,null,null,"215.0","4.58",4,"4.5",3,"4.5",0,null,"4.5",null,208,0,1,null,208,0,1]
[null,null,null,null,null,null,null,null,null,null,null,null,null,null,null,null,null,null,null,"216.0","4.58",4,"4.5",3,"4.5",{"$f":"F112","v":0},null,"4.5",null,{"$f":"E105","v":209},{"$f":"F105","v":0},1,null,209,{"$f":"O105","v":0},1]
[null,null,null,null,null,null,null,null,null,null,null,null,null,null,null,null,null,null,null,"217.0","4.58",4,"4.5",3,"4.5",0,null,"4.5",null,210,0,1,null,210,0,1]
[null,null,null,null,null,null,null,null,null,null,null,null,null,null,null,null,null,null,null,"218.0","4.58",4,"4.5",3,"4.5",0,null,"4.5",null,211,0,1,null,211,0,1]
[null,null,null,null,null,null,null,null,null,null,null,null,null,null,null,null,null,null,null,"219.0","4.58",4,"4.5",3,"4.5",0,null,"4.5",null,212,0,1,null,212,0,1]
[null,null,null,null,null,null,null,null,null,null,null,null,null,null,null,null,null,null,null,"220.0","4.88",4,"4.8",3,"4.8",0,null,"4.8",null,213,0,1,null,213,0,1]
[null,null,null,null,null,null,null,null,null,null,null,null,null,null,null,null,null,null,null,"221.0","4.88",4,"4.8",3,"4.8",0,null,"4.8",null,214,0,1,null,214,0,1]
[null,null,null,null,null,null,null,null,null,null,null,null,null,null,null,null,null,null,null,"222.0","4.88",4,"4.8",3,"4.8",0,null,"4.8",null,215,0,1,null,215,0,1]
[null,null,null,null,null,null,null,null,null,null,null,null,null,null,null,null,null,null,null,"223.0","4.88",4,"4.8",3,"4.8",0,null,"4.8",null,216,0,1,null,216,0,1]
[null,null,null,null,null,null,null,null,null,null,null,null,null,null,null,null,null,null,null,"224.0","4.88",4,"4.8",3,"4.8",0,null,"4.8",null,217,0,1,null,217,0,1]
[null,null,null,null,null,null,null,null,null,null,null,null,null,null,null,null,null,null,null,"225.0","4.88",4,"4.8",3,"4.8",0,null,"4.8",null,218,0,1,null,218,0,1]
[null,null,null,null,null,null,null,null,null,null,null,null,null,null,null,null,null,null,null,"226.0","4.88",4,"4.8",3,"4.8",0,null,"4.8",null,219,0,1,null,219,0,1]
[null,null,null,null,null,null,null,null,null,null,null,null,null,null,null,null,null,null,null,"227.0","4.88",4,"4.8",3,"4.8",0,null,"4.8",null,220,0,1,null,220,0,1]
[null,null,null,null,null,null,null,null,null,null,null,null,null,null,null,null,null,null,null,"228.0","4.88",4,"4.8",3,"4.8",0,null,"4.8",null,221,0,1,null,221,0,1]
[null,null,null,null,null,null,null,null,null,null,null,null,null,null,null,null,null,null,null,"229.0","4.88",4,"4.8",3,"4.8",0,null,"4.8",null,222,0,1,null,222,0,1]
[null,null,null,null,null,null,null,null,null,null,null,null,null,null,null,null,null,null,null,"230.0","5.19",4,"5.1",3,"5.1",0,null,"5.1",null,223,0,1,null,223,0,1]
[null,null,null,null,null,null,null,null,null,null,null,null,null,null,null,null,null,null,null,"231.0","5.19",4,"5.1",3,"5.1",0,null,"5.1",null,224,0,1,null,224,0,1]
[null,null,null,null,null,null,null,null,null,null,null,null,null,null,null,null,null,null,null,"232.0","5.19",4,"5.1",3,"5.1",0,null,"5.1",null,225,0,1,null,225,0,1]
[null,null,null,null,null,null,null,null,null,null,null,null,null,null,null,null,null,null,null,"233.0","5.19",4,"5.1",3,"5.1",0,null,"5.1",null,226,0,1,null,226,0,1]
[null,null,null,null,null,null,null,null,null,null,null,null,null,null,null,null,null,null,null,"234.0","5.19",4,"5.1",3,"5.1",0,null,"5.1",null,227,0,1,null,227,0,1]
[null,null,null,null,null,null,null,null,null,null,null,null,null,null,null,null,null,null,null,"235.0","5.19",4,"5.1",3,"5.1",0,null,"5.1",null,228,0,1,null,228,0,1]
[null,null,null,null,null,null,null,null,null,null,null,null,null,null,null,null,null,null,null,"236.0","5.19",4,"5.1",3,"5.1",0,null,"5.1",null,229,0,1,null,229,0,1]
[null,null,null,null,null,null,null,null,null,null,null,null,null,null,null,null,null,null,null,"237.0","5.19",4,"5.1",3,"5.1",0,null,"5.1",null,230,0,1,null,230,0,1]
[null,null,null,null,null,null,null,null,null,null,null,null,null,null,null,null,null,null,null,"238.0","5.19",4,"5.1",3,"5.1",0,null,"5.1",null,231,0,1,null,231,0,1]
[null,null,null,null,null,null,null,null,null,null,null,null,null,null,null,null,null,null,null,"239.0","5.19",4,"5.1",3,"5.1",0,null,"5.1",null,232,0,1,null,232,0,1]
[null,null,null,null,null,null,null,null,null,null,null,null,null,null,null,null,null,null,null,"240.0","5.85",4,"5.8",3,"5.8",0,null,"5.8",null,233,0,1,null,233,0,1]
[null,null,null,null,null,null,null,null,null,null,null,null,null,null,null,null,null,null,null,"241.0","5.85",4,"5.8",3,"5.8",0,null,"5.8",null,234,0,1,null,234,0,1]
[null,null,null,null,null,null,null,null,null,null,null,null,null,null,null,null,null,null,null,"242.0","5.85",4,"5.8",3,"5.8",{"$f":"I17","v":0},null,"5.8",null,235,0,1,null,235,0,1]
[null,null,null,null,null,null,null,null,null,null,null,null,null,null,null,null,null,null,null,"243.0","5.85",4,"5.8",3,"5.8",0,null,"5.8",null,236,0,1,null,236,0,1]
[null,null,null,null,null,null,null,null,null,null,null,null,null,null,null,null,null,null,null,"244.0","5.85",4,"5.8",3,"5.8",0,null,"5.8",null,237,0,1,null,237,0,1]
[null,null,null,null,null,null,null,null,null,null,null,null,null,null,null,null,null,null,null,"245.0","6.74",4,"6.7",3,"6.7",0,null,"6.7",null,238,0,1,null,238,0,1]
[null,null,null,null,null,null,null,null,null,null,null,null,null,null,null,null,null,null,null,"246.0","6.74",4,"6.7",3,"6.7",0,null,"6.7",null,239,0,1,null,239,0,1]
[null,null,null,null,null,null,null,null,null,null,null,null,null,null,null,null,null,null,null,"247.0","6.74",4,"6.7",3,"6.7",0,null,"6.7",null,240,0,1,null,240,0,1]
[null,null,null,null,null,null,null,null,null,null,null,null,null,null,null,null,null,null,null,"248.0","6.74",4,"6.7",3,"6.7",0,null,"6.7",null,{"$f":"E137","v":241},{"$f":"F137","v":0},1,null,241,{"$f":"O137","v":0},1]
[null,null,null,null,null,null,null,null,null,null,null,null,null,null,null,null,null,null,null,"249.0","6.74",4,"6.7",3,"6.7",0,null,"6.7",null,{"$f":"H17","v":242},{"$f":"I17","v":0},1,null,242,{"$f":"R17","v":0},1]
[null,null,null,null,null,null,null,null,null,null,null,null,null,null,null,null,null,null,null,"250.0","7.96",4,"7.9",3,"7.9",0,null,"7.9",null,243,0,1,null,243,0,1]
[null,null,null,null,null,null,null,null,null,null,null,null,null,null,null,null,null,null,null,"251.0","7.96",4,"7.9",3,"7.9",0,null,"7.9",null,244,0,1,null,244,0,1]
[null,null,null,null,null,null,null,null,null,null,null,null,null,null,null,null,null,null,null,"252.0","7.96",4,"7.9",3,"7.9",0,null,"7.9",null,245,0,1,null,245,0,1]
[null,null,null,null,null,null,null,null,null,null,null,null,null,null,null,null,null,null,null,"253.0","7.96",4,"7.9",3,"7.9",0,null,"7.9",null,246,0,1,null,246,0,1]
[null,null,null,null,null,null,null,null,null,null,null,null,null,null,null,null,null,null,null,"254.0","7.96",4,"7.9",3,"7.9",0,null,"7.9",null,247,0,1,null,247,0,1]
[null,null,null,null,null,null,null,null,null,null,null,null,null,null,null,null,null,null,null,"255.0","9.9",3,"9.9",3,"9.9",0,null,"9.9",null,248,0,1,null,248,0,1]
[null,null,null,null,null,null,null,null,null,null,null,null,null,null,null,null,null,null,null,"256.0","9.9",3,"9.9",3,"9.9",0,null,"9.9",null,249,0,1,null,249,0,1]
[null,null,null,null,null,null,null,null,null,null,null,null,null,null,null,null,null,null,null,"257.0","9.9",{"$f":"LEN(U265)","v":3},{"$f":"IF(V265=1,CONCATENATE(AB265,\".\",\"0\"),AB265)","v":"9.9"},{"$f":"LEN(W265)","v":3},{"$f":"IF(X265=2,CONCATENATE(W265,\".\",\"0\"),W265)","v":"9.9"},0,null,{"$f":"IF(Z265>9,MID(U265,1,4),MID(U265,1,3))","v":"9.9"},null,250,0,1,null,250,0,1]
[null,null,null,null,null,null,null,null,null,null,null,null,null,null,null,null,null,null,null,"258.0","9.9",3,"9.9",3,"9.9",0,null,"9.9",null,251,0,1,null,251,0,1]
[null,null,null,null,null,null,null,null,null,null,null,null,null,null,null,null,null,null,null,"259.0","9.9",3,"9.9",3,"9.9",0,null,"9.9",null,252,0,1,null,252,0,1]
[null,null,null,null,null,null,null,null,null,null,null,null,null,null,null,null,null,null,null,"260.0","10.46",5,"10.",3,"10.",0,null,"10.",null,253,0,1,null,253,0,1]
[null,null,null,null,null,null,null,null,null,null,null,null,null,null,null,null,null,null,null,"261.0","10.46",5,"10.",3,"10.",0,null,"10.",null,254,0,1,null,254,0,1]
[null,null,null,null,null,null,null,null,null,null,null,null,null,null,null,null,null,null,null,"262.0","10.46",5,"10.",3,"10.",0,null,"10.",null,255,0,1,null,255,0,1]
[null,null,null,null,null,null,null,null,null,null,null,null,null,null,null,null,null,null,null,"263.0","10.46",5,"10.",3,"10.",0,null,"10.",null,256,0,1,null,256,0,1]
[null,null,null,null,null,null,null,null,null,null,null,null,null,null,null,null,null,null,null,"264.0","10.46",5,"10.",3,"10.",0,null,"10.",null,257,0,{"$f":"0.375+0.625*COS(RADIANS(AE272))","v":1},null,257,0,{"$f":"0.375+0.625*COS(RADIANS(AI272))","v":1}]
[null,null,null,null,null,null,null,null,null,null,null,null,null,null,null,null,null,null,null,"265.0","11.7",4,"11.",3,"11.",0,null,"11.",null,258,0,1,null,258,0,1]
[null,null,null,null,null,null,null,null,null,null,null,null,null,null,null,null,null,null,null,"266.0","11.7",4,"11.",3,"11.",0,null,"11.",null,259,0,1,null,259,0,1]
[null,null,null,null,null,null,null,null,null,null,null,null,null,null,null,null,null,null,null,"267.0","11.7",4,"11.",3,"11.",0,null,"11.",null,260,0,1,null,260,0,1]
[null,null,null,null,null,null,null,null,null,null,null,null,null,null,null,null,null,null,null,"268.0","11.7",4,"11.",3,"11.",0,null,"11.",null,261,0,1,null,261,0,1]
[null,null,null,null,null,null,null,null,null,null,null,null,null,null,null,null,null,null,null,"269.0","11.7",4,"11.",3,"11.",0,null,"11.",null,262,0,1,null,262,0,1]
[null,null,null,null,null,null,null,null,null,null,null,null,null,null,null,null,null,null,null,"270.0","13.15",5,"13.",3,"13.",0,null,"13.",null,263,0,1,null,263,0,1]
[null,null,null,null,null,null,null,null,null,null,null,null,null,null,null,null,null,null,null,"271.0","13.15",5,"13.",3,"13.",0,null,"13.",null,264,0,1,null,264,0,1]
[null,null,null,null,null,null,null,null,null,null,null,null,null,null,null,null,null,null,null,"272.0","13.15",5,"13.",3,"13.",0,null,"13.",null,265,0,1,null,265,0,1]
[null,null,null,null,null,null,null,null,null,null,null,null,null,null,null,null,null,null,null,"273.0","13.15",5,"13.",3,"13.",0,null,"13.",null,266,0,1,null,266,0,1]
[null,null,null,null,null,null,null,null,null,null,null,null,null,null,null,null,null,null,null,"274.0","13.15",5,"13.",3,"13.",{"$f":"I49","v":0},null,"13.",null,267,0,1,null,267,0,1]
[null,null,null,null,null,null,null,null,null,null,null,null,null,null,null,null,null,null,null,"275.0","12.4",4,"12.",3,"12.",0,null,"12.",null,268,0,1,null,268,0,1]
[null,null,null,null,null,null,null,null,null,null,null,null,null,null,null,null,null,null,null,"276.0","12.4",4,"12.",3,"12.",0,null,"12.",null,269,0,1,null,269,0,1]
[null,null,null,null,null,null,null,null,null,null,null,null,null,null,null,null,null,null,null,"277.0","12.4",4,"12.",3,"12.",0,null,"12.",null,270,0,1,null,270,0,1]
[null,null,null,null,null,null,null,null,null,null,null,null,null,null,null,null,null,null,null,"278.0","12.4",4,"12.",3,"12.",0,null,"12.",null,271,0,1,null,271,0,1]
[null,null,null,null,null,null,null,null,null,null,null,null,null,null,null,null,null,null,null,"279.0","12.4",4,"12.",3,"12.",0,null,"12.",null,272,0,1,null,272,0,1]
[null,null,null,null,null,null,null,null,null,null,null,null,null,null,null,null,null,null,null,"280.0","12.4",4,"12.",3,"12.",0,null,"12.",null,273,0,1,null,273,0,1]
[null,null,null,null,null,null,null,null,null,null,null,null,null,null,null,null,null,null,null,"281.0","12.4",4,"12.",3,"12.",0,null,"12.",null,{"$f":"H49","v":274},{"$f":"I49","v":0},1,null,274,{"$f":"R49","v":0},1]
[null,null,null,null,null,null,null,null,null,null,null,null,null,null,null,null,null,null,null,"282.0","12.4",4,"12.",3,"12.",0,null,"12.",null,275,0,1,null,275,0,1]
[null,null,null,null,null,null,null,null,null,null,null,null,null,null,null,null,null,null,null,"283.0","12.4",4,"12.",3,"12.",0,null,"12.",null,276,0,1,null,276,0,1]
[null,null,null,null,null,null,null,null,null,null,null,null,null,null,null,null,null,null,null,"284.0","12.4",4,"12.",3,"12.",0,null,"12.",null,277,0,1,null,277,0,1]
[null,null,null,null,null,null,null,null,null,null,null,null,null,null,null,null,null,null,null,"285.0","11.7",4,"11.",3,"11.",0,null,"11.",null,278,0,1,null,278,0,1]
[null,null,null,null,null,null,null,null,null,null,null,null,null,null,null,null,null,null,null,"286.0","11.7",4,"11.",3,"11.",0,null,"11.",null,279,0,1,null,279,0,1]
[null,null,null,null,null,null,null,null,null,null,null,null,null,null,null,null,null,null,null,"287.0","11.7",4,"11.",3,"11.",0,null,"11.",null,280,0,1,null,280,0,1]
[null,null,null,null,null,null,null,null,null,null,null,null,null,null,null,null,null,null,null,"288.0","11.7",4,"11.",3,"11.",0,null,"11.",null,281,0,1,null,281,0,1]
[null,null,null,null,null,null,null,null,null,null,null,null,null,null,null,null,null,null,null,"289.0","11.7",4,"11.",3,"11.",0,null,"11.",null,282,0,1,null,282,0,1]
[null,null,null,null,null,null,null,null,null,null,null,null,null,null,null,null,null,null,null,"290.0","10.46",5,"10.",3,"10.",0,null,"10.",null,283,0,1,null,283,0,1]
[null,null,null,null,null,null,null,null,null,null,null,null,null,null,null,null,null,null,null,"291.0","10.46",5,"10.",3,"10.",0,null,"10.",null,284,0,1,null,284,0,1]
[null,null,null,null,null,null,null,null,null,null,null,null,null,null,null,null,null,null,null,"292.0","10.46",5,"10.",3,"10.",0,null,"10.",null,285,0,1,null,285,0,1]
[null,null,null,null,null,null,null,null,null,null,null,null,null,null,null,null,null,null,null,"293.0","10.46",5,"10.",3,"10.",0,null,"10.",null,286,0,1,null,286,0,1]
[null,null,null,null,null,null,null,null,null,null,null,null,null,null,null,null,null,null,null,"294.0","10.46",5,"10.",3,"10.",0,null,"10.",null,287,0,1,null,287,0,1]
[null,null,null,null,null,null,null,null,null,null,null,null,null,null,null,null,null,null,null,"295.0","8.4",3,"8.4",3,"8.4",0,null,"8.4",null,288,0,1,null,288,0,1]
[null,null,null,null,null,null,null,null,null,null,null,null,null,null,null,null,null,null,null,"296.0","8.4",3,"8.4",3,"8.4",0,null,"8.4",null,289,0,1,null,289,0,1]
[null,null,null,null,null,null,null,null,null,null,null,null,null,null,null,null,null,null,null,"297.0","8.4",3,"8.4",3,"8.4",0,null,"8.4",null,290,0,1,null,290,0,1]
[null,null,null,null,null,null,null,null,null,null,null,null,null,null,null,null,null,null,null,"298.0","8.4",3,"8.4",3,"8.4",0,null,"8.4",null,291,0,1,null,291,0,1]
[null,null,null,null,null,null,null,null,null,null,null,null,null,null,null,null,null,null,null,"299.0","8.4",3,"8.4",3,"8.4",0,null,"8.4",null,292,0,1,null,292,0,1]
[null,null,null,null,null,null,null,null,null,null,null,null,null,null,null,null,null,null,null,"300.0","7.96",4,"7.9",3,"7.9",0,null,"7.9",null,293,0,1,null,293,0,1]
[null,null,null,null,null,null,null,null,null,null,null,null,null,null,null,null,null,null,null,"301.0","7.96",4,"7.9",3,"7.9",0,null,"7.9",null,294,0,1,null,294,0,1]
[null,null,null,null,null,null,null,null,null,null,null,null,null,null,null,null,null,null,null,"302.0","7.96",4,"7.9",3,"7.9",0,null,"7.9",null,295,0,1,null,295,0,1]
[null,null,null,null,null,null,null,null,null,null,null,null,null,null,null,null,null,null,null,"303.0","7.96",4,"7.9",3,"7.9",0,null,"7.9",null,296,0,1,null,296,0,1]
[null,null,null,null,null,null,null,null,null,null,null,null,null,null,null,null,null,null,null,"304.0","7.96",4,"7.9",3,"7.9",0,null,"7.9",null,297,0,1,null,297,0,1]
[null,null,null,null,null,null,null,null,null,null,null,null,null,null,null,null,null,null,null,"305.0","5.85",4,"5.8",3,"5.8",0,null,"5.8",null,298,0,1,null,298,0,1]
[null,null,null,null,null,null,null,null,null,null,null,null,null,null,null,null,null,null,null,"306.0","5.85",4,"5.8",3,"5.8",{"$f":"I81","v":0},null,"5.8",null,299,0,1,null,299,0,1]
[null,null,null,null,null,null,null,null,null,null,null,null,null,null,null,null,null,null,null,"307.0","5.85",4,"5.8",3,"5.8",0,null,"5.8",null,300,0,1,null,300,0,1]
[null,null,null,null,null,null,null,null,null,null,null,null,null,null,null,null,null,null,null,"308.0","5.85",4,"5.8",3,"5.8",0,null,"5.8",null,301,0,1,null,301,0,1]
[null,null,null,null,null,null,null,null,null,null,null,null,null,null,null,null,null,null,null,"309.0","5.85",4,"5.8",3,"5.8",0,null,"5.8",null,302,0,1,null,302,0,1]
[null,null,null,null,null,null,null,null,null,null,null,null,null,null,null,null,null,null,null,"310.0","4.58",4,"4.5",3,"4.5",0,null,"4.5",null,303,0,1,null,303,0,1]
[null,null,null,null,null,null,null,null,null,null,null,null,null,null,null,null,null,null,null,"311.0","4.58",4,"4.5",3,"4.5",0,null,"4.5",null,304,0,1,null,304,0,1]
[null,null,null,null,null,null,null,null,null,null,null,null,null,null,null,null,null,null,null,"312.0","4.58",4,"4.5",3,"4.5",0,null,"4.5",null,305,0,1,null,305,0,1]
[null,null,null,null,null,null,null,null,null,null,null,null,null,null,null,null,null,null,null,"313.0","4.58",4,"4.5",3,"4.5",0,null,"4.5",null,{"$f":"H81","v":306},{"$f":"I81","v":0},1,null,306,{"$f":"R81","v":0},1]
[null,null,null,null,null,null,null,null,null,null,null,null,null,null,null,null,null,null,null,"314.0","4.58",4,"4.5",3,"4.5",0,null,"4.5",null,307,0,1,null,307,0,1]
[null,null,null,null,null,null,null,null,null,null,null,null,null,null,null,null,null,null,null,"315.0","3.48",4,"3.4",3,"3.4",0,null,"3.4",null,308,0,1,null,308,0,1]
[null,null,null,null,null,null,null,null,null,null,null,null,null,null,null,null,null,null,null,"316.0","3.48",4,"3.4",3,"3.4",0,null,"3.4",null,309,0,1,null,309,0,1]
[null,null,null,null,null,null,null,null,null,null,null,null,null,null,null,null,null,null,null,"317.0","3.48",4,"3.4",3,"3.4",0,null,"3.4",null,310,0,1,null,310,0,1]
[null,null,null,null,null,null,null,null,null,null,null,null,null,null,null,null,null,null,null,"318.0","3.48",4,"3.4",3,"3.4",0,null,"3.4",null,311,0,1,null,311,0,1]
[null,null,null,null,null,null,null,null,null,null,null,null,null,null,null,null,null,null,null,"319.0","3.48",4,"3.4",3,"3.4",0,null,"3.4",null,312,0,1,null,312,0,1]
[null,null,null,null,null,null,null,null,null,null,null,null,null,null,null,null,null,null,null,"320.0","2.5",3,"2.5",3,"2.5",0,null,"2.5",null,313,0,1,null,313,0,1]
[null,null,null,null,null,null,null,null,null,null,null,null,null,null,null,null,null,null,null,"321.0","2.5",{"$f":"LEN(U329)","v":3},{"$f":"IF(V329=1,CONCATENATE(AB329,\".\",\"0\"),AB329)","v":"2.5"},{"$f":"LEN(W329)","v":3},{"$f":"IF(X329=2,CONCATENATE(W329,\".\",\"0\"),W329)","v":"2.5"},0,null,{"$f":"IF(Z329>9,MID(U329,1,4),MID(U329,1,3))","v":"2.5"},null,314,0,1,null,314,0,1]
[null,null,null,null,null,null,null,null,null,null,null,null,null,null,null,null,null,null,null,"322.0","2.5",3,"2.5",3,"2.5",0,null,"2.5",null,315,0,1,null,315,0,1]
[null,null,null,null,null,null,null,null,null,null,null,null,null,null,null,null,null,null,null,"323.0","2.5",3,"2.5",3,"2.5",0,null,"2.5",null,316,0,1,null,316,0,1]
[null,null,null,null,null,null,null,null,null,null,null,null,null,null,null,null,null,null,null,"324.0","2.5",3,"2.5",3,"2.5",0,null,"2.5",null,317,0,1,null,317,0,1]
[null,null,null,null,null,null,null,null,null,null,null,null,null,null,null,null,null,null,null,"325.0","1.62",4,"1.6",3,"1.6",0,null,"1.6",null,318,0,1,null,318,0,1]
[null,null,null,null,null,null,null,null,null,null,null,null,null,null,null,null,null,null,null,"326.0","1.62",4,"1.6",3,"1.6",0,null,"1.6",null,319,0,1,null,319,0,1]
[null,null,null,null,null,null,null,null,null,null,null,null,null,null,null,null,null,null,null,"327.0","1.62",4,"1.6",3,"1.6",0,null,"1.6",null,320,0,1,null,320,0,1]
[null,null,null,null,null,null,null,null,null,null,null,null,null,null,null,null,null,null,null,"328.0","1.62",4,"1.6",3,"1.6",0,null,"1.6",null,321,0,{"$f":"0.375+0.625*COS(RADIANS(AE336))","v":1},null,321,0,{"$f":"0.375+0.625*COS(RADIANS(AI336))","v":1}]
[null,null,null,null,null,null,null,null,null,null,null,null,null,null,null,null,null,null,null,"329.0","1.62",4,"1.6",3,"1.6",0,null,"1.6",null,322,0,1,null,322,0,1]
[null,null,null,null,null,null,null,null,null,null,null,null,null,null,null,null,null,null,null,"330.0","1.21",4,"1.2",3,"1.2",0,null,"1.2",null,323,0,1,null,323,0,1]
[null,null,null,null,null,null,null,null,null,null,null,null,null,null,null,null,null,null,null,"331.0","1.21",4,"1.2",3,"1.2",0,null,"1.2",null,324,0,1,null,324,0,1]
[null,null,null,null,null,null,null,null,null,null,null,null,null,null,null,null,null,null,null,"332.0","1.21",4,"1.2",3,"1.2",0,null,"1.2",null,325,0,1,null,325,0,1]
[null,null,null,null,null,null,null,null,null,null,null,null,null,null,null,null,null,null,null,"333.0","1.21",4,"1.2",3,"1.2",0,null,"1.2",null,326,0,1,null,326,0,1]
[null,null,null,null,null,null,null,null,null,null,null,null,null,null,null,null,null,null,null,"334.0","1.21",4,"1.2",3,"1.2",0,null,"1.2",null,327,0,1,null,327,0,1]
[null,null,null,null,null,null,null,null,null,null,null,null,null,null,null,null,null,null,null,"335.0","0.63",4,"0.6",3,"0.6",0,null,"0.6",null,328,0,1,null,328,0,1]
[null,null,null,null,null,null,null,null,null,null,null,null,null,null,null,null,null,null,null,"336.0","0.63",4,"0.6",3,"0.6",0,null,"0.6",null,329,0,1,null,329,0,1]
[null,null,null,null,null,null,null,null,null,null,null,null,null,null,null,null,null,null,null,"337.0","0.63",4,"0.6",3,"0.6",0,null,"0.6",null,330,0,1,null,330,0,1]
[null,null,null,null,null,null,null,null,null,null,null,null,null,null,null,null,null,null,null,"338.0","0.63",4,"0.6",3,"0.6",{"$f":"I113","v":0},null,"0.6",null,331,0,1,null,331,0,1]
[null,null,null,null,null,null,null,null,null,null,null,null,null,null,null,null,null,null,null,"339.0","0.63",4,"0.6",3,"0.6",0,null,"0.6",null,332,0,1,null,332,0,1]
[null,null,null,null,null,null,null,null,null,null,null,null,null,null,null,null,null,null,null,"340.0","0.45",4,"0.4",3,"0.4",0,null,"0.4",null,333,0,1,null,333,0,1]
[null,null,null,null,null,null,null,null,null,null,null,null,null,null,null,null,null,null,null,"341.0","0.45",4,"0.4",3,"0.4",0,null,"0.4",null,334,0,1,null,334,0,1]
[null,null,null,null,null,null,null,null,null,null,null,null,null,null,null,null,null,null,null,"342.0","0.45",4,"0.4",3,"0.4",0,null,"0.4",null,335,0,1,null,335,0,1]
[null,null,null,null,null,null,null,null,null,null,null,null,null,null,null,null,null,null,null,"343.0","0.45",4,"0.4",3,"0.4",0,null,"0.4",null,336,0,1,null,336,0,1]
[null,null,null,null,null,null,null,null,null,null,null,null,null,null,null,null,null,null,null,"344.0","0.45",4,"0.4",3,"0.4",0,null,"0.4",null,337,0,1,null,337,0,1]
[null,null,null,null,null,null,null,null,null,null,null,null,null,null,null,null,null,null,null,"345.0","0.26",4,"0.2",3,"0.2",0,null,"0.2",null,{"$f":"H113","v":338},{"$f":"I113","v":0},1,null,338,{"$f":"R113","v":0},1]
[null,null,null,null,null,null,null,null,null,null,null,null,null,null,null,null,null,null,null,"346.0","0.26",4,"0.2",3,"0.2",0,null,"0.2",null,339,0,1,null,339,0,1]
[null,null,null,null,null,null,null,null,null,null,null,null,null,null,null,null,null,null,null,"347.0","0.26",4,"0.2",3,"0.2",0,null,"0.2",null,340,0,1,null,340,0,1]
[null,null,null,null,null,null,null,null,null,null,null,null,null,null,null,null,null,null,null,"348.0","0.26",4,"0.2",3,"0.2",0,null,"0.2",null,341,0,1,null,341,0,1]
[null,null,null,null,null,null,null,null,null,null,null,null,null,null,null,null,null,null,null,"349.0","0.26",4,"0.2",3,"0.2",0,null,"0.2",null,342,0,1,null,342,0,1]
[null,null,null,null,null,null,null,null,null,null,null,null,null,null,null,null,null,null,null,"350.0","0",1,"0.0",3,"0.0",0,null,"0",null,343,0,1,null,343,0,1]
[null,null,null,null,null,null,null,null,null,null,null,null,null,null,null,null,null,null,null,"351.0","0",1,"0.0",3,"0.0",0,null,"0",null,344,0,1,null,344,0,1]
[null,null,null,null,null,null,null,null,null,null,null,null,null,null,null,null,null,null,null,"352.0","0",1,"0.0",3,"0.0",0,null,"0",null,345,0,1,null,345,0,1]
[null,null,null,null,null,null,null,null,null,null,null,null,null,null,null,null,null,null,null,"353.0","0",1,"0.0",3,"0.0",0,null,"0",null,346,0,1,null,346,0,1]
[null,null,null,null,null,null,null,null,null,null,null,null,null,null,null,null,null,null,null,"354.0","0",1,"0.0",3,"0.0",0,null,"0",null,347,0,1,null,347,0,1]
[null,null,null,null,null,null,null,null,null,null,null,null,null,null,null,null,null,null,null,"355.0","0",1,"0.0",3,"0.0",0,null,"0",null,348,0,1,null,348,0,1]
[null,null,null,null,null,null,null,null,null,null,null,null,null,null,null,null,null,null,null,"356.0","0",1,"0.0",3,"0.0",0,null,"0",null,349,0,1,null,349,0,1]
[null,null,null,null,null,null,null,null,null,null,null,null,null,null,null,null,null,null,null,"357.0","0",1,"0.0",3,"0.0",0,null,"0",null,350,0,1,null,350,0,1]
[null,null,null,null,null,null,null,null,null,null,null,null,null,null,null,null,null,null,null,"358.0","0",1,"0.0",3,"0.0",0,null,"0",null,351,0,1,null,351,0,1]
[null,null,null,null,null,null,null,null,null,null,null,null,null,null,null,null,null,null,null,"359.0","0",1,"0.0",3,"0.0",0,null,"0",null,352,0,1,null,352,0,1]
[null,null,null,null,null,null,null,null,null,null,null,null,null,null,null,null,null,null,null,"VERTICAL","360",3,"360",3,"360",360,null,"360",null,353,0,1,null,353,0,1]
[null,null,null,null,null,null,null,null,null,null,null,null,null,null,null,null,null,null,null,"0.0","0",1,"0.0",3,"0.0",{"$f":"L17","v":0},null,"0",null,354,0,1,null,354,0,1]
[null,null,null,null,null,null,null,null,null,null,null,null,null,null,null,null,null,null,null,"1.0","0",1,"0.0",3,"0.0",0,null,"0",null,355,0,1,null,355,0,1]
[null,null,null,null,null,null,null,null,null,null,null,null,null,null,null,null,null,null,null,"2.0","0",1,"0.0",3,"0.0",0,null,"0",null,356,0,1,null,356,0,1]
[null,null,null,null,null,null,null,null,null,null,null,null,null,null,null,null,null,null,null,"3.0","0",1,"0.0",3,"0.0",0,null,"0",null,357,0,1,null,357,0,1]
[null,null,null,null,null,null,null,null,null,null,null,null,null,null,null,null,null,null,null,"4.0","0",1,"0.0",3,"0.0",0,null,"0",null,358,0,1,null,358,0,1]
[null,null,null,null,null,null,null,null,null,null,null,null,null,null,null,null,null,null,null,"5.0","0",1,"0.0",3,"0.0",0,null,"0",null,359,0,1,null,359,0,1]
[null,null,null,null,null,null,null,null,null,null,null,null,null,null,null,null,null,null,null,"6.0","0",1,"0.0",3,"0.0",0,null,"0"]
[null,null,null,null,null,null,null,null,null,null,null,null,null,null,null,null,null,null,null,"7.0","0",1,"0.0",3,"0.0",0,null,"0"]
[null,null,null,null,null,null,null,null,null,null,null,null,null,null,null,null,null,null,null,"8.0","0",1,"0.0",3,"0.0",0,null,"0"]
[null,null,null,null,null,null,null,null,null,null,null,null,null,null,null,null,null,null,null,"9.0","0",1,"0.0",3,"0.0",0,null,"0"]
[null,null,null,null,null,null,null,null,null,null,null,null,null,null,null,null,null,null,null,"10.0","0",1,"0.0",3,"0.0",0,null,"0"]
[null,null,null,null,null,null,null,null,null,null,null,null,null,null,null,null,null,null,null,"11.0","0",1,"0.0",3,"0.0",0,null,"0"]
[null,null,null,null,null,null,null,null,null,null,null,null,null,null,null,null,null,null,null,"12.0","0",1,"0.0",3,"0.0",0,null,"0"]
[null,null,null,null,null,null,null,null,null,null,null,null,null,null,null,null,null,null,null,"13.0","0",1,"0.0",3,"0.0",0,null,"0"]
[null,null,null,null,null,null,null,null,null,null,null,null,null,null,null,null,null,null,null,"14.0","0",1,"0.0",3,"0.0",0,null,"0"]
[null,null,null,null,null,null,null,null,null,null,null,null,null,null,null,null,null,null,null,"15.0","0.22",4,"0.2",3,"0.2",0,null,"0.2"]
[null,null,null,null,null,null,null,null,null,null,null,null,null,null,null,null,null,null,null,"16.0","0.22",4,"0.2",3,"0.2",0,null,"0.2"]
[null,null,null,null,null,null,null,null,null,null,null,null,null,null,null,null,null,null,null,"17.0","0.22",4,"0.2",3,"0.2",0,null,"0.2"]
[null,null,null,null,null,null,null,null,null,null,null,null,null,null,null,null,null,null,null,"18.0","0.22",4,"0.2",3,"0.2",0,null,"0.2"]
[null,null,null,null,null,null,null,null,null,null,null,null,null,null,null,null,null,null,null,"19.0","0.22",4,"0.2",3,"0.2",0,null,"0.2"]
[null,null,null,null,null,null,null,null,null,null,null,null,null,null,null,null,null,null,null,"20.0","0.41",4,"0.4",3,"0.4",0,null,"0.4"]
[null,null,null,null,null,null,null,null,null,null,null,null,null,null,null,null,null,null,null,"21.0","0.41",4,"0.4",3,"0.4",0,null,"0.4"]
[null,null,null,null,null,null,null,null,null,null,null,null,null,null,null,null,null,null,null,"22.0","0.41",4,"0.4",3,"0.4",0,null,"0.4"]
[null,null,null,null,null,null,null,null,null,null,null,null,null,null,null,null,null,null,null,"23.0","0.41",4,"0.4",3,"0.4",0,null,"0.4"]
[null,null,null,null,null,null,null,null,null,null,null,null,null,null,null,null,null,null,null,"24.0","0.41",{"$f":"LEN(U393)","v":4},{"$f":"IF(V393=1,CONCATENATE(AB393,\".\",\"0\"),AB393)","v":"0.4"},{"$f":"LEN(W393)","v":3},{"$f":"IF(X393=2,CONCATENATE(W393,\".\",\"0\"),W393)","v":"0.4"},0,null,{"$f":"IF(Z393>9,MID(U393,1,4),MID(U393,1,3))","v":"0.4"}]
[null,null,null,null,null,null,null,null,null,null,null,null,null,null,null,null,null,null,null,"25.0","0.41",4,"0.4",3,"0.4",0,null,"0.4"]
[null,null,null,null,null,null,null,null,null,null,null,null,null,null,null,null,null,null,null,"26.0","0.41",4,"0.4",3,"0.4",0,null,"0.4"]
[null,null,null,null,null,null,null,null,null,null,null,null,null,null,null,null,null,null,null,"27.0","0.41",4,"0.4",3,"0.4",0,null,"0.4"]
[null,null,null,null,null,null,null,null,null,null,null,null,null,null,null,null,null,null,null,"28.0","0.41",4,"0.4",3,"0.4",0,null,"0.4"]
[null,null,null,null,null,null,null,null,null,null,null,null,null,null,null,null,null,null,null,"29.0","0.41",4,"0.4",3,"0.4",0,null,"0.4"]
[null,null,null,null,null,null,null,null,null,null,null,null,null,null,null,null,null,null,null,"30.0","0.54",4,"0.5",3,"0.5",0,null,"0.5"]
[null,null,null,null,null,null,null,null,null,null,null,null,null,null,null,null,null,null,null,"31.0","0.54",4,"0.5",3,"0.5",0,null,"0.5"]
[null,null,null,null,null,null,null,null,null,null,null,null,null,null,null,null,null,null,null,"32.0","0.54",4,"0.5",3,"0.5",{"$f":"L49","v":0},null,"0.5"]
[null,null,null,null,null,null,null,null,null,null,null,null,null,null,null,null,null,null,null,"33.0","0.54",4,"0.5",3,"0.5",0,null,"0.5"]
[null,null,null,null,null,null,null,null,null,null,null,null,null,null,null,null,null,null,null,"34.0","0.54",4,"0.5",3,"0.5",0,null,"0.5"]
[null,null,null,null,null,null,null,null,null,null,null,null,null,null,null,null,null,null,null,"35.0","0.75",4,"0.7",3,"0.7",0,null,"0.7"]
[null,null,null,null,null,null,null,null,null,null,null,null,null,null,null,null,null,null,null,"36.0","0.75",4,"0.7",3,"0.7",0,null,"0.7"]
[null,null,null,null,null,null,null,null,null,null,null,null,null,null,null,null,null,null,null,"37.0","0.75",4,"0.7",3,"0.7",0,null,"0.7"]
[null,null,null,null,null,null,null,null,null,null,null,null,null,null,null,null,null,null,null,"38.0","0.75",4,"0.7",3,"0.7",0,null,"0.7"]
[null,null,null,null,null,null,null,null,null,null,null,null,null,null,null,null,null,null,null,"39.0","0.75",4,"0.7",3,"0.7",0,null,"0.7"]
[null,null,null,null,null,null,null,null,null,null,null,null,null,null,null,null,null,null,null,"40.0","0.92",4,"0.9",3,"0.9",0,null,"0.9"]
[null,null,null,null,null,null,null,null,null,null,null,null,null,null,null,null,null,null,null,"41.0","0.92",4,"0.9",3,"0.9",0,null,"0.9"]
[null,null,null,null,null,null,null,null,null,null,null,null,null,null,null,null,null,null,null,"42.0","0.92",4,"0.9",3,"0.9",0,null,"0.9"]
[null,null,null,null,null,null,null,null,null,null,null,null,null,null,null,null,null,null,null,"43.0","0.92",4,"0.9",3,"0.9",0,null,"0.9"]
[null,null,null,null,null,null,null,null,null,null,null,null,null,null,null,null,null,null,null,"44.0","0.92",4,"0.9",3,"0.9",0,null,"0.9"]
[null,null,null,null,null,null,null,null,null,null,null,null,null,null,null,null,null,null,null,"45.0","1.26",4,"1.2",3,"1.2",0,null,"1.2"]
[null,null,null,null,null,null,null,null,null,null,null,null,null,null,null,null,null,null,null,"46.0","1.26",4,"1.2",3,"1.2",0,null,"1.2"]
[null,null,null,null,null,null,null,null,null,null,null,null,null,null,null,null,null,null,null,"47.0","1.26",4,"1.2",3,"1.2",0,null,"1.2"]
[null,null,null,null,null,null,null,null,null,null,null,null,null,null,null,null,null,null,null,"48.0","1.26",4,"1.2",3,"1.2",0,null,"1.2"]
[null,null,null,null,null,null,null,null,null,null,null,null,null,null,null,null,null,null,null,"49.0","1.26",4,"1.2",3,"1.2",0,null,"1.2"]
[null,null,null,null,null,null,null,null,null,null,null,null,null,null,null,null,null,null,null,"50.0","1.94",4,"1.9",3,"1.9",0,null,"1.9"]
[null,null,null,null,null,null,null,null,null,null,null,null,null,null,null,null,null,null,null,"51.0","1.94",4,"1.9",3,"1.9",0,null,"1.9"]
[null,null,null,null,null,null,null,null,null,null,null,null,null,null,null,null,null,null,null,"52.0","1.94",4,"1.9",3,"1.9",0,null,"1.9"]
[null,null,null,null,null,null,null,null,null,null,null,null,null,null,null,null,null,null,null,"53.0","1.94",4,"1.9",3,"1.9",0,null,"1.9"]
[null,null,null,null,null,null,null,null,null,null,null,null,null,null,null,null,null,null,null,"54.0","1.94",4,"1.9",3,"1.9",0,null,"1.9"]
[null,null,null,null,null,null,null,null,null,null,null,null,null,null,null,null,null,null,null,"55.0","2.64",4,"2.6",3,"2.6",0,null,"2.6"]
[null,null,null,null,null,null,null,null,null,null,null,null,null,null,null,null,null,null,null,"56.0","2.64",4,"2.6",3,"2.6",0,null,"2.6"]
[null,null,null,null,null,null,null,null,null,null,null,null,null,null,null,null,null,null,null,"57.0","2.64",4,"2.6",3,"2.6",0,null,"2.6"]
[null,null,null,null,null,null,null,null,null,null,null,null,null,null,null,null,null,null,null,"58.0","2.64",4,"2.6",3,"2.6",0,null,"2.6"]
[null,null,null,null,null,null,null,null,null,null,null,null,null,null,null,null,null,null,null,"59.0","2.64",4,"2.6",3,"2.6",0,null,"2.6"]
[null,null,null,null,null,null,null,null,null,null,null,null,null,null,null,null,null,null,null,"60.0","3.74",4,"3.7",3,"3.7",0,null,"3.7"]
[null,null,null,null,null,null,null,null,null,null,null,null,null,null,null,null,null,null,null,"61.0","3.74",4,"3.7",3,"3.7",0,null,"3.7"]
[null,null,null,null,null,null,null,null,null,null,null,null,null,null,null,null,null,null,null,"62.0","3.74",4,"3.7",3,"3.7",0,null,"3.7"]
[null,null,null,null,null,null,null,null,null,null,null,null,null,null,null,null,null,null,null,"63.0","3.74",4,"3.7",3,"3.7",0,null,"3.7"]
[null,null,null,null,null,null,null,null,null,null,null,null,null,null,null,null,null,null,null,"64.0","3.74",4,"3.7",3,"3.7",{"$f":"L81","v":0},null,"3.7"]
[null,null,null,null,null,null,null,null,null,null,null,null,null,null,null,null,null,null,null,"65.0","5.19",4,"5.1",3,"5.1",0,null,"5.1"]
[null,null,null,null,null,null,null,null,null,null,null,null,null,null,null,null,null,null,null,"66.0","5.19",4,"5.1",3,"5.1",0,null,"5.1"]
[null,null,null,null,null,null,null,null,null,null,null,null,null,null,null,null,null,null,null,"67.0","5.19",4,"5.1",3,"5.1",0,null,"5.1"]
[null,null,null,null,null,null,null,null,null,null,null,null,null,null,null,null,null,null,null,"68.0","5.19",4,"5.1",3,"5.1",0,null,"5.1"]
[null,null,null,null,null,null,null,null,null,null,null,null,null,null,null,null,null,null,null,"69.0","5.19",4,"5.1",3,"5.1",0,null,"5.1"]
[null,null,null,null,null,null,null,null,null,null,null,null,null,null,null,null,null,null,null,"70.0","7.07",4,"7.0",3,"7.0",0,null,"7.0"]
[null,null,null,null,null,null,null,null,null,null,null,null,null,null,null,null,null,null,null,"71.0","7.07",4,"7.0",3,"7.0",0,null,"7.0"]
[null,null,null,null,null,null,null,null,null,null,null,null,null,null,null,null,null,null,null,"72.0","7.07",4,"7.0",3,"7.0",0,null,"7.0"]
[null,null,null,null,null,null,null,null,null,null,null,null,null,null,null,null,null,null,null,"73.0","7.07",4,"7.0",3,"7.0",0,null,"7.0"]
[null,null,null,null,null,null,null,null,null,null,null,null,null,null,null,null,null,null,null,"74.0","7.07",4,"7.0",3,"7.0",0,null,"7.0"]
[null,null,null,null,null,null,null,null,null,null,null,null,null,null,null,null,null,null,null,"75.0","9.37",4,"9.3",3,"9.3",0,null,"9.3"]
[null,null,null,null,null,null,null,null,null,null,null,null,null,null,null,null,null,null,null,"76.0","9.37",4,"9.3",3,"9.3",0,null,"9.3"]
[null,null,null,null,null,null,null,null,null,null,null,null,null,null,null,null,null,null,null,"77.0","9.37",4,"9.3",3,"9.3",0,null,"9.3"]
[null,null,null,null,null,null,null,null,null,null,null,null,null,null,null,null,null,null,null,"78.0","9.37",4,"9.3",3,"9.3",0,null,"9.3"]
[null,null,null,null,null,null,null,null,null,null,null,null,null,null,null,null,null,null,null,"79.0","9.37",4,"9.3",3,"9.3",0,null,"9.3"]
[null,null,null,null,null,null,null,null,null,null,null,null,null,null,null,null,null,null,null,"80.0","7.68",4,"7.6",3,"7.6",0,null,"7.6"]
[null,null,null,null,null,null,null,null,null,null,null,null,null,null,null,null,null,null,null,"81.0","7.68",4,"7.6",3,"7.6",0,null,"7.6"]
[null,null,null,null,null,null,null,null,null,null,null,null,null,null,null,null,null,null,null,"82.0","7.68",4,"7.6",3,"7.6",0,null,"7.6"]
[null,null,null,null,null,null,null,null,null,null,null,null,null,null,null,null,null,null,null,"83.0","7.68",4,"7.6",3,"7.6",0,null,"7.6"]
[null,null,null,null,null,null,null,null,null,null,null,null,null,null,null,null,null,null,null,"84.0","7.68",4,"7.6",3,"7.6",0,null,"7.6"]
[null,null,null,null,null,null,null,null,null,null,null,null,null,null,null,null,null,null,null,"85.0","6.02",4,"6.0",3,"6.0",0,null,"6.0"]
[null,null,null,null,null,null,null,null,null,null,null,null,null,null,null,null,null,null,null,"86.0","6.02",4,"6.0",3,"6.0",0,null,"6.0"]
[null,null,null,null,null,null,null,null,null,null,null,null,null,null,null,null,null,null,null,"87.0","6.02",4,"6.0",3,"6.0",0,null,"6.0"]
[null,null,null,null,null,null,null,null,null,null,null,null,null,null,null,null,null,null,null,"88.0","6.02",{"$f":"LEN(U457)","v":4},{"$f":"IF(V457=1,CONCATENATE(AB457,\".\",\"0\"),AB457)","v":"6.0"},{"$f":"LEN(W457)","v":3},{"$f":"IF(X457=2,CONCATENATE(W457,\".\",\"0\"),W457)","v":"6.0"},0,null,{"$f":"IF(Z457>9,MID(U457,1,4),MID(U457,1,3))","v":"6.0"}]
[null,null,null,null,null,null,null,null,null,null,null,null,null,null,null,null,null,null,null,"89.0","6.02",4,"6.0",3,"6.0",0,null,"6.0"]
[null,null,null,null,null,null,null,null,null,null,null,null,null,null,null,null,null,null,null,"90.0","4.81",4,"4.8",3,"4.8",0,null,"4.8"]
[null,null,null,null,null,null,null,null,null,null,null,null,null,null,null,null,null,null,null,"91.0","4.81",4,"4.8",3,"4.8",0,null,"4.8"]
[null,null,null,null,null,null,null,null,null,null,null,null,null,null,null,null,null,null,null,"92.0","4.81",4,"4.8",3,"4.8",0,null,"4.8"]
[null,null,null,null,null,null,null,null,null,null,null,null,null,null,null,null,null,null,null,"93.0","4.81",4,"4.8",3,"4.8",0,null,"4.8"]
[null,null,null,null,null,null,null,null,null,null,null,null,null,null,null,null,null,null,null,"94.0","4.81",4,"4.8",3,"4.8",0,null,"4.8"]
[null,null,null,null,null,null,null,null,null,null,null,null,null,null,null,null,null,null,null,"95.0","5.68",4,"5.6",3,"5.6",0,null,"5.6"]
[null,null,null,null,null,null,null,null,null,null,null,null,null,null,null,null,null,null,null,"96.0","5.68",4,"5.6",3,"5.6",{"$f":"L113","v":0},null,"5.6"]
[null,null,null,null,null,null,null,null,null,null,null,null,null,null,null,null,null,null,null,"97.0","5.68",4,"5.6",3,"5.6",0,null,"5.6"]
[null,null,null,null,null,null,null,null,null,null,null,null,null,null,null,null,null,null,null,"98.0","5.68",4,"5.6",3,"5.6",0,null,"5.6"]
[null,null,null,null,null,null,null,null,null,null,null,null,null,null,null,null,null,null,null,"99.0","5.68",4,"5.6",3,"5.6",0,null,"5.6"]
[null,null,null,null,null,null,null,null,null,null,null,null,null,null,null,null,null,null,null,"100.0","7.33",4,"7.3",3,"7.3",0,null,"7.3"]
[null,null,null,null,null,null,null,null,null,null,null,null,null,null,null,null,null,null,null,"101.0","7.33",4,"7.3",3,"7.3",0,null,"7.3"]
[null,null,null,null,null,null,null,null,null,null,null,null,null,null,null,null,null,null,null,"102.0","7.33",4,"7.3",3,"7.3",0,null,"7.3"]
[null,null,null,null,null,null,null,null,null,null,null,null,null,null,null,null,null,null,null,"103.0","7.33",4,"7.3",3,"7.3",0,null,"7.3"]
[null,null,null,null,null,null,null,null,null,null,null,null,null,null,null,null,null,null,null,"104.0","7.33",4,"7.3",3,"7.3",0,null,"7.3"]
[null,null,null,null,null,null,null,null,null,null,null,null,null,null,null,null,null,null,null,"105.0","9.63",4,"9.6",3,"9.6",0,null,"9.6"]
[null,null,null,null,null,null,null,null,null,null,null,null,null,null,null,null,null,null,null,"106.0","9.63",4,"9.6",3,"9.6",0,null,"9.6"]
[null,null,null,null,null,null,null,null,null,null,null,null,null,null,null,null,null,null,null,"107.0","9.63",4,"9.6",3,"9.6",0,null,"9.6"]
[null,null,null,null,null,null,null,null,null,null,null,null,null,null,null,null,null,null,null,"108.0","9.63",4,"9.6",3,"9.6",0,null,"9.6"]
[null,null,null,null,null,null,null,null,null,null,null,null,null,null,null,null,null,null,null,"109.0","9.63",4,"9.6",3,"9.6",0,null,"9.6"]
[null,null,null,null,null,null,null,null,null,null,null,null,null,null,null,null,null,null,null,"110.0","7.74",4,"7.7",3,"7.7",0,null,"7.7"]
[null,null,null,null,null,null,null,null,null,null,null,null,null,null,null,null,null,null,null,"111.0","7.74",4,"7.7",3,"7.7",0,null,"7.7"]
[null,null,null,null,null,null,null,null,null,null,null,null,null,null,null,null,null,null,null,"112.0","7.74",4,"7.7",3,"7.7",0,null,"7.7"]
[null,null,null,null,null,null,null,null,null,null,null,null,null,null,null,null,null,null,null,"113.0","7.74",4,"7.7",3,"7.7",0,null,"7.7"]
[null,null,null,null,null,null,null,null,null,null,null,null,null,null,null,null,null,null,null,"114.0","7.74",4,"7.7",3,"7.7",0,null,"7.7"]
[null,null,null,null,null,null,null,null,null,null,null,null,null,null,null,null,null,null,null,"115.0","5.35",4,"5.3",3,"5.3",0,null,"5.3"]
[null,null,null,null,null,null,null,null,null,null,null,null,null,null,null,null,null,null,null,"116.0","5.35",4,"5.3",3,"5.3",0,null,"5.3"]
[null,null,null,null,null,null,null,null,null,null,null,null,null,null,null,null,null,null,null,"117.0","5.35",4,"5.3",3,"5.3",0,null,"5.3"]
[null,null,null,null,null,null,null,null,null,null,null,null,null,null,null,null,null,null,null,"118.0","5.35",4,"5.3",3,"5.3",0,null,"5.3"]
[null,null,null,null,null,null,null,null,null,null,null,null,null,null,null,null,null,null,null,"119.0","5.35",4,"5.3",3,"5.3",0,null,"5.3"]
[null,null,null,null,null,null,null,null,null,null,null,null,null,null,null,null,null,null,null,"120.0","3.88",4,"3.8",3,"3.8",0,null,"3.8"]
[null,null,null,null,null,null,null,null,null,null,null,null,null,null,null,null,null,null,null,"121.0","3.88",4,"3.8",3,"3.8",{"$f":"O17","v":0},null,"3.8"]
[null,null,null,null,null,null,null,null,null,null,null,null,null,null,null,null,null,null,null,"122.0","3.88",4,"3.8",3,"3.8",0,null,"3.8"]
[null,null,null,null,null,null,null,null,null,null,null,null,null,null,null,null,null,null,null,"123.0","3.88",4,"3.8",3,"3.8",0,null,"3.8"]
[null,null,null,null,null,null,null,null,null,null,null,null,null,null,null,null,null,null,null,"124.0","3.88",4,"3.8",3,"3.8",0,null,"3.8"]
[null,null,null,null,null,null,null,null,null,null,null,null,null,null,null,null,null,null,null,"125.0","2.85",4,"2.8",3,"2.8",0,null,"2.8"]
[null,null,null,null,null,null,null,null,null,null,null,null,null,null,null,null,null,null,null,"126.0","2.85",4,"2.8",3,"2.8",0,null,"2.8"]
[null,null,null,null,null,null,null,null,null,null,null,null,null,null,null,null,null,null,null,"127.0","2.85",4,"2.8",3,"2.8",0,null,"2.8"]
[null,null,null,null,null,null,null,null,null,null,null,null,null,null,null,null,null,null,null,"128.0","2.85",4,"2.8",3,"2.8",0,null,"2.8"]
[null,null,null,null,null,null,null,null,null,null,null,null,null,null,null,null,null,null,null,"129.0","2.85",4,"2.8",3,"2.8",0,null,"2.8"]
[null,null,null,null,null,null,null,null,null,null,null,null,null,null,null,null,null,null,null,"130.0","1.83",4,"1.8",3,"1.8",0,null,"1.8"]
[null,null,null,null,null,null,null,null,null,null,null,null,null,null,null,null,null,null,null,"131.0","1.83",4,"1.8",3,"1.8",0,null,"1.8"]
[null,null,null,null,null,null,null,null,null,null,null,null,null,null,null,null,null,null,null,"132.0","1.83",4,"1.8",3,"1.8",0,null,"1.8"]
[null,null,null,null,null,null,null,null,null,null,null,null,null,null,null,null,null,null,null,"133.0","1.83",4,"1.8",3,"1.8",0,null,"1.8"]
[null,null,null,null,null,null,null,null,null,null,null,null,null,null,null,null,null,null,null,"134.0","1.83",4,"1.8",3,"1.8",0,null,"1.8"]
[null,null,null,null,null,null,null,null,null,null,null,null,null,null,null,null,null,null,null,"135.0","1.21",4,"1.2",3,"1.2",0,null,"1.2"]
[null,null,null,null,null,null,null,null,null,null,null,null,null,null,null,null,null,null,null,"136.0","1.21",4,"1.2",3,"1.2",0,null,"1.2"]
[null,null,null,null,null,null,null,null,null,null,null,null,null,null,null,null,null,null,null,"137.0","1.21",4,"1.2",3,"1.2",0,null,"1.2"]
[null,null,null,null,null,null,null,null,null,null,null,null,null,null,null,null,null,null,null,"138.0","1.21",4,"1.2",3,"1.2",0,null,"1.2"]
[null,null,null,null,null,null,null,null,null,null,null,null,null,null,null,null,null,null,null,"139.0","1.21",4,"1.2",3,"1.2",0,null,"1.2"]
[null,null,null,null,null,null,null,null,null,null,null,null,null,null,null,null,null,null,null,"140.0","0.92",4,"0.9",3,"0.9",0,null,"0.9"]
[null,null,null,null,null,null,null,null,null,null,null,null,null,null,null,null,null,null,null,"141.0","0.92",4,"0.9",3,"0.9",0,null,"0.9"]
[null,null,null,null,null,null,null,null,null,null,null,null,null,null,null,null,null,null,null,"142.0","0.92",4,"0.9",3,"0.9",0,null,"0.9"]
[null,null,null,null,null,null,null,null,null,null,null,null,null,null,null,null,null,null,null,"143.0","0.92",4,"0.9",3,"0.9",0,null,"0.9"]
[null,null,null,null,null,null,null,null,null,null,null,null,null,null,null,null,null,null,null,"144.0","0.92",4,"0.9",3,"0.9",0,null,"0.9"]
[null,null,null,null,null,null,null,null,null,null,null,null,null,null,null,null,null,null,null,"145.0","0.82",4,"0.8",3,"0.8",0,null,"0.8"]
[null,null,null,null,null,null,null,null,null,null,null,null,null,null,null,null,null,null,null,"146.0","0.82",4,"0.8",3,"0.8",0,null,"0.8"]
[null,null,null,null,null,null,null,null,null,null,null,null,null,null,null,null,null,null,null,"147.0","0.82",4,"0.8",3,"0.8",0,null,"0.8"]
[null,null,null,null,null,null,null,null,null,null,null,null,null,null,null,null,null,null,null,"148.0","0.82",4,"0.8",3,"0.8",0,null,"0.8"]
[null,null,null,null,null,null,null,null,null,null,null,null,null,null,null,null,null,null,null,"149.0","0.82",4,"0.8",3,"0.8",0,null,"0.8"]
[null,null,null,null,null,null,null,null,null,null,null,null,null,null,null,null,null,null,null,"150.0","0.63",4,"0.6",3,"0.6",0,null,"0.6"]
[null,null,null,null,null,null,null,null,null,null,null,null,null,null,null,null,null,null,null,"151.0","0.63",4,"0.6",3,"0.6",0,null,"0.6"]
[null,null,null,null,null,null,null,null,null,null,null,null,null,null,null,null,null,null,null,"152.0","0.63",{"$f":"LEN(U521)","v":4},{"$f":"IF(V521=1,CONCATENATE(AB521,\".\",\"0\"),AB521)","v":"0.6"},{"$f":"LEN(W521)","v":3},{"$f":"IF(X521=2,CONCATENATE(W521,\".\",\"0\"),W521)","v":"0.6"},0,null,{"$f":"IF(Z521>9,MID(U521,1,4),MID(U521,1,3))","v":"0.6"}]
[null,null,null,null,null,null,null,null,null,null,null,null,null,null,null,null,null,null,null,"153.0","0.63",4,"0.6",3,"0.6",{"$f":"O49","v":0},null,"0.6"]
[null,null,null,null,null,null,null,null,null,null,null,null,null,null,null,null,null,null,null,"154.0","0.63",4,"0.6",3,"0.6",0,null,"0.6"]
[null,null,null,null,null,null,null,null,null,null,null,null,null,null,null,null,null,null,null,"155.0","0.45",4,"0.4",3,"0.4",0,null,"0.4"]
[null,null,null,null,null,null,null,null,null,null,null,null,null,null,null,null,null,null,null,"156.0","0.45",4,"0.4",3,"0.4",0,null,"0.4"]
[null,null,null,null,null,null,null,null,null,null,null,null,null,null,null,null,null,null,null,"157.0","0.45",4,"0.4",3,"0.4",0,null,"0.4"]
[null,null,null,null,null,null,null,null,null,null,null,null,null,null,null,null,null,null,null,"158.0","0.45",4,"0.4",3,"0.4",0,null,"0.4"]
[null,null,null,null,null,null,null,null,null,null,null,null,null,null,null,null,null,null,null,"159.0","0.45",4,"0.4",3,"0.4",0,null,"0.4"]
[null,null,null,null,null,null,null,null,null,null,null,null,null,null,null,null,null,null,null,"160.0","0.45",4,"0.4",3,"0.4",0,null,"0.4"]
[null,null,null,null,null,null,null,null,null,null,null,null,null,null,null,null,null,null,null,"161.0","0.45",4,"0.4",3,"0.4",0,null,"0.4"]
[null,null,null,null,null,null,null,null,null,null,null,null,null,null,null,null,null,null,null,"162.0","0.45",4,"0.4",3,"0.4",0,null,"0.4"]
[null,null,null,null,null,null,null,null,null,null,null,null,null,null,null,null,null,null,null,"163.0","0.45",4,"0.4",3,"0.4",0,null,"0.4"]
[null,null,null,null,null,null,null,null,null,null,null,null,null,null,null,null,null,null,null,"164.0","0.45",4,"0.4",3,"0.4",0,null,"0.4"]
[null,null,null,null,null,null,null,null,null,null,null,null,null,null,null,null,null,null,null,"165.0","0.26",4,"0.2",3,"0.2",0,null,"0.2"]
[null,null,null,null,null,null,null,null,null,null,null,null,null,null,null,null,null,null,null,"166.0","0.26",4,"0.2",3,"0.2",0,null,"0.2"]
[null,null,null,null,null,null,null,null,null,null,null,null,null,null,null,null,null,null,null,"167.0","0.26",4,"0.2",3,"0.2",0,null,"0.2"]
[null,null,null,null,null,null,null,null,null,null,null,null,null,null,null,null,null,null,null,"168.0","0.26",4,"0.2",3,"0.2",0,null,"0.2"]
[null,null,null,null,null,null,null,null,null,null,null,null,null,null,null,null,null,null,null,"169.0","0.26",4,"0.2",3,"0.2",0,null,"0.2"]
[null,null,null,null,null,null,null,null,null,null,null,null,null,null,null,null,null,null,null,"170.0","0",1,"0.0",3,"0.0",0,null,"0"]
[null,null,null,null,null,null,null,null,null,null,null,null,null,null,null,null,null,null,null,"171.0","0",1,"0.0",3,"0.0",0,null,"0"]
[null,null,null,null,null,null,null,null,null,null,null,null,null,null,null,null,null,null,null,"172.0","0",1,"0.0",3,"0.0",0,null,"0"]
[null,null,null,null,null,null,null,null,null,null,null,null,null,null,null,null,null,null,null,"173.0","0",1,"0.0",3,"0.0",0,null,"0"]
[null,null,null,null,null,null,null,null,null,null,null,null,null,null,null,null,null,null,null,"174.0","0",1,"0.0",3,"0.0",0,null,"0"]
[null,null,null,null,null,null,null,null,null,null,null,null,null,null,null,null,null,null,null,"175.0","0",1,"0.0",3,"0.0",0,null,"0"]
[null,null,null,null,null,null,null,null,null,null,null,null,null,null,null,null,null,null,null,"176.0","0",1,"0.0",3,"0.0",0,null,"0"]
[null,null,null,null,null,null,null,null,null,null,null,null,null,null,null,null,null,null,null,"177.0","0",1,"0.0",3,"0.0",0,null,"0"]
[null,null,null,null,null,null,null,null,null,null,null,null,null,null,null,null,null,null,null,"178.0","0",1,"0.0",3,"0.0",0,null,"0"]
[null,null,null,null,null,null,null,null,null,null,null,null,null,null,null,null,null,null,null,"179.0","0",1,"0.0",3,"0.0",0,null,"0"]
[null,null,null,null,null,null,null,null,null,null,null,null,null,null,null,null,null,null,null,"180.0","0",1,"0.0",3,"0.0",0,null,"0"]
[null,null,null,null,null,null,null,null,null,null,null,null,null,null,null,null,null,null,null,"181.0","0",1,"0.0",3,"0.0",0,null,"0"]
[null,null,null,null,null,null,null,null,null,null,null,null,null,null,null,null,null,null,null,"182.0","0",1,"0.0",3,"0.0",0,null,"0"]
[null,null,null,null,null,null,null,null,null,null,null,null,null,null,null,null,null,null,null,"183.0","0",1,"0.0",3,"0.0",0,null,"0"]
[null,null,null,null,null,null,null,null,null,null,null,null,null,null,null,null,null,null,null,"184.0","0",1,"0.0",3,"0.0",0,null,"0"]
[null,null,null,null,null,null,null,null,null,null,null,null,null,null,null,null,null,null,null,"185.0","0",1,"0.0",3,"0.0",{"$f":"O81","v":0},null,"0"]
[null,null,null,null,null,null,null,null,null,null,null,null,null,null,null,null,null,null,null,"186.0","0",1,"0.0",3,"0.0",0,null,"0"]
[null,null,null,null,null,null,null,null,null,null,null,null,null,null,null,null,null,null,null,"187.0","0",1,"0.0",3,"0.0",0,null,"0"]
[null,null,null,null,null,null,null,null,null,null,null,null,null,null,null,null,null,null,null,"188.0","0",1,"0.0",3,"0.0",0,null,"0"]
[null,null,null,null,null,null,null,null,null,null,null,null,null,null,null,null,null,null,null,"189.0","0",1,"0.0",3,"0.0",0,null,"0"]
[null,null,null,null,null,null,null,null,null,null,null,null,null,null,null,null,null,null,null,"190.0","0",1,"0.0",3,"0.0",0,null,"0"]
[null,null,null,null,null,null,null,null,null,null,null,null,null,null,null,null,null,null,null,"191.0","0",1,"0.0",3,"0.0",0,null,"0"]
[null,null,null,null,null,null,null,null,null,null,null,null,null,null,null,null,null,null,null,"192.0","0",1,"0.0",3,"0.0",0,null,"0"]
[null,null,null,null,null,null,null,null,null,null,null,null,null,null,null,null,null,null,null,"193.0","0",1,"0.0",3,"0.0",0,null,"0"]
[null,null,null,null,null,null,null,null,null,null,null,null,null,null,null,null,null,null,null,"194.0","0",1,"0.0",3,"0.0",0,null,"0"]
[null,null,null,null,null,null,null,null,null,null,null,null,null,null,null,null,null,null,null,"195.0","0",1,"0.0",3,"0.0",0,null,"0"]
[null,null,null,null,null,null,null,null,null,null,null,null,null,null,null,null,null,null,null,"196.0","0.22",4,"0.2",3,"0.2",0,null,"0.2"]
[null,null,null,null,null,null,null,null,null,null,null,null,null,null,null,null,null,null,null,"197.0","0.22",4,"0.2",3,"0.2",0,null,"0.2"]
[null,null,null,null,null,null,null,null,null,null,null,null,null,null,null,null,null,null,null,"198.0","0.22",4,"0.2",3,"0.2",0,null,"0.2"]
[null,null,null,null,null,null,null,null,null,null,null,null,null,null,null,null,null,null,null,"199.0","0.22",4,"0.2",3,"0.2",0,null,"0.2"]
[null,null,null,null,null,null,null,null,null,null,null,null,null,null,null,null,null,null,null,"200.0","0.22",4,"0.2",3,"0.2",0,null,"0.2"]
[null,null,null,null,null,null,null,null,null,null,null,null,null,null,null,null,null,null,null,"201.0","0.41",4,"0.4",3,"0.4",0,null,"0.4"]
[null,null,null,null,null,null,null,null,null,null,null,null,null,null,null,null,null,null,null,"202.0","0.41",4,"0.4",3,"0.4",0,null,"0.4"]
[null,null,null,null,null,null,null,null,null,null,null,null,null,null,null,null,null,null,null,"203.0","0.41",4,"0.4",3,"0.4",0,null,"0.4"]
[null,null,null,null,null,null,null,null,null,null,null,null,null,null,null,null,null,null,null,"204.0","0.41",4,"0.4",3,"0.4",0,null,"0.4"]
[null,null,null,null,null,null,null,null,null,null,null,null,null,null,null,null,null,null,null,"205.0","0.41",4,"0.4",3,"0.4",0,null,"0.4"]
[null,null,null,null,null,null,null,null,null,null,null,null,null,null,null,null,null,null,null,"206.0","0.41",4,"0.4",3,"0.4",0,null,"0.4"]
[null,null,null,null,null,null,null,null,null,null,null,null,null,null,null,null,null,null,null,"207.0","0.41",4,"0.4",3,"0.4",0,null,"0.4"]
[null,null,null,null,null,null,null,null,null,null,null,null,null,null,null,null,null,null,null,"208.0","0.41",4,"0.4",3,"0.4",0,null,"0.4"]
[null,null,null,null,null,null,null,null,null,null,null,null,null,null,null,null,null,null,null,"209.0","0.41",4,"0.4",3,"0.4",0,null,"0.4"]
[null,null,null,null,null,null,null,null,null,null,null,null,null,null,null,null,null,null,null,"210.0","0.41",4,"0.4",3,"0.4",0,null,"0.4"]
[null,null,null,null,null,null,null,null,null,null,null,null,null,null,null,null,null,null,null,"211.0","0.54",4,"0.5",3,"0.5",0,null,"0.5"]
[null,null,null,null,null,null,null,null,null,null,null,null,null,null,null,null,null,null,null,"212.0","0.54",4,"0.5",3,"0.5",0,null,"0.5"]
[null,null,null,null,null,null,null,null,null,null,null,null,null,null,null,null,null,null,null,"213.0","0.54",4,"0.5",3,"0.5",0,null,"0.5"]
[null,null,null,null,null,null,null,null,null,null,null,null,null,null,null,null,null,null,null,"214.0","0.54",4,"0.5",3,"0.5",0,null,"0.5"]
[null,null,null,null,null,null,null,null,null,null,null,null,null,null,null,null,null,null,null,"215.0","0.54",4,"0.5",3,"0.5",0,null,"0.5"]
[null,null,null,null,null,null,null,null,null,null,null,null,null,null,null,null,null,null,null,"216.0","0.75",{"$f":"LEN(U585)","v":4},{"$f":"IF(V585=1,CONCATENATE(AB585,\".\",\"0\"),AB585)","v":"0.7"},{"$f":"LEN(W585)","v":3},{"$f":"IF(X585=2,CONCATENATE(W585,\".\",\"0\"),W585)","v":"0.7"},0,null,{"$f":"IF(Z585>9,MID(U585,1,4),MID(U585,1,3))","v":"0.7"}]
[null,null,null,null,null,null,null,null,null,null,null,null,null,null,null,null,null,null,null,"217.0","0.75",4,"0.7",3,"0.7",{"$f":"O113","v":0},null,"0.7"]
[null,null,null,null,null,null,null,null,null,null,null,null,null,null,null,null,null,null,null,"218.0","0.75",4,"0.7",3,"0.7",0,null,"0.7"]
[null,null,null,null,null,null,null,null,null,null,null,null,null,null,null,null,null,null,null,"219.0","0.75",4,"0.7",3,"0.7",0,null,"0.7"]
[null,null,null,null,null,null,null,null,null,null,null,null,null,null,null,null,null,null,null,"220.0","0.75",4,"0.7",3,"0.7",0,null,"0.7"]
[null,null,null,null,null,null,null,null,null,null,null,null,null,null,null,null,null,null,null,"221.0","0.92",4,"0.9",3,"0.9",0,null,"0.9"]
[null,null,null,null,null,null,null,null,null,null,null,null,null,null,null,null,null,null,null,"222.0","0.92",4,"0.9",3,"0.9",0,null,"0.9"]
[null,null,null,null,null,null,null,null,null,null,null,null,null,null,null,null,null,null,null,"223.0","0.92",4,"0.9",3,"0.9",0,null,"0.9"]
[null,null,null,null,null,null,null,null,null,null,null,null,null,null,null,null,null,null,null,"224.0","0.92",4,"0.9",3,"0.9",0,null,"0.9"]
[null,null,null,null,null,null,null,null,null,null,null,null,null,null,null,null,null,null,null,"225.0","0.92",4,"0.9",3,"0.9",0,null,"0.9"]
[null,null,null,null,null,null,null,null,null,null,null,null,null,null,null,null,null,null,null,"226.0","1.26",4,"1.2",3,"1.2",0,null,"1.2"]
[null,null,null,null,null,null,null,null,null,null,null,null,null,null,null,null,null,null,null,"227.0","1.26",4,"1.2",3,"1.2",0,null,"1.2"]
[null,null,null,null,null,null,null,null,null,null,null,null,null,null,null,null,null,null,null,"228.0","1.26",4,"1.2",3,"1.2",0,null,"1.2"]
[null,null,null,null,null,null,null,null,null,null,null,null,null,null,null,null,null,null,null,"229.0","1.26",4,"1.2",3,"1.2",0,null,"1.2"]
[null,null,null,null,null,null,null,null,null,null,null,null,null,null,null,null,null,null,null,"230.0","1.26",4,"1.2",3,"1.2",0,null,"1.2"]
[null,null,null,null,null,null,null,null,null,null,null,null,null,null,null,null,null,null,null,"231.0","1.94",4,"1.9",3,"1.9",0,null,"1.9"]
[null,null,null,null,null,null,null,null,null,null,null,null,null,null,null,null,null,null,null,"232.0","1.94",4,"1.9",3,"1.9",0,null,"1.9"]
[null,null,null,null,null,null,null,null,null,null,null,null,null,null,null,null,null,null,null,"233.0","1.94",4,"1.9",3,"1.9",0,null,"1.9"]
[null,null,null,null,null,null,null,null,null,null,null,null,null,null,null,null,null,null,null,"234.0","1.94",4,"1.9",3,"1.9",0,null,"1.9"]
[null,null,null,null,null,null,null,null,null,null,null,null,null,null,null,null,null,null,null,"235.0","1.94",4,"1.9",3,"1.9",0,null,"1.9"]
[null,null,null,null,null,null,null,null,null,null,null,null,null,null,null,null,null,null,null,"236.0","2.64",4,"2.6",3,"2.6",0,null,"2.6"]
[null,null,null,null,null,null,null,null,null,null,null,null,null,null,null,null,null,null,null,"237.0","2.64",4,"2.6",3,"2.6",0,null,"2.6"]
[null,null,null,null,null,null,null,null,null,null,null,null,null,null,null,null,null,null,null,"238.0","2.64",4,"2.6",3,"2.6",0,null,"2.6"]
[null,null,null,null,null,null,null,null,null,null,null,null,null,null,null,null,null,null,null,"239.0","2.64",4,"2.6",3,"2.6",0,null,"2.6"]
[null,null,null,null,null,null,null,null,null,null,null,null,null,null,null,null,null,null,null,"240.0","2.64",4,"2.6",3,"2.6",0,null,"2.6"]
[null,null,null,null,null,null,null,null,null,null,null,null,null,null,null,null,null,null,null,"241.0","3.74",4,"3.7",3,"3.7",0,null,"3.7"]
[null,null,null,null,null,null,null,null,null,null,null,null,null,null,null,null,null,null,null,"242.0","3.74",4,"3.7",3,"3.7",{"$f":"R17","v":0},null,"3.7"]
[null,null,null,null,null,null,null,null,null,null,null,null,null,null,null,null,null,null,null,"243.0","3.74",4,"3.7",3,"3.7",0,null,"3.7"]
[null,null,null,null,null,null,null,null,null,null,null,null,null,null,null,null,null,null,null,"244.0","3.74",4,"3.7",3,"3.7",0,null,"3.7"]
[null,null,null,null,null,null,null,null,null,null,null,null,null,null,null,null,null,null,null,"245.0","5.19",4,"5.1",3,"5.1",0,null,"5.1"]
[null,null,null,null,null,null,null,null,null,null,null,null,null,null,null,null,null,null,null,"246.0","5.19",4,"5.1",3,"5.1",0,null,"5.1"]
[null,null,null,null,null,null,null,null,null,null,null,null,null,null,null,null,null,null,null,"247.0","5.19",4,"5.1",3,"5.1",0,null,"5.1"]
[null,null,null,null,null,null,null,null,null,null,null,null,null,null,null,null,null,null,null,"248.0","5.19",4,"5.1",3,"5.1",0,null,"5.1"]
[null,null,null,null,null,null,null,null,null,null,null,null,null,null,null,null,null,null,null,"249.0","5.19",4,"5.1",3,"5.1",0,null,"5.1"]
[null,null,null,null,null,null,null,null,null,null,null,null,null,null,null,null,null,null,null,"250.0","7.07",4,"7.0",3,"7.0",0,null,"7.0"]
[null,null,null,null,null,null,null,null,null,null,null,null,null,null,null,null,null,null,null,"251.0","7.07",4,"7.0",3,"7.0",0,null,"7.0"]
[null,null,null,null,null,null,null,null,null,null,null,null,null,null,null,null,null,null,null,"252.0","7.07",4,"7.0",3,"7.0",0,null,"7.0"]
[null,null,null,null,null,null,null,null,null,null,null,null,null,null,null,null,null,null,null,"253.0","7.07",4,"7.0",3,"7.0",0,null,"7.0"]
[null,null,null,null,null,null,null,null,null,null,null,null,null,null,null,null,null,null,null,"254.0","7.07",4,"7.0",3,"7.0",0,null,"7.0"]
[null,null,null,null,null,null,null,null,null,null,null,null,null,null,null,null,null,null,null,"255.0","9.37",4,"9.3",3,"9.3",0,null,"9.3"]
[null,null,null,null,null,null,null,null,null,null,null,null,null,null,null,null,null,null,null,"256.0","9.37",4,"9.3",3,"9.3",0,null,"9.3"]
[null,null,null,null,null,null,null,null,null,null,null,null,null,null,null,null,null,null,null,"257.0","9.37",4,"9.3",3,"9.3",0,null,"9.3"]
[null,null,null,null,null,null,null,null,null,null,null,null,null,null,null,null,null,null,null,"258.0","9.37",4,"9.3",3,"9.3",0,null,"9.3"]
[null,null,null,null,null,null,null,null,null,null,null,null,null,null,null,null,null,null,null,"259.0","9.37",4,"9.3",3,"9.3",0,null,"9.3"]
[null,null,null,null,null,null,null,null,null,null,null,null,null,null,null,null,null,null,null,"260.0","7.68",4,"7.6",3,"7.6",0,null,"7.6"]
[null,null,null,null,null,null,null,null,null,null,null,null,null,null,null,null,null,null,null,"261.0","7.68",4,"7.6",3,"7.6",0,null,"7.6"]
[null,null,null,null,null,null,null,null,null,null,null,null,null,null,null,null,null,null,null,"262.0","7.68",4,"7.6",3,"7.6",0,null,"7.6"]
[null,null,null,null,null,null,null,null,null,null,null,null,null,null,null,null,null,null,null,"263.0","7.68",4,"7.6",3,"7.6",0,null,"7.6"]
[null,null,null,null,null,null,null,null,null,null,null,null,null,null,null,null,null,null,null,"264.0","7.68",4,"7.6",3,"7.6",0,null,"7.6"]
[null,null,null,null,null,null,null,null,null,null,null,null,null,null,null,null,null,null,null,"265.0","6.02",4,"6.0",3,"6.0",0,null,"6.0"]
[null,null,null,null,null,null,null,null,null,null,null,null,null,null,null,null,null,null,null,"266.0","6.02",4,"6.0",3,"6.0",0,null,"6.0"]
[null,null,null,null,null,null,null,null,null,null,null,null,null,null,null,null,null,null,null,"267.0","6.02",4,"6.0",3,"6.0",0,null,"6.0"]
[null,null,null,null,null,null,null,null,null,null,null,null,null,null,null,null,null,null,null,"268.0","6.02",4,"6.0",3,"6.0",0,null,"6.0"]
[null,null,null,null,null,null,null,null,null,null,null,null,null,null,null,null,null,null,null,"269.0","6.02",4,"6.0",3,"6.0",0,null,"6.0"]
[null,null,null,null,null,null,null,null,null,null,null,null,null,null,null,null,null,null,null,"270.0","4.81",4,"4.8",3,"4.8",0,null,"4.8"]
[null,null,null,null,null,null,null,null,null,null,null,null,null,null,null,null,null,null,null,"271.0","4.81",4,"4.8",3,"4.8",0,null,"4.8"]
[null,null,null,null,null,null,null,null,null,null,null,null,null,null,null,null,null,null,null,"272.0","4.81",4,"4.8",3,"4.8",0,null,"4.8"]
[null,null,null,null,null,null,null,null,null,null,null,null,null,null,null,null,null,null,null,"273.0","4.81",4,"4.8",3,"4.8",0,null,"4.8"]
[null,null,null,null,null,null,null,null,null,null,null,null,null,null,null,null,null,null,null,"274.0","4.81",4,"4.8",3,"4.8",{"$f":"R49","v":0},null,"4.8"]
[null,null,null,null,null,null,null,null,null,null,null,null,null,null,null,null,null,null,null,"275.0","5.68",4,"5.6",3,"5.6",0,null,"5.6"]
[null,null,null,null,null,null,null,null,null,null,null,null,null,null,null,null,null,null,null,"276.0","5.68",4,"5.6",3,"5.6",0,null,"5.6"]
[null,null,null,null,null,null,null,null,null,null,null,null,null,null,null,null,null,null,null,"277.0","5.68",4,"5.6",3,"5.6",0,null,"5.6"]
[null,null,null,null,null,null,null,null,null,null,null,null,null,null,null,null,null,null,null,"278.0","5.68",4,"5.6",3,"5.6",0,null,"5.6"]
[null,null,null,null,null,null,null,null,null,null,null,null,null,null,null,null,null,null,null,"279.0","5.68",4,"5.6",3,"5.6",0,null,"5.6"]
[null,null,null,null,null,null,null,null,null,null,null,null,null,null,null,null,null,null,null,"280.0","7.33",{"$f":"LEN(U649)","v":4},{"$f":"IF(V649=1,CONCATENATE(AB649,\".\",\"0\"),AB649)","v":"7.3"},{"$f":"LEN(W649)","v":3},{"$f":"IF(X649=2,CONCATENATE(W649,\".\",\"0\"),W649)","v":"7.3"},0,null,{"$f":"IF(Z649>9,MID(U649,1,4),MID(U649,1,3))","v":"7.3"}]
[null,null,null,null,null,null,null,null,null,null,null,null,null,null,null,null,null,null,null,"281.0","7.33",4,"7.3",3,"7.3",0,null,"7.3"]
[null,null,null,null,null,null,null,null,null,null,null,null,null,null,null,null,null,null,null,"282.0","7.33",4,"7.3",3,"7.3",0,null,"7.3"]
[null,null,null,null,null,null,null,null,null,null,null,null,null,null,null,null,null,null,null,"283.0","7.33",4,"7.3",3,"7.3",0,null,"7.3"]
[null,null,null,null,null,null,null,null,null,null,null,null,null,null,null,null,null,null,null,"284.0","7.33",4,"7.3",3,"7.3",0,null,"7.3"]
[null,null,null,null,null,null,null,null,null,null,null,null,null,null,null,null,null,null,null,"285.0","9.63",4,"9.6",3,"9.6",0,null,"9.6"]
[null,null,null,null,null,null,null,null,null,null,null,null,null,null,null,null,null,null,null,"286.0","9.63",4,"9.6",3,"9.6",0,null,"9.6"]
[null,null,null,null,null,null,null,null,null,null,null,null,null,null,null,null,null,null,null,"287.0","9.63",4,"9.6",3,"9.6",0,null,"9.6"]
[null,null,null,null,null,null,null,null,null,null,null,null,null,null,null,null,null,null,null,"288.0","9.63",4,"9.6",3,"9.6",0,null,"9.6"]
[null,null,null,null,null,null,null,null,null,null,null,null,null,null,null,null,null,null,null,"289.0","9.63",4,"9.6",3,"9.6",0,null,"9.6"]
[null,null,null,null,null,null,null,null,null,null,null,null,null,null,null,null,null,null,null,"290.0","7.74",4,"7.7",3,"7.7",0,null,"7.7"]
[null,null,null,null,null,null,null,null,null,null,null,null,null,null,null,null,null,null,null,"291.0","7.74",4,"7.7",3,"7.7",0,null,"7.7"]
[null,null,null,null,null,null,null,null,null,null,null,null,null,null,null,null,null,null,null,"292.0","7.74",4,"7.7",3,"7.7",0,null,"7.7"]
[null,null,null,null,null,null,null,null,null,null,null,null,null,null,null,null,null,null,null,"293.0","7.74",4,"7.7",3,"7.7",0,null,"7.7"]
[null,null,null,null,null,null,null,null,null,null,null,null,null,null,null,null,null,null,null,"294.0","7.74",4,"7.7",3,"7.7",0,null,"7.7"]
[null,null,null,null,null,null,null,null,null,null,null,null,null,null,null,null,null,null,null,"295.0","5.35",4,"5.3",3,"5.3",0,null,"5.3"]
[null,null,null,null,null,null,null,null,null,null,null,null,null,null,null,null,null,null,null,"296.0","5.35",4,"5.3",3,"5.3",0,null,"5.3"]
[null,null,null,null,null,null,null,null,null,null,null,null,null,null,null,null,null,null,null,"297.0","5.35",4,"5.3",3,"5.3",0,null,"5.3"]
[null,null,null,null,null,null,null,null,null,null,null,null,null,null,null,null,null,null,null,"298.0","5.35",4,"5.3",3,"5.3",0,null,"5.3"]
[null,null,null,null,null,null,null,null,null,null,null,null,null,null,null,null,null,null,null,"299.0","5.35",4,"5.3",3,"5.3",0,null,"5.3"]
[null,null,null,null,null,null,null,null,null,null,null,null,null,null,null,null,null,null,null,"300.0","3.88",4,"3.8",3,"3.8",0,null,"3.8"]
[null,null,null,null,null,null,null,null,null,null,null,null,null,null,null,null,null,null,null,"301.0","3.88",4,"3.8",3,"3.8",0,null,"3.8"]
[null,null,null,null,null,null,null,null,null,null,null,null,null,null,null,null,null,null,null,"302.0","3.88",4,"3.8",3,"3.8",0,null,"3.8"]
[null,null,null,null,null,null,null,null,null,null,null,null,null,null,null,null,null,null,null,"303.0","3.88",4,"3.8",3,"3.8",0,null,"3.8"]
[null,null,null,null,null,null,null,null,null,null,null,null,null,null,null,null,null,null,null,"304.0","3.88",4,"3.8",3,"3.8",0,null,"3.8"]
[null,null,null,null,null,null,null,null,null,null,null,null,null,null,null,null,null,null,null,"305.0","2.85",4,"2.8",3,"2.8",0,null,"2.8"]
[null,null,null,null,null,null,null,null,null,null,null,null,null,null,null,null,null,null,null,"306.0","2.85",4,"2.8",3,"2.8",{"$f":"R81","v":0},null,"2.8"]
[null,null,null,null,null,null,null,null,null,null,null,null,null,null,null,null,null,null,null,"307.0","2.85",4,"2.8",3,"2.8",0,null,"2.8"]
[null,null,null,null,null,null,null,null,null,null,null,null,null,null,null,null,null,null,null,"308.0","2.85",4,"2.8",3,"2.8",0,null,"2.8"]
[null,null,null,null,null,null,null,null,null,null,null,null,null,null,null,null,null,null,null,"309.0","2.85",4,"2.8",3,"2.8",0,null,"2.8"]
[null,null,null,null,null,null,null,null,null,null,null,null,null,null,null,null,null,null,null,"310.0","1.83",4,"1.8",3,"1.8",0,null,"1.8"]
[null,null,null,null,null,null,null,null,null,null,null,null,null,null,null,null,null,null,null,"311.0","1.83",4,"1.8",3,"1.8",0,null,"1.8"]
[null,null,null,null,null,null,null,null,null,null,null,null,null,null,null,null,null,null,null,"312.0","1.83",4,"1.8",3,"1.8",0,null,"1.8"]
[null,null,null,null,null,null,null,null,null,null,null,null,null,null,null,null,null,null,null,"313.0","1.83",4,"1.8",3,"1.8",0,null,"1.8"]
[null,null,null,null,null,null,null,null,null,null,null,null,null,null,null,null,null,null,null,"314.0","1.83",4,"1.8",3,"1.8",0,null,"1.8"]
[null,null,null,null,null,null,null,null,null,null,null,null,null,null,null,null,null,null,null,"315.0","1.21",4,"1.2",3,"1.2",0,null,"1.2"]
[null,null,null,null,null,null,null,null,null,null,null,null,null,null,null,null,null,null,null,"316.0","1.21",4,"1.2",3,"1.2",0,null,"1.2"]
[null,null,null,null,null,null,null,null,null,null,null,null,null,null,null,null,null,null,null,"317.0","1.21",4,"1.2",3,"1.2",0,null,"1.2"]
[null,null,null,null,null,null,null,null,null,null,null,null,null,null,null,null,null,null,null,"318.0","1.21",4,"1.2",3,"1.2",0,null,"1.2"]
[null,null,null,null,null,null,null,null,null,null,null,null,null,null,null,null,null,null,null,"319.0","1.21",4,"1.2",3,"1.2",0,null,"1.2"]
[null,null,null,null,null,null,null,null,null,null,null,null,null,null,null,null,null,null,null,"320.0","0.92",4,"0.9",3,"0.9",0,null,"0.9"]
[null,null,null,null,null,null,null,null,null,null,null,null,null,null,null,null,null,null,null,"321.0","0.92",4,"0.9",3,"0.9",0,null,"0.9"]
[null,null,null,null,null,null,null,null,null,null,null,null,null,null,null,null,null,null,null,"322.0","0.92",4,"0.9",3,"0.9",0,null,"0.9"]
[null,null,null,null,null,null,null,null,null,null,null,null,null,null,null,null,null,null,null,"323.0","0.92",4,"0.9",3,"0.9",0,null,"0.9"]
[null,null,null,null,null,null,null,null,null,null,null,null,null,null,null,null,null,null,null,"324.0","0.92",4,"0.9",3,"0.9",0,null,"0.9"]
[null,null,null,null,null,null,null,null,null,null,null,null,null,null,null,null,null,null,null,"325.0","0.82",4,"0.8",3,"0.8",0,null,"0.8"]
[null,null,null,null,null,null,null,null,null,null,null,null,null,null,null,null,null,null,null,"326.0","0.82",4,"0.8",3,"0.8",0,null,"0.8"]
[null,null,null,null,null,null,null,null,null,null,null,null,null,null,null,null,null,null,null,"327.0","0.82",4,"0.8",3,"0.8",0,null,"0.8"]
[null,null,null,null,null,null,null,null,null,null,null,null,null,null,null,null,null,null,null,"328.0","0.82",4,"0.8",3,"0.8",0,null,"0.8"]
[null,null,null,null,null,null,null,null,null,null,null,null,null,null,null,null,null,null,null,"329.0","0.82",4,"0.8",3,"0.8",0,null,"0.8"]
[null,null,null,null,null,null,null,null,null,null,null,null,null,null,null,null,null,null,null,"330.0","0.63",4,"0.6",3,"0.6",0,null,"0.6"]
[null,null,null,null,null,null,null,null,null,null,null,null,null,null,null,null,null,null,null,"331.0","0.63",4,"0.6",3,"0.6",0,null,"0.6"]
[null,null,null,null,null,null,null,null,null,null,null,null,null,null,null,null,null,null,null,"332.0","0.63",4,"0.6",3,"0.6",0,null,"0.6"]
[null,null,null,null,null,null,null,null,null,null,null,null,null,null,null,null,null,null,null,"333.0","0.63",4,"0.6",3,"0.6",0,null,"0.6"]
[null,null,null,null,null,null,null,null,null,null,null,null,null,null,null,null,null,null,null,"334.0","0.63",4,"0.6",3,"0.6",0,null,"0.6"]
[null,null,null,null,null,null,null,null,null,null,null,null,null,null,null,null,null,null,null,"335.0","0.45",4,"0.4",3,"0.4",0,null,"0.4"]
[null,null,null,null,null,null,null,null,null,null,null,null,null,null,null,null,null,null,null,"336.0","0.45",4,"0.4",3,"0.4",0,null,"0.4"]
[null,null,null,null,null,null,null,null,null,null,null,null,null,null,null,null,null,null,null,"337.0","0.45",4,"0.4",3,"0.4",0,null,"0.4"]
[null,null,null,null,null,null,null,null,null,null,null,null,null,null,null,null,null,null,null,"338.0","0.45",4,"0.4",3,"0.4",{"$f":"R113","v":0},null,"0.4"]
[null,null,null,null,null,null,null,null,null,null,null,null,null,null,null,null,null,null,null,"339.0","0.45",4,"0.4",3,"0.4",0,null,"0.4"]
[null,null,null,null,null,null,null,null,null,null,null,null,null,null,null,null,null,null,null,"340.0","0.45",4,"0.4",3,"0.4",0,null,"0.4"]
[null,null,null,null,null,null,null,null,null,null,null,null,null,null,null,null,null,null,null,"341.0","0.45",4,"0.4",3,"0.4",0,null,"0.4"]
[null,null,null,null,null,null,null,null,null,null,null,null,null,null,null,null,null,null,null,"342.0","0.45",4,"0.4",3,"0.4",0,null,"0.4"]
[null,null,null,null,null,null,null,null,null,null,null,null,null,null,null,null,null,null,null,"343.0","0.45",4,"0.4",3,"0.4",0,null,"0.4"]
[null,null,null,null,null,null,null,null,null,null,null,null,null,null,null,null,null,null,null,"344.0","0.45",{"$f":"LEN(U713)","v":4},{"$f":"IF(V713=1,CONCATENATE(AB713,\".\",\"0\"),AB713)","v":"0.4"},{"$f":"LEN(W713)","v":3},{"$f":"IF(X713=2,CONCATENATE(W713,\".\",\"0\"),W713)","v":"0.4"},0,null,{"$f":"IF(Z713>9,MID(U713,1,4),MID(U713,1,3))","v":"0.4"}]
[null,null,null,null,null,null,null,null,null,null,null,null,null,null,null,null,null,null,null,"345.0","0.26",4,"0.2",3,"0.2",0,null,"0.2"]
[null,null,null,null,null,null,null,null,null,null,null,null,null,null,null,null,null,null,null,"346.0","0.26",4,"0.2",3,"0.2",0,null,"0.2"]
[null,null,null,null,null,null,null,null,null,null,null,null,null,null,null,null,null,null,null,"347.0","0.26",4,"0.2",3,"0.2",0,null,"0.2"]
[null,null,null,null,null,null,null,null,null,null,null,null,null,null,null,null,null,null,null,"348.0","0.26",4,"0.2",3,"0.2",0,null,"0.2"]
[null,null,null,null,null,null,null,null,null,null,null,null,null,null,null,null,null,null,null,"349.0","0.26",4,"0.2",3,"0.2",0,null,"0.2"]
[null,null,null,null,null,null,null,null,null,null,null,null,null,null,null,null,null,null,null,"350.0","0",1,"0.0",3,"0.0",0,null,"0"]
[null,null,null,null,null,null,null,null,null,null,null,null,null,null,null,null,null,null,null,"351.0","0",1,"0.0",3,"0.0",0,null,"0"]
[null,null,null,null,null,null,null,null,null,null,null,null,null,null,null,null,null,null,null,"352.0","0",1,"0.0",3,"0.0",0,null,"0"]
[null,null,null,null,null,null,null,null,null,null,null,null,null,null,null,null,null,null,null,"353.0","0",1,"0.0",3,"0.0",0,null,"0"]
[null,null,null,null,null,null,null,null,null,null,null,null,null,null,null,null,null,null,null,"354.0","0",1,"0.0",3,"0.0",0,null,"0"]
[null,null,null,null,null,null,null,null,null,null,null,null,null,null,null,null,null,null,null,"355.0","0",1,"0.0",3,"0.0",0,null,"0"]
[null,null,null,null,null,null,null,null,null,null,null,null,null,null,null,null,null,null,null,"356.0","0",1,"0.0",3,"0.0",0,null,"0"]
[null,null,null,null,null,null,null,null,null,null,null,null,null,null,null,null,null,null,null,"357.0","0",1,"0.0",3,"0.0",0,null,"0"]
[null,null,null,null,null,null,null,null,null,null,null,null,null,null,null,null,null,null,null,"358.0","0",1,"0.0",3,"0.0",0,null,"0"]
[null,null,null,null,null,null,null,null,null,null,null,null,null,null,null,null,null,null,null,"359.0","0",1,"0.0",3,"0.0",0,null,"0"]

{"sheet":"Transmoviles","index":4,"n_rows":91,"n_cols":27,"rows_kept":91,"cut":false,"hidden":false,"merged":[[59,6,59,10],[60,6,60,10],[61,6,61,10],[62,6,62,10],[63,6,63,10],[64,6,64,10],[65,6,65,10],[103,1,103,2],[104,1,104,2],[91,1,91,2],[92,1,92,2],[93,1,93,2],[94,1,94,2],[95,1,95,2],[96,1,96,2],[97,1,97,2],[98,1,98,2],[99,1,99,2],[81,5,81,6],[82,5,82,6],[83,5,83,6],[74,5,74,6],[75,5,75,6],[76,5,76,6],[100,1,100,2],[101,1,101,2],[102,1,102,2],[85,3,85,4],[80,3,80,4],[81,3,81,4],[82,3,82,4],[83,3,83,4],[84,3,84,4],[75,3,75,4],[76,3,76,4],[77,3,77,4],[78,3,78,4],[79,3,79,4],[74,3,74,4],[84,5,84,6],[29,5,29,6],[34,0,34,8],[35,0,35,8],[30,5,30,6],[31,5,31,6],[32,5,32,6],[59,1,59,3],[60,1,60,3],[61,1,61,3],[66,6,66,8],[62,1,62,3],[63,1,63,3],[64,1,64,3],[65,1,65,3],[66,1,66,3],[67,0,67,23],[68,0,69,23],[73,27,73,28],[73,29,73,30],[89,0,90,0],[89,1,89,2],[90,4,90,5],[90,6,90,7],[90,8,90,9],[90,10,90,11],[90,12,90,13],[90,14,90,15],[90,16,90,17],[89,4,89,17],[88,0,88,17],[88,18,90,18],[89,3,90,3],[85,5,85,6],[79,5,79,6],[80,5,80,6],[77,5,77,6],[78,5,78,6],[71,22,73,23],[74,22,74,23],[75,22,75,23],[76,22,76,23],[18,0,18,23],[17,0,17,23],[26,0,27,0],[26,1,27,1],[5,0,5,23],[7,4,7,6],[9,1,9,4],[13,1,13,4],[15,1,15,2],[26,15,27,16],[24,0,24,23],[26,2,27,2],[26,7,27,7],[26,8,27,8],[26,9,27,9],[26,3,27,3],[26,4,27,4],[26,10,27,10],[25,0,25,23],[26,17,27,23],[26,11,26,12],[26,13,26,14],[26,5,27,6],[7,9,7,11],[72,9,72,10],[72,12,72,13],[71,16,73,16],[71,17,73,17],[71,18,72,21],[71,0,73,0],[71,3,73,4],[71,1,72,2],[71,5,73,6],[71,7,73,7],[71,8,73,8],[71,15,73,15],[71,9,71,14],[58,5,58,10],[28,15,28,16],[29,15,29,16],[30,15,30,16],[31,15,31,16],[32,15,32,16],[45,0,46,23],[36,8,37,8],[48,4,48,6],[48,9,48,11],[28,17,28,23],[29,17,29,23],[30,17,30,23],[31,17,31,23],[32,17,32,23],[44,0,44,23],[58,0,58,3],[36,0,37,0],[36,1,37,1],[36,2,37,2],[36,3,37,3],[36,4,36,5],[36,6,36,7],[28,5,28,6],[77,22,77,23],[79,22,79,23],[78,22,78,23],[80,22,80,23],[81,22,81,23],[82,22,82,23],[83,22,83,23],[84,22,84,23],[85,22,85,23]]}
[]
[]
[]
[]
["Versión 2.0"]
["1.0 IDENTIFICACIÓN DEL CONCESIONARIO"]
[null,null,null,null,null,null,null,null,null,null,null,null,null,null,null,null,null,null,null,null,null,null,null,null,null,{"$f":"LEN(E8)","v":0},{"$f":"IF(Z7<>5,1,0)","v":1}]
["Código del expediente",null,null,"Código Transmovil",null,null,null,null,"Nombre Emisora"]
[]
["Razón social",null,null,null,null,null,"NIT o C.C"]
[]
["Departamento Concesión",null,null,"Municipio Concesión",null,null,"Código DANE",{"$f":"VLOOKUP(E12,'DANE-OK'!A36:E1157,4,FALSE)","v":{"$error":"#N/A"}}]
[]
["e-mail del concesionario",null,null,null,null,null,"Distintivo de Llamada"]
[]
["Celular del representante legal",null,null,null,null,null,null,null,null,null,null,null,null,null,null,null,null,null,null,null,null,null,null,null,null,{"$f":"LEN(B16)","v":0}]
[]
["2.0 EQUIPOS A UTILIZAR"]
["A continuación relacione los Repetidores - Receptores y Antenas de las cuales va a ser uso en la red (es) solicitadas"]
[null,null,null,null,null,null,null,null,null,null,null,null,null,null,null,null,null,null,null,null,null,null,null,null,{"$f":"ISBLANK(B21)","v":false}]
["Radios  a Utilizar",2]
[]
["Antenas a Utilizar",2]
[]
["2.0a RADIOS A UTILIZAR"]
["OBSERVACIÖN:"]
["# de RADIO","MARCA","MODELO","Tx / Rx","Tipo de Señal","Ancho de Banda Necesario (KHz)",null,"No de Canales o Capacidad","Tipo de Información a Transmitir","Modulación","Código de Emisión","Rango de Frecuencia",null,"Rango de Potencia",null,"Receptor\nSensibilidad\n(dBm)",null,"URL Catalogo Equipo"]
[null,null,null,null,null,null,null,null,null,null,null,"Superior (MHz)","Inferior (Mhz)","Superior (W)","Inferior (W)"]
[{"$f":"IF(B21>=1,\"R1\",\" \")","v":"R1"}]
[{"$f":"IF(B21>=2,\"R2\",\" \")","v":"R2"}]
[{"$f":"IF(B21>=3,\"R3\",\" \")","v":" "}]
[{"$f":"IF(B21>=4,\"R4\",\" \")","v":" "}]
[{"$f":"IF(B21>=5,\"R5\",\" \")","v":" "}]
[null,null,null,null,null,null,null,null,null,null,null,null,null,null,null,null,null,null,null,null,null,null,null,null,{"$f":"ISBLANK(B23)","v":false}]
["2.0 b. ANTENAS A UTILIZAR"]
["OBSERVACION:"]
["# ANTENAS","MARCA","MODELO","TIPO DE ANTENA","RANGO DE FRECUENCIA",null,"Ganancia",null,"Polarización"]
[null,null,null,null,"Superior MHz","Inferior MHz","Valor","dBd / dBi"]
[{"$f":"IF($B$23>=1,\"A1\",\" \")","v":"A1"}]
[{"$f":"IF($B$23>=1,\"A2\",\" \")","v":"A2"}]
[{"$f":"IF($B$23>=1,\"A3\",\" \")","v":"A3"}]
[{"$f":"IF($B$23>=1,\"A4\",\" \")","v":"A4"}]
[{"$f":"IF($B$23>=1,\"A5\",\" \")","v":"A5"}]
[]
["3.0 SOLICITUD O MODIFICACIÓN DE FRECUENCIAS"]
["Observación:"]
[]
[null,null,null,null,null,null,null,null,null,null,null,null,null,null,null,null,null,null,null,null,null,null,null,null,{"$f":"ISBLANK(B49)","v":false}]
["Solicitud de Nuevas Frecuencias","SI",null,null,"TOPOLOGIA A",null,null,null,null,"TOPOLOGIA  B",null,null,null,null,null,null,null,null,null,null,null,null,null,null,{"$f":"ISBLANK(B50)","v":false}]
["Modificación de Frecuencias","SI"]
[]
[]
[]
[]
[]
[]
[]
[]
["3.0 a. SOLICITUD DE FRECUENCIAS NUEVAS",null,null,null,null,"3.0 b. MODIFICACIÓN DE FRECUENCIAS"]
["No de RED","Cantidad de Frecuencias",null,null,null,"No de RED","Frecuencia a Modificar (MHz)"]
[]
[]
[]
[]
[]
[]
[]
["4.0 INFORMACIÓN RELATIVA A LAS ESTACIONES"]
["Observación:"]
[]
[]
["No de RED","CORRELACIÓN",null,"TIPO DE ESTACIÓN",null,"UBICACIÓN / DIRECCIÓN ESTACIONES FIJAS",null,"DEPTO","MUNICIPIO","COORDENADAS GEOGRAFICAS - WGS 84",null,null,null,null,null,"Altura del Sitio (msnm)","Potencia Tx del Equipo (W)","Pérdidas Generales Tx (dB)","ANTENA",null,null,null,"Frecuencia Sugerida (MHz)"]
[null,null,null,null,null,null,null,null,null,"LATITUD",null,"N","LONGITUD",null,"W"]
[null,"RADIO","ANTENA",null,null,null,null,null,null,"°","´","\"","°","´","\"",null,null,null,"Acimut°","Tilt°","Pol","Altura (m)"]
[]
[]
[]
[]
[]
[]
[]
[]
[]
[]
[]
[]
[]
[]
["4.0 a. TIPO DE RED, MODALIDAD Y ÁREA DE SERVICIO",null,null,null,null,null,null,null,null,null,null,null,null,null,null,null,null,null,"Observación"]
["No de RED","TIPO DE RED",null,"MODALIDAD","AREA DE SERVICIO"]
[null,"PUNTO A PUNTO","PUNTO A ZONA",null,"Departamento y Municipio 1",null,"Departamento y Municipio 2",null,"Departamento y Municipio 3",null,"Departamento y Municipio 4",null,"Departamento y Municipio 5",null,"Departamento y Municipio 6",null,"Departamento y Municipio 7"]

{"sheet":"cubrimiento","index":5,"n_rows":726,"n_cols":2,"rows_kept":726,"cut":false,"hidden":true,"merged":[]}
["NAME",{"$f":"'Patrones Cubrimiento'!U1","v":0}]
["FREQUENCY",{"$f":"'Patrones Cubrimiento'!U2","v":0}]
["GAIN dBd",{"$f":"'Patrones Cubrimiento'!U3","v":0}]
["TILT","ELECTRICAL"]
["HORIZONTAL",360]
["0.0",{"$f":"'Patrones Cubrimiento'!Y7","v":"0.0"}]
["1.0",{"$f":"'Patrones Cubrimiento'!Y8","v":"0.0"}]
["2.0",{"$f":"'Patrones Cubrimiento'!Y9","v":"0.0"}]
["3.0",{"$f":"'Patrones Cubrimiento'!Y10","v":"0.0"}]
["4.0",{"$f":"'Patrones Cubrimiento'!Y11","v":"0.0"}]
["5.0",{"$f":"'Patrones Cubrimiento'!Y12","v":"0.0"}]
["6.0",{"$f":"'Patrones Cubrimiento'!Y13","v":"0.0"}]
["7.0",{"$f":"'Patrones Cubrimiento'!Y14","v":"0.0"}]
["8.0",{"$f":"'Patrones Cubrimiento'!Y15","v":"0.0"}]
["9.0",{"$f":"'Patrones Cubrimiento'!Y16","v":"0.0"}]
["10.0",{"$f":"'Patrones Cubrimiento'!Y17","v":"0.0"}]
["11.0",{"$f":"'Patrones Cubrimiento'!Y18","v":"0.0"}]
["12.0",{"$f":"'Patrones Cubrimiento'!Y19","v":"0.0"}]
["13.0",{"$f":"'Patrones Cubrimiento'!Y20","v":"0.0"}]
["14.0",{"$f":"'Patrones Cubrimiento'!Y21","v":"0.0"}]
["15.0",{"$f":"'Patrones Cubrimiento'!Y22","v":"0.0"}]
["16.0",{"$f":"'Patrones Cubrimiento'!Y23","v":"0.0"}]
["17.0",{"$f":"'Patrones Cubrimiento'!Y24","v":"0.0"}]
["18.0",{"$f":"'Patrones Cubrimiento'!Y25","v":"0.0"}]
["19.0",{"$f":"'Patrones Cubrimiento'!Y26","v":"0.0"}]
["20.0",{"$f":"'Patrones Cubrimiento'!Y27","v":"0.0"}]
["21.0",{"$f":"'Patrones Cubrimiento'!Y28","v":"0.0"}]
["22.0",{"$f":"'Patrones Cubrimiento'!Y29","v":"0.0"}]
["23.0",{"$f":"'Patrones Cubrimiento'!Y30","v":"0.0"}]
["24.0",{"$f":"'Patrones Cubrimiento'!Y31","v":"0.0"}]
["25.0",{"$f":"'Patrones Cubrimiento'!Y32","v":"0.1"}]
["26.0",{"$f":"'Patrones Cubrimiento'!Y33","v":"0.1"}]
["27.0",{"$f":"'Patrones Cubrimiento'!Y34","v":"0.1"}]
["28.0",{"$f":"'Patrones Cubrimiento'!Y35","v":"0.1"}]
["29.0",{"$f":"'Patrones Cubrimiento'!Y36","v":"0.1"}]
["30.0",{"$f":"'Patrones Cubrimiento'!Y37","v":"0.1"}]
["31.0",{"$f":"'Patrones Cubrimiento'!Y38","v":"0.1"}]
["32.0",{"$f":"'Patrones Cubrimiento'!Y39","v":"0.1"}]
["33.0",{"$f":"'Patrones Cubrimiento'!Y40","v":"0.1"}]
["34.0",{"$f":"'Patrones Cubrimiento'!Y41","v":"0.8"}]
["35.0",{"$f":"'Patrones Cubrimiento'!Y42","v":"0.2"}]
["36.0",{"$f":"'Patrones Cubrimiento'!Y43","v":"0.2"}]
["37.0",{"$f":"'Patrones Cubrimiento'!Y44","v":"0.2"}]
["38.0",{"$f":"'Patrones Cubrimiento'!Y45","v":"0.2"}]
["39.0",{"$f":"'Patrones Cubrimiento'!Y46","v":"0.2"}]
["40.0",{"$f":"'Patrones Cubrimiento'!Y47","v":"0.2"}]
["41.0",{"$f":"'Patrones Cubrimiento'!Y48","v":"0.2"}]
["42.0",{"$f":"'Patrones Cubrimiento'!Y49","v":"0.2"}]
["43.0",{"$f":"'Patrones Cubrimiento'!Y50","v":"0.2"}]
["44.0",{"$f":"'Patrones Cubrimiento'!Y51","v":"0.2"}]
["45.0",{"$f":"'Patrones Cubrimiento'!Y52","v":"0.5"}]
["46.0",{"$f":"'Patrones Cubrimiento'!Y53","v":"0.5"}]
["47.0",{"$f":"'Patrones Cubrimiento'!Y54","v":"0.5"}]
["48.0",{"$f":"'Patrones Cubrimiento'!Y55","v":"0.5"}]
["49.0",{"$f":"'Patrones Cubrimiento'!Y56","v":"0.5"}]
["50.0",{"$f":"'Patrones Cubrimiento'!Y57","v":"0.6"}]
["51.0",{"$f":"'Patrones Cubrimiento'!Y58","v":"0.6"}]
["52.0",{"$f":"'Patrones Cubrimiento'!Y59","v":"0.6"}]
["53.0",{"$f":"'Patrones Cubrimiento'!Y60","v":"0.6"}]
["54.0",{"$f":"'Patrones Cubrimiento'!Y61","v":"0.6"}]
["55.0",{"$f":"'Patrones Cubrimiento'!Y62","v":"0.7"}]
["56.0",{"$f":"'Patrones Cubrimiento'!Y63","v":"0.7"}]
["57.0",{"$f":"'Patrones Cubrimiento'!Y64","v":"0.7"}]
["58.0",{"$f":"'Patrones Cubrimiento'!Y65","v":"0.7"}]
["59.0",{"$f":"'Patrones Cubrimiento'!Y66","v":"0.7"}]
["60.0",{"$f":"'Patrones Cubrimiento'!Y67","v":"0.7"}]
["61.0",{"$f":"'Patrones Cubrimiento'!Y68","v":"0.7"}]
["62.0",{"$f":"'Patrones Cubrimiento'!Y69","v":"0.7"}]
["63.0",{"$f":"'Patrones Cubrimiento'!Y70","v":"0.7"}]
["64.0",{"$f":"'Patrones Cubrimiento'!Y71","v":"0.7"}]
["65.0",{"$f":"'Patrones Cubrimiento'!Y72","v":"1.1"}]
["66.0",{"$f":"'Patrones Cubrimiento'!Y73","v":"1.1"}]
["67.0",{"$f":"'Patrones Cubrimiento'!Y74","v":"1.1"}]
["68.0",{"$f":"'Patrones Cubrimiento'!Y75","v":"1.1"}]
["69.0",{"$f":"'Patrones Cubrimiento'!Y76","v":"1.1"}]
["70.0",{"$f":"'Patrones Cubrimiento'!Y77","v":"1.1"}]
["71.0",{"$f":"'Patrones Cubrimiento'!Y78","v":"1.1"}]
["72.0",{"$f":"'Patrones Cubrimiento'!Y79","v":"1.1"}]
["73.0",{"$f":"'Patrones Cubrimiento'!Y80","v":"1.1"}]
["74.0",{"$f":"'Patrones Cubrimiento'!Y81","v":"1.1"}]
["75.0",{"$f":"'Patrones Cubrimiento'!Y82","v":"1.2"}]
["76.0",{"$f":"'Patrones Cubrimiento'!Y83","v":"1.2"}]
["77.0",{"$f":"'Patrones Cubrimiento'!Y84","v":"1.2"}]
["78.0",{"$f":"'Patrones Cubrimiento'!Y85","v":"1.2"}]
["79.0",{"$f":"'Patrones Cubrimiento'!Y86","v":"1.2"}]
["80.0",{"$f":"'Patrones Cubrimiento'!Y87","v":"1.5"}]
["81.0",{"$f":"'Patrones Cubrimiento'!Y88","v":"1.5"}]
["82.0",{"$f":"'Patrones Cubrimiento'!Y89","v":"1.5"}]
["83.0",{"$f":"'Patrones Cubrimiento'!Y90","v":"1.5"}]
["84.0",{"$f":"'Patrones Cubrimiento'!Y91","v":"1.5"}]
["85.0",{"$f":"'Patrones Cubrimiento'!Y92","v":"1.5"}]
["86.0",{"$f":"'Patrones Cubrimiento'!Y93","v":"1.5"}]
["87.0",{"$f":"'Patrones Cubrimiento'!Y94","v":"1.5"}]
["88.0",{"$f":"'Patrones Cubrimiento'!Y95","v":"1.5"}]
["89.0",{"$f":"'Patrones Cubrimiento'!Y96","v":"1.5"}]
["90.0",{"$f":"'Patrones Cubrimiento'!Y97","v":"1.9"}]
["91.0",{"$f":"'Patrones Cubrimiento'!Y98","v":"1.9"}]
["92.0",{"$f":"'Patrones Cubrimiento'!Y99","v":"1.9"}]
["93.0",{"$f":"'Patrones Cubrimiento'!Y100","v":"1.9"}]
["94.0",{"$f":"'Patrones Cubrimiento'!Y101","v":"1.9"}]
["95.0",{"$f":"'Patrones Cubrimiento'!Y102","v":"2.2"}]
["96.0",{"$f":"'Patrones Cubrimiento'!Y103","v":"2.2"}]
["97.0",{"$f":"'Patrones Cubrimiento'!Y104","v":"2.2"}]
["98.0",{"$f":"'Patrones Cubrimiento'!Y105","v":"2.2"}]
["99.0",{"$f":"'Patrones Cubrimiento'!Y106","v":"2.2"}]
["100.0",{"$f":"'Patrones Cubrimiento'!Y107","v":"2.3"}]
["101.0",{"$f":"'Patrones Cubrimiento'!Y108","v":"2.3"}]
["102.0",{"$f":"'Patrones Cubrimiento'!Y109","v":"2.3"}]
["103.0",{"$f":"'Patrones Cubrimiento'!Y110","v":"2.3"}]
["104.0",{"$f":"'Patrones Cubrimiento'!Y111","v":"2.3"}]
["105.0",{"$f":"'Patrones Cubrimiento'!Y112","v":"2.5"}]
["106.0",{"$f":"'Patrones Cubrimiento'!Y113","v":"2.5"}]
["107.0",{"$f":"'Patrones Cubrimiento'!Y114","v":"2.5"}]
["108.0",{"$f":"'Patrones Cubrimiento'!Y115","v":"2.5"}]
["109.0",{"$f":"'Patrones Cubrimiento'!Y116","v":"2.5"}]
["110.0",{"$f":"'Patrones Cubrimiento'!Y117","v":"2.6"}]
["111.0",{"$f":"'Patrones Cubrimiento'!Y118","v":"2.6"}]
["112.0",{"$f":"'Patrones Cubrimiento'!Y119","v":"2.6"}]
["113.0",{"$f":"'Patrones Cubrimiento'!Y120","v":"2.6"}]
["114.0",{"$f":"'Patrones Cubrimiento'!Y121","v":"2.6"}]
["115.0",{"$f":"'Patrones Cubrimiento'!Y122","v":"2.6"}]
["116.0",{"$f":"'Patrones Cubrimiento'!Y123","v":"2.6"}]
["117.0",{"$f":"'Patrones Cubrimiento'!Y124","v":"2.6"}]
["118.0",{"$f":"'Patrones Cubrimiento'!Y125","v":"2.6"}]
["119.0",{"$f":"'Patrones Cubrimiento'!Y126","v":"2.6"}]
["120.0",{"$f":"'Patrones Cubrimiento'!Y127","v":"2.7"}]
["121.0",{"$f":"'Patrones Cubrimiento'!Y128","v":"2.7"}]
["122.0",{"$f":"'Patrones Cubrimiento'!Y129","v":"2.7"}]
["123.0",{"$f":"'Patrones Cubrimiento'!Y130","v":"2.7"}]
["124.0",{"$f":"'Patrones Cubrimiento'!Y131","v":"2.7"}]
["125.0",{"$f":"'Patrones Cubrimiento'!Y132","v":"2.7"}]
["126.0",{"$f":"'Patrones Cubrimiento'!Y133","v":"2.7"}]
["127.0",{"$f":"'Patrones Cubrimiento'!Y134","v":"2.7"}]
["128.0",{"$f":"'Patrones Cubrimiento'!Y135","v":"2.7"}]
["129.0",{"$f":"'Patrones Cubrimiento'!Y136","v":"2.7"}]
["130.0",{"$f":"'Patrones Cubrimiento'!Y137","v":"2.9"}]
["131.0",{"$f":"'Patrones Cubrimiento'!Y138","v":"2.9"}]
["132.0",{"$f":"'Patrones Cubrimiento'!Y139","v":"2.9"}]
["133.0",{"$f":"'Patrones Cubrimiento'!Y140","v":"2.9"}]
["134.0",{"$f":"'Patrones Cubrimiento'!Y141","v":"2.9"}]
["135.0",{"$f":"'Patrones Cubrimiento'!Y142","v":"2.9"}]
["136.0",{"$f":"'Patrones Cubrimiento'!Y143","v":"2.9"}]
["137.0",{"$f":"'Patrones Cubrimiento'!Y144","v":"2.9"}]
["138.0",{"$f":"'Patrones Cubrimiento'!Y145","v":"2.9"}]
["139.0",{"$f":"'Patrones Cubrimiento'!Y146","v":"2.9"}]
["140.0",{"$f":"'Patrones Cubrimiento'!Y147","v":"3.3"}]
["141.0",{"$f":"'Patrones Cubrimiento'!Y148","v":"3.3"}]
["142.0",{"$f":"'Patrones Cubrimiento'!Y149","v":"3.3"}]
["143.0",{"$f":"'Patrones Cubrimiento'!Y150","v":"3.3"}]
["144.0",{"$f":"'Patrones Cubrimiento'!Y151","v":"3.3"}]
["145.0",{"$f":"'Patrones Cubrimiento'!Y152","v":"3.4"}]
["146.0",{"$f":"'Patrones Cubrimiento'!Y153","v":"3.4"}]
["147.0",{"$f":"'Patrones Cubrimiento'!Y154","v":"3.4"}]
["148.0",{"$f":"'Patrones Cubrimiento'!Y155","v":"3.4"}]
["149.0",{"$f":"'Patrones Cubrimiento'!Y156","v":"3.4"}]
["150.0",{"$f":"'Patrones Cubrimiento'!Y157","v":"3.8"}]
["151.0",{"$f":"'Patrones Cubrimiento'!Y158","v":"3.8"}]
["152.0",{"$f":"'Patrones Cubrimiento'!Y159","v":"3.8"}]
["153.0",{"$f":"'Patrones Cubrimiento'!Y160","v":"3.8"}]
["154.0",{"$f":"'Patrones Cubrimiento'!Y161","v":"3.8"}]
["155.0",{"$f":"'Patrones Cubrimiento'!Y162","v":"3.8"}]
["156.0",{"$f":"'Patrones Cubrimiento'!Y163","v":"3.8"}]
["157.0",{"$f":"'Patrones Cubrimiento'!Y164","v":"3.8"}]
["158.0",{"$f":"'Patrones Cubrimiento'!Y165","v":"3.8"}]
["159.0",{"$f":"'Patrones Cubrimiento'!Y166","v":"3.8"}]
["160.0",{"$f":"'Patrones Cubrimiento'!Y167","v":"3.8"}]
["161.0",{"$f":"'Patrones Cubrimiento'!Y168","v":"3.8"}]
["162.0",{"$f":"'Patrones Cubrimiento'!Y169","v":"3.8"}]
["163.0",{"$f":"'Patrones Cubrimiento'!Y170","v":"3.8"}]
["164.0",{"$f":"'Patrones Cubrimiento'!Y171","v":"3.8"}]
["165.0",{"$f":"'Patrones Cubrimiento'!Y172","v":"4.0"}]
["166.0",{"$f":"'Patrones Cubrimiento'!Y173","v":"4.0"}]
["167.0",{"$f":"'Patrones Cubrimiento'!Y174","v":"4.0"}]
["168.0",{"$f":"'Patrones Cubrimiento'!Y175","v":"4.0"}]
["169.0",{"$f":"'Patrones Cubrimiento'!Y176","v":"4.0"}]
["170.0",{"$f":"'Patrones Cubrimiento'!Y177","v":"4.5"}]
["171.0",{"$f":"'Patrones Cubrimiento'!Y178","v":"4.5"}]
["172.0",{"$f":"'Patrones Cubrimiento'!Y179","v":"4.5"}]
["173.0",{"$f":"'Patrones Cubrimiento'!Y180","v":"4.5"}]
["174.0",{"$f":"'Patrones Cubrimiento'!Y181","v":"4.5"}]
["175.0",{"$f":"'Patrones Cubrimiento'!Y182","v":"4.7"}]
["176.0",{"$f":"'Patrones Cubrimiento'!Y183","v":"4.7"}]
["177.0",{"$f":"'Patrones Cubrimiento'!Y184","v":"4.7"}]
["178.0",{"$f":"'Patrones Cubrimiento'!Y185","v":"4.7"}]
["179.0",{"$f":"'Patrones Cubrimiento'!Y186","v":"4.7"}]
["180.0",{"$f":"'Patrones Cubrimiento'!Y187","v":"4.7"}]
["181.0",{"$f":"'Patrones Cubrimiento'!Y188","v":"4.7"}]
["182.0",{"$f":"'Patrones Cubrimiento'!Y189","v":"4.7"}]
["183.0",{"$f":"'Patrones Cubrimiento'!Y190","v":"4.7"}]
["184.0",{"$f":"'Patrones Cubrimiento'!Y191","v":"4.7"}]
["185.0",{"$f":"'Patrones Cubrimiento'!Y192","v":"4.7"}]
["186.0",{"$f":"'Patrones Cubrimiento'!Y193","v":"4.7"}]
["187.0",{"$f":"'Patrones Cubrimiento'!Y194","v":"4.7"}]
["188.0",{"$f":"'Patrones Cubrimiento'!Y195","v":"4.7"}]
["189.0",{"$f":"'Patrones Cubrimiento'!Y196","v":"4.7"}]
["190.0",{"$f":"'Patrones Cubrimiento'!Y197","v":"4.5"}]
["191.0",{"$f":"'Patrones Cubrimiento'!Y198","v":"4.5"}]
["192.0",{"$f":"'Patrones Cubrimiento'!Y199","v":"4.5"}]
["193.0",{"$f":"'Patrones Cubrimiento'!Y200","v":"4.5"}]
["194.0",{"$f":"'Patrones Cubrimiento'!Y201","v":"4.5"}]
["195.0",{"$f":"'Patrones Cubrimiento'!Y202","v":"4.0"}]
["196.0",{"$f":"'Patrones Cubrimiento'!Y203","v":"4.0"}]
["197.0",{"$f":"'Patrones Cubrimiento'!Y204","v":"4.0"}]
["198.0",{"$f":"'Patrones Cubrimiento'!Y205","v":"4.0"}]
["199.0",{"$f":"'Patrones Cubrimiento'!Y206","v":"4.0"}]
["200.0",{"$f":"'Patrones Cubrimiento'!Y207","v":"3.8"}]
["201.0",{"$f":"'Patrones Cubrimiento'!Y208","v":"3.8"}]
["202.0",{"$f":"'Patrones Cubrimiento'!Y209","v":"3.8"}]
["203.0",{"$f":"'Patrones Cubrimiento'!Y210","v":"3.8"}]
["204.0",{"$f":"'Patrones Cubrimiento'!Y211","v":"3.8"}]
["205.0",{"$f":"'Patrones Cubrimiento'!Y212","v":"3.8"}]
["206.0",{"$f":"'Patrones Cubrimiento'!Y213","v":"3.8"}]
["207.0",{"$f":"'Patrones Cubrimiento'!Y214","v":"3.8"}]
["208.0",{"$f":"'Patrones Cubrimiento'!Y215","v":"3.8"}]
["209.0",{"$f":"'Patrones Cubrimiento'!Y216","v":"3.8"}]
["210.0",{"$f":"'Patrones Cubrimiento'!Y217","v":"3.8"}]
["211.0",{"$f":"'Patrones Cubrimiento'!Y218","v":"3.8"}]
["212.0",{"$f":"'Patrones Cubrimiento'!Y219","v":"3.8"}]
["213.0",{"$f":"'Patrones Cubrimiento'!Y220","v":"3.8"}]
["214.0",{"$f":"'Patrones Cubrimiento'!Y221","v":"3.8"}]
["215.0",{"$f":"'Patrones Cubrimiento'!Y222","v":"3.4"}]
["216.0",{"$f":"'Patrones Cubrimiento'!Y223","v":"3.4"}]
["217.0",{"$f":"'Patrones Cubrimiento'!Y224","v":"3.4"}]
["218.0",{"$f":"'Patrones Cubrimiento'!Y225","v":"3.4"}]
["219.0",{"$f":"'Patrones Cubrimiento'!Y226","v":"3.4"}]
["220.0",{"$f":"'Patrones Cubrimiento'!Y227","v":"3.3"}]
["221.0",{"$f":"'Patrones Cubrimiento'!Y228","v":"3.3"}]
["222.0",{"$f":"'Patrones Cubrimiento'!Y229","v":"3.3"}]
["223.0",{"$f":"'Patrones Cubrimiento'!Y230","v":"3.3"}]
["224.0",{"$f":"'Patrones Cubrimiento'!Y231","v":"3.3"}]
["225.0",{"$f":"'Patrones Cubrimiento'!Y232","v":"2.9"}]
["226.0",{"$f":"'Patrones Cubrimiento'!Y233","v":"2.9"}]
["227.0",{"$f":"'Patrones Cubrimiento'!Y234","v":"2.9"}]
["228.0",{"$f":"'Patrones Cubrimiento'!Y235","v":"2.9"}]
["229.0",{"$f":"'Patrones Cubrimiento'!Y236","v":"2.9"}]
["230.0",{"$f":"'Patrones Cubrimiento'!Y237","v":"2.9"}]
["231.0",{"$f":"'Patrones Cubrimiento'!Y238","v":"2.9"}]
["232.0",{"$f":"'Patrones Cubrimiento'!Y239","v":"2.9"}]
["233.0",{"$f":"'Patrones Cubrimiento'!Y240","v":"2.9"}]
["234.0",{"$f":"'Patrones Cubrimiento'!Y241","v":"2.9"}]
["235.0",{"$f":"'Patrones Cubrimiento'!Y242","v":"2.7"}]
["236.0",{"$f":"'Patrones Cubrimiento'!Y243","v":"2.7"}]
["237.0",{"$f":"'Patrones Cubrimiento'!Y244","v":"2.7"}]
["238.0",{"$f":"'Patrones Cubrimiento'!Y245","v":"2.7"}]
["239.0",{"$f":"'Patrones Cubrimiento'!Y246","v":"2.7"}]
["240.0",{"$f":"'Patrones Cubrimiento'!Y247","v":"2.7"}]
["241.0",{"$f":"'Patrones Cubrimiento'!Y248","v":"2.7"}]
["242.0",{"$f":"'Patrones Cubrimiento'!Y249","v":"2.7"}]
["243.0",{"$f":"'Patrones Cubrimiento'!Y250","v":"2.7"}]
["244.0",{"$f":"'Patrones Cubrimiento'!Y251","v":"2.7"}]
["245.0",{"$f":"'Patrones Cubrimiento'!Y252","v":"2.6"}]
["246.0",{"$f":"'Patrones Cubrimiento'!Y253","v":"2.6"}]
["247.0",{"$f":"'Patrones Cubrimiento'!Y254","v":"2.6"}]
["248.0",{"$f":"'Patrones Cubrimiento'!Y255","v":"2.6"}]
["249.0",{"$f":"'Patrones Cubrimiento'!Y256","v":"2.6"}]
["250.0",{"$f":"'Patrones Cubrimiento'!Y257","v":"2.6"}]
["251.0",{"$f":"'Patrones Cubrimiento'!Y258","v":"2.6"}]
["252.0",{"$f":"'Patrones Cubrimiento'!Y259","v":"2.6"}]
["253.0",{"$f":"'Patrones Cubrimiento'!Y260","v":"2.6"}]
["254.0",{"$f":"'Patrones Cubrimiento'!Y261","v":"2.6"}]
["255.0",{"$f":"'Patrones Cubrimiento'!Y262","v":"2.5"}]
["256.0",{"$f":"'Patrones Cubrimiento'!Y263","v":"2.5"}]
["257.0",{"$f":"'Patrones Cubrimiento'!Y264","v":"2.5"}]
["258.0",{"$f":"'Patrones Cubrimiento'!Y265","v":"2.5"}]
["259.0",{"$f":"'Patrones Cubrimiento'!Y266","v":"2.5"}]
["260.0",{"$f":"'Patrones Cubrimiento'!Y267","v":"2.3"}]
["261.0",{"$f":"'Patrones Cubrimiento'!Y268","v":"2.3"}]
["262.0",{"$f":"'Patrones Cubrimiento'!Y269","v":"2.3"}]
["263.0",{"$f":"'Patrones Cubrimiento'!Y270","v":"2.3"}]
["264.0",{"$f":"'Patrones Cubrimiento'!Y271","v":"2.3"}]
["265.0",{"$f":"'Patrones Cubrimiento'!Y272","v":"2.2"}]
["266.0",{"$f":"'Patrones Cubrimiento'!Y273","v":"1.9"}]
["267.0",{"$f":"'Patrones Cubrimiento'!Y274","v":"1.9"}]
["268.0",{"$f":"'Patrones Cubrimiento'!Y275","v":"1.9"}]
["269.0",{"$f":"'Patrones Cubrimiento'!Y276","v":"1.9"}]
["270.0",{"$f":"'Patrones Cubrimiento'!Y277","v":"1.9"}]
["271.0",{"$f":"'Patrones Cubrimiento'!Y278","v":"1.9"}]
["272.0",{"$f":"'Patrones Cubrimiento'!Y279","v":"1.9"}]
["273.0",{"$f":"'Patrones Cubrimiento'!Y280","v":"1.9"}]
["274.0",{"$f":"'Patrones Cubrimiento'!Y281","v":"1.9"}]
["275.0",{"$f":"'Patrones Cubrimiento'!Y282","v":"1.5"}]
["276.0",{"$f":"'Patrones Cubrimiento'!Y283","v":"1.5"}]
["277.0",{"$f":"'Patrones Cubrimiento'!Y284","v":"1.5"}]
["278.0",{"$f":"'Patrones Cubrimiento'!Y285","v":"1.5"}]
["279.0",{"$f":"'Patrones Cubrimiento'!Y286","v":"1.5"}]
["280.0",{"$f":"'Patrones Cubrimiento'!Y287","v":"1.5"}]
["281.0",{"$f":"'Patrones Cubrimiento'!Y288","v":"1.5"}]
["282.0",{"$f":"'Patrones Cubrimiento'!Y289","v":"1.5"}]
["283.0",{"$f":"'Patrones Cubrimiento'!Y290","v":"1.5"}]
["284.0",{"$f":"'Patrones Cubrimiento'!Y291","v":"1.5"}]
["285.0",{"$f":"'Patrones Cubrimiento'!Y292","v":"1.5"}]
["286.0",{"$f":"'Patrones Cubrimiento'!Y293","v":"1.5"}]
["287.0",{"$f":"'Patrones Cubrimiento'!Y294","v":"1.5"}]
["288.0",{"$f":"'Patrones Cubrimiento'!Y295","v":"1.5"}]
["289.0",{"$f":"'Patrones Cubrimiento'!Y296","v":"1.5"}]
["290.0",{"$f":"'Patrones Cubrimiento'!Y297","v":"1.1"}]
["291.0",{"$f":"'Patrones Cubrimiento'!Y298","v":"1.1"}]
["292.0",{"$f":"'Patrones Cubrimiento'!Y299","v":"1.1"}]
["293.0",{"$f":"'Patrones Cubrimiento'!Y300","v":"1.1"}]
["294.0",{"$f":"'Patrones Cubrimiento'!Y301","v":"1.1"}]
["295.0",{"$f":"'Patrones Cubrimiento'!Y302","v":"1.1"}]
["296.0",{"$f":"'Patrones Cubrimiento'!Y303","v":"1.1"}]
["297.0",{"$f":"'Patrones Cubrimiento'!Y304","v":"1.1"}]
["298.0",{"$f":"'Patrones Cubrimiento'!Y305","v":"1.1"}]
["299.0",{"$f":"'Patrones Cubrimiento'!Y306","v":"1.1"}]
["300.0",{"$f":"'Patrones Cubrimiento'!Y307","v":"0.7"}]
["301.0",{"$f":"'Patrones Cubrimiento'!Y308","v":"0.7"}]
["302.0",{"$f":"'Patrones Cubrimiento'!Y309","v":"0.7"}]
["303.0",{"$f":"'Patrones Cubrimiento'!Y310","v":"0.7"}]
["304.0",{"$f":"'Patrones Cubrimiento'!Y311","v":"0.7"}]
["305.0",{"$f":"'Patrones Cubrimiento'!Y312","v":"0.7"}]
["306.0",{"$f":"'Patrones Cubrimiento'!Y313","v":"0.7"}]
["307.0",{"$f":"'Patrones Cubrimiento'!Y314","v":"0.7"}]
["308.0",{"$f":"'Patrones Cubrimiento'!Y315","v":"0.7"}]
["309.0",{"$f":"'Patrones Cubrimiento'!Y316","v":"0.7"}]
["310.0",{"$f":"'Patrones Cubrimiento'!Y317","v":"0.6"}]
["311.0",{"$f":"'Patrones Cubrimiento'!Y318","v":"0.6"}]
["312.0",{"$f":"'Patrones Cubrimiento'!Y319","v":"0.6"}]
["313.0",{"$f":"'Patrones Cubrimiento'!Y320","v":"0.6"}]
["314.0",{"$f":"'Patrones Cubrimiento'!Y321","v":"0.6"}]
["315.0",{"$f":"'Patrones Cubrimiento'!Y322","v":"0.5"}]
["316.0",{"$f":"'Patrones Cubrimiento'!Y323","v":"0.5"}]
["317.0",{"$f":"'Patrones Cubrimiento'!Y324","v":"0.5"}]
["318.0",{"$f":"'Patrones Cubrimiento'!Y325","v":"0.5"}]
["319.0",{"$f":"'Patrones Cubrimiento'!Y326","v":"0.5"}]
["320.0",{"$f":"'Patrones Cubrimiento'!Y327","v":"0.2"}]
["321.0",{"$f":"'Patrones Cubrimiento'!Y328","v":"0.2"}]
["322.0",{"$f":"'Patrones Cubrimiento'!Y329","v":"0.2"}]
["323.0",{"$f":"'Patrones Cubrimiento'!Y330","v":"0.2"}]
["324.0",{"$f":"'Patrones Cubrimiento'!Y331","v":"0.2"}]
["325.0",{"$f":"'Patrones Cubrimiento'!Y332","v":"0.2"}]
["326.0",{"$f":"'Patrones Cubrimiento'!Y333","v":"0.2"}]
["327.0",{"$f":"'Patrones Cubrimiento'!Y334","v":"0.2"}]
["328.0",{"$f":"'Patrones Cubrimiento'!Y335","v":"0.2"}]
["329.0",{"$f":"'Patrones Cubrimiento'!Y336","v":"0.2"}]
["330.0",{"$f":"'Patrones Cubrimiento'!Y337","v":"0.1"}]
["331.0",{"$f":"'Patrones Cubrimiento'!Y338","v":"0.1"}]
["332.0",{"$f":"'Patrones Cubrimiento'!Y339","v":"0.1"}]
["333.0",{"$f":"'Patrones Cubrimiento'!Y340","v":"0.1"}]
["334.0",{"$f":"'Patrones Cubrimiento'!Y341","v":"0.1"}]
["335.0",{"$f":"'Patrones Cubrimiento'!Y342","v":"0.1"}]
["336.0",{"$f":"'Patrones Cubrimiento'!Y343","v":"0.1"}]
["337.0",{"$f":"'Patrones Cubrimiento'!Y344","v":"0.1"}]
["338.0",{"$f":"'Patrones Cubrimiento'!Y345","v":"0.1"}]
["339.0",{"$f":"'Patrones Cubrimiento'!Y346","v":"0.1"}]
["340.0",{"$f":"'Patrones Cubrimiento'!Y347","v":"0.0"}]
["341.0",{"$f":"'Patrones Cubrimiento'!Y348","v":"0.0"}]
["342.0",{"$f":"'Patrones Cubrimiento'!Y349","v":"0.0"}]
["343.0",{"$f":"'Patrones Cubrimiento'!Y350","v":"0.0"}]
["344.0",{"$f":"'Patrones Cubrimiento'!Y351","v":"0.0"}]
["345.0",{"$f":"'Patrones Cubrimiento'!Y352","v":"0.0"}]
["346.0",{"$f":"'Patrones Cubrimiento'!Y353","v":"0.0"}]
["347.0",{"$f":"'Patrones Cubrimiento'!Y354","v":"0.0"}]
["348.0",{"$f":"'Patrones Cubrimiento'!Y355","v":"0.0"}]
["349.0",{"$f":"'Patrones Cubrimiento'!Y356","v":"0.0"}]
["350.0",{"$f":"'Patrones Cubrimiento'!Y357","v":"0.0"}]
["351.0",{"$f":"'Patrones Cubrimiento'!Y358","v":"0.0"}]
["352.0",{"$f":"'Patrones Cubrimiento'!Y359","v":"0.0"}]
["353.0",{"$f":"'Patrones Cubrimiento'!Y360","v":"0.0"}]
["354.0",{"$f":"'Patrones Cubrimiento'!Y361","v":"0.0"}]
["355.0",{"$f":"'Patrones Cubrimiento'!Y362","v":"0.0"}]
["356.0",{"$f":"'Patrones Cubrimiento'!Y363","v":"0.0"}]
["357.0",{"$f":"'Patrones Cubrimiento'!Y364","v":"0.0"}]
["358.0",{"$f":"'Patrones Cubrimiento'!Y365","v":"0.0"}]
["359.0",{"$f":"'Patrones Cubrimiento'!Y366","v":"0.0"}]
["VERTICAL",{"$f":"'Patrones Cubrimiento'!Y367","v":"360"}]
["0.0",{"$f":"'Patrones Cubrimiento'!Y368","v":"0.0"}]
["1.0",{"$f":"'Patrones Cubrimiento'!Y369","v":"0.0"}]
["2.0",{"$f":"'Patrones Cubrimiento'!Y370","v":"0.0"}]
["3.0",{"$f":"'Patrones Cubrimiento'!Y371","v":"0.0"}]
["4.0",{"$f":"'Patrones Cubrimiento'!Y372","v":"0.0"}]
["5.0",{"$f":"'Patrones Cubrimiento'!Y373","v":"0.9"}]
["6.0",{"$f":"'Patrones Cubrimiento'!Y374","v":"0.9"}]
["7.0",{"$f":"'Patrones Cubrimiento'!Y375","v":"0.9"}]
["8.0",{"$f":"'Patrones Cubrimiento'!Y376","v":"0.9"}]
["9.0",{"$f":"'Patrones Cubrimiento'!Y377","v":"0.9"}]
["10.0",{"$f":"'Patrones Cubrimiento'!Y378","v":"4.4"}]
["11.0",{"$f":"'Patrones Cubrimiento'!Y379","v":"4.4"}]
["12.0",{"$f":"'Patrones Cubrimiento'!Y380","v":"4.4"}]
["13.0",{"$f":"'Patrones Cubrimiento'!Y381","v":"4.4"}]
["14.0",{"$f":"'Patrones Cubrimiento'!Y382","v":"4.4"}]
["15.0",{"$f":"'Patrones Cubrimiento'!Y383","v":"10."}]
["16.0",{"$f":"'Patrones Cubrimiento'!Y384","v":"10."}]
["17.0",{"$f":"'Patrones Cubrimiento'!Y385","v":"10."}]
["18.0",{"$f":"'Patrones Cubrimiento'!Y386","v":"10."}]
["19.0",{"$f":"'Patrones Cubrimiento'!Y387","v":"10."}]
["20.0",{"$f":"'Patrones Cubrimiento'!Y388","v":"30."}]
["21.0",{"$f":"'Patrones Cubrimiento'!Y389","v":"30."}]
["22.0",{"$f":"'Patrones Cubrimiento'!Y390","v":"30."}]
["23.0",{"$f":"'Patrones Cubrimiento'!Y391","v":"30."}]
["24.0",{"$f":"'Patrones Cubrimiento'!Y392","v":"30."}]
["25.0",{"$f":"'Patrones Cubrimiento'!Y393","v":"13."}]
["26.0",{"$f":"'Patrones Cubrimiento'!Y394","v":"13."}]
["27.0",{"$f":"'Patrones Cubrimiento'!Y395","v":"13."}]
["28.0",{"$f":"'Patrones Cubrimiento'!Y396","v":"13."}]
["29.0",{"$f":"'Patrones Cubrimiento'!Y397","v":"13."}]
["30.0",{"$f":"'Patrones Cubrimiento'!Y398","v":"12."}]
["31.0",{"$f":"'Patrones Cubrimiento'!Y399","v":"12."}]
["32.0",{"$f":"'Patrones Cubrimiento'!Y400","v":"12."}]
["33.0",{"$f":"'Patrones Cubrimiento'!Y401","v":"12."}]
["34.0",{"$f":"'Patrones Cubrimiento'!Y402","v":"12."}]
["35.0",{"$f":"'Patrones Cubrimiento'!Y403","v":"17.0"}]
["36.0",{"$f":"'Patrones Cubrimiento'!Y404","v":"17.0"}]
["37.0",{"$f":"'Patrones Cubrimiento'!Y405","v":"17.0"}]
["38.0",{"$f":"'Patrones Cubrimiento'!Y406","v":"17.0"}]
["39.0",{"$f":"'Patrones Cubrimiento'!Y407","v":"17.0"}]
["40.0",{"$f":"'Patrones Cubrimiento'!Y408","v":"27."}]
["41.0",{"$f":"'Patrones Cubrimiento'!Y409","v":"27."}]
["42.0",{"$f":"'Patrones Cubrimiento'!Y410","v":"27."}]
["43.0",{"$f":"'Patrones Cubrimiento'!Y411","v":"27."}]
["44.0",{"$f":"'Patrones Cubrimiento'!Y412","v":"27."}]
["45.0",{"$f":"'Patrones Cubrimiento'!Y413","v":"26.0"}]
["46.0",{"$f":"'Patrones Cubrimiento'!Y414","v":"26.0"}]
["47.0",{"$f":"'Patrones Cubrimiento'!Y415","v":"26.0"}]
["48.0",{"$f":"'Patrones Cubrimiento'!Y416","v":"26.0"}]
["49.0",{"$f":"'Patrones Cubrimiento'!Y417","v":"26.0"}]
["50.0",{"$f":"'Patrones Cubrimiento'!Y418","v":"19."}]
["51.0",{"$f":"'Patrones Cubrimiento'!Y419","v":"19."}]
["52.0",{"$f":"'Patrones Cubrimiento'!Y420","v":"19."}]
["53.0",{"$f":"'Patrones Cubrimiento'!Y421","v":"19."}]
["54.0",{"$f":"'Patrones Cubrimiento'!Y422","v":"19."}]
["55.0",{"$f":"'Patrones Cubrimiento'!Y423","v":"18."}]
["56.0",{"$f":"'Patrones Cubrimiento'!Y424","v":"18."}]
["57.0",{"$f":"'Patrones Cubrimiento'!Y425","v":"18."}]
["58.0",{"$f":"'Patrones Cubrimiento'!Y426","v":"18."}]
["59.0",{"$f":"'Patrones Cubrimiento'!Y427","v":"18."}]
["60.0",{"$f":"'Patrones Cubrimiento'!Y428","v":"22."}]
["61.0",{"$f":"'Patrones Cubrimiento'!Y429","v":"22."}]
["62.0",{"$f":"'Patrones Cubrimiento'!Y430","v":"22."}]
["63.0",{"$f":"'Patrones Cubrimiento'!Y431","v":"22."}]
["64.0",{"$f":"'Patrones Cubrimiento'!Y432","v":"22."}]
["65.0",{"$f":"'Patrones Cubrimiento'!Y433","v":"26.0"}]
["66.0",{"$f":"'Patrones Cubrimiento'!Y434","v":"26.0"}]
["67.0",{"$f":"'Patrones Cubrimiento'!Y435","v":"26.0"}]
["68.0",{"$f":"'Patrones Cubrimiento'!Y436","v":"26.0"}]
["69.0",{"$f":"'Patrones Cubrimiento'!Y437","v":"26.0"}]
["70.0",{"$f":"'Patrones Cubrimiento'!Y438","v":"32.0"}]
["71.0",{"$f":"'Patrones Cubrimiento'!Y439","v":"32.0"}]
["72.0",{"$f":"'Patrones Cubrimiento'!Y440","v":"32.0"}]
["73.0",{"$f":"'Patrones Cubrimiento'!Y441","v":"32.0"}]
["74.0",{"$f":"'Patrones Cubrimiento'!Y442","v":"32.0"}]
["75.0",{"$f":"'Patrones Cubrimiento'!Y443","v":"36."}]
["76.0",{"$f":"'Patrones Cubrimiento'!Y444","v":"36."}]
["77.0",{"$f":"'Patrones Cubrimiento'!Y445","v":"36."}]
["78.0",{"$f":"'Patrones Cubrimiento'!Y446","v":"36."}]
["79.0",{"$f":"'Patrones Cubrimiento'!Y447","v":"36."}]
["80.0",{"$f":"'Patrones Cubrimiento'!Y448","v":"42."}]
["81.0",{"$f":"'Patrones Cubrimiento'!Y449","v":"42."}]
["82.0",{"$f":"'Patrones Cubrimiento'!Y450","v":"42."}]
["83.0",{"$f":"'Patrones Cubrimiento'!Y451","v":"42."}]
["84.0",{"$f":"'Patrones Cubrimiento'!Y452","v":"42."}]
["85.0",{"$f":"'Patrones Cubrimiento'!Y453","v":"99."}]
["86.0",{"$f":"'Patrones Cubrimiento'!Y454","v":"99."}]
["87.0",{"$f":"'Patrones Cubrimiento'!Y455","v":"99."}]
["88.0",{"$f":"'Patrones Cubrimiento'!Y456","v":"99."}]
["89.0",{"$f":"'Patrones Cubrimiento'!Y457","v":"99."}]
["90.0",{"$f":"'Patrones Cubrimiento'!Y458","v":"99."}]
["91.0",{"$f":"'Patrones Cubrimiento'!Y459","v":"99."}]
["92.0",{"$f":"'Patrones Cubrimiento'!Y460","v":"99."}]
["93.0",{"$f":"'Patrones Cubrimiento'!Y461","v":"99."}]
["94.0",{"$f":"'Patrones Cubrimiento'!Y462","v":"99."}]
["95.0",{"$f":"'Patrones Cubrimiento'!Y463","v":"40.0"}]
["96.0",{"$f":"'Patrones Cubrimiento'!Y464","v":"40.0"}]
["97.0",{"$f":"'Patrones Cubrimiento'!Y465","v":"40.0"}]
["98.0",{"$f":"'Patrones Cubrimiento'!Y466","v":"40.0"}]
["99.0",{"$f":"'Patrones Cubrimiento'!Y467","v":"40.0"}]
["100.0",{"$f":"'Patrones Cubrimiento'!Y468","v":"40.0"}]
["101.0",{"$f":"'Patrones Cubrimiento'!Y469","v":"40.0"}]
["102.0",{"$f":"'Patrones Cubrimiento'!Y470","v":"40.0"}]
["103.0",{"$f":"'Patrones Cubrimiento'!Y471","v":"40.0"}]
["104.0",{"$f":"'Patrones Cubrimiento'!Y472","v":"40.0"}]
["105.0",{"$f":"'Patrones Cubrimiento'!Y473","v":"30."}]
["106.0",{"$f":"'Patrones Cubrimiento'!Y474","v":"30."}]
["107.0",{"$f":"'Patrones Cubrimiento'!Y475","v":"30."}]
["108.0",{"$f":"'Patrones Cubrimiento'!Y476","v":"30."}]
["109.0",{"$f":"'Patrones Cubrimiento'!Y477","v":"30."}]
["110.0",{"$f":"'Patrones Cubrimiento'!Y478","v":"26.0"}]
["111.0",{"$f":"'Patrones Cubrimiento'!Y479","v":"26.0"}]
["112.0",{"$f":"'Patrones Cubrimiento'!Y480","v":"26.0"}]
["113.0",{"$f":"'Patrones Cubrimiento'!Y481","v":"26.0"}]
["114.0",{"$f":"'Patrones Cubrimiento'!Y482","v":"26.0"}]
["115.0",{"$f":"'Patrones Cubrimiento'!Y483","v":"23."}]
["116.0",{"$f":"'Patrones Cubrimiento'!Y484","v":"23."}]
["117.0",{"$f":"'Patrones Cubrimiento'!Y485","v":"23."}]
["118.0",{"$f":"'Patrones Cubrimiento'!Y486","v":"23."}]
["119.0",{"$f":"'Patrones Cubrimiento'!Y487","v":"23."}]
["120.0",{"$f":"'Patrones Cubrimiento'!Y488","v":"20."}]
["121.0",{"$f":"'Patrones Cubrimiento'!Y489","v":"20.0"}]
["122.0",{"$f":"'Patrones Cubrimiento'!Y490","v":"20.0"}]
["123.0",{"$f":"'Patrones Cubrimiento'!Y491","v":"20.0"}]
["124.0",{"$f":"'Patrones Cubrimiento'!Y492","v":"20.0"}]
["125.0",{"$f":"'Patrones Cubrimiento'!Y493","v":"20.0"}]
["126.0",{"$f":"'Patrones Cubrimiento'!Y494","v":"20.0"}]
["127.0",{"$f":"'Patrones Cubrimiento'!Y495","v":"20.0"}]
["128.0",{"$f":"'Patrones Cubrimiento'!Y496","v":"20.0"}]
["129.0",{"$f":"'Patrones Cubrimiento'!Y497","v":"20.0"}]
["130.0",{"$f":"'Patrones Cubrimiento'!Y498","v":"26.0"}]
["131.0",{"$f":"'Patrones Cubrimiento'!Y499","v":"26.0"}]
["132.0",{"$f":"'Patrones Cubrimiento'!Y500","v":"26.0"}]
["133.0",{"$f":"'Patrones Cubrimiento'!Y501","v":"26.0"}]
["134.0",{"$f":"'Patrones Cubrimiento'!Y502","v":"24."}]
["135.0",{"$f":"'Patrones Cubrimiento'!Y503","v":"24."}]
["136.0",{"$f":"'Patrones Cubrimiento'!Y504","v":"24."}]
["137.0",{"$f":"'Patrones Cubrimiento'!Y505","v":"24."}]
["138.0",{"$f":"'Patrones Cubrimiento'!Y506","v":"24."}]
["139.0",{"$f":"'Patrones Cubrimiento'!Y507","v":"24."}]
["140.0",{"$f":"'Patrones Cubrimiento'!Y508","v":"20."}]
["141.0",{"$f":"'Patrones Cubrimiento'!Y509","v":"20."}]
["142.0",{"$f":"'Patrones Cubrimiento'!Y510","v":"20."}]
["143.0",{"$f":"'Patrones Cubrimiento'!Y511","v":"20."}]
["144.0",{"$f":"'Patrones Cubrimiento'!Y512","v":"20."}]
["145.0",{"$f":"'Patrones Cubrimiento'!Y513","v":"14."}]
["146.0",{"$f":"'Patrones Cubrimiento'!Y514","v":"14."}]
["147.0",{"$f":"'Patrones Cubrimiento'!Y515","v":"14."}]
["148.0",{"$f":"'Patrones Cubrimiento'!Y516","v":"14."}]
["149.0",{"$f":"'Patrones Cubrimiento'!Y517","v":"14."}]
["150.0",{"$f":"'Patrones Cubrimiento'!Y518","v":"13."}]
["151.0",{"$f":"'Patrones Cubrimiento'!Y519","v":"13."}]
["152.0",{"$f":"'Patrones Cubrimiento'!Y520","v":"13."}]
["153.0",{"$f":"'Patrones Cubrimiento'!Y521","v":"13."}]
["154.0",{"$f":"'Patrones Cubrimiento'!Y522","v":"13."}]
["155.0",{"$f":"'Patrones Cubrimiento'!Y523","v":"19."}]
["156.0",{"$f":"'Patrones Cubrimiento'!Y524","v":"19."}]
["157.0",{"$f":"'Patrones Cubrimiento'!Y525","v":"19."}]
["158.0",{"$f":"'Patrones Cubrimiento'!Y526","v":"19."}]
["159.0",{"$f":"'Patrones Cubrimiento'!Y527","v":"19."}]
["160.0",{"$f":"'Patrones Cubrimiento'!Y528","v":"16."}]
["161.0",{"$f":"'Patrones Cubrimiento'!Y529","v":"16."}]
["162.0",{"$f":"'Patrones Cubrimiento'!Y530","v":"16."}]
["163.0",{"$f":"'Patrones Cubrimiento'!Y531","v":"16."}]
["164.0",{"$f":"'Patrones Cubrimiento'!Y532","v":"16."}]
["165.0",{"$f":"'Patrones Cubrimiento'!Y533","v":"6.9"}]
["166.0",{"$f":"'Patrones Cubrimiento'!Y534","v":"6.9"}]
["167.0",{"$f":"'Patrones Cubrimiento'!Y535","v":"6.9"}]
["168.0",{"$f":"'Patrones Cubrimiento'!Y536","v":"6.9"}]
["169.0",{"$f":"'Patrones Cubrimiento'!Y537","v":"6.9"}]
["170.0",{"$f":"'Patrones Cubrimiento'!Y538","v":"2.2"}]
["171.0",{"$f":"'Patrones Cubrimiento'!Y539","v":"2.2"}]
["172.0",{"$f":"'Patrones Cubrimiento'!Y540","v":"2.2"}]
["173.0",{"$f":"'Patrones Cubrimiento'!Y541","v":"2.2"}]
["174.0",{"$f":"'Patrones Cubrimiento'!Y542","v":"2.2"}]
["175.0",{"$f":"'Patrones Cubrimiento'!Y543","v":"0.5"}]
["176.0",{"$f":"'Patrones Cubrimiento'!Y544","v":"0.5"}]
["177.0",{"$f":"'Patrones Cubrimiento'!Y545","v":"0.5"}]
["178.0",{"$f":"'Patrones Cubrimiento'!Y546","v":"0.5"}]
["179.0",{"$f":"'Patrones Cubrimiento'!Y547","v":"0.5"}]
["180.0",{"$f":"'Patrones Cubrimiento'!Y548","v":"0.5"}]
["181.0",{"$f":"'Patrones Cubrimiento'!Y549","v":"0.5"}]
["182.0",{"$f":"'Patrones Cubrimiento'!Y550","v":"0.5"}]
["183.0",{"$f":"'Patrones Cubrimiento'!Y551","v":"0.5"}]
["184.0",{"$f":"'Patrones Cubrimiento'!Y552","v":"0.5"}]
["185.0",{"$f":"'Patrones Cubrimiento'!Y553","v":"2.2"}]
["186.0",{"$f":"'Patrones Cubrimiento'!Y554","v":"2.2"}]
["187.0",{"$f":"'Patrones Cubrimiento'!Y555","v":"2.2"}]
["188.0",{"$f":"'Patrones Cubrimiento'!Y556","v":"2.2"}]
["189.0",{"$f":"'Patrones Cubrimiento'!Y557","v":"2.2"}]
["190.0",{"$f":"'Patrones Cubrimiento'!Y558","v":"6.9"}]
["191.0",{"$f":"'Patrones Cubrimiento'!Y559","v":"6.9"}]
["192.0",{"$f":"'Patrones Cubrimiento'!Y560","v":"6.9"}]
["193.0",{"$f":"'Patrones Cubrimiento'!Y561","v":"6.9"}]
["194.0",{"$f":"'Patrones Cubrimiento'!Y562","v":"6.9"}]
["195.0",{"$f":"'Patrones Cubrimiento'!Y563","v":"14."}]
["196.0",{"$f":"'Patrones Cubrimiento'!Y564","v":"14."}]
["197.0",{"$f":"'Patrones Cubrimiento'!Y565","v":"14."}]
["198.0",{"$f":"'Patrones Cubrimiento'!Y566","v":"14."}]
["199.0",{"$f":"'Patrones Cubrimiento'!Y567","v":"14."}]
["200.0",{"$f":"'Patrones Cubrimiento'!Y568","v":"18."}]
["201.0",{"$f":"'Patrones Cubrimiento'!Y569","v":"18."}]
["202.0",{"$f":"'Patrones Cubrimiento'!Y570","v":"18."}]
["203.0",{"$f":"'Patrones Cubrimiento'!Y571","v":"18."}]
["204.0",{"$f":"'Patrones Cubrimiento'!Y572","v":"18."}]
["205.0",{"$f":"'Patrones Cubrimiento'!Y573","v":"19."}]
["206.0",{"$f":"'Patrones Cubrimiento'!Y574","v":"19."}]
["207.0",{"$f":"'Patrones Cubrimiento'!Y575","v":"19."}]
["208.0",{"$f":"'Patrones Cubrimiento'!Y576","v":"19."}]
["209.0",{"$f":"'Patrones Cubrimiento'!Y577","v":"19."}]
["210.0",{"$f":"'Patrones Cubrimiento'!Y578","v":"13."}]
["211.0",{"$f":"'Patrones Cubrimiento'!Y579","v":"13."}]
["212.0",{"$f":"'Patrones Cubrimiento'!Y580","v":"13."}]
["213.0",{"$f":"'Patrones Cubrimiento'!Y581","v":"13."}]
["214.0",{"$f":"'Patrones Cubrimiento'!Y582","v":"13."}]
["215.0",{"$f":"'Patrones Cubrimiento'!Y583","v":"14."}]
["216.0",{"$f":"'Patrones Cubrimiento'!Y584","v":"14."}]
["217.0",{"$f":"'Patrones Cubrimiento'!Y585","v":"14."}]
["218.0",{"$f":"'Patrones Cubrimiento'!Y586","v":"14."}]
["219.0",{"$f":"'Patrones Cubrimiento'!Y587","v":"14."}]
["220.0",{"$f":"'Patrones Cubrimiento'!Y588","v":"20."}]
["221.0",{"$f":"'Patrones Cubrimiento'!Y589","v":"20."}]
["222.0",{"$f":"'Patrones Cubrimiento'!Y590","v":"20."}]
["223.0",{"$f":"'Patrones Cubrimiento'!Y591","v":"20."}]
["224.0",{"$f":"'Patrones Cubrimiento'!Y592","v":"20."}]
["225.0",{"$f":"'Patrones Cubrimiento'!Y593","v":"24."}]
["226.0",{"$f":"'Patrones Cubrimiento'!Y594","v":"24."}]
["227.0",{"$f":"'Patrones Cubrimiento'!Y595","v":"24."}]
["228.0",{"$f":"'Patrones Cubrimiento'!Y596","v":"24."}]
["229.0",{"$f":"'Patrones Cubrimiento'!Y597","v":"24."}]
["230.0",{"$f":"'Patrones Cubrimiento'!Y598","v":"26.0"}]
["231.0",{"$f":"'Patrones Cubrimiento'!Y599","v":"26.0"}]
["232.0",{"$f":"'Patrones Cubrimiento'!Y600","v":"26.0"}]
["233.0",{"$f":"'Patrones Cubrimiento'!Y601","v":"26.0"}]
["234.0",{"$f":"'Patrones Cubrimiento'!Y602","v":"26.0"}]
["235.0",{"$f":"'Patrones Cubrimiento'!Y603","v":"20.0"}]
["236.0",{"$f":"'Patrones Cubrimiento'!Y604","v":"20.0"}]
["237.0",{"$f":"'Patrones Cubrimiento'!Y605","v":"20.0"}]
["238.0",{"$f":"'Patrones Cubrimiento'!Y606","v":"20.0"}]
["239.0",{"$f":"'Patrones Cubrimiento'!Y607","v":"20.0"}]
["240.0",{"$f":"'Patrones Cubrimiento'!Y608","v":"20."}]
["241.0",{"$f":"'Patrones Cubrimiento'!Y609","v":"20."}]
["242.0",{"$f":"'Patrones Cubrimiento'!Y610","v":"20."}]
["243.0",{"$f":"'Patrones Cubrimiento'!Y611","v":"20."}]
["244.0",{"$f":"'Patrones Cubrimiento'!Y612","v":"20."}]
["245.0",{"$f":"'Patrones Cubrimiento'!Y613","v":"20."}]
["246.0",{"$f":"'Patrones Cubrimiento'!Y614","v":"20."}]
["247.0",{"$f":"'Patrones Cubrimiento'!Y615","v":"20."}]
["248.0",{"$f":"'Patrones Cubrimiento'!Y616","v":"20."}]
["249.0",{"$f":"'Patrones Cubrimiento'!Y617","v":"20."}]
["250.0",{"$f":"'Patrones Cubrimiento'!Y618","v":"23."}]
["251.0",{"$f":"'Patrones Cubrimiento'!Y619","v":"23."}]
["252.0",{"$f":"'Patrones Cubrimiento'!Y620","v":"23."}]
["253.0",{"$f":"'Patrones Cubrimiento'!Y621","v":"23."}]
["254.0",{"$f":"'Patrones Cubrimiento'!Y622","v":"23."}]
["255.0",{"$f":"'Patrones Cubrimiento'!Y623","v":"26.0"}]
["256.0",{"$f":"'Patrones Cubrimiento'!Y624","v":"26.0"}]
["257.0",{"$f":"'Patrones Cubrimiento'!Y625","v":"26.0"}]
["258.0",{"$f":"'Patrones Cubrimiento'!Y626","v":"26.0"}]
["259.0",{"$f":"'Patrones Cubrimiento'!Y627","v":"26.0"}]
["260.0",{"$f":"'Patrones Cubrimiento'!Y628","v":"30."}]
["261.0",{"$f":"'Patrones Cubrimiento'!Y629","v":"30."}]
["262.0",{"$f":"'Patrones Cubrimiento'!Y630","v":"30."}]
["263.0",{"$f":"'Patrones Cubrimiento'!Y631","v":"30."}]
["264.0",{"$f":"'Patrones Cubrimiento'!Y632","v":"30."}]
["265.0",{"$f":"'Patrones Cubrimiento'!Y633","v":"40.0"}]
["266.0",{"$f":"'Patrones Cubrimiento'!Y634","v":"40.0"}]
["267.0",{"$f":"'Patrones Cubrimiento'!Y635","v":"40.0"}]
["268.0",{"$f":"'Patrones Cubrimiento'!Y636","v":"40.0"}]
["269.0",{"$f":"'Patrones Cubrimiento'!Y637","v":"40.0"}]
["270.0",{"$f":"'Patrones Cubrimiento'!Y638","v":"40.0"}]
["271.0",{"$f":"'Patrones Cubrimiento'!Y639","v":"40.0"}]
["272.0",{"$f":"'Patrones Cubrimiento'!Y640","v":"40.0"}]
["273.0",{"$f":"'Patrones Cubrimiento'!Y641","v":"40.0"}]
["274.0",{"$f":"'Patrones Cubrimiento'!Y642","v":"40.0"}]
["275.0",{"$f":"'Patrones Cubrimiento'!Y643","v":"99.0"}]
["276.0",{"$f":"'Patrones Cubrimiento'!Y644","v":"99.0"}]
["277.0",{"$f":"'Patrones Cubrimiento'!Y645","v":"99.0"}]
["278.0",{"$f":"'Patrones Cubrimiento'!Y646","v":"99.0"}]
["279.0",{"$f":"'Patrones Cubrimiento'!Y647","v":"99.0"}]
["280.0",{"$f":"'Patrones Cubrimiento'!Y648","v":"99.0"}]
["281.0",{"$f":"'Patrones Cubrimiento'!Y649","v":"99.0"}]
["282.0",{"$f":"'Patrones Cubrimiento'!Y650","v":"99.0"}]
["283.0",{"$f":"'Patrones Cubrimiento'!Y651","v":"99.0"}]
["284.0",{"$f":"'Patrones Cubrimiento'!Y652","v":"42."}]
["285.0",{"$f":"'Patrones Cubrimiento'!Y653","v":"42."}]
["286.0",{"$f":"'Patrones Cubrimiento'!Y654","v":"42."}]
["287.0",{"$f":"'Patrones Cubrimiento'!Y655","v":"42."}]
["288.0",{"$f":"'Patrones Cubrimiento'!Y656","v":"42."}]
["289.0",{"$f":"'Patrones Cubrimiento'!Y657","v":"42."}]
["290.0",{"$f":"'Patrones Cubrimiento'!Y658","v":"36."}]
["291.0",{"$f":"'Patrones Cubrimiento'!Y659","v":"36."}]
["292.0",{"$f":"'Patrones Cubrimiento'!Y660","v":"36."}]
["293.0",{"$f":"'Patrones Cubrimiento'!Y661","v":"36."}]
["294.0",{"$f":"'Patrones Cubrimiento'!Y662","v":"32.0"}]
["295.0",{"$f":"'Patrones Cubrimiento'!Y663","v":"32.0"}]
["296.0",{"$f":"'Patrones Cubrimiento'!Y664","v":"32.0"}]
["297.0",{"$f":"'Patrones Cubrimiento'!Y665","v":"32.0"}]
["298.0",{"$f":"'Patrones Cubrimiento'!Y666","v":"32.0"}]
["299.0",{"$f":"'Patrones Cubrimiento'!Y667","v":"32.0"}]
["300.0",{"$f":"'Patrones Cubrimiento'!Y668","v":"26.0"}]
["301.0",{"$f":"'Patrones Cubrimiento'!Y669","v":"26.0"}]
["302.0",{"$f":"'Patrones Cubrimiento'!Y670","v":"26.0"}]
["303.0",{"$f":"'Patrones Cubrimiento'!Y671","v":"26.0"}]
["304.0",{"$f":"'Patrones Cubrimiento'!Y672","v":"26.0"}]
["305.0",{"$f":"'Patrones Cubrimiento'!Y673","v":"22."}]
["306.0",{"$f":"'Patrones Cubrimiento'!Y674","v":"22."}]
["307.0",{"$f":"'Patrones Cubrimiento'!Y675","v":"22."}]
["308.0",{"$f":"'Patrones Cubrimiento'!Y676","v":"22."}]
["309.0",{"$f":"'Patrones Cubrimiento'!Y677","v":"22."}]
["310.0",{"$f":"'Patrones Cubrimiento'!Y678","v":"18."}]
["311.0",{"$f":"'Patrones Cubrimiento'!Y679","v":"18."}]
["312.0",{"$f":"'Patrones Cubrimiento'!Y680","v":"18."}]
["313.0",{"$f":"'Patrones Cubrimiento'!Y681","v":"18."}]
["314.0",{"$f":"'Patrones Cubrimiento'!Y682","v":"18."}]
["315.0",{"$f":"'Patrones Cubrimiento'!Y683","v":"19."}]
["316.0",{"$f":"'Patrones Cubrimiento'!Y684","v":"19."}]
["317.0",{"$f":"'Patrones Cubrimiento'!Y685","v":"19."}]
["318.0",{"$f":"'Patrones Cubrimiento'!Y686","v":"19."}]
["319.0",{"$f":"'Patrones Cubrimiento'!Y687","v":"19."}]
["320.0",{"$f":"'Patrones Cubrimiento'!Y688","v":"26.0"}]
["321.0",{"$f":"'Patrones Cubrimiento'!Y689","v":"26.0"}]
["322.0",{"$f":"'Patrones Cubrimiento'!Y690","v":"26.0"}]
["323.0",{"$f":"'Patrones Cubrimiento'!Y691","v":"26.0"}]
["324.0",{"$f":"'Patrones Cubrimiento'!Y692","v":"26.0"}]
["325.0",{"$f":"'Patrones Cubrimiento'!Y693","v":"27."}]
["326.0",{"$f":"'Patrones Cubrimiento'!Y694","v":"27."}]
["327.0",{"$f":"'Patrones Cubrimiento'!Y695","v":"27."}]
["328.0",{"$f":"'Patrones Cubrimiento'!Y696","v":"27."}]
["329.0",{"$f":"'Patrones Cubrimiento'!Y697","v":"27."}]
["330.0",{"$f":"'Patrones Cubrimiento'!Y698","v":"15."}]
["331.0",{"$f":"'Patrones Cubrimiento'!Y699","v":"15."}]
["332.0",{"$f":"'Patrones Cubrimiento'!Y700","v":"15."}]
["333.0",{"$f":"'Patrones Cubrimiento'!Y701","v":"15."}]
["334.0",{"$f":"'Patrones Cubrimiento'!Y702","v":"15."}]
["335.0",{"$f":"'Patrones Cubrimiento'!Y703","v":"12."}]
["336.0",{"$f":"'Patrones Cubrimiento'!Y704","v":"12."}]
["337.0",{"$f":"'Patrones Cubrimiento'!Y705","v":"12."}]
["338.0",{"$f":"'Patrones Cubrimiento'!Y706","v":"12."}]
["339.0",{"$f":"'Patrones Cubrimiento'!Y707","v":"12."}]
["340.0",{"$f":"'Patrones Cubrimiento'!Y708","v":"13."}]
["341.0",{"$f":"'Patrones Cubrimiento'!Y709","v":"13."}]
["342.0",{"$f":"'Patrones Cubrimiento'!Y710","v":"13."}]
["343.0",{"$f":"'Patrones Cubrimiento'!Y711","v":"13."}]
["344.0",{"$f":"'Patrones Cubrimiento'!Y712","v":"13."}]
["345.0",{"$f":"'Patrones Cubrimiento'!Y713","v":"30."}]
["346.0",{"$f":"'Patrones Cubrimiento'!Y714","v":"30."}]
["347.0",{"$f":"'Patrones Cubrimiento'!Y715","v":"30."}]
["348.0",{"$f":"'Patrones Cubrimiento'!Y716","v":"30."}]
["349.0",{"$f":"'Patrones Cubrimiento'!Y717","v":"30."}]
["350.0",{"$f":"'Patrones Cubrimiento'!Y718","v":"10."}]
["351.0",{"$f":"'Patrones Cubrimiento'!Y719","v":"10."}]
["352.0",{"$f":"'Patrones Cubrimiento'!Y720","v":"10."}]
["353.0",{"$f":"'Patrones Cubrimiento'!Y721","v":"10."}]
["354.0",{"$f":"'Patrones Cubrimiento'!Y722","v":"10."}]
["355.0",{"$f":"'Patrones Cubrimiento'!Y723","v":"4.4"}]
["356.0",{"$f":"'Patrones Cubrimiento'!Y724","v":"4.4"}]
["357.0",{"$f":"'Patrones Cubrimiento'!Y725","v":"4.4"}]
["358.0",{"$f":"'Patrones Cubrimiento'!Y726","v":"4.4"}]
["359.0",{"$f":"'Patrones Cubrimiento'!Y727","v":"0.9"}]

{"sheet":"enlace","index":6,"n_rows":1048576,"n_cols":2,"rows_kept":4500,"cut":true,"hidden":true,"merged":[],"bounds":{"rows_first":2000,"rows_last":500,"rows_between":2000,"halvings":0}}
["NAME",{"$f":"#REF!","v":{"$error":"#REF!"}}]
["FREQUENCY",{"$f":"#REF!","v":{"$error":"#REF!"}}]
["GAIN dBd",{"$f":"#REF!","v":{"$error":"#REF!"}}]
["TILT","ELECTRICAL"]
["HORIZONTAL",360]
["0.0",{"$f":"'Patrones Punto a Punto'!Y7","v":"0.0"}]
["1.0",{"$f":"'Patrones Punto a Punto'!Y8","v":"0.0"}]
["2.0",{"$f":"'Patrones Punto a Punto'!Y9","v":"0.0"}]
["3.0",{"$f":"'Patrones Punto a Punto'!Y10","v":"0.0"}]
["4.0",{"$f":"'Patrones Punto a Punto'!Y11","v":"0.0"}]
["5.0",{"$f":"'Patrones Punto a Punto'!Y12","v":"0.0"}]
["6.0",{"$f":"'Patrones Punto a Punto'!Y13","v":"0.0"}]
["7.0",{"$f":"'Patrones Punto a Punto'!Y14","v":"0.0"}]
["8.0",{"$f":"'Patrones Punto a Punto'!Y15","v":"0.0"}]
["9.0",{"$f":"'Patrones Punto a Punto'!Y16","v":"0.0"}]
["10.0",{"$f":"'Patrones Punto a Punto'!Y17","v":"0.0"}]
["11.0",{"$f":"'Patrones Punto a Punto'!Y18","v":"0.0"}]
["12.0",{"$f":"'Patrones Punto a Punto'!Y19","v":"0.0"}]
["13.0",{"$f":"'Patrones Punto a Punto'!Y20","v":"0.0"}]
["14.0",{"$f":"'Patrones Punto a Punto'!Y21","v":"0.0"}]
["15.0",{"$f":"'Patrones Punto a Punto'!Y22","v":"0.2"}]
["16.0",{"$f":"'Patrones Punto a Punto'!Y23","v":"0.2"}]
["17.0",{"$f":"'Patrones Punto a Punto'!Y24","v":"0.2"}]
["18.0",{"$f":"'Patrones Punto a Punto'!Y25","v":"0.2"}]
["19.0",{"$f":"'Patrones Punto a Punto'!Y26","v":"0.2"}]
["20.0",{"$f":"'Patrones Punto a Punto'!Y27","v":"0.4"}]
["21.0",{"$f":"'Patrones Punto a Punto'!Y28","v":"0.4"}]
["22.0",{"$f":"'Patrones Punto a Punto'!Y29","v":"0.4"}]
["23.0",{"$f":"'Patrones Punto a Punto'!Y30","v":"0.4"}]
["24.0",{"$f":"'Patrones Punto a Punto'!Y31","v":"0.4"}]
["25.0",{"$f":"'Patrones Punto a Punto'!Y32","v":"0.6"}]
["26.0",{"$f":"'Patrones Punto a Punto'!Y33","v":"0.6"}]
["27.0",{"$f":"'Patrones Punto a Punto'!Y34","v":"0.6"}]
["28.0",{"$f":"'Patrones Punto a Punto'!Y35","v":"0.6"}]
["29.0",{"$f":"'Patrones Punto a Punto'!Y36","v":"0.6"}]
["30.0",{"$f":"'Patrones Punto a Punto'!Y37","v":"1.2"}]
["31.0",{"$f":"'Patrones Punto a Punto'!Y38","v":"1.2"}]
["32.0",{"$f":"'Patrones Punto a Punto'!Y39","v":"1.2"}]
["33.0",{"$f":"'Patrones Punto a Punto'!Y40","v":"1.2"}]
["34.0",{"$f":"'Patrones Punto a Punto'!Y41","v":"1.2"}]
["35.0",{"$f":"'Patrones Punto a Punto'!Y42","v":"1.6"}]
["36.0",{"$f":"'Patrones Punto a Punto'!Y43","v":"1.6"}]
["37.0",{"$f":"'Patrones Punto a Punto'!Y44","v":"1.6"}]
["38.0",{"$f":"'Patrones Punto a Punto'!Y45","v":"1.6"}]
["39.0",{"$f":"'Patrones Punto a Punto'!Y46","v":"1.6"}]
["40.0",{"$f":"'Patrones Punto a Punto'!Y47","v":"2.5"}]
["41.0",{"$f":"'Patrones Punto a Punto'!Y48","v":"2.5"}]
["42.0",{"$f":"'Patrones Punto a Punto'!Y49","v":"2.5"}]
["43.0",{"$f":"'Patrones Punto a Punto'!Y50","v":"2.5"}]
["44.0",{"$f":"'Patrones Punto a Punto'!Y51","v":"2.5"}]
["45.0",{"$f":"'Patrones Punto a Punto'!Y52","v":"3.4"}]
["46.0",{"$f":"'Patrones Punto a Punto'!Y53","v":"3.4"}]
["47.0",{"$f":"'Patrones Punto a Punto'!Y54","v":"3.4"}]
["48.0",{"$f":"'Patrones Punto a Punto'!Y55","v":"3.4"}]
["49.0",{"$f":"'Patrones Punto a Punto'!Y56","v":"3.4"}]
["50.0",{"$f":"'Patrones Punto a Punto'!Y57","v":"4.5"}]
["51.0",{"$f":"'Patrones Punto a Punto'!Y58","v":"4.5"}]
["52.0",{"$f":"'Patrones Punto a Punto'!Y59","v":"4.5"}]
["53.0",{"$f":"'Patrones Punto a Punto'!Y60","v":"4.5"}]
["54.0",{"$f":"'Patrones Punto a Punto'!Y61","v":"4.5"}]
["55.0",{"$f":"'Patrones Punto a Punto'!Y62","v":"5.8"}]
["56.0",{"$f":"'Patrones Punto a Punto'!Y63","v":"5.8"}]
["57.0",{"$f":"'Patrones Punto a Punto'!Y64","v":"5.8"}]
["58.0",{"$f":"'Patrones Punto a Punto'!Y65","v":"5.8"}]
["59.0",{"$f":"'Patrones Punto a Punto'!Y66","v":"5.8"}]
["60.0",{"$f":"'Patrones Punto a Punto'!Y67","v":"7.9"}]
["61.0",{"$f":"'Patrones Punto a Punto'!Y68","v":"7.9"}]
["62.0",{"$f":"'Patrones Punto a Punto'!Y69","v":"7.9"}]
["63.0",{"$f":"'Patrones Punto a Punto'!Y70","v":"7.9"}]
["64.0",{"$f":"'Patrones Punto a Punto'!Y71","v":"7.9"}]
["65.0",{"$f":"'Patrones Punto a Punto'!Y72","v":"8.4"}]
["66.0",{"$f":"'Patrones Punto a Punto'!Y73","v":"8.4"}]
["67.0",{"$f":"'Patrones Punto a Punto'!Y74","v":"8.4"}]
["68.0",{"$f":"'Patrones Punto a Punto'!Y75","v":"8.4"}]
["69.0",{"$f":"'Patrones Punto a Punto'!Y76","v":"8.4"}]
["70.0",{"$f":"'Patrones Punto a Punto'!Y77","v":"10."}]
["71.0",{"$f":"'Patrones Punto a Punto'!Y78","v":"10."}]
["72.0",{"$f":"'Patrones Punto a Punto'!Y79","v":"10."}]
["73.0",{"$f":"'Patrones Punto a Punto'!Y80","v":"10."}]
["74.0",{"$f":"'Patrones Punto a Punto'!Y81","v":"10."}]
["75.0",{"$f":"'Patrones Punto a Punto'!Y82","v":"11."}]
["76.0",{"$f":"'Patrones Punto a Punto'!Y83","v":"11."}]
["77.0",{"$f":"'Patrones Punto a Punto'!Y84","v":"11."}]
["78.0",{"$f":"'Patrones Punto a Punto'!Y85","v":"11."}]
["79.0",{"$f":"'Patrones Punto a Punto'!Y86","v":"11."}]
["80.0",{"$f":"'Patrones Punto a Punto'!Y87","v":"12."}]
["81.0",{"$f":"'Patrones Punto a Punto'!Y88","v":"12."}]
["82.0",{"$f":"'Patrones Punto a Punto'!Y89","v":"12."}]
["83.0",{"$f":"'Patrones Punto a Punto'!Y90","v":"12."}]
["84.0",{"$f":"'Patrones Punto a Punto'!Y91","v":"12."}]
["85.0",{"$f":"'Patrones Punto a Punto'!Y92","v":"12."}]
["86.0",{"$f":"'Patrones Punto a Punto'!Y93","v":"12."}]
["87.0",{"$f":"'Patrones Punto a Punto'!Y94","v":"12."}]
["88.0",{"$f":"'Patrones Punto a Punto'!Y95","v":"12."}]
["89.0",{"$f":"'Patrones Punto a Punto'!Y96","v":"12."}]
["90.0",{"$f":"'Patrones Punto a Punto'!Y97","v":"13."}]
["91.0",{"$f":"'Patrones Punto a Punto'!Y98","v":"13."}]
["92.0",{"$f":"'Patrones Punto a Punto'!Y99","v":"13."}]
["93.0",{"$f":"'Patrones Punto a Punto'!Y100","v":"13."}]
["94.0",{"$f":"'Patrones Punto a Punto'!Y101","v":"13."}]
["95.0",{"$f":"'Patrones Punto a Punto'!Y102","v":"11."}]
["96.0",{"$f":"'Patrones Punto a Punto'!Y103","v":"11."}]
["97.0",{"$f":"'Patrones Punto a Punto'!Y104","v":"11."}]
["98.0",{"$f":"'Patrones Punto a Punto'!Y105","v":"11."}]
["99.0",{"$f":"'Patrones Punto a Punto'!Y106","v":"11."}]
["100.0",{"$f":"'Patrones Punto a Punto'!Y107","v":"10."}]
["101.0",{"$f":"'Patrones Punto a Punto'!Y108","v":"10."}]
["102.0",{"$f":"'Patrones Punto a Punto'!Y109","v":"10."}]
["103.0",{"$f":"'Patrones Punto a Punto'!Y110","v":"10."}]
["104.0",{"$f":"'Patrones Punto a Punto'!Y111","v":"10."}]
["105.0",{"$f":"'Patrones Punto a Punto'!Y112","v":"9.9"}]
["106.0",{"$f":"'Patrones Punto a Punto'!Y113","v":"9.9"}]
["107.0",{"$f":"'Patrones Punto a Punto'!Y114","v":"9.9"}]
["108.0",{"$f":"'Patrones Punto a Punto'!Y115","v":"9.9"}]
["109.0",{"$f":"'Patrones Punto a Punto'!Y116","v":"9.9"}]
["110.0",{"$f":"'Patrones Punto a Punto'!Y117","v":"7.9"}]
["111.0",{"$f":"'Patrones Punto a Punto'!Y118","v":"7.9"}]
["112.0",{"$f":"'Patrones Punto a Punto'!Y119","v":"7.9"}]
["113.0",{"$f":"'Patrones Punto a Punto'!Y120","v":"7.9"}]
["114.0",{"$f":"'Patrones Punto a Punto'!Y121","v":"7.9"}]
["115.0",{"$f":"'Patrones Punto a Punto'!Y122","v":"6.7"}]
["116.0",{"$f":"'Patrones Punto a Punto'!Y123","v":"6.7"}]
["117.0",{"$f":"'Patrones Punto a Punto'!Y124","v":"6.7"}]
["118.0",{"$f":"'Patrones Punto a Punto'!Y125","v":"6.7"}]
["119.0",{"$f":"'Patrones Punto a Punto'!Y126","v":"6.7"}]
["120.0",{"$f":"'Patrones Punto a Punto'!Y127","v":"5.8"}]
["121.0",{"$f":"'Patrones Punto a Punto'!Y128","v":"5.8"}]
["122.0",{"$f":"'Patrones Punto a Punto'!Y129","v":"5.8"}]
["123.0",{"$f":"'Patrones Punto a Punto'!Y130","v":"5.8"}]
["124.0",{"$f":"'Patrones Punto a Punto'!Y131","v":"5.8"}]
["125.0",{"$f":"'Patrones Punto a Punto'!Y132","v":"5.1"}]
["126.0",{"$f":"'Patrones Punto a Punto'!Y133","v":"5.1"}]
["127.0",{"$f":"'Patrones Punto a Punto'!Y134","v":"5.1"}]
["128.0",{"$f":"'Patrones Punto a Punto'!Y135","v":"5.1"}]
["129.0",{"$f":"'Patrones Punto a Punto'!Y136","v":"5.1"}]
["130.0",{"$f":"'Patrones Punto a Punto'!Y137","v":"5.1"}]
["131.0",{"$f":"'Patrones Punto a Punto'!Y138","v":"5.1"}]
["132.0",{"$f":"'Patrones Punto a Punto'!Y139","v":"5.1"}]
["133.0",{"$f":"'Patrones Punto a Punto'!Y140","v":"5.1"}]
["134.0",{"$f":"'Patrones Punto a Punto'!Y141","v":"5.1"}]
["135.0",{"$f":"'Patrones Punto a Punto'!Y142","v":"4.8"}]
["136.0",{"$f":"'Patrones Punto a Punto'!Y143","v":"4.8"}]
["137.0",{"$f":"'Patrones Punto a Punto'!Y144","v":"4.8"}]
["138.0",{"$f":"'Patrones Punto a Punto'!Y145","v":"4.8"}]
["139.0",{"$f":"'Patrones Punto a Punto'!Y146","v":"4.8"}]
["140.0",{"$f":"'Patrones Punto a Punto'!Y147","v":"4.8"}]
["141.0",{"$f":"'Patrones Punto a Punto'!Y148","v":"4.8"}]
["142.0",{"$f":"'Patrones Punto a Punto'!Y149","v":"4.8"}]
["143.0",{"$f":"'Patrones Punto a Punto'!Y150","v":"4.8"}]
["144.0",{"$f":"'Patrones Punto a Punto'!Y151","v":"4.8"}]
["145.0",{"$f":"'Patrones Punto a Punto'!Y152","v":"4.8"}]
["146.0",{"$f":"'Patrones Punto a Punto'!Y153","v":"4.8"}]
["147.0",{"$f":"'Patrones Punto a Punto'!Y154","v":"4.8"}]
["148.0",{"$f":"'Patrones Punto a Punto'!Y155","v":"4.8"}]
["149.0",{"$f":"'Patrones Punto a Punto'!Y156","v":"4.8"}]
["150.0",{"$f":"'Patrones Punto a Punto'!Y157","v":"4.8"}]
["151.0",{"$f":"'Patrones Punto a Punto'!Y158","v":"4.8"}]
["152.0",{"$f":"'Patrones Punto a Punto'!Y159","v":"4.8"}]
["153.0",{"$f":"'Patrones Punto a Punto'!Y160","v":"4.8"}]
["154.0",{"$f":"'Patrones Punto a Punto'!Y161","v":"4.8"}]
["155.0",{"$f":"'Patrones Punto a Punto'!Y162","v":"4.8"}]
["156.0",{"$f":"'Patrones Punto a Punto'!Y163","v":"4.8"}]
["157.0",{"$f":"'Patrones Punto a Punto'!Y164","v":"4.8"}]
["158.0",{"$f":"'Patrones Punto a Punto'!Y165","v":"4.8"}]
["159.0",{"$f":"'Patrones Punto a Punto'!Y166","v":"4.8"}]
["160.0",{"$f":"'Patrones Punto a Punto'!Y167","v":"4.8"}]
["161.0",{"$f":"'Patrones Punto a Punto'!Y168","v":"4.8"}]
["162.0",{"$f":"'Patrones Punto a Punto'!Y169","v":"4.8"}]
["163.0",{"$f":"'Patrones Punto a Punto'!Y170","v":"4.8"}]
["164.0",{"$f":"'Patrones Punto a Punto'!Y171","v":"4.8"}]
["165.0",{"$f":"'Patrones Punto a Punto'!Y172","v":"4.8"}]
["166.0",{"$f":"'Patrones Punto a Punto'!Y173","v":"4.8"}]
["167.0",{"$f":"'Patrones Punto a Punto'!Y174","v":"4.8"}]
["168.0",{"$f":"'Patrones Punto a Punto'!Y175","v":"4.8"}]
["169.0",{"$f":"'Patrones Punto a Punto'!Y176","v":"4.8"}]
["170.0",{"$f":"'Patrones Punto a Punto'!Y177","v":"4.8"}]
["171.0",{"$f":"'Patrones Punto a Punto'!Y178","v":"4.8"}]
["172.0",{"$f":"'Patrones Punto a Punto'!Y179","v":"4.8"}]
["173.0",{"$f":"'Patrones Punto a Punto'!Y180","v":"4.8"}]
["174.0",{"$f":"'Patrones Punto a Punto'!Y181","v":"4.8"}]
["175.0",{"$f":"'Patrones Punto a Punto'!Y182","v":"4.7"}]
["176.0",{"$f":"'Patrones Punto a Punto'!Y184","v":"4.7"}]
["177.0",{"$f":"'Patrones Punto a Punto'!Y185","v":"4.7"}]
["178.0",{"$f":"'Patrones Punto a Punto'!Y186","v":"4.7"}]
["179.0",{"$f":"'Patrones Punto a Punto'!Y187","v":"4.7"}]
["180.0",{"$f":"'Patrones Punto a Punto'!Y188","v":"4.7"}]
["181.0",{"$f":"'Patrones Punto a Punto'!Y189","v":"4.7"}]
["182.0",{"$f":"'Patrones Punto a Punto'!Y190","v":"4.7"}]
["183.0",{"$f":"'Patrones Punto a Punto'!Y191","v":"4.7"}]
["184.0",{"$f":"'Patrones Punto a Punto'!Y192","v":"4.7"}]
["185.0",{"$f":"'Patrones Punto a Punto'!Y193","v":"4.7"}]
["186.0",{"$f":"'Patrones Punto a Punto'!Y194","v":"4.7"}]
["187.0",{"$f":"'Patrones Punto a Punto'!Y195","v":"4.7"}]
["188.0",{"$f":"'Patrones Punto a Punto'!Y196","v":"4.7"}]
["189.0",{"$f":"'Patrones Punto a Punto'!Y197","v":"4.7"}]
["190.0",{"$f":"'Patrones Punto a Punto'!Y198","v":"4.8"}]
["191.0",{"$f":"'Patrones Punto a Punto'!Y199","v":"4.8"}]
["192.0",{"$f":"'Patrones Punto a Punto'!Y200","v":"4.8"}]
["193.0",{"$f":"'Patrones Punto a Punto'!Y201","v":"4.8"}]
["194.0",{"$f":"'Patrones Punto a Punto'!Y202","v":"4.8"}]
["195.0",{"$f":"'Patrones Punto a Punto'!Y203","v":"4.8"}]
["196.0",{"$f":"'Patrones Punto a Punto'!Y204","v":"4.8"}]
["197.0",{"$f":"'Patrones Punto a Punto'!Y205","v":"4.8"}]
["198.0",{"$f":"'Patrones Punto a Punto'!Y206","v":"4.8"}]
["199.0",{"$f":"'Patrones Punto a Punto'!Y207","v":"4.8"}]
["200.0",{"$f":"'Patrones Punto a Punto'!Y208","v":"4.8"}]
["201.0",{"$f":"'Patrones Punto a Punto'!Y209","v":"4.8"}]
["202.0",{"$f":"'Patrones Punto a Punto'!Y210","v":"4.8"}]
["203.0",{"$f":"'Patrones Punto a Punto'!Y211","v":"4.8"}]
["204.0",{"$f":"'Patrones Punto a Punto'!Y212","v":"4.8"}]
["205.0",{"$f":"'Patrones Punto a Punto'!Y213","v":"4.5"}]
["206.0",{"$f":"'Patrones Punto a Punto'!Y214","v":"4.5"}]
["207.0",{"$f":"'Patrones Punto a Punto'!Y215","v":"4.5"}]
["208.0",{"$f":"'Patrones Punto a Punto'!Y216","v":"4.5"}]
["209.0",{"$f":"'Patrones Punto a Punto'!Y217","v":"4.5"}]
["210.0",{"$f":"'Patrones Punto a Punto'!Y218","v":"4.5"}]
["211.0",{"$f":"'Patrones Punto a Punto'!Y219","v":"4.5"}]
["212.0",{"$f":"'Patrones Punto a Punto'!Y220","v":"4.5"}]
["213.0",{"$f":"'Patrones Punto a Punto'!Y221","v":"4.5"}]
["214.0",{"$f":"'Patrones Punto a Punto'!Y222","v":"4.5"}]
["215.0",{"$f":"'Patrones Punto a Punto'!Y223","v":"4.5"}]
["216.0",{"$f":"'Patrones Punto a Punto'!Y224","v":"4.5"}]
["217.0",{"$f":"'Patrones Punto a Punto'!Y225","v":"4.5"}]
["218.0",{"$f":"'Patrones Punto a Punto'!Y226","v":"4.5"}]
["219.0",{"$f":"'Patrones Punto a Punto'!Y227","v":"4.5"}]
["220.0",{"$f":"'Patrones Punto a Punto'!Y228","v":"4.8"}]
["221.0",{"$f":"'Patrones Punto a Punto'!Y229","v":"4.8"}]
["222.0",{"$f":"'Patrones Punto a Punto'!Y230","v":"4.8"}]
["223.0",{"$f":"'Patrones Punto a Punto'!Y231","v":"4.8"}]
["224.0",{"$f":"'Patrones Punto a Punto'!Y232","v":"4.8"}]
["225.0",{"$f":"'Patrones Punto a Punto'!Y233","v":"4.8"}]
["226.0",{"$f":"'Patrones Punto a Punto'!Y234","v":"4.8"}]
["227.0",{"$f":"'Patrones Punto a Punto'!Y235","v":"4.8"}]
["228.0",{"$f":"'Patrones Punto a Punto'!Y236","v":"4.8"}]
["229.0",{"$f":"'Patrones Punto a Punto'!Y237","v":"4.8"}]
["230.0",{"$f":"'Patrones Punto a Punto'!Y238","v":"5.1"}]
["231.0",{"$f":"'Patrones Punto a Punto'!Y239","v":"5.1"}]
["232.0",{"$f":"'Patrones Punto a Punto'!Y240","v":"5.1"}]
["233.0",{"$f":"'Patrones Punto a Punto'!Y241","v":"5.1"}]
["234.0",{"$f":"'Patrones Punto a Punto'!Y242","v":"5.1"}]
["235.0",{"$f":"'Patrones Punto a Punto'!Y243","v":"5.1"}]
["236.0",{"$f":"'Patrones Punto a Punto'!Y244","v":"5.1"}]
["237.0",{"$f":"'Patrones Punto a Punto'!Y245","v":"5.1"}]
["238.0",{"$f":"'Patrones Punto a Punto'!Y246","v":"5.1"}]
["239.0",{"$f":"'Patrones Punto a Punto'!Y247","v":"5.1"}]
["240.0",{"$f":"'Patrones Punto a Punto'!Y248","v":"5.8"}]
["241.0",{"$f":"'Patrones Punto a Punto'!Y249","v":"5.8"}]
["242.0",{"$f":"'Patrones Punto a Punto'!Y250","v":"5.8"}]
["243.0",{"$f":"'Patrones Punto a Punto'!Y251","v":"5.8"}]
["244.0",{"$f":"'Patrones Punto a Punto'!Y252","v":"5.8"}]
["245.0",{"$f":"'Patrones Punto a Punto'!Y253","v":"6.7"}]
["246.0",{"$f":"'Patrones Punto a Punto'!Y254","v":"6.7"}]
["247.0",{"$f":"'Patrones Punto a Punto'!Y255","v":"6.7"}]
["248.0",{"$f":"'Patrones Punto a Punto'!Y256","v":"6.7"}]
["249.0",{"$f":"'Patrones Punto a Punto'!Y257","v":"6.7"}]
["250.0",{"$f":"'Patrones Punto a Punto'!Y258","v":"7.9"}]
["251.0",{"$f":"'Patrones Punto a Punto'!Y259","v":"7.9"}]
["252.0",{"$f":"'Patrones Punto a Punto'!Y260","v":"7.9"}]
["253.0",{"$f":"'Patrones Punto a Punto'!Y261","v":"7.9"}]
["254.0",{"$f":"'Patrones Punto a Punto'!Y262","v":"7.9"}]
["255.0",{"$f":"'Patrones Punto a Punto'!Y263","v":"9.9"}]
["256.0",{"$f":"'Patrones Punto a Punto'!Y264","v":"9.9"}]
["257.0",{"$f":"'Patrones Punto a Punto'!Y265","v":"9.9"}]
["258.0",{"$f":"'Patrones Punto a Punto'!Y266","v":"9.9"}]
["259.0",{"$f":"'Patrones Punto a Punto'!Y267","v":"9.9"}]
["260.0",{"$f":"'Patrones Punto a Punto'!Y268","v":"10."}]
["261.0",{"$f":"'Patrones Punto a Punto'!Y269","v":"10."}]
["262.0",{"$f":"'Patrones Punto a Punto'!Y270","v":"10."}]
["263.0",{"$f":"'Patrones Punto a Punto'!Y271","v":"10."}]
["264.0",{"$f":"'Patrones Punto a Punto'!Y272","v":"10."}]
["265.0",{"$f":"'Patrones Punto a Punto'!Y273","v":"11."}]
["266.0",{"$f":"'Patrones Punto a Punto'!Y274","v":"11."}]
["267.0",{"$f":"'Patrones Punto a Punto'!Y275","v":"11."}]
["268.0",{"$f":"'Patrones Punto a Punto'!Y276","v":"11."}]
["269.0",{"$f":"'Patrones Punto a Punto'!Y277","v":"11."}]
["270.0",{"$f":"'Patrones Punto a Punto'!Y278","v":"13."}]
["271.0",{"$f":"'Patrones Punto a Punto'!Y279","v":"13."}]
["272.0",{"$f":"'Patrones Punto a Punto'!Y280","v":"13."}]
["273.0",{"$f":"'Patrones Punto a Punto'!Y281","v":"13."}]
["274.0",{"$f":"'Patrones Punto a Punto'!Y282","v":"13."}]
["275.0",{"$f":"'Patrones Punto a Punto'!Y283","v":"12."}]
["276.0",{"$f":"'Patrones Punto a Punto'!Y284","v":"12."}]
["277.0",{"$f":"'Patrones Punto a Punto'!Y285","v":"12."}]
["278.0",{"$f":"'Patrones Punto a Punto'!Y286","v":"12."}]
["279.0",{"$f":"'Patrones Punto a Punto'!Y287","v":"12."}]
["280.0",{"$f":"'Patrones Punto a Punto'!Y288","v":"12."}]
["281.0",{"$f":"'Patrones Punto a Punto'!Y289","v":"12."}]
["282.0",{"$f":"'Patrones Punto a Punto'!Y290","v":"12."}]
["283.0",{"$f":"'Patrones Punto a Punto'!Y291","v":"12."}]
["284.0",{"$f":"'Patrones Punto a Punto'!Y292","v":"12."}]
["285.0",{"$f":"'Patrones Punto a Punto'!Y293","v":"11."}]
["286.0",{"$f":"'Patrones Punto a Punto'!Y294","v":"11."}]
["287.0",{"$f":"'Patrones Punto a Punto'!Y295","v":"11."}]
["288.0",{"$f":"'Patrones Punto a Punto'!Y296","v":"11."}]
["289.0",{"$f":"'Patrones Punto a Punto'!Y297","v":"11."}]
["290.0",{"$f":"'Patrones Punto a Punto'!Y298","v":"10."}]
["291.0",{"$f":"'Patrones Punto a Punto'!Y299","v":"10."}]
["292.0",{"$f":"'Patrones Punto a Punto'!Y300","v":"10."}]
["293.0",{"$f":"'Patrones Punto a Punto'!Y301","v":"10."}]
["294.0",{"$f":"'Patrones Punto a Punto'!Y302","v":"10."}]
["295.0",{"$f":"'Patrones Punto a Punto'!Y303","v":"8.4"}]
["296.0",{"$f":"'Patrones Punto a Punto'!Y304","v":"8.4"}]
["297.0",{"$f":"'Patrones Punto a Punto'!Y305","v":"8.4"}]
["298.0",{"$f":"'Patrones Punto a Punto'!Y306","v":"8.4"}]
["299.0",{"$f":"'Patrones Punto a Punto'!Y307","v":"8.4"}]
["300.0",{"$f":"'Patrones Punto a Punto'!Y308","v":"7.9"}]
["301.0",{"$f":"'Patrones Punto a Punto'!Y309","v":"7.9"}]
["302.0",{"$f":"'Patrones Punto a Punto'!Y310","v":"7.9"}]
["303.0",{"$f":"'Patrones Punto a Punto'!Y311","v":"7.9"}]
["304.0",{"$f":"'Patrones Punto a Punto'!Y312","v":"7.9"}]
["305.0",{"$f":"'Patrones Punto a Punto'!Y313","v":"5.8"}]
["306.0",{"$f":"'Patrones Punto a Punto'!Y314","v":"5.8"}]
["307.0",{"$f":"'Patrones Punto a Punto'!Y315","v":"5.8"}]
["308.0",{"$f":"'Patrones Punto a Punto'!Y316","v":"5.8"}]
["309.0",{"$f":"'Patrones Punto a Punto'!Y317","v":"5.8"}]
["310.0",{"$f":"'Patrones Punto a Punto'!Y318","v":"4.5"}]
["311.0",{"$f":"'Patrones Punto a Punto'!Y319","v":"4.5"}]
["312.0",{"$f":"'Patrones Punto a Punto'!Y320","v":"4.5"}]
["313.0",{"$f":"'Patrones Punto a Punto'!Y321","v":"4.5"}]
["314.0",{"$f":"'Patrones Punto a Punto'!Y322","v":"4.5"}]
["315.0",{"$f":"'Patrones Punto a Punto'!Y323","v":"3.4"}]
["316.0",{"$f":"'Patrones Punto a Punto'!Y324","v":"3.4"}]
["317.0",{"$f":"'Patrones Punto a Punto'!Y325","v":"3.4"}]
["318.0",{"$f":"'Patrones Punto a Punto'!Y326","v":"3.4"}]
["319.0",{"$f":"'Patrones Punto a Punto'!Y327","v":"3.4"}]
["320.0",{"$f":"'Patrones Punto a Punto'!Y328","v":"2.5"}]
["321.0",{"$f":"'Patrones Punto a Punto'!Y329","v":"2.5"}]
["322.0",{"$f":"'Patrones Punto a Punto'!Y330","v":"2.5"}]
["323.0",{"$f":"'Patrones Punto a Punto'!Y331","v":"2.5"}]
["324.0",{"$f":"'Patrones Punto a Punto'!Y332","v":"2.5"}]
["325.0",{"$f":"'Patrones Punto a Punto'!Y333","v":"1.6"}]
["326.0",{"$f":"'Patrones Punto a Punto'!Y334","v":"1.6"}]
["327.0",{"$f":"'Patrones Punto a Punto'!Y335","v":"1.6"}]
["328.0",{"$f":"'Patrones Punto a Punto'!Y336","v":"1.6"}]
["329.0",{"$f":"'Patrones Punto a Punto'!Y337","v":"1.6"}]
["330.0",{"$f":"'Patrones Punto a Punto'!Y338","v":"1.2"}]
["331.0",{"$f":"'Patrones Punto a Punto'!Y339","v":"1.2"}]
["332.0",{"$f":"'Patrones Punto a Punto'!Y340","v":"1.2"}]
["333.0",{"$f":"'Patrones Punto a Punto'!Y341","v":"1.2"}]
["334.0",{"$f":"'Patrones Punto a Punto'!Y342","v":"1.2"}]
["335.0",{"$f":"'Patrones Punto a Punto'!Y343","v":"0.6"}]
["336.0",{"$f":"'Patrones Punto a Punto'!Y344","v":"0.6"}]
["337.0",{"$f":"'Patrones Punto a Punto'!Y345","v":"0.6"}]
["338.0",{"$f":"'Patrones Punto a Punto'!Y346","v":"0.6"}]
["339.0",{"$f":"'Patrones Punto a Punto'!Y347","v":"0.6"}]
["340.0",{"$f":"'Patrones Punto a Punto'!Y348","v":"0.4"}]
["341.0",{"$f":"'Patrones Punto a Punto'!Y349","v":"0.4"}]
["342.0",{"$f":"'Patrones Punto a Punto'!Y350","v":"0.4"}]
["343.0",{"$f":"'Patrones Punto a Punto'!Y351","v":"0.4"}]
["344.0",{"$f":"'Patrones Punto a Punto'!Y352","v":"0.4"}]
["345.0",{"$f":"'Patrones Punto a Punto'!Y353","v":"0.2"}]
["346.0",{"$f":"'Patrones Punto a Punto'!Y354","v":"0.2"}]
["347.0",{"$f":"'Patrones Punto a Punto'!Y355","v":"0.2"}]
["348.0",{"$f":"'Patrones Punto a Punto'!Y356","v":"0.2"}]
["349.0",{"$f":"'Patrones Punto a Punto'!Y357","v":"0.2"}]
["350.0",{"$f":"'Patrones Punto a Punto'!Y358","v":"0.0"}]
["351.0",{"$f":"'Patrones Punto a Punto'!Y359","v":"0.0"}]
["352.0",{"$f":"'Patrones Punto a Punto'!Y360","v":"0.0"}]
["353.0",{"$f":"'Patrones Punto a Punto'!Y361","v":"0.0"}]
["354.0",{"$f":"'Patrones Punto a Punto'!Y362","v":"0.0"}]
["355.0",{"$f":"'Patrones Punto a Punto'!Y363","v":"0.0"}]
["356.0",{"$f":"'Patrones Punto a Punto'!Y364","v":"0.0"}]
["357.0",{"$f":"'Patrones Punto a Punto'!Y365","v":"0.0"}]
["358.0",{"$f":"'Patrones Punto a Punto'!Y366","v":"0.0"}]
["359.0",{"$f":"'Patrones Punto a Punto'!Y367","v":"0.0"}]
["VERTICAL",{"$f":"'Patrones Punto a Punto'!Y368","v":"360"}]
["0.0",{"$f":"'Patrones Punto a Punto'!Y369","v":"0.0"}]
["1.0",{"$f":"'Patrones Punto a Punto'!Y370","v":"0.0"}]
["2.0",{"$f":"'Patrones Punto a Punto'!Y371","v":"0.0"}]
["3.0",{"$f":"'Patrones Punto a Punto'!Y372","v":"0.0"}]
["4.0",{"$f":"'Patrones Punto a Punto'!Y373","v":"0.0"}]
["5.0",{"$f":"'Patrones Punto a Punto'!Y374","v":"0.0"}]
["6.0",{"$f":"'Patrones Punto a Punto'!Y375","v":"0.0"}]
["7.0",{"$f":"'Patrones Punto a Punto'!Y376","v":"0.0"}]
["8.0",{"$f":"'Patrones Punto a Punto'!Y377","v":"0.0"}]
["9.0",{"$f":"'Patrones Punto a Punto'!Y378","v":"0.0"}]
["10.0",{"$f":"'Patrones Punto a Punto'!Y379","v":"0.0"}]
["11.0",{"$f":"'Patrones Punto a Punto'!Y380","v":"0.0"}]
["12.0",{"$f":"'Patrones Punto a Punto'!Y381","v":"0.0"}]
["13.0",{"$f":"'Patrones Punto a Punto'!Y382","v":"0.0"}]
["14.0",{"$f":"'Patrones Punto a Punto'!Y383","v":"0.0"}]
["15.0",{"$f":"'Patrones Punto a Punto'!Y384","v":"0.2"}]
["16.0",{"$f":"'Patrones Punto a Punto'!Y385","v":"0.2"}]
["17.0",{"$f":"'Patrones Punto a Punto'!Y386","v":"0.2"}]
["18.0",{"$f":"'Patrones Punto a Punto'!Y387","v":"0.2"}]
["19.0",{"$f":"'Patrones Punto a Punto'!Y388","v":"0.2"}]
["20.0",{"$f":"'Patrones Punto a Punto'!Y389","v":"0.4"}]
["21.0",{"$f":"'Patrones Punto a Punto'!Y390","v":"0.4"}]
["22.0",{"$f":"'Patrones Punto a Punto'!Y391","v":"0.4"}]
["23.0",{"$f":"'Patrones Punto a Punto'!Y392","v":"0.4"}]
["24.0",{"$f":"'Patrones Punto a Punto'!Y393","v":"0.4"}]
["25.0",{"$f":"'Patrones Punto a Punto'!Y394","v":"0.4"}]
["26.0",{"$f":"'Patrones Punto a Punto'!Y395","v":"0.4"}]
["27.0",{"$f":"'Patrones Punto a Punto'!Y396","v":"0.4"}]
["28.0",{"$f":"'Patrones Punto a Punto'!Y397","v":"0.4"}]
["29.0",{"$f":"'Patrones Punto a Punto'!Y398","v":"0.4"}]
["30.0",{"$f":"'Patrones Punto a Punto'!Y399","v":"0.5"}]
["31.0",{"$f":"'Patrones Punto a Punto'!Y400","v":"0.5"}]
["32.0",{"$f":"'Patrones Punto a Punto'!Y401","v":"0.5"}]
["33.0",{"$f":"'Patrones Punto a Punto'!Y402","v":"0.5"}]
["34.0",{"$f":"'Patrones Punto a Punto'!Y403","v":"0.5"}]
["35.0",{"$f":"'Patrones Punto a Punto'!Y404","v":"0.7"}]
["36.0",{"$f":"'Patrones Punto a Punto'!Y405","v":"0.7"}]
["37.0",{"$f":"'Patrones Punto a Punto'!Y406","v":"0.7"}]
["38.0",{"$f":"'Patrones Punto a Punto'!Y407","v":"0.7"}]
["39.0",{"$f":"'Patrones Punto a Punto'!Y408","v":"0.7"}]
["40.0",{"$f":"'Patrones Punto a Punto'!Y409","v":"0.9"}]
["41.0",{"$f":"'Patrones Punto a Punto'!Y410","v":"0.9"}]
["42.0",{"$f":"'Patrones Punto a Punto'!Y411","v":"0.9"}]
["43.0",{"$f":"'Patrones Punto a Punto'!Y412","v":"0.9"}]
["44.0",{"$f":"'Patrones Punto a Punto'!Y413","v":"0.9"}]
["45.0",{"$f":"'Patrones Punto a Punto'!Y414","v":"1.2"}]
["46.0",{"$f":"'Patrones Punto a Punto'!Y415","v":"1.2"}]
["47.0",{"$f":"'Patrones Punto a Punto'!Y416","v":"1.2"}]
["48.0",{"$f":"'Patrones Punto a Punto'!Y417","v":"1.2"}]
["49.0",{"$f":"'Patrones Punto a Punto'!Y418","v":"1.2"}]
["50.0",{"$f":"'Patrones Punto a Punto'!Y419","v":"1.9"}]
["51.0",{"$f":"'Patrones Punto a Punto'!Y420","v":"1.9"}]
["52.0",{"$f":"'Patrones Punto a Punto'!Y421","v":"1.9"}]
["53.0",{"$f":"'Patrones Punto a Punto'!Y422","v":"1.9"}]
["54.0",{"$f":"'Patrones Punto a Punto'!Y423","v":"1.9"}]
["55.0",{"$f":"'Patrones Punto a Punto'!Y424","v":"2.6"}]
["56.0",{"$f":"'Patrones Punto a Punto'!Y425","v":"2.6"}]
["57.0",{"$f":"'Patrones Punto a Punto'!Y426","v":"2.6"}]
["58.0",{"$f":"'Patrones Punto a Punto'!Y427","v":"2.6"}]
["59.0",{"$f":"'Patrones Punto a Punto'!Y428","v":"2.6"}]
["60.0",{"$f":"'Patrones Punto a Punto'!Y429","v":"3.7"}]
["61.0",{"$f":"'Patrones Punto a Punto'!Y430","v":"3.7"}]
["62.0",{"$f":"'Patrones Punto a Punto'!Y431","v":"3.7"}]
["63.0",{"$f":"'Patrones Punto a Punto'!Y432","v":"3.7"}]
["64.0",{"$f":"'Patrones Punto a Punto'!Y433","v":"3.7"}]
["65.0",{"$f":"'Patrones Punto a Punto'!Y434","v":"5.1"}]
["66.0",{"$f":"'Patrones Punto a Punto'!Y435","v":"5.1"}]
["67.0",{"$f":"'Patrones Punto a Punto'!Y436","v":"5.1"}]
["68.0",{"$f":"'Patrones Punto a Punto'!Y437","v":"5.1"}]
["69.0",{"$f":"'Patrones Punto a Punto'!Y438","v":"5.1"}]
["70.0",{"$f":"'Patrones Punto a Punto'!Y439","v":"7.0"}]
["71.0",{"$f":"'Patrones Punto a Punto'!Y440","v":"7.0"}]
["72.0",{"$f":"'Patrones Punto a Punto'!Y441","v":"7.0"}]
["73.0",{"$f":"'Patrones Punto a Punto'!Y442","v":"7.0"}]
["74.0",{"$f":"'Patrones Punto a Punto'!Y443","v":"7.0"}]
["75.0",{"$f":"'Patrones Punto a Punto'!Y444","v":"9.3"}]
["76.0",{"$f":"'Patrones Punto a Punto'!Y445","v":"9.3"}]
["77.0",{"$f":"'Patrones Punto a Punto'!Y446","v":"9.3"}]
["78.0",{"$f":"'Patrones Punto a Punto'!Y447","v":"9.3"}]
["79.0",{"$f":"'Patrones Punto a Punto'!Y448","v":"9.3"}]
["80.0",{"$f":"'Patrones Punto a Punto'!Y449","v":"7.6"}]
["81.0",{"$f":"'Patrones Punto a Punto'!Y450","v":"7.6"}]
["82.0",{"$f":"'Patrones Punto a Punto'!Y451","v":"7.6"}]
["83.0",{"$f":"'Patrones Punto a Punto'!Y452","v":"7.6"}]
["84.0",{"$f":"'Patrones Punto a Punto'!Y453","v":"7.6"}]
["85.0",{"$f":"'Patrones Punto a Punto'!Y454","v":"6.0"}]
["86.0",{"$f":"'Patrones Punto a Punto'!Y455","v":"6.0"}]
["87.0",{"$f":"'Patrones Punto a Punto'!Y456","v":"6.0"}]
["88.0",{"$f":"'Patrones Punto a Punto'!Y457","v":"6.0"}]
["89.0",{"$f":"'Patrones Punto a Punto'!Y458","v":"6.0"}]
["90.0",{"$f":"'Patrones Punto a Punto'!Y459","v":"4.8"}]
["91.0",{"$f":"'Patrones Punto a Punto'!Y460","v":"4.8"}]
["92.0",{"$f":"'Patrones Punto a Punto'!Y461","v":"4.8"}]
["93.0",{"$f":"'Patrones Punto a Punto'!Y462","v":"4.8"}]
["94.0",{"$f":"'Patrones Punto a Punto'!Y463","v":"4.8"}]
["95.0",{"$f":"'Patrones Punto a Punto'!Y464","v":"5.6"}]
["96.0",{"$f":"'Patrones Punto a Punto'!Y465","v":"5.6"}]
["97.0",{"$f":"'Patrones Punto a Punto'!Y466","v":"5.6"}]
["98.0",{"$f":"'Patrones Punto a Punto'!Y467","v":"5.6"}]
["99.0",{"$f":"'Patrones Punto a Punto'!Y468","v":"5.6"}]
["100.0",{"$f":"'Patrones Punto a Punto'!Y469","v":"7.3"}]
["101.0",{"$f":"'Patrones Punto a Punto'!Y470","v":"7.3"}]
["102.0",{"$f":"'Patrones Punto a Punto'!Y471","v":"7.3"}]
["103.0",{"$f":"'Patrones Punto a Punto'!Y472","v":"7.3"}]
["104.0",{"$f":"'Patrones Punto a Punto'!Y473","v":"7.3"}]
["105.0",{"$f":"'Patrones Punto a Punto'!Y474","v":"9.6"}]
["106.0",{"$f":"'Patrones Punto a Punto'!Y475","v":"9.6"}]
["107.0",{"$f":"'Patrones Punto a Punto'!Y476","v":"9.6"}]
["108.0",{"$f":"'Patrones Punto a Punto'!Y477","v":"9.6"}]
["109.0",{"$f":"'Patrones Punto a Punto'!Y478","v":"9.6"}]
["110.0",{"$f":"'Patrones Punto a Punto'!Y479","v":"7.7"}]
["111.0",{"$f":"'Patrones Punto a Punto'!Y480","v":"7.7"}]
["112.0",{"$f":"'Patrones Punto a Punto'!Y481","v":"7.7"}]
["113.0",{"$f":"'Patrones Punto a Punto'!Y482","v":"7.7"}]
["114.0",{"$f":"'Patrones Punto a Punto'!Y483","v":"7.7"}]
["115.0",{"$f":"'Patrones Punto a Punto'!Y484","v":"5.3"}]
["116.0",{"$f":"'Patrones Punto a Punto'!Y485","v":"5.3"}]
["117.0",{"$f":"'Patrones Punto a Punto'!Y486","v":"5.3"}]
["118.0",{"$f":"'Patrones Punto a Punto'!Y487","v":"5.3"}]
["119.0",{"$f":"'Patrones Punto a Punto'!Y488","v":"5.3"}]
["120.0",{"$f":"'Patrones Punto a Punto'!Y489","v":"3.8"}]
["121.0",{"$f":"'Patrones Punto a Punto'!Y490","v":"3.8"}]
["122.0",{"$f":"'Patrones Punto a Punto'!Y491","v":"3.8"}]
["123.0",{"$f":"'Patrones Punto a Punto'!Y492","v":"3.8"}]
["124.0",{"$f":"'Patrones Punto a Punto'!Y493","v":"3.8"}]
["125.0",{"$f":"'Patrones Punto a Punto'!Y494","v":"2.8"}]
["126.0",{"$f":"'Patrones Punto a Punto'!Y495","v":"2.8"}]
["127.0",{"$f":"'Patrones Punto a Punto'!Y496","v":"2.8"}]
["128.0",{"$f":"'Patrones Punto a Punto'!Y497","v":"2.8"}]
["129.0",{"$f":"'Patrones Punto a Punto'!Y498","v":"2.8"}]
["130.0",{"$f":"'Patrones Punto a Punto'!Y499","v":"1.8"}]
["131.0",{"$f":"'Patrones Punto a Punto'!Y500","v":"1.8"}]
["132.0",{"$f":"'Patrones Punto a Punto'!Y501","v":"1.8"}]
["133.0",{"$f":"'Patrones Punto a Punto'!Y502","v":"1.8"}]
["134.0",{"$f":"'Patrones Punto a Punto'!Y503","v":"1.8"}]
["135.0",{"$f":"'Patrones Punto a Punto'!Y504","v":"1.2"}]
["136.0",{"$f":"'Patrones Punto a Punto'!Y505","v":"1.2"}]
["137.0",{"$f":"'Patrones Punto a Punto'!Y506","v":"1.2"}]
["138.0",{"$f":"'Patrones Punto a Punto'!Y507","v":"1.2"}]
["139.0",{"$f":"'Patrones Punto a Punto'!Y508","v":"1.2"}]
["140.0",{"$f":"'Patrones Punto a Punto'!Y509","v":"0.9"}]
["141.0",{"$f":"'Patrones Punto a Punto'!Y510","v":"0.9"}]
["142.0",{"$f":"'Patrones Punto a Punto'!Y511","v":"0.9"}]
["143.0",{"$f":"'Patrones Punto a Punto'!Y512","v":"0.9"}]
["144.0",{"$f":"'Patrones Punto a Punto'!Y513","v":"0.9"}]
["145.0",{"$f":"'Patrones Punto a Punto'!Y514","v":"0.8"}]
["146.0",{"$f":"'Patrones Punto a Punto'!Y515","v":"0.8"}]
["147.0",{"$f":"'Patrones Punto a Punto'!Y516","v":"0.8"}]
["148.0",{"$f":"'Patrones Punto a Punto'!Y517","v":"0.8"}]
["149.0",{"$f":"'Patrones Punto a Punto'!Y518","v":"0.8"}]
["150.0",{"$f":"'Patrones Punto a Punto'!Y519","v":"0.6"}]
["151.0",{"$f":"'Patrones Punto a Punto'!Y520","v":"0.6"}]
["152.0",{"$f":"'Patrones Punto a Punto'!Y521","v":"0.6"}]
["153.0",{"$f":"'Patrones Punto a Punto'!Y522","v":"0.6"}]
["154.0",{"$f":"'Patrones Punto a Punto'!Y523","v":"0.6"}]
["155.0",{"$f":"'Patrones Punto a Punto'!Y524","v":"0.4"}]
["156.0",{"$f":"'Patrones Punto a Punto'!Y525","v":"0.4"}]
["157.0",{"$f":"'Patrones Punto a Punto'!Y526","v":"0.4"}]
["158.0",{"$f":"'Patrones Punto a Punto'!Y527","v":"0.4"}]
["159.0",{"$f":"'Patrones Punto a Punto'!Y528","v":"0.4"}]
["160.0",{"$f":"'Patrones Punto a Punto'!Y529","v":"0.4"}]
["161.0",{"$f":"'Patrones Punto a Punto'!Y530","v":"0.4"}]
["162.0",{"$f":"'Patrones Punto a Punto'!Y531","v":"0.4"}]
["163.0",{"$f":"'Patrones Punto a Punto'!Y532","v":"0.4"}]
["164.0",{"$f":"'Patrones Punto a Punto'!Y533","v":"0.4"}]
["165.0",{"$f":"'Patrones Punto a Punto'!Y534","v":"0.2"}]
["166.0",{"$f":"'Patrones Punto a Punto'!Y535","v":"0.2"}]
["167.0",{"$f":"'Patrones Punto a Punto'!Y536","v":"0.2"}]
["168.0",{"$f":"'Patrones Punto a Punto'!Y537","v":"0.2"}]
["169.0",{"$f":"'Patrones Punto a Punto'!Y538","v":"0.2"}]
["170.0",{"$f":"'Patrones Punto a Punto'!Y539","v":"0.0"}]
["171.0",{"$f":"'Patrones Punto a Punto'!Y540","v":"0.0"}]
["172.0",{"$f":"'Patrones Punto a Punto'!Y541","v":"0.0"}]
["173.0",{"$f":"'Patrones Punto a Punto'!Y542","v":"0.0"}]
["174.0",{"$f":"'Patrones Punto a Punto'!Y543","v":"0.0"}]
["175.0",{"$f":"'Patrones Punto a Punto'!Y544","v":"0.0"}]
["176.0",{"$f":"'Patrones Punto a Punto'!Y545","v":"0.0"}]
["177.0",{"$f":"'Patrones Punto a Punto'!Y546","v":"0.0"}]
["178.0",{"$f":"'Patrones Punto a Punto'!Y547","v":"0.0"}]
["179.0",{"$f":"'Patrones Punto a Punto'!Y548","v":"0.0"}]
["180.0",{"$f":"'Patrones Punto a Punto'!Y549","v":"0.0"}]
["181.0",{"$f":"'Patrones Punto a Punto'!Y550","v":"0.0"}]
["182.0",{"$f":"'Patrones Punto a Punto'!Y551","v":"0.0"}]
["183.0",{"$f":"'Patrones Punto a Punto'!Y552","v":"0.0"}]
["184.0",{"$f":"'Patrones Punto a Punto'!Y553","v":"0.0"}]
["185.0",{"$f":"'Patrones Punto a Punto'!Y554","v":"0.0"}]
["186.0",{"$f":"'Patrones Punto a Punto'!Y555","v":"0.0"}]
["187.0",{"$f":"'Patrones Punto a Punto'!Y556","v":"0.0"}]
["188.0",{"$f":"'Patrones Punto a Punto'!Y557","v":"0.0"}]
["189.0",{"$f":"'Patrones Punto a Punto'!Y558","v":"0.0"}]
["190.0",{"$f":"'Patrones Punto a Punto'!Y559","v":"0.0"}]
["191.0",{"$f":"'Patrones Punto a Punto'!Y560","v":"0.0"}]
["192.0",{"$f":"'Patrones Punto a Punto'!Y561","v":"0.0"}]
["193.0",{"$f":"'Patrones Punto a Punto'!Y562","v":"0.0"}]
["194.0",{"$f":"'Patrones Punto a Punto'!Y563","v":"0.0"}]
["195.0",{"$f":"'Patrones Punto a Punto'!Y564","v":"0.0"}]
["196.0",{"$f":"'Patrones Punto a Punto'!Y565","v":"0.2"}]
["197.0",{"$f":"'Patrones Punto a Punto'!Y566","v":"0.2"}]
["198.0",{"$f":"'Patrones Punto a Punto'!Y567","v":"0.2"}]
["199.0",{"$f":"'Patrones Punto a Punto'!Y568","v":"0.2"}]
["200.0",{"$f":"'Patrones Punto a Punto'!Y569","v":"0.2"}]
["201.0",{"$f":"'Patrones Punto a Punto'!Y570","v":"0.4"}]
["202.0",{"$f":"'Patrones Punto a Punto'!Y571","v":"0.4"}]
["203.0",{"$f":"'Patrones Punto a Punto'!Y572","v":"0.4"}]
["204.0",{"$f":"'Patrones Punto a Punto'!Y573","v":"0.4"}]
["205.0",{"$f":"'Patrones Punto a Punto'!Y574","v":"0.4"}]
["206.0",{"$f":"'Patrones Punto a Punto'!Y575","v":"0.4"}]
["207.0",{"$f":"'Patrones Punto a Punto'!Y576","v":"0.4"}]
["208.0",{"$f":"'Patrones Punto a Punto'!Y577","v":"0.4"}]
["209.0",{"$f":"'Patrones Punto a Punto'!Y578","v":"0.4"}]
["210.0",{"$f":"'Patrones Punto a Punto'!Y579","v":"0.4"}]
["211.0",{"$f":"'Patrones Punto a Punto'!Y580","v":"0.5"}]
["212.0",{"$f":"'Patrones Punto a Punto'!Y581","v":"0.5"}]
["213.0",{"$f":"'Patrones Punto a Punto'!Y582","v":"0.5"}]
["214.0",{"$f":"'Patrones Punto a Punto'!Y583","v":"0.5"}]
["215.0",{"$f":"'Patrones Punto a Punto'!Y584","v":"0.5"}]
["216.0",{"$f":"'Patrones Punto a Punto'!Y585","v":"0.7"}]
["217.0",{"$f":"'Patrones Punto a Punto'!Y586","v":"0.7"}]
["218.0",{"$f":"'Patrones Punto a Punto'!Y587","v":"0.7"}]
["219.0",{"$f":"'Patrones Punto a Punto'!Y588","v":"0.7"}]
["220.0",{"$f":"'Patrones Punto a Punto'!Y589","v":"0.7"}]
["221.0",{"$f":"'Patrones Punto a Punto'!Y590","v":"0.9"}]
["222.0",{"$f":"'Patrones Punto a Punto'!Y591","v":"0.9"}]
["223.0",{"$f":"'Patrones Punto a Punto'!Y592","v":"0.9"}]
["224.0",{"$f":"'Patrones Punto a Punto'!Y593","v":"0.9"}]
["225.0",{"$f":"'Patrones Punto a Punto'!Y594","v":"0.9"}]
["226.0",{"$f":"'Patrones Punto a Punto'!Y595","v":"1.2"}]
["227.0",{"$f":"'Patrones Punto a Punto'!Y596","v":"1.2"}]
["228.0",{"$f":"'Patrones Punto a Punto'!Y597","v":"1.2"}]
["229.0",{"$f":"'Patrones Punto a Punto'!Y598","v":"1.2"}]
["230.0",{"$f":"'Patrones Punto a Punto'!Y599","v":"1.2"}]
["231.0",{"$f":"'Patrones Punto a Punto'!Y600","v":"1.9"}]
["232.0",{"$f":"'Patrones Punto a Punto'!Y601","v":"1.9"}]
["233.0",{"$f":"'Patrones Punto a Punto'!Y602","v":"1.9"}]
["234.0",{"$f":"'Patrones Punto a Punto'!Y603","v":"1.9"}]
["235.0",{"$f":"'Patrones Punto a Punto'!Y604","v":"1.9"}]
["236.0",{"$f":"'Patrones Punto a Punto'!Y605","v":"2.6"}]
["237.0",{"$f":"'Patrones Punto a Punto'!Y606","v":"2.6"}]
["238.0",{"$f":"'Patrones Punto a Punto'!Y607","v":"2.6"}]
["239.0",{"$f":"'Patrones Punto a Punto'!Y608","v":"2.6"}]
["240.0",{"$f":"'Patrones Punto a Punto'!Y609","v":"2.6"}]
["241.0",{"$f":"'Patrones Punto a Punto'!Y610","v":"3.7"}]
["242.0",{"$f":"'Patrones Punto a Punto'!Y611","v":"3.7"}]
["243.0",{"$f":"'Patrones Punto a Punto'!Y612","v":"3.7"}]
["244.0",{"$f":"'Patrones Punto a Punto'!Y613","v":"3.7"}]
["245.0",{"$f":"'Patrones Punto a Punto'!Y614","v":"5.1"}]
["246.0",{"$f":"'Patrones Punto a Punto'!Y615","v":"5.1"}]
["247.0",{"$f":"'Patrones Punto a Punto'!Y616","v":"5.1"}]
["248.0",{"$f":"'Patrones Punto a Punto'!Y617","v":"5.1"}]
["249.0",{"$f":"'Patrones Punto a Punto'!Y618","v":"5.1"}]
["250.0",{"$f":"'Patrones Punto a Punto'!Y619","v":"7.0"}]
["251.0",{"$f":"'Patrones Punto a Punto'!Y620","v":"7.0"}]
["252.0",{"$f":"'Patrones Punto a Punto'!Y621","v":"7.0"}]
["253.0",{"$f":"'Patrones Punto a Punto'!Y622","v":"7.0"}]
["254.0",{"$f":"'Patrones Punto a Punto'!Y623","v":"7.0"}]
["255.0",{"$f":"'Patrones Punto a Punto'!Y624","v":"9.3"}]
["256.0",{"$f":"'Patrones Punto a Punto'!Y625","v":"9.3"}]
["257.0",{"$f":"'Patrones Punto a Punto'!Y626","v":"9.3"}]
["258.0",{"$f":"'Patrones Punto a Punto'!Y627","v":"9.3"}]
["259.0",{"$f":"'Patrones Punto a Punto'!Y628","v":"9.3"}]
["260.0",{"$f":"'Patrones Punto a Punto'!Y629","v":"7.6"}]
["261.0",{"$f":"'Patrones Punto a Punto'!Y630","v":"7.6"}]
["262.0",{"$f":"'Patrones Punto a Punto'!Y631","v":"7.6"}]
["263.0",{"$f":"'Patrones Punto a Punto'!Y632","v":"7.6"}]
["264.0",{"$f":"'Patrones Punto a Punto'!Y633","v":"7.6"}]
["265.0",{"$f":"'Patrones Punto a Punto'!Y634","v":"6.0"}]
["266.0",{"$f":"'Patrones Punto a Punto'!Y635","v":"6.0"}]
["267.0",{"$f":"'Patrones Punto a Punto'!Y636","v":"6.0"}]
["268.0",{"$f":"'Patrones Punto a Punto'!Y637","v":"6.0"}]
["269.0",{"$f":"'Patrones Punto a Punto'!Y638","v":"6.0"}]
["270.0",{"$f":"'Patrones Punto a Punto'!Y639","v":"4.8"}]
["271.0",{"$f":"'Patrones Punto a Punto'!Y640","v":"4.8"}]
["272.0",{"$f":"'Patrones Punto a Punto'!Y641","v":"4.8"}]
["273.0",{"$f":"'Patrones Punto a Punto'!Y642","v":"4.8"}]
["274.0",{"$f":"'Patrones Punto a Punto'!Y643","v":"4.8"}]
["275.0",{"$f":"'Patrones Punto a Punto'!Y644","v":"5.6"}]
["276.0",{"$f":"'Patrones Punto a Punto'!Y645","v":"5.6"}]
["277.0",{"$f":"'Patrones Punto a Punto'!Y646","v":"5.6"}]
["278.0",{"$f":"'Patrones Punto a Punto'!Y647","v":"5.6"}]
["279.0",{"$f":"'Patrones Punto a Punto'!Y648","v":"5.6"}]
["280.0",{"$f":"'Patrones Punto a Punto'!Y649","v":"7.3"}]
["281.0",{"$f":"'Patrones Punto a Punto'!Y650","v":"7.3"}]
["282.0",{"$f":"'Patrones Punto a Punto'!Y651","v":"7.3"}]
["283.0",{"$f":"'Patrones Punto a Punto'!Y652","v":"7.3"}]
["284.0",{"$f":"'Patrones Punto a Punto'!Y653","v":"7.3"}]
["285.0",{"$f":"'Patrones Punto a Punto'!Y654","v":"9.6"}]
["286.0",{"$f":"'Patrones Punto a Punto'!Y655","v":"9.6"}]
["287.0",{"$f":"'Patrones Punto a Punto'!Y656","v":"9.6"}]
["288.0",{"$f":"'Patrones Punto a Punto'!Y657","v":"9.6"}]
["289.0",{"$f":"'Patrones Punto a Punto'!Y658","v":"9.6"}]
["290.0",{"$f":"'Patrones Punto a Punto'!Y659","v":"7.7"}]
["291.0",{"$f":"'Patrones Punto a Punto'!Y660","v":"7.7"}]
["292.0",{"$f":"'Patrones Punto a Punto'!Y661","v":"7.7"}]
["293.0",{"$f":"'Patrones Punto a Punto'!Y662","v":"7.7"}]
["294.0",{"$f":"'Patrones Punto a Punto'!Y663","v":"7.7"}]
["295.0",{"$f":"'Patrones Punto a Punto'!Y664","v":"5.3"}]
["296.0",{"$f":"'Patrones Punto a Punto'!Y665","v":"5.3"}]
["297.0",{"$f":"'Patrones Punto a Punto'!Y666","v":"5.3"}]
["298.0",{"$f":"'Patrones Punto a Punto'!Y667","v":"5.3"}]
["299.0",{"$f":"'Patrones Punto a Punto'!Y668","v":"5.3"}]
["300.0",{"$f":"'Patrones Punto a Punto'!Y669","v":"3.8"}]
["301.0",{"$f":"'Patrones Punto a Punto'!Y670","v":"3.8"}]
["302.0",{"$f":"'Patrones Punto a Punto'!Y671","v":"3.8"}]
["303.0",{"$f":"'Patrones Punto a Punto'!Y672","v":"3.8"}]
["304.0",{"$f":"'Patrones Punto a Punto'!Y673","v":"3.8"}]
["305.0",{"$f":"'Patrones Punto a Punto'!Y674","v":"2.8"}]
["306.0",{"$f":"'Patrones Punto a Punto'!Y675","v":"2.8"}]
["307.0",{"$f":"'Patrones Punto a Punto'!Y676","v":"2.8"}]
["308.0",{"$f":"'Patrones Punto a Punto'!Y677","v":"2.8"}]
["309.0",{"$f":"'Patrones Punto a Punto'!Y678","v":"2.8"}]
["310.0",{"$f":"'Patrones Punto a Punto'!Y679","v":"1.8"}]
["311.0",{"$f":"'Patrones Punto a Punto'!Y680","v":"1.8"}]
["312.0",{"$f":"'Patrones Punto a Punto'!Y681","v":"1.8"}]
["313.0",{"$f":"'Patrones Punto a Punto'!Y682","v":"1.8"}]
["314.0",{"$f":"'Patrones Punto a Punto'!Y683","v":"1.8"}]
["315.0",{"$f":"'Patrones Punto a Punto'!Y684","v":"1.2"}]
["316.0",{"$f":"'Patrones Punto a Punto'!Y685","v":"1.2"}]
["317.0",{"$f":"'Patrones Punto a Punto'!Y686","v":"1.2"}]
["318.0",{"$f":"'Patrones Punto a Punto'!Y687","v":"1.2"}]
["319.0",{"$f":"'Patrones Punto a Punto'!Y688","v":"1.2"}]
["320.0",{"$f":"'Patrones Punto a Punto'!Y689","v":"0.9"}]
["321.0",{"$f":"'Patrones Punto a Punto'!Y690","v":"0.9"}]
["322.0",{"$f":"'Patrones Punto a Punto'!Y691","v":"0.9"}]
["323.0",{"$f":"'Patrones Punto a Punto'!Y692","v":"0.9"}]
["324.0",{"$f":"'Patrones Punto a Punto'!Y693","v":"0.9"}]
["325.0",{"$f":"'Patrones Punto a Punto'!Y694","v":"0.8"}]
["326.0",{"$f":"'Patrones Punto a Punto'!Y695","v":"0.8"}]
["327.0",{"$f":"'Patrones Punto a Punto'!Y696","v":"0.8"}]
["328.0",{"$f":"'Patrones Punto a Punto'!Y697","v":"0.8"}]
["329.0",{"$f":"'Patrones Punto a Punto'!Y698","v":"0.8"}]
["330.0",{"$f":"'Patrones Punto a Punto'!Y699","v":"0.6"}]
["331.0",{"$f":"'Patrones Punto a Punto'!Y700","v":"0.6"}]
["332.0",{"$f":"'Patrones Punto a Punto'!Y701","v":"0.6"}]
["333.0",{"$f":"'Patrones Punto a Punto'!Y702","v":"0.6"}]
["334.0",{"$f":"'Patrones Punto a Punto'!Y703","v":"0.6"}]
["335.0",{"$f":"'Patrones Punto a Punto'!Y704","v":"0.4"}]
["336.0",{"$f":"'Patrones Punto a Punto'!Y705","v":"0.4"}]
["337.0",{"$f":"'Patrones Punto a Punto'!Y706","v":"0.4"}]
["338.0",{"$f":"'Patrones Punto a Punto'!Y707","v":"0.4"}]
["339.0",{"$f":"'Patrones Punto a Punto'!Y708","v":"0.4"}]
["340.0",{"$f":"'Patrones Punto a Punto'!Y709","v":"0.4"}]
["341.0",{"$f":"'Patrones Punto a Punto'!Y710","v":"0.4"}]
["342.0",{"$f":"'Patrones Punto a Punto'!Y711","v":"0.4"}]
["343.0",{"$f":"'Patrones Punto a Punto'!Y712","v":"0.4"}]
["344.0",{"$f":"'Patrones Punto a Punto'!Y713","v":"0.4"}]
["345.0",{"$f":"'Patrones Punto a Punto'!Y714","v":"0.2"}]
["346.0",{"$f":"'Patrones Punto a Punto'!Y715","v":"0.2"}]
["347.0",{"$f":"'Patrones Punto a Punto'!Y716","v":"0.2"}]
["348.0",{"$f":"'Patrones Punto a Punto'!Y717","v":"0.2"}]
["349.0",{"$f":"'Patrones Punto a Punto'!Y718","v":"0.2"}]
["350.0",{"$f":"'Patrones Punto a Punto'!Y719","v":"0.0"}]
["351.0",{"$f":"'Patrones Punto a Punto'!Y720","v":"0.0"}]
["352.0",{"$f":"'Patrones Punto a Punto'!Y721","v":"0.0"}]
["353.0",{"$f":"'Patrones Punto a Punto'!Y722","v":"0.0"}]
["354.0",{"$f":"'Patrones Punto a Punto'!Y723","v":"0.0"}]
["355.0",{"$f":"'Patrones Punto a Punto'!Y724","v":"0.0"}]
["356.0",{"$f":"'Patrones Punto a Punto'!Y725","v":"0.0"}]
["357.0",{"$f":"'Patrones Punto a Punto'!Y726","v":"0.0"}]
["358.0",{"$f":"'Patrones Punto a Punto'!Y727","v":"0.0"}]
["359.0",{"$f":"'Patrones Punto a Punto'!Y728","v":"0.0"}]
[null,{"$f":"'Patrones Punto a Punto'!Y729","v":0}]
[null,{"$f":"'Patrones Punto a Punto'!Y730","v":0}]
[null,{"$f":"'Patrones Punto a Punto'!Y731","v":0}]
[null,{"$f":"'Patrones Punto a Punto'!Y732","v":0}]
[null,{"$f":"'Patrones Punto a Punto'!Y733","v":0}]
[null,{"$f":"'Patrones Punto a Punto'!Y734","v":0}]
[null,{"$f":"'Patrones Punto a Punto'!Y735","v":0}]
[null,{"$f":"'Patrones Punto a Punto'!Y736","v":0}]
[null,{"$f":"'Patrones Punto a Punto'!Y737","v":0}]
[null,{"$f":"'Patrones Punto a Punto'!Y738","v":0}]
[null,{"$f":"'Patrones Punto a Punto'!Y739","v":0}]
[null,{"$f":"'Patrones Punto a Punto'!Y740","v":0}]
[null,{"$f":"'Patrones Punto a Punto'!Y741","v":0}]
[null,{"$f":"'Patrones Punto a Punto'!Y742","v":0}]
[null,{"$f":"'Patrones Punto a Punto'!Y743","v":0}]
[null,{"$f":"'Patrones Punto a Punto'!Y744","v":0}]
[null,{"$f":"'Patrones Punto a Punto'!Y745","v":0}]
[null,{"$f":"'Patrones Punto a Punto'!Y746","v":0}]
[null,{"$f":"'Patrones Punto a Punto'!Y747","v":0}]
[null,{"$f":"'Patrones Punto a Punto'!Y748","v":0}]
[null,{"$f":"'Patrones Punto a Punto'!Y749","v":0}]
[null,{"$f":"'Patrones Punto a Punto'!Y750","v":0}]
[null,{"$f":"'Patrones Punto a Punto'!Y751","v":0}]
[null,{"$f":"'Patrones Punto a Punto'!Y752","v":0}]
[null,{"$f":"'Patrones Punto a Punto'!Y753","v":0}]
[null,{"$f":"'Patrones Punto a Punto'!Y754","v":0}]
[null,{"$f":"'Patrones Punto a Punto'!Y755","v":0}]
[null,{"$f":"'Patrones Punto a Punto'!Y756","v":0}]
[null,{"$f":"'Patrones Punto a Punto'!Y757","v":0}]
[null,{"$f":"'Patrones Punto a Punto'!Y758","v":0}]
[null,{"$f":"'Patrones Punto a Punto'!Y759","v":0}]
[null,{"$f":"'Patrones Punto a Punto'!Y760","v":0}]
[null,{"$f":"'Patrones Punto a Punto'!Y761","v":0}]
[null,{"$f":"'Patrones Punto a Punto'!Y762","v":0}]
[null,{"$f":"'Patrones Punto a Punto'!Y763","v":0}]
[null,{"$f":"'Patrones Punto a Punto'!Y764","v":0}]
[null,{"$f":"'Patrones Punto a Punto'!Y765","v":0}]
[null,{"$f":"'Patrones Punto a Punto'!Y766","v":0}]
[null,{"$f":"'Patrones Punto a Punto'!Y767","v":0}]
[null,{"$f":"'Patrones Punto a Punto'!Y768","v":0}]
[null,{"$f":"'Patrones Punto a Punto'!Y769","v":0}]
[null,{"$f":"'Patrones Punto a Punto'!Y770","v":0}]
[null,{"$f":"'Patrones Punto a Punto'!Y771","v":0}]
[null,{"$f":"'Patrones Punto a Punto'!Y772","v":0}]
[null,{"$f":"'Patrones Punto a Punto'!Y773","v":0}]
[null,{"$f":"'Patrones Punto a Punto'!Y774","v":0}]
[null,{"$f":"'Patrones Punto a Punto'!Y775","v":0}]
[null,{"$f":"'Patrones Punto a Punto'!Y776","v":0}]
[null,{"$f":"'Patrones Punto a Punto'!Y777","v":0}]
[null,{"$f":"'Patrones Punto a Punto'!Y778","v":0}]
[null,{"$f":"'Patrones Punto a Punto'!Y779","v":0}]
[null,{"$f":"'Patrones Punto a Punto'!Y780","v":0}]
[null,{"$f":"'Patrones Punto a Punto'!Y781","v":0}]
[null,{"$f":"'Patrones Punto a Punto'!Y782","v":0}]
[null,{"$f":"'Patrones Punto a Punto'!Y783","v":0}]
[null,{"$f":"'Patrones Punto a Punto'!Y784","v":0}]
[null,{"$f":"'Patrones Punto a Punto'!Y785","v":0}]
[null,{"$f":"'Patrones Punto a Punto'!Y786","v":0}]
[null,{"$f":"'Patrones Punto a Punto'!Y787","v":0}]
[null,{"$f":"'Patrones Punto a Punto'!Y788","v":0}]
[null,{"$f":"'Patrones Punto a Punto'!Y789","v":0}]
[null,{"$f":"'Patrones Punto a Punto'!Y790","v":0}]
[null,{"$f":"'Patrones Punto a Punto'!Y791","v":0}]
[null,{"$f":"'Patrones Punto a Punto'!Y792","v":0}]
[null,{"$f":"'Patrones Punto a Punto'!Y793","v":0}]
[null,{"$f":"'Patrones Punto a Punto'!Y794","v":0}]
[null,{"$f":"'Patrones Punto a Punto'!Y795","v":0}]
[null,{"$f":"'Patrones Punto a Punto'!Y796","v":0}]
[null,{"$f":"'Patrones Punto a Punto'!Y797","v":0}]
[null,{"$f":"'Patrones Punto a Punto'!Y798","v":0}]
[null,{"$f":"'Patrones Punto a Punto'!Y799","v":0}]
[null,{"$f":"'Patrones Punto a Punto'!Y800","v":0}]
[null,{"$f":"'Patrones Punto a Punto'!Y801","v":0}]
[null,{"$f":"'Patrones Punto a Punto'!Y802","v":0}]
[null,{"$f":"'Patrones Punto a Punto'!Y803","v":0}]
[null,{"$f":"'Patrones Punto a Punto'!Y804","v":0}]
[null,{"$f":"'Patrones Punto a Punto'!Y805","v":0}]
[null,{"$f":"'Patrones Punto a Punto'!Y806","v":0}]
[null,{"$f":"'Patrones Punto a Punto'!Y807","v":0}]
[null,{"$f":"'Patrones Punto a Punto'!Y808","v":0}]
[null,{"$f":"'Patrones Punto a Punto'!Y809","v":0}]
[null,{"$f":"'Patrones Punto a Punto'!Y810","v":0}]
[null,{"$f":"'Patrones Punto a Punto'!Y811","v":0}]
[null,{"$f":"'Patrones Punto a Punto'!Y812","v":0}]
[null,{"$f":"'Patrones Punto a Punto'!Y813","v":0}]
[null,{"$f":"'Patrones Punto a Punto'!Y814","v":0}]
[null,{"$f":"'Patrones Punto a Punto'!Y815","v":0}]
[null,{"$f":"'Patrones Punto a Punto'!Y816","v":0}]
[null,{"$f":"'Patrones Punto a Punto'!Y817","v":0}]
[null,{"$f":"'Patrones Punto a Punto'!Y818","v":0}]
[null,{"$f":"'Patrones Punto a Punto'!Y819","v":0}]
[null,{"$f":"'Patrones Punto a Punto'!Y820","v":0}]
[null,{"$f":"'Patrones Punto a Punto'!Y821","v":0}]
[null,{"$f":"'Patrones Punto a Punto'!Y822","v":0}]
[null,{"$f":"'Patrones Punto a Punto'!Y823","v":0}]
[null,{"$f":"'Patrones Punto a Punto'!Y824","v":0}]
[null,{"$f":"'Patrones Punto a Punto'!Y825","v":0}]
[null,{"$f":"'Patrones Punto a Punto'!Y826","v":0}]
[null,{"$f":"'Patrones Punto a Punto'!Y827","v":0}]
[null,{"$f":"'Patrones Punto a Punto'!Y828","v":0}]
[null,{"$f":"'Patrones Punto a Punto'!Y829","v":0}]
[null,{"$f":"'Patrones Punto a Punto'!Y830","v":0}]
[null,{"$f":"'Patrones Punto a Punto'!Y831","v":0}]
[null,{"$f":"'Patrones Punto a Punto'!Y832","v":0}]
[null,{"$f":"'Patrones Punto a Punto'!Y833","v":0}]
[null,{"$f":"'Patrones Punto a Punto'!Y834","v":0}]
[null,{"$f":"'Patrones Punto a Punto'!Y835","v":0}]
[null,{"$f":"'Patrones Punto a Punto'!Y836","v":0}]
[null,{"$f":"'Patrones Punto a Punto'!Y837","v":0}]
[null,{"$f":"'Patrones Punto a Punto'!Y838","v":0}]
[null,{"$f":"'Patrones Punto a Punto'!Y839","v":0}]
[null,{"$f":"'Patrones Punto a Punto'!Y840","v":0}]
[null,{"$f":"'Patrones Punto a Punto'!Y841","v":0}]
[null,{"$f":"'Patrones Punto a Punto'!Y842","v":0}]
[null,{"$f":"'Patrones Punto a Punto'!Y843","v":0}]
[null,{"$f":"'Patrones Punto a Punto'!Y844","v":0}]
[null,{"$f":"'Patrones Punto a Punto'!Y845","v":0}]
[null,{"$f":"'Patrones Punto a Punto'!Y846","v":0}]
[null,{"$f":"'Patrones Punto a Punto'!Y847","v":0}]
[null,{"$f":"'Patrones Punto a Punto'!Y848","v":0}]
[null,{"$f":"'Patrones Punto a Punto'!Y849","v":0}]
[null,{"$f":"'Patrones Punto a Punto'!Y850","v":0}]
[null,{"$f":"'Patrones Punto a Punto'!Y851","v":0}]
[null,{"$f":"'Patrones Punto a Punto'!Y852","v":0}]
[null,{"$f":"'Patrones Punto a Punto'!Y853","v":0}]
[null,{"$f":"'Patrones Punto a Punto'!Y854","v":0}]
[null,{"$f":"'Patrones Punto a Punto'!Y855","v":0}]
[null,{"$f":"'Patrones Punto a Punto'!Y856","v":0}]
[null,{"$f":"'Patrones Punto a Punto'!Y857","v":0}]
[null,{"$f":"'Patrones Punto a Punto'!Y858","v":0}]
[null,{"$f":"'Patrones Punto a Punto'!Y859","v":0}]
[null,{"$f":"'Patrones Punto a Punto'!Y860","v":0}]
[null,{"$f":"'Patrones Punto a Punto'!Y861","v":0}]
[null,{"$f":"'Patrones Punto a Punto'!Y862","v":0}]
[null,{"$f":"'Patrones Punto a Punto'!Y863","v":0}]
[null,{"$f":"'Patrones Punto a Punto'!Y864","v":0}]
[null,{"$f":"'Patrones Punto a Punto'!Y865","v":0}]
[null,{"$f":"'Patrones Punto a Punto'!Y866","v":0}]
[null,{"$f":"'Patrones Punto a Punto'!Y867","v":0}]
[null,{"$f":"'Patrones Punto a Punto'!Y868","v":0}]
[null,{"$f":"'Patrones Punto a Punto'!Y869","v":0}]
[null,{"$f":"'Patrones Punto a Punto'!Y870","v":0}]
[null,{"$f":"'Patrones Punto a Punto'!Y871","v":0}]
[null,{"$f":"'Patrones Punto a Punto'!Y872","v":0}]
[null,{"$f":"'Patrones Punto a Punto'!Y873","v":0}]
[null,{"$f":"'Patrones Punto a Punto'!Y874","v":0}]
[null,{"$f":"'Patrones Punto a Punto'!Y875","v":0}]
[null,{"$f":"'Patrones Punto a Punto'!Y876","v":0}]
[null,{"$f":"'Patrones Punto a Punto'!Y877","v":0}]
[null,{"$f":"'Patrones Punto a Punto'!Y878","v":0}]
[null,{"$f":"'Patrones Punto a Punto'!Y879","v":0}]
[null,{"$f":"'Patrones Punto a Punto'!Y880","v":0}]
[null,{"$f":"'Patrones Punto a Punto'!Y881","v":0}]
[null,{"$f":"'Patrones Punto a Punto'!Y882","v":0}]
[null,{"$f":"'Patrones Punto a Punto'!Y883","v":0}]
[null,{"$f":"'Patrones Punto a Punto'!Y884","v":0}]
[null,{"$f":"'Patrones Punto a Punto'!Y885","v":0}]
[null,{"$f":"'Patrones Punto a Punto'!Y886","v":0}]
[null,{"$f":"'Patrones Punto a Punto'!Y887","v":0}]
[null,{"$f":"'Patrones Punto a Punto'!Y888","v":0}]
[null,{"$f":"'Patrones Punto a Punto'!Y889","v":0}]
[null,{"$f":"'Patrones Punto a Punto'!Y890","v":0}]
[null,{"$f":"'Patrones Punto a Punto'!Y891","v":0}]
[null,{"$f":"'Patrones Punto a Punto'!Y892","v":0}]
[null,{"$f":"'Patrones Punto a Punto'!Y893","v":0}]
[null,{"$f":"'Patrones Punto a Punto'!Y894","v":0}]
[null,{"$f":"'Patrones Punto a Punto'!Y895","v":0}]
[null,{"$f":"'Patrones Punto a Punto'!Y896","v":0}]
[null,{"$f":"'Patrones Punto a Punto'!Y897","v":0}]
[null,{"$f":"'Patrones Punto a Punto'!Y898","v":0}]
[null,{"$f":"'Patrones Punto a Punto'!Y899","v":0}]
[null,{"$f":"'Patrones Punto a Punto'!Y900","v":0}]
[null,{"$f":"'Patrones Punto a Punto'!Y901","v":0}]
[null,{"$f":"'Patrones Punto a Punto'!Y902","v":0}]
[null,{"$f":"'Patrones Punto a Punto'!Y903","v":0}]
[null,{"$f":"'Patrones Punto a Punto'!Y904","v":0}]
[null,{"$f":"'Patrones Punto a Punto'!Y905","v":0}]
[null,{"$f":"'Patrones Punto a Punto'!Y906","v":0}]
[null,{"$f":"'Patrones Punto a Punto'!Y907","v":0}]
[null,{"$f":"'Patrones Punto a Punto'!Y908","v":0}]
[null,{"$f":"'Patrones Punto a Punto'!Y909","v":0}]
[null,{"$f":"'Patrones Punto a Punto'!Y910","v":0}]
[null,{"$f":"'Patrones Punto a Punto'!Y911","v":0}]
[null,{"$f":"'Patrones Punto a Punto'!Y912","v":0}]
[null,{"$f":"'Patrones Punto a Punto'!Y913","v":0}]
[null,{"$f":"'Patrones Punto a Punto'!Y914","v":0}]
[null,{"$f":"'Patrones Punto a Punto'!Y915","v":0}]
[null,{"$f":"'Patrones Punto a Punto'!Y916","v":0}]
[null,{"$f":"'Patrones Punto a Punto'!Y917","v":0}]
[null,{"$f":"'Patrones Punto a Punto'!Y918","v":0}]
[null,{"$f":"'Patrones Punto a Punto'!Y919","v":0}]
[null,{"$f":"'Patrones Punto a Punto'!Y920","v":0}]
[null,{"$f":"'Patrones Punto a Punto'!Y921","v":0}]
[null,{"$f":"'Patrones Punto a Punto'!Y922","v":0}]
[null,{"$f":"'Patrones Punto a Punto'!Y923","v":0}]
[null,{"$f":"'Patrones Punto a Punto'!Y924","v":0}]
[null,{"$f":"'Patrones Punto a Punto'!Y925","v":0}]
[null,{"$f":"'Patrones Punto a Punto'!Y926","v":0}]
[null,{"$f":"'Patrones Punto a Punto'!Y927","v":0}]
[null,{"$f":"'Patrones Punto a Punto'!Y928","v":0}]
[null,{"$f":"'Patrones Punto a Punto'!Y929","v":0}]
[null,{"$f":"'Patrones Punto a Punto'!Y930","v":0}]
[null,{"$f":"'Patrones Punto a Punto'!Y931","v":0}]
[null,{"$f":"'Patrones Punto a Punto'!Y932","v":0}]
[null,{"$f":"'Patrones Punto a Punto'!Y933","v":0}]
[null,{"$f":"'Patrones Punto a Punto'!Y934","v":0}]
[null,{"$f":"'Patrones Punto a Punto'!Y935","v":0}]
[null,{"$f":"'Patrones Punto a Punto'!Y936","v":0}]
[null,{"$f":"'Patrones Punto a Punto'!Y937","v":0}]
[null,{"$f":"'Patrones Punto a Punto'!Y938","v":0}]
[null,{"$f":"'Patrones Punto a Punto'!Y939","v":0}]
[null,{"$f":"'Patrones Punto a Punto'!Y940","v":0}]
[null,{"$f":"'Patrones Punto a Punto'!Y941","v":0}]
[null,{"$f":"'Patrones Punto a Punto'!Y942","v":0}]
[null,{"$f":"'Patrones Punto a Punto'!Y943","v":0}]
[null,{"$f":"'Patrones Punto a Punto'!Y944","v":0}]
[null,{"$f":"'Patrones Punto a Punto'!Y945","v":0}]
[null,{"$f":"'Patrones Punto a Punto'!Y946","v":0}]
[null,{"$f":"'Patrones Punto a Punto'!Y947","v":0}]
[null,{"$f":"'Patrones Punto a Punto'!Y948","v":0}]
[null,{"$f":"'Patrones Punto a Punto'!Y949","v":0}]
[null,{"$f":"'Patrones Punto a Punto'!Y950","v":0}]
[null,{"$f":"'Patrones Punto a Punto'!Y951","v":0}]
[null,{"$f":"'Patrones Punto a Punto'!Y952","v":0}]
[null,{"$f":"'Patrones Punto a Punto'!Y953","v":0}]
[null,{"$f":"'Patrones Punto a Punto'!Y954","v":0}]
[null,{"$f":"'Patrones Punto a Punto'!Y955","v":0}]
[null,{"$f":"'Patrones Punto a Punto'!Y956","v":0}]
[null,{"$f":"'Patrones Punto a Punto'!Y957","v":0}]
[null,{"$f":"'Patrones Punto a Punto'!Y958","v":0}]
[null,{"$f":"'Patrones Punto a Punto'!Y959","v":0}]
[null,{"$f":"'Patrones Punto a Punto'!Y960","v":0}]
[null,{"$f":"'Patrones Punto a Punto'!Y961","v":0}]
[null,{"$f":"'Patrones Punto a Punto'!Y962","v":0}]
[null,{"$f":"'Patrones Punto a Punto'!Y963","v":0}]
[null,{"$f":"'Patrones Punto a Punto'!Y964","v":0}]
[null,{"$f":"'Patrones Punto a Punto'!Y965","v":0}]
[null,{"$f":"'Patrones Punto a Punto'!Y966","v":0}]
[null,{"$f":"'Patrones Punto a Punto'!Y967","v":0}]
[null,{"$f":"'Patrones Punto a Punto'!Y968","v":0}]
[null,{"$f":"'Patrones Punto a Punto'!Y969","v":0}]
[null,{"$f":"'Patrones Punto a Punto'!Y970","v":0}]
[null,{"$f":"'Patrones Punto a Punto'!Y971","v":0}]
[null,{"$f":"'Patrones Punto a Punto'!Y972","v":0}]
[null,{"$f":"'Patrones Punto a Punto'!Y973","v":0}]
[null,{"$f":"'Patrones Punto a Punto'!Y974","v":0}]
[null,{"$f":"'Patrones Punto a Punto'!Y975","v":0}]
[null,{"$f":"'Patrones Punto a Punto'!Y976","v":0}]
[null,{"$f":"'Patrones Punto a Punto'!Y977","v":0}]
[null,{"$f":"'Patrones Punto a Punto'!Y978","v":0}]
[null,{"$f":"'Patrones Punto a Punto'!Y979","v":0}]
[null,{"$f":"'Patrones Punto a Punto'!Y980","v":0}]
[null,{"$f":"'Patrones Punto a Punto'!Y981","v":0}]
[null,{"$f":"'Patrones Punto a Punto'!Y982","v":0}]
[null,{"$f":"'Patrones Punto a Punto'!Y983","v":0}]
[null,{"$f":"'Patrones Punto a Punto'!Y984","v":0}]
[null,{"$f":"'Patrones Punto a Punto'!Y985","v":0}]
[null,{"$f":"'Patrones Punto a Punto'!Y986","v":0}]
[null,{"$f":"'Patrones Punto a Punto'!Y987","v":0}]
[null,{"$f":"'Patrones Punto a Punto'!Y988","v":0}]
[null,{"$f":"'Patrones Punto a Punto'!Y989","v":0}]
[null,{"$f":"'Patrones Punto a Punto'!Y990","v":0}]
[null,{"$f":"'Patrones Punto a Punto'!Y991","v":0}]
[null,{"$f":"'Patrones Punto a Punto'!Y992","v":0}]
[null,{"$f":"'Patrones Punto a Punto'!Y993","v":0}]
[null,{"$f":"'Patrones Punto a Punto'!Y994","v":0}]
[null,{"$f":"'Patrones Punto a Punto'!Y995","v":0}]
[null,{"$f":"'Patrones Punto a Punto'!Y996","v":0}]
[null,{"$f":"'Patrones Punto a Punto'!Y997","v":0}]
[null,{"$f":"'Patrones Punto a Punto'!Y998","v":0}]
[null,{"$f":"'Patrones Punto a Punto'!Y999","v":0}]
[null,{"$f":"'Patrones Punto a Punto'!Y1000","v":0}]
[null,{"$f":"'Patrones Punto a Punto'!Y1001","v":0}]
[null,{"$f":"'Patrones Punto a Punto'!Y1002","v":0}]
[null,{"$f":"'Patrones Punto a Punto'!Y1003","v":0}]
[null,{"$f":"'Patrones Punto a Punto'!Y1004","v":0}]
[null,{"$f":"'Patrones Punto a Punto'!Y1005","v":0}]
[null,{"$f":"'Patrones Punto a Punto'!Y1006","v":0}]
[null,{"$f":"'Patrones Punto a Punto'!Y1007","v":0}]
[null,{"$f":"'Patrones Punto a Punto'!Y1008","v":0}]
[null,{"$f":"'Patrones Punto a Punto'!Y1009","v":0}]
[null,{"$f":"'Patrones Punto a Punto'!Y1010","v":0}]
[null,{"$f":"'Patrones Punto a Punto'!Y1011","v":0}]
[null,{"$f":"'Patrones Punto a Punto'!Y1012","v":0}]
[null,{"$f":"'Patrones Punto a Punto'!Y1013","v":0}]
[null,{"$f":"'Patrones Punto a Punto'!Y1014","v":0}]
[null,{"$f":"'Patrones Punto a Punto'!Y1015","v":0}]
[null,{"$f":"'Patrones Punto a Punto'!Y1016","v":0}]
[null,{"$f":"'Patrones Punto a Punto'!Y1017","v":0}]
[null,{"$f":"'Patrones Punto a Punto'!Y1018","v":0}]
[null,{"$f":"'Patrones Punto a Punto'!Y1019","v":0}]
[null,{"$f":"'Patrones Punto a Punto'!Y1020","v":0}]
[null,{"$f":"'Patrones Punto a Punto'!Y1021","v":0}]
[null,{"$f":"'Patrones Punto a Punto'!Y1022","v":0}]
[null,{"$f":"'Patrones Punto a Punto'!Y1023","v":0}]
[null,{"$f":"'Patrones Punto a Punto'!Y1024","v":0}]
[null,{"$f":"'Patrones Punto a Punto'!Y1025","v":0}]
[null,{"$f":"'Patrones Punto a Punto'!Y1026","v":0}]
[null,{"$f":"'Patrones Punto a Punto'!Y1027","v":0}]
[null,{"$f":"'Patrones Punto a Punto'!Y1028","v":0}]
[null,{"$f":"'Patrones Punto a Punto'!Y1029","v":0}]
[null,{"$f":"'Patrones Punto a Punto'!Y1030","v":0}]
[null,{"$f":"'Patrones Punto a Punto'!Y1031","v":0}]
[null,{"$f":"'Patrones Punto a Punto'!Y1032","v":0}]
[null,{"$f":"'Patrones Punto a Punto'!Y1033","v":0}]
[null,{"$f":"'Patrones Punto a Punto'!Y1034","v":0}]
[null,{"$f":"'Patrones Punto a Punto'!Y1035","v":0}]
[null,{"$f":"'Patrones Punto a Punto'!Y1036","v":0}]
[null,{"$f":"'Patrones Punto a Punto'!Y1037","v":0}]
[null,{"$f":"'Patrones Punto a Punto'!Y1038","v":0}]
[null,{"$f":"'Patrones Punto a Punto'!Y1039","v":0}]
[null,{"$f":"'Patrones Punto a Punto'!Y1040","v":0}]
[null,{"$f":"'Patrones Punto a Punto'!Y1041","v":0}]
[null,{"$f":"'Patrones Punto a Punto'!Y1042","v":0}]
[null,{"$f":"'Patrones Punto a Punto'!Y1043","v":0}]
[null,{"$f":"'Patrones Punto a Punto'!Y1044","v":0}]
[null,{"$f":"'Patrones Punto a Punto'!Y1045","v":0}]
[null,{"$f":"'Patrones Punto a Punto'!Y1046","v":0}]
[null,{"$f":"'Patrones Punto a Punto'!Y1047","v":0}]
[null,{"$f":"'Patrones Punto a Punto'!Y1048","v":0}]
[null,{"$f":"'Patrones Punto a Punto'!Y1049","v":0}]
[null,{"$f":"'Patrones Punto a Punto'!Y1050","v":0}]
[null,{"$f":"'Patrones Punto a Punto'!Y1051","v":0}]
[null,{"$f":"'Patrones Punto a Punto'!Y1052","v":0}]
[null,{"$f":"'Patrones Punto a Punto'!Y1053","v":0}]
[null,{"$f":"'Patrones Punto a Punto'!Y1054","v":0}]
[null,{"$f":"'Patrones Punto a Punto'!Y1055","v":0}]
[null,{"$f":"'Patrones Punto a Punto'!Y1056","v":0}]
[null,{"$f":"'Patrones Punto a Punto'!Y1057","v":0}]
[null,{"$f":"'Patrones Punto a Punto'!Y1058","v":0}]
[null,{"$f":"'Patrones Punto a Punto'!Y1059","v":0}]
[null,{"$f":"'Patrones Punto a Punto'!Y1060","v":0}]
[null,{"$f":"'Patrones Punto a Punto'!Y1061","v":0}]
[null,{"$f":"'Patrones Punto a Punto'!Y1062","v":0}]
[null,{"$f":"'Patrones Punto a Punto'!Y1063","v":0}]
[null,{"$f":"'Patrones Punto a Punto'!Y1064","v":0}]
[null,{"$f":"'Patrones Punto a Punto'!Y1065","v":0}]
[null,{"$f":"'Patrones Punto a Punto'!Y1066","v":0}]
[null,{"$f":"'Patrones Punto a Punto'!Y1067","v":0}]
[null,{"$f":"'Patrones Punto a Punto'!Y1068","v":0}]
[null,{"$f":"'Patrones Punto a Punto'!Y1069","v":0}]
[null,{"$f":"'Patrones Punto a Punto'!Y1070","v":0}]
[null,{"$f":"'Patrones Punto a Punto'!Y1071","v":0}]
[null,{"$f":"'Patrones Punto a Punto'!Y1072","v":0}]
[null,{"$f":"'Patrones Punto a Punto'!Y1073","v":0}]
[null,{"$f":"'Patrones Punto a Punto'!Y1074","v":0}]
[null,{"$f":"'Patrones Punto a Punto'!Y1075","v":0}]
[null,{"$f":"'Patrones Punto a Punto'!Y1076","v":0}]
[null,{"$f":"'Patrones Punto a Punto'!Y1077","v":0}]
[null,{"$f":"'Patrones Punto a Punto'!Y1078","v":0}]
[null,{"$f":"'Patrones Punto a Punto'!Y1079","v":0}]
[null,{"$f":"'Patrones Punto a Punto'!Y1080","v":0}]
[null,{"$f":"'Patrones Punto a Punto'!Y1081","v":0}]
[null,{"$f":"'Patrones Punto a Punto'!Y1082","v":0}]
[null,{"$f":"'Patrones Punto a Punto'!Y1083","v":0}]
[null,{"$f":"'Patrones Punto a Punto'!Y1084","v":0}]
[null,{"$f":"'Patrones Punto a Punto'!Y1085","v":0}]
[null,{"$f":"'Patrones Punto a Punto'!Y1086","v":0}]
[null,{"$f":"'Patrones Punto a Punto'!Y1087","v":0}]
[null,{"$f":"'Patrones Punto a Punto'!Y1088","v":0}]
[null,{"$f":"'Patrones Punto a Punto'!Y1089","v":0}]
[null,{"$f":"'Patrones Punto a Punto'!Y1090","v":0}]
[null,{"$f":"'Patrones Punto a Punto'!Y1091","v":0}]
[null,{"$f":"'Patrones Punto a Punto'!Y1092","v":0}]
[null,{"$f":"'Patrones Punto a Punto'!Y1093","v":0}]
[null,{"$f":"'Patrones Punto a Punto'!Y1094","v":0}]
[null,{"$f":"'Patrones Punto a Punto'!Y1095","v":0}]
[null,{"$f":"'Patrones Punto a Punto'!Y1096","v":0}]
[null,{"$f":"'Patrones Punto a Punto'!Y1097","v":0}]
[null,{"$f":"'Patrones Punto a Punto'!Y1098","v":0}]
[null,{"$f":"'Patrones Punto a Punto'!Y1099","v":0}]
[null,{"$f":"'Patrones Punto a Punto'!Y1100","v":0}]
[null,{"$f":"'Patrones Punto a Punto'!Y1101","v":0}]
[null,{"$f":"'Patrones Punto a Punto'!Y1102","v":0}]
[null,{"$f":"'Patrones Punto a Punto'!Y1103","v":0}]
[null,{"$f":"'Patrones Punto a Punto'!Y1104","v":0}]
[null,{"$f":"'Patrones Punto a Punto'!Y1105","v":0}]
[null,{"$f":"'Patrones Punto a Punto'!Y1106","v":0}]
[null,{"$f":"'Patrones Punto a Punto'!Y1107","v":0}]
[null,{"$f":"'Patrones Punto a Punto'!Y1108","v":0}]
[null,{"$f":"'Patrones Punto a Punto'!Y1109","v":0}]
[null,{"$f":"'Patrones Punto a Punto'!Y1110","v":0}]
[null,{"$f":"'Patrones Punto a Punto'!Y1111","v":0}]
[null,{"$f":"'Patrones Punto a Punto'!Y1112","v":0}]
[null,{"$f":"'Patrones Punto a Punto'!Y1113","v":0}]
[null,{"$f":"'Patrones Punto a Punto'!Y1114","v":0}]
[null,{"$f":"'Patrones Punto a Punto'!Y1115","v":0}]
[null,{"$f":"'Patrones Punto a Punto'!Y1116","v":0}]
[null,{"$f":"'Patrones Punto a Punto'!Y1117","v":0}]
[null,{"$f":"'Patrones Punto a Punto'!Y1118","v":0}]
[null,{"$f":"'Patrones Punto a Punto'!Y1119","v":0}]
[null,{"$f":"'Patrones Punto a Punto'!Y1120","v":0}]
[null,{"$f":"'Patrones Punto a Punto'!Y1121","v":0}]
[null,{"$f":"'Patrones Punto a Punto'!Y1122","v":0}]
[null,{"$f":"'Patrones Punto a Punto'!Y1123","v":0}]
[null,{"$f":"'Patrones Punto a Punto'!Y1124","v":0}]
[null,{"$f":"'Patrones Punto a Punto'!Y1125","v":0}]
[null,{"$f":"'Patrones Punto a Punto'!Y1126","v":0}]
[null,{"$f":"'Patrones Punto a Punto'!Y1127","v":0}]
[null,{"$f":"'Patrones Punto a Punto'!Y1128","v":0}]
[null,{"$f":"'Patrones Punto a Punto'!Y1129","v":0}]
[null,{"$f":"'Patrones Punto a Punto'!Y1130","v":0}]
[null,{"$f":"'Patrones Punto a Punto'!Y1131","v":0}]
[null,{"$f":"'Patrones Punto a Punto'!Y1132","v":0}]
[null,{"$f":"'Patrones Punto a Punto'!Y1133","v":0}]
[null,{"$f":"'Patrones Punto a Punto'!Y1134","v":0}]
[null,{"$f":"'Patrones Punto a Punto'!Y1135","v":0}]
[null,{"$f":"'Patrones Punto a Punto'!Y1136","v":0}]
[null,{"$f":"'Patrones Punto a Punto'!Y1137","v":0}]
[null,{"$f":"'Patrones Punto a Punto'!Y1138","v":0}]
[null,{"$f":"'Patrones Punto a Punto'!Y1139","v":0}]
[null,{"$f":"'Patrones Punto a Punto'!Y1140","v":0}]
[null,{"$f":"'Patrones Punto a Punto'!Y1141","v":0}]
[null,{"$f":"'Patrones Punto a Punto'!Y1142","v":0}]
[null,{"$f":"'Patrones Punto a Punto'!Y1143","v":0}]
[null,{"$f":"'Patrones Punto a Punto'!Y1144","v":0}]
[null,{"$f":"'Patrones Punto a Punto'!Y1145","v":0}]
[null,{"$f":"'Patrones Punto a Punto'!Y1146","v":0}]
[null,{"$f":"'Patrones Punto a Punto'!Y1147","v":0}]
[null,{"$f":"'Patrones Punto a Punto'!Y1148","v":0}]
[null,{"$f":"'Patrones Punto a Punto'!Y1149","v":0}]
[null,{"$f":"'Patrones Punto a Punto'!Y1150","v":0}]
[null,{"$f":"'Patrones Punto a Punto'!Y1151","v":0}]
[null,{"$f":"'Patrones Punto a Punto'!Y1152","v":0}]
[null,{"$f":"'Patrones Punto a Punto'!Y1153","v":0}]
[null,{"$f":"'Patrones Punto a Punto'!Y1154","v":0}]
[null,{"$f":"'Patrones Punto a Punto'!Y1155","v":0}]
[null,{"$f":"'Patrones Punto a Punto'!Y1156","v":0}]
[null,{"$f":"'Patrones Punto a Punto'!Y1157","v":0}]
[null,{"$f":"'Patrones Punto a Punto'!Y1158","v":0}]
[null,{"$f":"'Patrones Punto a Punto'!Y1159","v":0}]
[null,{"$f":"'Patrones Punto a Punto'!Y1160","v":0}]
[null,{"$f":"'Patrones Punto a Punto'!Y1161","v":0}]
[null,{"$f":"'Patrones Punto a Punto'!Y1162","v":0}]
[null,{"$f":"'Patrones Punto a Punto'!Y1163","v":0}]
[null,{"$f":"'Patrones Punto a Punto'!Y1164","v":0}]
[null,{"$f":"'Patrones Punto a Punto'!Y1165","v":0}]
[null,{"$f":"'Patrones Punto a Punto'!Y1166","v":0}]
[null,{"$f":"'Patrones Punto a Punto'!Y1167","v":0}]
[null,{"$f":"'Patrones Punto a Punto'!Y1168","v":0}]
[null,{"$f":"'Patrones Punto a Punto'!Y1169","v":0}]
[null,{"$f":"'Patrones Punto a Punto'!Y1170","v":0}]
[null,{"$f":"'Patrones Punto a Punto'!Y1171","v":0}]
[null,{"$f":"'Patrones Punto a Punto'!Y1172","v":0}]
[null,{"$f":"'Patrones Punto a Punto'!Y1173","v":0}]
[null,{"$f":"'Patrones Punto a Punto'!Y1174","v":0}]
[null,{"$f":"'Patrones Punto a Punto'!Y1175","v":0}]
[null,{"$f":"'Patrones Punto a Punto'!Y1176","v":0}]
[null,{"$f":"'Patrones Punto a Punto'!Y1177","v":0}]
[null,{"$f":"'Patrones Punto a Punto'!Y1178","v":0}]
[null,{"$f":"'Patrones Punto a Punto'!Y1179","v":0}]
[null,{"$f":"'Patrones Punto a Punto'!Y1180","v":0}]
[null,{"$f":"'Patrones Punto a Punto'!Y1181","v":0}]
[null,{"$f":"'Patrones Punto a Punto'!Y1182","v":0}]
[null,{"$f":"'Patrones Punto a Punto'!Y1183","v":0}]
[null,{"$f":"'Patrones Punto a Punto'!Y1184","v":0}]
[null,{"$f":"'Patrones Punto a Punto'!Y1185","v":0}]
[null,{"$f":"'Patrones Punto a Punto'!Y1186","v":0}]
[null,{"$f":"'Patrones Punto a Punto'!Y1187","v":0}]
[null,{"$f":"'Patrones Punto a Punto'!Y1188","v":0}]
[null,{"$f":"'Patrones Punto a Punto'!Y1189","v":0}]
[null,{"$f":"'Patrones Punto a Punto'!Y1190","v":0}]
[null,{"$f":"'Patrones Punto a Punto'!Y1191","v":0}]
[null,{"$f":"'Patrones Punto a Punto'!Y1192","v":0}]
[null,{"$f":"'Patrones Punto a Punto'!Y1193","v":0}]
[null,{"$f":"'Patrones Punto a Punto'!Y1194","v":0}]
[null,{"$f":"'Patrones Punto a Punto'!Y1195","v":0}]
[null,{"$f":"'Patrones Punto a Punto'!Y1196","v":0}]
[null,{"$f":"'Patrones Punto a Punto'!Y1197","v":0}]
[null,{"$f":"'Patrones Punto a Punto'!Y1198","v":0}]
[null,{"$f":"'Patrones Punto a Punto'!Y1199","v":0}]
[null,{"$f":"'Patrones Punto a Punto'!Y1200","v":0}]
[null,{"$f":"'Patrones Punto a Punto'!Y1201","v":0}]
[null,{"$f":"'Patrones Punto a Punto'!Y1202","v":0}]
[null,{"$f":"'Patrones Punto a Punto'!Y1203","v":0}]
[null,{"$f":"'Patrones Punto a Punto'!Y1204","v":0}]
[null,{"$f":"'Patrones Punto a Punto'!Y1205","v":0}]
[null,{"$f":"'Patrones Punto a Punto'!Y1206","v":0}]
[null,{"$f":"'Patrones Punto a Punto'!Y1207","v":0}]
[null,{"$f":"'Patrones Punto a Punto'!Y1208","v":0}]
[null,{"$f":"'Patrones Punto a Punto'!Y1209","v":0}]
[null,{"$f":"'Patrones Punto a Punto'!Y1210","v":0}]
[null,{"$f":"'Patrones Punto a Punto'!Y1211","v":0}]
[null,{"$f":"'Patrones Punto a Punto'!Y1212","v":0}]
[null,{"$f":"'Patrones Punto a Punto'!Y1213","v":0}]
[null,{"$f":"'Patrones Punto a Punto'!Y1214","v":0}]
[null,{"$f":"'Patrones Punto a Punto'!Y1215","v":0}]
[null,{"$f":"'Patrones Punto a Punto'!Y1216","v":0}]
[null,{"$f":"'Patrones Punto a Punto'!Y1217","v":0}]
[null,{"$f":"'Patrones Punto a Punto'!Y1218","v":0}]
[null,{"$f":"'Patrones Punto a Punto'!Y1219","v":0}]
[null,{"$f":"'Patrones Punto a Punto'!Y1220","v":0}]
[null,{"$f":"'Patrones Punto a Punto'!Y1221","v":0}]
[null,{"$f":"'Patrones Punto a Punto'!Y1222","v":0}]
[null,{"$f":"'Patrones Punto a Punto'!Y1223","v":0}]
[null,{"$f":"'Patrones Punto a Punto'!Y1224","v":0}]
[null,{"$f":"'Patrones Punto a Punto'!Y1225","v":0}]
[null,{"$f":"'Patrones Punto a Punto'!Y1226","v":0}]
[null,{"$f":"'Patrones Punto a Punto'!Y1227","v":0}]
[null,{"$f":"'Patrones Punto a Punto'!Y1228","v":0}]
[null,{"$f":"'Patrones Punto a Punto'!Y1229","v":0}]
[null,{"$f":"'Patrones Punto a Punto'!Y1230","v":0}]
[null,{"$f":"'Patrones Punto a Punto'!Y1231","v":0}]
[null,{"$f":"'Patrones Punto a Punto'!Y1232","v":0}]
[null,{"$f":"'Patrones Punto a Punto'!Y1233","v":0}]
[null,{"$f":"'Patrones Punto a Punto'!Y1234","v":0}]
[null,{"$f":"'Patrones Punto a Punto'!Y1235","v":0}]
[null,{"$f":"'Patrones Punto a Punto'!Y1236","v":0}]
[null,{"$f":"'Patrones Punto a Punto'!Y1237","v":0}]
[null,{"$f":"'Patrones Punto a Punto'!Y1238","v":0}]
[null,{"$f":"'Patrones Punto a Punto'!Y1239","v":0}]
[null,{"$f":"'Patrones Punto a Punto'!Y1240","v":0}]
[null,{"$f":"'Patrones Punto a Punto'!Y1241","v":0}]
[null,{"$f":"'Patrones Punto a Punto'!Y1242","v":0}]
[null,{"$f":"'Patrones Punto a Punto'!Y1243","v":0}]
[null,{"$f":"'Patrones Punto a Punto'!Y1244","v":0}]
[null,{"$f":"'Patrones Punto a Punto'!Y1245","v":0}]
[null,{"$f":"'Patrones Punto a Punto'!Y1246","v":0}]
[null,{"$f":"'Patrones Punto a Punto'!Y1247","v":0}]
[null,{"$f":"'Patrones Punto a Punto'!Y1248","v":0}]
[null,{"$f":"'Patrones Punto a Punto'!Y1249","v":0}]
[null,{"$f":"'Patrones Punto a Punto'!Y1250","v":0}]
[null,{"$f":"'Patrones Punto a Punto'!Y1251","v":0}]
[null,{"$f":"'Patrones Punto a Punto'!Y1252","v":0}]
[null,{"$f":"'Patrones Punto a Punto'!Y1253","v":0}]
[null,{"$f":"'Patrones Punto a Punto'!Y1254","v":0}]
[null,{"$f":"'Patrones Punto a Punto'!Y1255","v":0}]
[null,{"$f":"'Patrones Punto a Punto'!Y1256","v":0}]
[null,{"$f":"'Patrones Punto a Punto'!Y1257","v":0}]
[null,{"$f":"'Patrones Punto a Punto'!Y1258","v":0}]
[null,{"$f":"'Patrones Punto a Punto'!Y1259","v":0}]
[null,{"$f":"'Patrones Punto a Punto'!Y1260","v":0}]
[null,{"$f":"'Patrones Punto a Punto'!Y1261","v":0}]
[null,{"$f":"'Patrones Punto a Punto'!Y1262","v":0}]
[null,{"$f":"'Patrones Punto a Punto'!Y1263","v":0}]
[null,{"$f":"'Patrones Punto a Punto'!Y1264","v":0}]
[null,{"$f":"'Patrones Punto a Punto'!Y1265","v":0}]
[null,{"$f":"'Patrones Punto a Punto'!Y1266","v":0}]
[null,{"$f":"'Patrones Punto a Punto'!Y1267","v":0}]
[null,{"$f":"'Patrones Punto a Punto'!Y1268","v":0}]
[null,{"$f":"'Patrones Punto a Punto'!Y1269","v":0}]
[null,{"$f":"'Patrones Punto a Punto'!Y1270","v":0}]
[null,{"$f":"'Patrones Punto a Punto'!Y1271","v":0}]
[null,{"$f":"'Patrones Punto a Punto'!Y1272","v":0}]
[null,{"$f":"'Patrones Punto a Punto'!Y1273","v":0}]
[null,{"$f":"'Patrones Punto a Punto'!Y1274","v":0}]
[null,{"$f":"'Patrones Punto a Punto'!Y1275","v":0}]
[null,{"$f":"'Patrones Punto a Punto'!Y1276","v":0}]
[null,{"$f":"'Patrones Punto a Punto'!Y1277","v":0}]
[null,{"$f":"'Patrones Punto a Punto'!Y1278","v":0}]
[null,{"$f":"'Patrones Punto a Punto'!Y1279","v":0}]
[null,{"$f":"'Patrones Punto a Punto'!Y1280","v":0}]
[null,{"$f":"'Patrones Punto a Punto'!Y1281","v":0}]
[null,{"$f":"'Patrones Punto a Punto'!Y1282","v":0}]
[null,{"$f":"'Patrones Punto a Punto'!Y1283","v":0}]
[null,{"$f":"'Patrones Punto a Punto'!Y1284","v":0}]
[null,{"$f":"'Patrones Punto a Punto'!Y1285","v":0}]
[null,{"$f":"'Patrones Punto a Punto'!Y1286","v":0}]
[null,{"$f":"'Patrones Punto a Punto'!Y1287","v":0}]
[null,{"$f":"'Patrones Punto a Punto'!Y1288","v":0}]
[null,{"$f":"'Patrones Punto a Punto'!Y1289","v":0}]
[null,{"$f":"'Patrones Punto a Punto'!Y1290","v":0}]
[null,{"$f":"'Patrones Punto a Punto'!Y1291","v":0}]
[null,{"$f":"'Patrones Punto a Punto'!Y1292","v":0}]
[null,{"$f":"'Patrones Punto a Punto'!Y1293","v":0}]
[null,{"$f":"'Patrones Punto a Punto'!Y1294","v":0}]
[null,{"$f":"'Patrones Punto a Punto'!Y1295","v":0}]
[null,{"$f":"'Patrones Punto a Punto'!Y1296","v":0}]
[null,{"$f":"'Patrones Punto a Punto'!Y1297","v":0}]
[null,{"$f":"'Patrones Punto a Punto'!Y1298","v":0}]
[null,{"$f":"'Patrones Punto a Punto'!Y1299","v":0}]
[null,{"$f":"'Patrones Punto a Punto'!Y1300","v":0}]
[null,{"$f":"'Patrones Punto a Punto'!Y1301","v":0}]
[null,{"$f":"'Patrones Punto a Punto'!Y1302","v":0}]
[null,{"$f":"'Patrones Punto a Punto'!Y1303","v":0}]
[null,{"$f":"'Patrones Punto a Punto'!Y1304","v":0}]
[null,{"$f":"'Patrones Punto a Punto'!Y1305","v":0}]
[null,{"$f":"'Patrones Punto a Punto'!Y1306","v":0}]
[null,{"$f":"'Patrones Punto a Punto'!Y1307","v":0}]
[null,{"$f":"'Patrones Punto a Punto'!Y1308","v":0}]
[null,{"$f":"'Patrones Punto a Punto'!Y1309","v":0}]
[null,{"$f":"'Patrones Punto a Punto'!Y1310","v":0}]
[null,{"$f":"'Patrones Punto a Punto'!Y1311","v":0}]
[null,{"$f":"'Patrones Punto a Punto'!Y1312","v":0}]
[null,{"$f":"'Patrones Punto a Punto'!Y1313","v":0}]
[null,{"$f":"'Patrones Punto a Punto'!Y1314","v":0}]
[null,{"$f":"'Patrones Punto a Punto'!Y1315","v":0}]
[null,{"$f":"'Patrones Punto a Punto'!Y1316","v":0}]
[null,{"$f":"'Patrones Punto a Punto'!Y1317","v":0}]
[null,{"$f":"'Patrones Punto a Punto'!Y1318","v":0}]
[null,{"$f":"'Patrones Punto a Punto'!Y1319","v":0}]
[null,{"$f":"'Patrones Punto a Punto'!Y1320","v":0}]
[null,{"$f":"'Patrones Punto a Punto'!Y1321","v":0}]
[null,{"$f":"'Patrones Punto a Punto'!Y1322","v":0}]
[null,{"$f":"'Patrones Punto a Punto'!Y1323","v":0}]
[null,{"$f":"'Patrones Punto a Punto'!Y1324","v":0}]
[null,{"$f":"'Patrones Punto a Punto'!Y1325","v":0}]
[null,{"$f":"'Patrones Punto a Punto'!Y1326","v":0}]
[null,{"$f":"'Patrones Punto a Punto'!Y1327","v":0}]
[null,{"$f":"'Patrones Punto a Punto'!Y1328","v":0}]
[null,{"$f":"'Patrones Punto a Punto'!Y1329","v":0}]
[null,{"$f":"'Patrones Punto a Punto'!Y1330","v":0}]
[null,{"$f":"'Patrones Punto a Punto'!Y1331","v":0}]
[null,{"$f":"'Patrones Punto a Punto'!Y1332","v":0}]
[null,{"$f":"'Patrones Punto a Punto'!Y1333","v":0}]
[null,{"$f":"'Patrones Punto a Punto'!Y1334","v":0}]
[null,{"$f":"'Patrones Punto a Punto'!Y1335","v":0}]
[null,{"$f":"'Patrones Punto a Punto'!Y1336","v":0}]
[null,{"$f":"'Patrones Punto a Punto'!Y1337","v":0}]
[null,{"$f":"'Patrones Punto a Punto'!Y1338","v":0}]
[null,{"$f":"'Patrones Punto a Punto'!Y1339","v":0}]
[null,{"$f":"'Patrones Punto a Punto'!Y1340","v":0}]
[null,{"$f":"'Patrones Punto a Punto'!Y1341","v":0}]
[null,{"$f":"'Patrones Punto a Punto'!Y1342","v":0}]
[null,{"$f":"'Patrones Punto a Punto'!Y1343","v":0}]
[null,{"$f":"'Patrones Punto a Punto'!Y1344","v":0}]
[null,{"$f":"'Patrones Punto a Punto'!Y1345","v":0}]
[null,{"$f":"'Patrones Punto a Punto'!Y1346","v":0}]
[null,{"$f":"'Patrones Punto a Punto'!Y1347","v":0}]
[null,{"$f":"'Patrones Punto a Punto'!Y1348","v":0}]
[null,{"$f":"'Patrones Punto a Punto'!Y1349","v":0}]
[null,{"$f":"'Patrones Punto a Punto'!Y1350","v":0}]
[null,{"$f":"'Patrones Punto a Punto'!Y1351","v":0}]
[null,{"$f":"'Patrones Punto a Punto'!Y1352","v":0}]
[null,{"$f":"'Patrones Punto a Punto'!Y1353","v":0}]
[null,{"$f":"'Patrones Punto a Punto'!Y1354","v":0}]
[null,{"$f":"'Patrones Punto a Punto'!Y1355","v":0}]
[null,{"$f":"'Patrones Punto a Punto'!Y1356","v":0}]
[null,{"$f":"'Patrones Punto a Punto'!Y1357","v":0}]
[null,{"$f":"'Patrones Punto a Punto'!Y1358","v":0}]
[null,{"$f":"'Patrones Punto a Punto'!Y1359","v":0}]
[null,{"$f":"'Patrones Punto a Punto'!Y1360","v":0}]
[null,{"$f":"'Patrones Punto a Punto'!Y1361","v":0}]
[null,{"$f":"'Patrones Punto a Punto'!Y1362","v":0}]
[null,{"$f":"'Patrones Punto a Punto'!Y1363","v":0}]
[null,{"$f":"'Patrones Punto a Punto'!Y1364","v":0}]
[null,{"$f":"'Patrones Punto a Punto'!Y1365","v":0}]
[null,{"$f":"'Patrones Punto a Punto'!Y1366","v":0}]
[null,{"$f":"'Patrones Punto a Punto'!Y1367","v":0}]
[null,{"$f":"'Patrones Punto a Punto'!Y1368","v":0}]
[null,{"$f":"'Patrones Punto a Punto'!Y1369","v":0}]
[null,{"$f":"'Patrones Punto a Punto'!Y1370","v":0}]
[null,{"$f":"'Patrones Punto a Punto'!Y1371","v":0}]
[null,{"$f":"'Patrones Punto a Punto'!Y1372","v":0}]
[null,{"$f":"'Patrones Punto a Punto'!Y1373","v":0}]
[null,{"$f":"'Patrones Punto a Punto'!Y1374","v":0}]
[null,{"$f":"'Patrones Punto a Punto'!Y1375","v":0}]
[null,{"$f":"'Patrones Punto a Punto'!Y1376","v":0}]
[null,{"$f":"'Patrones Punto a Punto'!Y1377","v":0}]
[null,{"$f":"'Patrones Punto a Punto'!Y1378","v":0}]
[null,{"$f":"'Patrones Punto a Punto'!Y1379","v":0}]
[null,{"$f":"'Patrones Punto a Punto'!Y1380","v":0}]
[null,{"$f":"'Patrones Punto a Punto'!Y1381","v":0}]
[null,{"$f":"'Patrones Punto a Punto'!Y1382","v":0}]
[null,{"$f":"'Patrones Punto a Punto'!Y1383","v":0}]
[null,{"$f":"'Patrones Punto a Punto'!Y1384","v":0}]
[null,{"$f":"'Patrones Punto a Punto'!Y1385","v":0}]
[null,{"$f":"'Patrones Punto a Punto'!Y1386","v":0}]
[null,{"$f":"'Patrones Punto a Punto'!Y1387","v":0}]
[null,{"$f":"'Patrones Punto a Punto'!Y1388","v":0}]
[null,{"$f":"'Patrones Punto a Punto'!Y1389","v":0}]
[null,{"$f":"'Patrones Punto a Punto'!Y1390","v":0}]
[null,{"$f":"'Patrones Punto a Punto'!Y1391","v":0}]
[null,{"$f":"'Patrones Punto a Punto'!Y1392","v":0}]
[null,{"$f":"'Patrones Punto a Punto'!Y1393","v":0}]
[null,{"$f":"'Patrones Punto a Punto'!Y1394","v":0}]
[null,{"$f":"'Patrones Punto a Punto'!Y1395","v":0}]
[null,{"$f":"'Patrones Punto a Punto'!Y1396","v":0}]
[null,{"$f":"'Patrones Punto a Punto'!Y1397","v":0}]
[null,{"$f":"'Patrones Punto a Punto'!Y1398","v":0}]
[null,{"$f":"'Patrones Punto a Punto'!Y1399","v":0}]
[null,{"$f":"'Patrones Punto a Punto'!Y1400","v":0}]
[null,{"$f":"'Patrones Punto a Punto'!Y1401","v":0}]
[null,{"$f":"'Patrones Punto a Punto'!Y1402","v":0}]
[null,{"$f":"'Patrones Punto a Punto'!Y1403","v":0}]
[null,{"$f":"'Patrones Punto a Punto'!Y1404","v":0}]
[null,{"$f":"'Patrones Punto a Punto'!Y1405","v":0}]
[null,{"$f":"'Patrones Punto a Punto'!Y1406","v":0}]
[null,{"$f":"'Patrones Punto a Punto'!Y1407","v":0}]
[null,{"$f":"'Patrones Punto a Punto'!Y1408","v":0}]
[null,{"$f":"'Patrones Punto a Punto'!Y1409","v":0}]
[null,{"$f":"'Patrones Punto a Punto'!Y1410","v":0}]
[null,{"$f":"'Patrones Punto a Punto'!Y1411","v":0}]
[null,{"$f":"'Patrones Punto a Punto'!Y1412","v":0}]
[null,{"$f":"'Patrones Punto a Punto'!Y1413","v":0}]
[null,{"$f":"'Patrones Punto a Punto'!Y1414","v":0}]
[null,{"$f":"'Patrones Punto a Punto'!Y1415","v":0}]
[null,{"$f":"'Patrones Punto a Punto'!Y1416","v":0}]
[null,{"$f":"'Patrones Punto a Punto'!Y1417","v":0}]
[null,{"$f":"'Patrones Punto a Punto'!Y1418","v":0}]
[null,{"$f":"'Patrones Punto a Punto'!Y1419","v":0}]
[null,{"$f":"'Patrones Punto a Punto'!Y1420","v":0}]
[null,{"$f":"'Patrones Punto a Punto'!Y1421","v":0}]
[null,{"$f":"'Patrones Punto a Punto'!Y1422","v":0}]
[null,{"$f":"'Patrones Punto a Punto'!Y1423","v":0}]
[null,{"$f":"'Patrones Punto a Punto'!Y1424","v":0}]
[null,{"$f":"'Patrones Punto a Punto'!Y1425","v":0}]
[null,{"$f":"'Patrones Punto a Punto'!Y1426","v":0}]
[null,{"$f":"'Patrones Punto a Punto'!Y1427","v":0}]
[null,{"$f":"'Patrones Punto a Punto'!Y1428","v":0}]
[null,{"$f":"'Patrones Punto a Punto'!Y1429","v":0}]
[null,{"$f":"'Patrones Punto a Punto'!Y1430","v":0}]
[null,{"$f":"'Patrones Punto a Punto'!Y1431","v":0}]
[null,{"$f":"'Patrones Punto a Punto'!Y1432","v":0}]
[null,{"$f":"'Patrones Punto a Punto'!Y1433","v":0}]
[null,{"$f":"'Patrones Punto a Punto'!Y1434","v":0}]
[null,{"$f":"'Patrones Punto a Punto'!Y1435","v":0}]
[null,{"$f":"'Patrones Punto a Punto'!Y1436","v":0}]
[null,{"$f":"'Patrones Punto a Punto'!Y1437","v":0}]
[null,{"$f":"'Patrones Punto a Punto'!Y1438","v":0}]
[null,{"$f":"'Patrones Punto a Punto'!Y1439","v":0}]
[null,{"$f":"'Patrones Punto a Punto'!Y1440","v":0}]
[null,{"$f":"'Patrones Punto a Punto'!Y1441","v":0}]
[null,{"$f":"'Patrones Punto a Punto'!Y1442","v":0}]
[null,{"$f":"'Patrones Punto a Punto'!Y1443","v":0}]
[null,{"$f":"'Patrones Punto a Punto'!Y1444","v":0}]
[null,{"$f":"'Patrones Punto a Punto'!Y1445","v":0}]
[null,{"$f":"'Patrones Punto a Punto'!Y1446","v":0}]
[null,{"$f":"'Patrones Punto a Punto'!Y1447","v":0}]
[null,{"$f":"'Patrones Punto a Punto'!Y1448","v":0}]
[null,{"$f":"'Patrones Punto a Punto'!Y1449","v":0}]
[null,{"$f":"'Patrones Punto a Punto'!Y1450","v":0}]
[null,{"$f":"'Patrones Punto a Punto'!Y1451","v":0}]
[null,{"$f":"'Patrones Punto a Punto'!Y1452","v":0}]
[null,{"$f":"'Patrones Punto a Punto'!Y1453","v":0}]
[null,{"$f":"'Patrones Punto a Punto'!Y1454","v":0}]
[null,{"$f":"'Patrones Punto a Punto'!Y1455","v":0}]
[null,{"$f":"'Patrones Punto a Punto'!Y1456","v":0}]
[null,{"$f":"'Patrones Punto a Punto'!Y1457","v":0}]
[null,{"$f":"'Patrones Punto a Punto'!Y1458","v":0}]
[null,{"$f":"'Patrones Punto a Punto'!Y1459","v":0}]
[null,{"$f":"'Patrones Punto a Punto'!Y1460","v":0}]
[null,{"$f":"'Patrones Punto a Punto'!Y1461","v":0}]
[null,{"$f":"'Patrones Punto a Punto'!Y1462","v":0}]
[null,{"$f":"'Patrones Punto a Punto'!Y1463","v":0}]
[null,{"$f":"'Patrones Punto a Punto'!Y1464","v":0}]
[null,{"$f":"'Patrones Punto a Punto'!Y1465","v":0}]
[null,{"$f":"'Patrones Punto a Punto'!Y1466","v":0}]
[null,{"$f":"'Patrones Punto a Punto'!Y1467","v":0}]
[null,{"$f":"'Patrones Punto a Punto'!Y1468","v":0}]
[null,{"$f":"'Patrones Punto a Punto'!Y1469","v":0}]
[null,{"$f":"'Patrones Punto a Punto'!Y1470","v":0}]
[null,{"$f":"'Patrones Punto a Punto'!Y1471","v":0}]
[null,{"$f":"'Patrones Punto a Punto'!Y1472","v":0}]
[null,{"$f":"'Patrones Punto a Punto'!Y1473","v":0}]
[null,{"$f":"'Patrones Punto a Punto'!Y1474","v":0}]
[null,{"$f":"'Patrones Punto a Punto'!Y1475","v":0}]
[null,{"$f":"'Patrones Punto a Punto'!Y1476","v":0}]
[null,{"$f":"'Patrones Punto a Punto'!Y1477","v":0}]
[null,{"$f":"'Patrones Punto a Punto'!Y1478","v":0}]
[null,{"$f":"'Patrones Punto a Punto'!Y1479","v":0}]
[null,{"$f":"'Patrones Punto a Punto'!Y1480","v":0}]
[null,{"$f":"'Patrones Punto a Punto'!Y1481","v":0}]
[null,{"$f":"'Patrones Punto a Punto'!Y1482","v":0}]
[null,{"$f":"'Patrones Punto a Punto'!Y1483","v":0}]
[null,{"$f":"'Patrones Punto a Punto'!Y1484","v":0}]
[null,{"$f":"'Patrones Punto a Punto'!Y1485","v":0}]
[null,{"$f":"'Patrones Punto a Punto'!Y1486","v":0}]
[null,{"$f":"'Patrones Punto a Punto'!Y1487","v":0}]
[null,{"$f":"'Patrones Punto a Punto'!Y1488","v":0}]
[null,{"$f":"'Patrones Punto a Punto'!Y1489","v":0}]
[null,{"$f":"'Patrones Punto a Punto'!Y1490","v":0}]
[null,{"$f":"'Patrones Punto a Punto'!Y1491","v":0}]
[null,{"$f":"'Patrones Punto a Punto'!Y1492","v":0}]
[null,{"$f":"'Patrones Punto a Punto'!Y1493","v":0}]
[null,{"$f":"'Patrones Punto a Punto'!Y1494","v":0}]
[null,{"$f":"'Patrones Punto a Punto'!Y1495","v":0}]
[null,{"$f":"'Patrones Punto a Punto'!Y1496","v":0}]
[null,{"$f":"'Patrones Punto a Punto'!Y1497","v":0}]
[null,{"$f":"'Patrones Punto a Punto'!Y1498","v":0}]
[null,{"$f":"'Patrones Punto a Punto'!Y1499","v":0}]
[null,{"$f":"'Patrones Punto a Punto'!Y1500","v":0}]
[null,{"$f":"'Patrones Punto a Punto'!Y1501","v":0}]
[null,{"$f":"'Patrones Punto a Punto'!Y1502","v":0}]
[null,{"$f":"'Patrones Punto a Punto'!Y1503","v":0}]
[null,{"$f":"'Patrones Punto a Punto'!Y1504","v":0}]
[null,{"$f":"'Patrones Punto a Punto'!Y1505","v":0}]
[null,{"$f":"'Patrones Punto a Punto'!Y1506","v":0}]
[null,{"$f":"'Patrones Punto a Punto'!Y1507","v":0}]
[null,{"$f":"'Patrones Punto a Punto'!Y1508","v":0}]
[null,{"$f":"'Patrones Punto a Punto'!Y1509","v":0}]
[null,{"$f":"'Patrones Punto a Punto'!Y1510","v":0}]
[null,{"$f":"'Patrones Punto a Punto'!Y1511","v":0}]
[null,{"$f":"'Patrones Punto a Punto'!Y1512","v":0}]
[null,{"$f":"'Patrones Punto a Punto'!Y1513","v":0}]
[null,{"$f":"'Patrones Punto a Punto'!Y1514","v":0}]
[null,{"$f":"'Patrones Punto a Punto'!Y1515","v":0}]
[null,{"$f":"'Patrones Punto a Punto'!Y1516","v":0}]
[null,{"$f":"'Patrones Punto a Punto'!Y1517","v":0}]
[null,{"$f":"'Patrones Punto a Punto'!Y1518","v":0}]
[null,{"$f":"'Patrones Punto a Punto'!Y1519","v":0}]
[null,{"$f":"'Patrones Punto a Punto'!Y1520","v":0}]
[null,{"$f":"'Patrones Punto a Punto'!Y1521","v":0}]
[null,{"$f":"'Patrones Punto a Punto'!Y1522","v":0}]
[null,{"$f":"'Patrones Punto a Punto'!Y1523","v":0}]
[null,{"$f":"'Patrones Punto a Punto'!Y1524","v":0}]
[null,{"$f":"'Patrones Punto a Punto'!Y1525","v":0}]
[null,{"$f":"'Patrones Punto a Punto'!Y1526","v":0}]
[null,{"$f":"'Patrones Punto a Punto'!Y1527","v":0}]
[null,{"$f":"'Patrones Punto a Punto'!Y1528","v":0}]
[null,{"$f":"'Patrones Punto a Punto'!Y1529","v":0}]
[null,{"$f":"'Patrones Punto a Punto'!Y1530","v":0}]
[null,{"$f":"'Patrones Punto a Punto'!Y1531","v":0}]
[null,{"$f":"'Patrones Punto a Punto'!Y1532","v":0}]
[null,{"$f":"'Patrones Punto a Punto'!Y1533","v":0}]
[null,{"$f":"'Patrones Punto a Punto'!Y1534","v":0}]
[null,{"$f":"'Patrones Punto a Punto'!Y1535","v":0}]
[null,{"$f":"'Patrones Punto a Punto'!Y1536","v":0}]
[null,{"$f":"'Patrones Punto a Punto'!Y1537","v":0}]
[null,{"$f":"'Patrones Punto a Punto'!Y1538","v":0}]
[null,{"$f":"'Patrones Punto a Punto'!Y1539","v":0}]
[null,{"$f":"'Patrones Punto a Punto'!Y1540","v":0}]
[null,{"$f":"'Patrones Punto a Punto'!Y1541","v":0}]
[null,{"$f":"'Patrones Punto a Punto'!Y1542","v":0}]
[null,{"$f":"'Patrones Punto a Punto'!Y1543","v":0}]
[null,{"$f":"'Patrones Punto a Punto'!Y1544","v":0}]
[null,{"$f":"'Patrones Punto a Punto'!Y1545","v":0}]
[null,{"$f":"'Patrones Punto a Punto'!Y1546","v":0}]
[null,{"$f":"'Patrones Punto a Punto'!Y1547","v":0}]
[null,{"$f":"'Patrones Punto a Punto'!Y1548","v":0}]
[null,{"$f":"'Patrones Punto a Punto'!Y1549","v":0}]
[null,{"$f":"'Patrones Punto a Punto'!Y1550","v":0}]
[null,{"$f":"'Patrones Punto a Punto'!Y1551","v":0}]
[null,{"$f":"'Patrones Punto a Punto'!Y1552","v":0}]
[null,{"$f":"'Patrones Punto a Punto'!Y1553","v":0}]
[null,{"$f":"'Patrones Punto a Punto'!Y1554","v":0}]
[null,{"$f":"'Patrones Punto a Punto'!Y1555","v":0}]
[null,{"$f":"'Patrones Punto a Punto'!Y1556","v":0}]
[null,{"$f":"'Patrones Punto a Punto'!Y1557","v":0}]
[null,{"$f":"'Patrones Punto a Punto'!Y1558","v":0}]
[null,{"$f":"'Patrones Punto a Punto'!Y1559","v":0}]
[null,{"$f":"'Patrones Punto a Punto'!Y1560","v":0}]
[null,{"$f":"'Patrones Punto a Punto'!Y1561","v":0}]
[null,{"$f":"'Patrones Punto a Punto'!Y1562","v":0}]
[null,{"$f":"'Patrones Punto a Punto'!Y1563","v":0}]
[null,{"$f":"'Patrones Punto a Punto'!Y1564","v":0}]
[null,{"$f":"'Patrones Punto a Punto'!Y1565","v":0}]
[null,{"$f":"'Patrones Punto a Punto'!Y1566","v":0}]
[null,{"$f":"'Patrones Punto a Punto'!Y1567","v":0}]
[null,{"$f":"'Patrones Punto a Punto'!Y1568","v":0}]
[null,{"$f":"'Patrones Punto a Punto'!Y1569","v":0}]
[null,{"$f":"'Patrones Punto a Punto'!Y1570","v":0}]
[null,{"$f":"'Patrones Punto a Punto'!Y1571","v":0}]
[null,{"$f":"'Patrones Punto a Punto'!Y1572","v":0}]
[null,{"$f":"'Patrones Punto a Punto'!Y1573","v":0}]
[null,{"$f":"'Patrones Punto a Punto'!Y1574","v":0}]
[null,{"$f":"'Patrones Punto a Punto'!Y1575","v":0}]
[null,{"$f":"'Patrones Punto a Punto'!Y1576","v":0}]
[null,{"$f":"'Patrones Punto a Punto'!Y1577","v":0}]
[null,{"$f":"'Patrones Punto a Punto'!Y1578","v":0}]
[null,{"$f":"'Patrones Punto a Punto'!Y1579","v":0}]
[null,{"$f":"'Patrones Punto a Punto'!Y1580","v":0}]
[null,{"$f":"'Patrones Punto a Punto'!Y1581","v":0}]
[null,{"$f":"'Patrones Punto a Punto'!Y1582","v":0}]
[null,{"$f":"'Patrones Punto a Punto'!Y1583","v":0}]
[null,{"$f":"'Patrones Punto a Punto'!Y1584","v":0}]
[null,{"$f":"'Patrones Punto a Punto'!Y1585","v":0}]
[null,{"$f":"'Patrones Punto a Punto'!Y1586","v":0}]
[null,{"$f":"'Patrones Punto a Punto'!Y1587","v":0}]
[null,{"$f":"'Patrones Punto a Punto'!Y1588","v":0}]
[null,{"$f":"'Patrones Punto a Punto'!Y1589","v":0}]
[null,{"$f":"'Patrones Punto a Punto'!Y1590","v":0}]
[null,{"$f":"'Patrones Punto a Punto'!Y1591","v":0}]
[null,{"$f":"'Patrones Punto a Punto'!Y1592","v":0}]
[null,{"$f":"'Patrones Punto a Punto'!Y1593","v":0}]
[null,{"$f":"'Patrones Punto a Punto'!Y1594","v":0}]
[null,{"$f":"'Patrones Punto a Punto'!Y1595","v":0}]
[null,{"$f":"'Patrones Punto a Punto'!Y1596","v":0}]
[null,{"$f":"'Patrones Punto a Punto'!Y1597","v":0}]
[null,{"$f":"'Patrones Punto a Punto'!Y1598","v":0}]
[null,{"$f":"'Patrones Punto a Punto'!Y1599","v":0}]
[null,{"$f":"'Patrones Punto a Punto'!Y1600","v":0}]
[null,{"$f":"'Patrones Punto a Punto'!Y1601","v":0}]
[null,{"$f":"'Patrones Punto a Punto'!Y1602","v":0}]
[null,{"$f":"'Patrones Punto a Punto'!Y1603","v":0}]
[null,{"$f":"'Patrones Punto a Punto'!Y1604","v":0}]
[null,{"$f":"'Patrones Punto a Punto'!Y1605","v":0}]
[null,{"$f":"'Patrones Punto a Punto'!Y1606","v":0}]
[null,{"$f":"'Patrones Punto a Punto'!Y1607","v":0}]
[null,{"$f":"'Patrones Punto a Punto'!Y1608","v":0}]
[null,{"$f":"'Patrones Punto a Punto'!Y1609","v":0}]
[null,{"$f":"'Patrones Punto a Punto'!Y1610","v":0}]
[null,{"$f":"'Patrones Punto a Punto'!Y1611","v":0}]
[null,{"$f":"'Patrones Punto a Punto'!Y1612","v":0}]
[null,{"$f":"'Patrones Punto a Punto'!Y1613","v":0}]
[null,{"$f":"'Patrones Punto a Punto'!Y1614","v":0}]
[null,{"$f":"'Patrones Punto a Punto'!Y1615","v":0}]
[null,{"$f":"'Patrones Punto a Punto'!Y1616","v":0}]
[null,{"$f":"'Patrones Punto a Punto'!Y1617","v":0}]
[null,{"$f":"'Patrones Punto a Punto'!Y1618","v":0}]
[null,{"$f":"'Patrones Punto a Punto'!Y1619","v":0}]
[null,{"$f":"'Patrones Punto a Punto'!Y1620","v":0}]
[null,{"$f":"'Patrones Punto a Punto'!Y1621","v":0}]
[null,{"$f":"'Patrones Punto a Punto'!Y1622","v":0}]
[null,{"$f":"'Patrones Punto a Punto'!Y1623","v":0}]
[null,{"$f":"'Patrones Punto a Punto'!Y1624","v":0}]
[null,{"$f":"'Patrones Punto a Punto'!Y1625","v":0}]
[null,{"$f":"'Patrones Punto a Punto'!Y1626","v":0}]
[null,{"$f":"'Patrones Punto a Punto'!Y1627","v":0}]
[null,{"$f":"'Patrones Punto a Punto'!Y1628","v":0}]
[null,{"$f":"'Patrones Punto a Punto'!Y1629","v":0}]
[null,{"$f":"'Patrones Punto a Punto'!Y1630","v":0}]
[null,{"$f":"'Patrones Punto a Punto'!Y1631","v":0}]
[null,{"$f":"'Patrones Punto a Punto'!Y1632","v":0}]
[null,{"$f":"'Patrones Punto a Punto'!Y1633","v":0}]
[null,{"$f":"'Patrones Punto a Punto'!Y1634","v":0}]
[null,{"$f":"'Patrones Punto a Punto'!Y1635","v":0}]
[null,{"$f":"'Patrones Punto a Punto'!Y1636","v":0}]
[null,{"$f":"'Patrones Punto a Punto'!Y1637","v":0}]
[null,{"$f":"'Patrones Punto a Punto'!Y1638","v":0}]
[null,{"$f":"'Patrones Punto a Punto'!Y1639","v":0}]
[null,{"$f":"'Patrones Punto a Punto'!Y1640","v":0}]
[null,{"$f":"'Patrones Punto a Punto'!Y1641","v":0}]
[null,{"$f":"'Patrones Punto a Punto'!Y1642","v":0}]
[null,{"$f":"'Patrones Punto a Punto'!Y1643","v":0}]
[null,{"$f":"'Patrones Punto a Punto'!Y1644","v":0}]
[null,{"$f":"'Patrones Punto a Punto'!Y1645","v":0}]
[null,{"$f":"'Patrones Punto a Punto'!Y1646","v":0}]
[null,{"$f":"'Patrones Punto a Punto'!Y1647","v":0}]
[null,{"$f":"'Patrones Punto a Punto'!Y1648","v":0}]
[null,{"$f":"'Patrones Punto a Punto'!Y1649","v":0}]
[null,{"$f":"'Patrones Punto a Punto'!Y1650","v":0}]
[null,{"$f":"'Patrones Punto a Punto'!Y1651","v":0}]
[null,{"$f":"'Patrones Punto a Punto'!Y1652","v":0}]
[null,{"$f":"'Patrones Punto a Punto'!Y1653","v":0}]
[null,{"$f":"'Patrones Punto a Punto'!Y1654","v":0}]
[null,{"$f":"'Patrones Punto a Punto'!Y1655","v":0}]
[null,{"$f":"'Patrones Punto a Punto'!Y1656","v":0}]
[null,{"$f":"'Patrones Punto a Punto'!Y1657","v":0}]
[null,{"$f":"'Patrones Punto a Punto'!Y1658","v":0}]
[null,{"$f":"'Patrones Punto a Punto'!Y1659","v":0}]
[null,{"$f":"'Patrones Punto a Punto'!Y1660","v":0}]
[null,{"$f":"'Patrones Punto a Punto'!Y1661","v":0}]
[null,{"$f":"'Patrones Punto a Punto'!Y1662","v":0}]
[null,{"$f":"'Patrones Punto a Punto'!Y1663","v":0}]
[null,{"$f":"'Patrones Punto a Punto'!Y1664","v":0}]
[null,{"$f":"'Patrones Punto a Punto'!Y1665","v":0}]
[null,{"$f":"'Patrones Punto a Punto'!Y1666","v":0}]
[null,{"$f":"'Patrones Punto a Punto'!Y1667","v":0}]
[null,{"$f":"'Patrones Punto a Punto'!Y1668","v":0}]
[null,{"$f":"'Patrones Punto a Punto'!Y1669","v":0}]
[null,{"$f":"'Patrones Punto a Punto'!Y1670","v":0}]
[null,{"$f":"'Patrones Punto a Punto'!Y1671","v":0}]
[null,{"$f":"'Patrones Punto a Punto'!Y1672","v":0}]
[null,{"$f":"'Patrones Punto a Punto'!Y1673","v":0}]
[null,{"$f":"'Patrones Punto a Punto'!Y1674","v":0}]
[null,{"$f":"'Patrones Punto a Punto'!Y1675","v":0}]
[null,{"$f":"'Patrones Punto a Punto'!Y1676","v":0}]
[null,{"$f":"'Patrones Punto a Punto'!Y1677","v":0}]
[null,{"$f":"'Patrones Punto a Punto'!Y1678","v":0}]
[null,{"$f":"'Patrones Punto a Punto'!Y1679","v":0}]
[null,{"$f":"'Patrones Punto a Punto'!Y1680","v":0}]
[null,{"$f":"'Patrones Punto a Punto'!Y1681","v":0}]
[null,{"$f":"'Patrones Punto a Punto'!Y1682","v":0}]
[null,{"$f":"'Patrones Punto a Punto'!Y1683","v":0}]
[null,{"$f":"'Patrones Punto a Punto'!Y1684","v":0}]
[null,{"$f":"'Patrones Punto a Punto'!Y1685","v":0}]
[null,{"$f":"'Patrones Punto a Punto'!Y1686","v":0}]
[null,{"$f":"'Patrones Punto a Punto'!Y1687","v":0}]
[null,{"$f":"'Patrones Punto a Punto'!Y1688","v":0}]
[null,{"$f":"'Patrones Punto a Punto'!Y1689","v":0}]
[null,{"$f":"'Patrones Punto a Punto'!Y1690","v":0}]
[null,{"$f":"'Patrones Punto a Punto'!Y1691","v":0}]
[null,{"$f":"'Patrones Punto a Punto'!Y1692","v":0}]
[null,{"$f":"'Patrones Punto a Punto'!Y1693","v":0}]
[null,{"$f":"'Patrones Punto a Punto'!Y1694","v":0}]
[null,{"$f":"'Patrones Punto a Punto'!Y1695","v":0}]
[null,{"$f":"'Patrones Punto a Punto'!Y1696","v":0}]
[null,{"$f":"'Patrones Punto a Punto'!Y1697","v":0}]
[null,{"$f":"'Patrones Punto a Punto'!Y1698","v":0}]
[null,{"$f":"'Patrones Punto a Punto'!Y1699","v":0}]
[null,{"$f":"'Patrones Punto a Punto'!Y1700","v":0}]
[null,{"$f":"'Patrones Punto a Punto'!Y1701","v":0}]
[null,{"$f":"'Patrones Punto a Punto'!Y1702","v":0}]
[null,{"$f":"'Patrones Punto a Punto'!Y1703","v":0}]
[null,{"$f":"'Patrones Punto a Punto'!Y1704","v":0}]
[null,{"$f":"'Patrones Punto a Punto'!Y1705","v":0}]
[null,{"$f":"'Patrones Punto a Punto'!Y1706","v":0}]
[null,{"$f":"'Patrones Punto a Punto'!Y1707","v":0}]
[null,{"$f":"'Patrones Punto a Punto'!Y1708","v":0}]
[null,{"$f":"'Patrones Punto a Punto'!Y1709","v":0}]
[null,{"$f":"'Patrones Punto a Punto'!Y1710","v":0}]
[null,{"$f":"'Patrones Punto a Punto'!Y1711","v":0}]
[null,{"$f":"'Patrones Punto a Punto'!Y1712","v":0}]
[null,{"$f":"'Patrones Punto a Punto'!Y1713","v":0}]
[null,{"$f":"'Patrones Punto a Punto'!Y1714","v":0}]
[null,{"$f":"'Patrones Punto a Punto'!Y1715","v":0}]
[null,{"$f":"'Patrones Punto a Punto'!Y1716","v":0}]
[null,{"$f":"'Patrones Punto a Punto'!Y1717","v":0}]
[null,{"$f":"'Patrones Punto a Punto'!Y1718","v":0}]
[null,{"$f":"'Patrones Punto a Punto'!Y1719","v":0}]
[null,{"$f":"'Patrones Punto a Punto'!Y1720","v":0}]
[null,{"$f":"'Patrones Punto a Punto'!Y1721","v":0}]
[null,{"$f":"'Patrones Punto a Punto'!Y1722","v":0}]
[null,{"$f":"'Patrones Punto a Punto'!Y1723","v":0}]
[null,{"$f":"'Patrones Punto a Punto'!Y1724","v":0}]
[null,{"$f":"'Patrones Punto a Punto'!Y1725","v":0}]
[null,{"$f":"'Patrones Punto a Punto'!Y1726","v":0}]
[null,{"$f":"'Patrones Punto a Punto'!Y1727","v":0}]
[null,{"$f":"'Patrones Punto a Punto'!Y1728","v":0}]
[null,{"$f":"'Patrones Punto a Punto'!Y1729","v":0}]
[null,{"$f":"'Patrones Punto a Punto'!Y1730","v":0}]
[null,{"$f":"'Patrones Punto a Punto'!Y1731","v":0}]
[null,{"$f":"'Patrones Punto a Punto'!Y1732","v":0}]
[null,{"$f":"'Patrones Punto a Punto'!Y1733","v":0}]
[null,{"$f":"'Patrones Punto a Punto'!Y1734","v":0}]
[null,{"$f":"'Patrones Punto a Punto'!Y1735","v":0}]
[null,{"$f":"'Patrones Punto a Punto'!Y1736","v":0}]
[null,{"$f":"'Patrones Punto a Punto'!Y1737","v":0}]
[null,{"$f":"'Patrones Punto a Punto'!Y1738","v":0}]
[null,{"$f":"'Patrones Punto a Punto'!Y1739","v":0}]
[null,{"$f":"'Patrones Punto a Punto'!Y1740","v":0}]
[null,{"$f":"'Patrones Punto a Punto'!Y1741","v":0}]
[null,{"$f":"'Patrones Punto a Punto'!Y1742","v":0}]
[null,{"$f":"'Patrones Punto a Punto'!Y1743","v":0}]
[null,{"$f":"'Patrones Punto a Punto'!Y1744","v":0}]
[null,{"$f":"'Patrones Punto a Punto'!Y1745","v":0}]
[null,{"$f":"'Patrones Punto a Punto'!Y1746","v":0}]
[null,{"$f":"'Patrones Punto a Punto'!Y1747","v":0}]
[null,{"$f":"'Patrones Punto a Punto'!Y1748","v":0}]
[null,{"$f":"'Patrones Punto a Punto'!Y1749","v":0}]
[null,{"$f":"'Patrones Punto a Punto'!Y1750","v":0}]
[null,{"$f":"'Patrones Punto a Punto'!Y1751","v":0}]
[null,{"$f":"'Patrones Punto a Punto'!Y1752","v":0}]
[null,{"$f":"'Patrones Punto a Punto'!Y1753","v":0}]
[null,{"$f":"'Patrones Punto a Punto'!Y1754","v":0}]
[null,{"$f":"'Patrones Punto a Punto'!Y1755","v":0}]
[null,{"$f":"'Patrones Punto a Punto'!Y1756","v":0}]
[null,{"$f":"'Patrones Punto a Punto'!Y1757","v":0}]
[null,{"$f":"'Patrones Punto a Punto'!Y1758","v":0}]
[null,{"$f":"'Patrones Punto a Punto'!Y1759","v":0}]
[null,{"$f":"'Patrones Punto a Punto'!Y1760","v":0}]
[null,{"$f":"'Patrones Punto a Punto'!Y1761","v":0}]
[null,{"$f":"'Patrones Punto a Punto'!Y1762","v":0}]
[null,{"$f":"'Patrones Punto a Punto'!Y1763","v":0}]
[null,{"$f":"'Patrones Punto a Punto'!Y1764","v":0}]
[null,{"$f":"'Patrones Punto a Punto'!Y1765","v":0}]
[null,{"$f":"'Patrones Punto a Punto'!Y1766","v":0}]
[null,{"$f":"'Patrones Punto a Punto'!Y1767","v":0}]
[null,{"$f":"'Patrones Punto a Punto'!Y1768","v":0}]
[null,{"$f":"'Patrones Punto a Punto'!Y1769","v":0}]
[null,{"$f":"'Patrones Punto a Punto'!Y1770","v":0}]
[null,{"$f":"'Patrones Punto a Punto'!Y1771","v":0}]
[null,{"$f":"'Patrones Punto a Punto'!Y1772","v":0}]
[null,{"$f":"'Patrones Punto a Punto'!Y1773","v":0}]
[null,{"$f":"'Patrones Punto a Punto'!Y1774","v":0}]
[null,{"$f":"'Patrones Punto a Punto'!Y1775","v":0}]
[null,{"$f":"'Patrones Punto a Punto'!Y1776","v":0}]
[null,{"$f":"'Patrones Punto a Punto'!Y1777","v":0}]
[null,{"$f":"'Patrones Punto a Punto'!Y1778","v":0}]
[null,{"$f":"'Patrones Punto a Punto'!Y1779","v":0}]
[null,{"$f":"'Patrones Punto a Punto'!Y1780","v":0}]
[null,{"$f":"'Patrones Punto a Punto'!Y1781","v":0}]
[null,{"$f":"'Patrones Punto a Punto'!Y1782","v":0}]
[null,{"$f":"'Patrones Punto a Punto'!Y1783","v":0}]
[null,{"$f":"'Patrones Punto a Punto'!Y1784","v":0}]
[null,{"$f":"'Patrones Punto a Punto'!Y1785","v":0}]
[null,{"$f":"'Patrones Punto a Punto'!Y1786","v":0}]
[null,{"$f":"'Patrones Punto a Punto'!Y1787","v":0}]
[null,{"$f":"'Patrones Punto a Punto'!Y1788","v":0}]
[null,{"$f":"'Patrones Punto a Punto'!Y1789","v":0}]
[null,{"$f":"'Patrones Punto a Punto'!Y1790","v":0}]
[null,{"$f":"'Patrones Punto a Punto'!Y1791","v":0}]
[null,{"$f":"'Patrones Punto a Punto'!Y1792","v":0}]
[null,{"$f":"'Patrones Punto a Punto'!Y1793","v":0}]
[null,{"$f":"'Patrones Punto a Punto'!Y1794","v":0}]
[null,{"$f":"'Patrones Punto a Punto'!Y1795","v":0}]
[null,{"$f":"'Patrones Punto a Punto'!Y1796","v":0}]
[null,{"$f":"'Patrones Punto a Punto'!Y1797","v":0}]
[null,{"$f":"'Patrones Punto a Punto'!Y1798","v":0}]
[null,{"$f":"'Patrones Punto a Punto'!Y1799","v":0}]
[null,{"$f":"'Patrones Punto a Punto'!Y1800","v":0}]
[null,{"$f":"'Patrones Punto a Punto'!Y1801","v":0}]
[null,{"$f":"'Patrones Punto a Punto'!Y1802","v":0}]
[null,{"$f":"'Patrones Punto a Punto'!Y1803","v":0}]
[null,{"$f":"'Patrones Punto a Punto'!Y1804","v":0}]
[null,{"$f":"'Patrones Punto a Punto'!Y1805","v":0}]
[null,{"$f":"'Patrones Punto a Punto'!Y1806","v":0}]
[null,{"$f":"'Patrones Punto a Punto'!Y1807","v":0}]
[null,{"$f":"'Patrones Punto a Punto'!Y1808","v":0}]
[null,{"$f":"'Patrones Punto a Punto'!Y1809","v":0}]
[null,{"$f":"'Patrones Punto a Punto'!Y1810","v":0}]
[null,{"$f":"'Patrones Punto a Punto'!Y1811","v":0}]
[null,{"$f":"'Patrones Punto a Punto'!Y1812","v":0}]
[null,{"$f":"'Patrones Punto a Punto'!Y1813","v":0}]
[null,{"$f":"'Patrones Punto a Punto'!Y1814","v":0}]
[null,{"$f":"'Patrones Punto a Punto'!Y1815","v":0}]
[null,{"$f":"'Patrones Punto a Punto'!Y1816","v":0}]
[null,{"$f":"'Patrones Punto a Punto'!Y1817","v":0}]
[null,{"$f":"'Patrones Punto a Punto'!Y1818","v":0}]
[null,{"$f":"'Patrones Punto a Punto'!Y1819","v":0}]
[null,{"$f":"'Patrones Punto a Punto'!Y1820","v":0}]
[null,{"$f":"'Patrones Punto a Punto'!Y1821","v":0}]
[null,{"$f":"'Patrones Punto a Punto'!Y1822","v":0}]
[null,{"$f":"'Patrones Punto a Punto'!Y1823","v":0}]
[null,{"$f":"'Patrones Punto a Punto'!Y1824","v":0}]
[null,{"$f":"'Patrones Punto a Punto'!Y1825","v":0}]
[null,{"$f":"'Patrones Punto a Punto'!Y1826","v":0}]
[null,{"$f":"'Patrones Punto a Punto'!Y1827","v":0}]
[null,{"$f":"'Patrones Punto a Punto'!Y1828","v":0}]
[null,{"$f":"'Patrones Punto a Punto'!Y1829","v":0}]
[null,{"$f":"'Patrones Punto a Punto'!Y1830","v":0}]
[null,{"$f":"'Patrones Punto a Punto'!Y1831","v":0}]
[null,{"$f":"'Patrones Punto a Punto'!Y1832","v":0}]
[null,{"$f":"'Patrones Punto a Punto'!Y1833","v":0}]
[null,{"$f":"'Patrones Punto a Punto'!Y1834","v":0}]
[null,{"$f":"'Patrones Punto a Punto'!Y1835","v":0}]
[null,{"$f":"'Patrones Punto a Punto'!Y1836","v":0}]
[null,{"$f":"'Patrones Punto a Punto'!Y1837","v":0}]
[null,{"$f":"'Patrones Punto a Punto'!Y1838","v":0}]
[null,{"$f":"'Patrones Punto a Punto'!Y1839","v":0}]
[null,{"$f":"'Patrones Punto a Punto'!Y1840","v":0}]
[null,{"$f":"'Patrones Punto a Punto'!Y1841","v":0}]
[null,{"$f":"'Patrones Punto a Punto'!Y1842","v":0}]
[null,{"$f":"'Patrones Punto a Punto'!Y1843","v":0}]
[null,{"$f":"'Patrones Punto a Punto'!Y1844","v":0}]
[null,{"$f":"'Patrones Punto a Punto'!Y1845","v":0}]
[null,{"$f":"'Patrones Punto a Punto'!Y1846","v":0}]
[null,{"$f":"'Patrones Punto a Punto'!Y1847","v":0}]
[null,{"$f":"'Patrones Punto a Punto'!Y1848","v":0}]
[null,{"$f":"'Patrones Punto a Punto'!Y1849","v":0}]
[null,{"$f":"'Patrones Punto a Punto'!Y1850","v":0}]
[null,{"$f":"'Patrones Punto a Punto'!Y1851","v":0}]
[null,{"$f":"'Patrones Punto a Punto'!Y1852","v":0}]
[null,{"$f":"'Patrones Punto a Punto'!Y1853","v":0}]
[null,{"$f":"'Patrones Punto a Punto'!Y1854","v":0}]
[null,{"$f":"'Patrones Punto a Punto'!Y1855","v":0}]
[null,{"$f":"'Patrones Punto a Punto'!Y1856","v":0}]
[null,{"$f":"'Patrones Punto a Punto'!Y1857","v":0}]
[null,{"$f":"'Patrones Punto a Punto'!Y1858","v":0}]
[null,{"$f":"'Patrones Punto a Punto'!Y1859","v":0}]
[null,{"$f":"'Patrones Punto a Punto'!Y1860","v":0}]
[null,{"$f":"'Patrones Punto a Punto'!Y1861","v":0}]
[null,{"$f":"'Patrones Punto a Punto'!Y1862","v":0}]
[null,{"$f":"'Patrones Punto a Punto'!Y1863","v":0}]
[null,{"$f":"'Patrones Punto a Punto'!Y1864","v":0}]
[null,{"$f":"'Patrones Punto a Punto'!Y1865","v":0}]
[null,{"$f":"'Patrones Punto a Punto'!Y1866","v":0}]
[null,{"$f":"'Patrones Punto a Punto'!Y1867","v":0}]
[null,{"$f":"'Patrones Punto a Punto'!Y1868","v":0}]
[null,{"$f":"'Patrones Punto a Punto'!Y1869","v":0}]
[null,{"$f":"'Patrones Punto a Punto'!Y1870","v":0}]
[null,{"$f":"'Patrones Punto a Punto'!Y1871","v":0}]
[null,{"$f":"'Patrones Punto a Punto'!Y1872","v":0}]
[null,{"$f":"'Patrones Punto a Punto'!Y1873","v":0}]
[null,{"$f":"'Patrones Punto a Punto'!Y1874","v":0}]
[null,{"$f":"'Patrones Punto a Punto'!Y1875","v":0}]
[null,{"$f":"'Patrones Punto a Punto'!Y1876","v":0}]
[null,{"$f":"'Patrones Punto a Punto'!Y1877","v":0}]
[null,{"$f":"'Patrones Punto a Punto'!Y1878","v":0}]
[null,{"$f":"'Patrones Punto a Punto'!Y1879","v":0}]
[null,{"$f":"'Patrones Punto a Punto'!Y1880","v":0}]
[null,{"$f":"'Patrones Punto a Punto'!Y1881","v":0}]
[null,{"$f":"'Patrones Punto a Punto'!Y1882","v":0}]
[null,{"$f":"'Patrones Punto a Punto'!Y1883","v":0}]
[null,{"$f":"'Patrones Punto a Punto'!Y1884","v":0}]
[null,{"$f":"'Patrones Punto a Punto'!Y1885","v":0}]
[null,{"$f":"'Patrones Punto a Punto'!Y1886","v":0}]
[null,{"$f":"'Patrones Punto a Punto'!Y1887","v":0}]
[null,{"$f":"'Patrones Punto a Punto'!Y1888","v":0}]
[null,{"$f":"'Patrones Punto a Punto'!Y1889","v":0}]
[null,{"$f":"'Patrones Punto a Punto'!Y1890","v":0}]
[null,{"$f":"'Patrones Punto a Punto'!Y1891","v":0}]
[null,{"$f":"'Patrones Punto a Punto'!Y1892","v":0}]
[null,{"$f":"'Patrones Punto a Punto'!Y1893","v":0}]
[null,{"$f":"'Patrones Punto a Punto'!Y1894","v":0}]
[null,{"$f":"'Patrones Punto a Punto'!Y1895","v":0}]
[null,{"$f":"'Patrones Punto a Punto'!Y1896","v":0}]
[null,{"$f":"'Patrones Punto a Punto'!Y1897","v":0}]
[null,{"$f":"'Patrones Punto a Punto'!Y1898","v":0}]
[null,{"$f":"'Patrones Punto a Punto'!Y1899","v":0}]
[null,{"$f":"'Patrones Punto a Punto'!Y1900","v":0}]
[null,{"$f":"'Patrones Punto a Punto'!Y1901","v":0}]
[null,{"$f":"'Patrones Punto a Punto'!Y1902","v":0}]
[null,{"$f":"'Patrones Punto a Punto'!Y1903","v":0}]
[null,{"$f":"'Patrones Punto a Punto'!Y1904","v":0}]
[null,{"$f":"'Patrones Punto a Punto'!Y1905","v":0}]
[null,{"$f":"'Patrones Punto a Punto'!Y1906","v":0}]
[null,{"$f":"'Patrones Punto a Punto'!Y1907","v":0}]
[null,{"$f":"'Patrones Punto a Punto'!Y1908","v":0}]
[null,{"$f":"'Patrones Punto a Punto'!Y1909","v":0}]
[null,{"$f":"'Patrones Punto a Punto'!Y1910","v":0}]
[null,{"$f":"'Patrones Punto a Punto'!Y1911","v":0}]
[null,{"$f":"'Patrones Punto a Punto'!Y1912","v":0}]
[null,{"$f":"'Patrones Punto a Punto'!Y1913","v":0}]
[null,{"$f":"'Patrones Punto a Punto'!Y1914","v":0}]
[null,{"$f":"'Patrones Punto a Punto'!Y1915","v":0}]
[null,{"$f":"'Patrones Punto a Punto'!Y1916","v":0}]
[null,{"$f":"'Patrones Punto a Punto'!Y1917","v":0}]
[null,{"$f":"'Patrones Punto a Punto'!Y1918","v":0}]
[null,{"$f":"'Patrones Punto a Punto'!Y1919","v":0}]
[null,{"$f":"'Patrones Punto a Punto'!Y1920","v":0}]
[null,{"$f":"'Patrones Punto a Punto'!Y1921","v":0}]
[null,{"$f":"'Patrones Punto a Punto'!Y1922","v":0}]
[null,{"$f":"'Patrones Punto a Punto'!Y1923","v":0}]
[null,{"$f":"'Patrones Punto a Punto'!Y1924","v":0}]
[null,{"$f":"'Patrones Punto a Punto'!Y1925","v":0}]
[null,{"$f":"'Patrones Punto a Punto'!Y1926","v":0}]
[null,{"$f":"'Patrones Punto a Punto'!Y1927","v":0}]
[null,{"$f":"'Patrones Punto a Punto'!Y1928","v":0}]
[null,{"$f":"'Patrones Punto a Punto'!Y1929","v":0}]
[null,{"$f":"'Patrones Punto a Punto'!Y1930","v":0}]
[null,{"$f":"'Patrones Punto a Punto'!Y1931","v":0}]
[null,{"$f":"'Patrones Punto a Punto'!Y1932","v":0}]
[null,{"$f":"'Patrones Punto a Punto'!Y1933","v":0}]
[null,{"$f":"'Patrones Punto a Punto'!Y1934","v":0}]
[null,{"$f":"'Patrones Punto a Punto'!Y1935","v":0}]
[null,{"$f":"'Patrones Punto a Punto'!Y1936","v":0}]
[null,{"$f":"'Patrones Punto a Punto'!Y1937","v":0}]
[null,{"$f":"'Patrones Punto a Punto'!Y1938","v":0}]
[null,{"$f":"'Patrones Punto a Punto'!Y1939","v":0}]
[null,{"$f":"'Patrones Punto a Punto'!Y1940","v":0}]
[null,{"$f":"'Patrones Punto a Punto'!Y1941","v":0}]
[null,{"$f":"'Patrones Punto a Punto'!Y1942","v":0}]
[null,{"$f":"'Patrones Punto a Punto'!Y1943","v":0}]
[null,{"$f":"'Patrones Punto a Punto'!Y1944","v":0}]
[null,{"$f":"'Patrones Punto a Punto'!Y1945","v":0}]
[null,{"$f":"'Patrones Punto a Punto'!Y1946","v":0}]
[null,{"$f":"'Patrones Punto a Punto'!Y1947","v":0}]
[null,{"$f":"'Patrones Punto a Punto'!Y1948","v":0}]
[null,{"$f":"'Patrones Punto a Punto'!Y1949","v":0}]
[null,{"$f":"'Patrones Punto a Punto'!Y1950","v":0}]
[null,{"$f":"'Patrones Punto a Punto'!Y1951","v":0}]
[null,{"$f":"'Patrones Punto a Punto'!Y1952","v":0}]
[null,{"$f":"'Patrones Punto a Punto'!Y1953","v":0}]
[null,{"$f":"'Patrones Punto a Punto'!Y1954","v":0}]
[null,{"$f":"'Patrones Punto a Punto'!Y1955","v":0}]
[null,{"$f":"'Patrones Punto a Punto'!Y1956","v":0}]
[null,{"$f":"'Patrones Punto a Punto'!Y1957","v":0}]
[null,{"$f":"'Patrones Punto a Punto'!Y1958","v":0}]
[null,{"$f":"'Patrones Punto a Punto'!Y1959","v":0}]
[null,{"$f":"'Patrones Punto a Punto'!Y1960","v":0}]
[null,{"$f":"'Patrones Punto a Punto'!Y1961","v":0}]
[null,{"$f":"'Patrones Punto a Punto'!Y1962","v":0}]
[null,{"$f":"'Patrones Punto a Punto'!Y1963","v":0}]
[null,{"$f":"'Patrones Punto a Punto'!Y1964","v":0}]
[null,{"$f":"'Patrones Punto a Punto'!Y1965","v":0}]
[null,{"$f":"'Patrones Punto a Punto'!Y1966","v":0}]
[null,{"$f":"'Patrones Punto a Punto'!Y1967","v":0}]
[null,{"$f":"'Patrones Punto a Punto'!Y1968","v":0}]
[null,{"$f":"'Patrones Punto a Punto'!Y1969","v":0}]
[null,{"$f":"'Patrones Punto a Punto'!Y1970","v":0}]
[null,{"$f":"'Patrones Punto a Punto'!Y1971","v":0}]
[null,{"$f":"'Patrones Punto a Punto'!Y1972","v":0}]
[null,{"$f":"'Patrones Punto a Punto'!Y1973","v":0}]
[null,{"$f":"'Patrones Punto a Punto'!Y1974","v":0}]
[null,{"$f":"'Patrones Punto a Punto'!Y1975","v":0}]
[null,{"$f":"'Patrones Punto a Punto'!Y1976","v":0}]
[null,{"$f":"'Patrones Punto a Punto'!Y1977","v":0}]
[null,{"$f":"'Patrones Punto a Punto'!Y1978","v":0}]
[null,{"$f":"'Patrones Punto a Punto'!Y1979","v":0}]
[null,{"$f":"'Patrones Punto a Punto'!Y1980","v":0}]
[null,{"$f":"'Patrones Punto a Punto'!Y1981","v":0}]
[null,{"$f":"'Patrones Punto a Punto'!Y1982","v":0}]
[null,{"$f":"'Patrones Punto a Punto'!Y1983","v":0}]
[null,{"$f":"'Patrones Punto a Punto'!Y1984","v":0}]
[null,{"$f":"'Patrones Punto a Punto'!Y1985","v":0}]
[null,{"$f":"'Patrones Punto a Punto'!Y1986","v":0}]
[null,{"$f":"'Patrones Punto a Punto'!Y1987","v":0}]
[null,{"$f":"'Patrones Punto a Punto'!Y1988","v":0}]
[null,{"$f":"'Patrones Punto a Punto'!Y1989","v":0}]
[null,{"$f":"'Patrones Punto a Punto'!Y1990","v":0}]
[null,{"$f":"'Patrones Punto a Punto'!Y1991","v":0}]
[null,{"$f":"'Patrones Punto a Punto'!Y1992","v":0}]
[null,{"$f":"'Patrones Punto a Punto'!Y1993","v":0}]
[null,{"$f":"'Patrones Punto a Punto'!Y1994","v":0}]
[null,{"$f":"'Patrones Punto a Punto'!Y1995","v":0}]
[null,{"$f":"'Patrones Punto a Punto'!Y1996","v":0}]
[null,{"$f":"'Patrones Punto a Punto'!Y1997","v":0}]
[null,{"$f":"'Patrones Punto a Punto'!Y1998","v":0}]
[null,{"$f":"'Patrones Punto a Punto'!Y1999","v":0}]
[null,{"$f":"'Patrones Punto a Punto'!Y2000","v":0}]
[null,{"$f":"'Patrones Punto a Punto'!Y2001","v":0}]
[null,{"$f":"'Patrones Punto a Punto'!Y2002","v":0}]
[null,{"$f":"'Patrones Punto a Punto'!Y2319","v":0}]
[null,{"$f":"'Patrones Punto a Punto'!Y2834","v":0}]
[null,{"$f":"'Patrones Punto a Punto'!Y3055","v":0}]
[null,{"$f":"'Patrones Punto a Punto'!Y4093","v":0}]
[null,{"$f":"'Patrones Punto a Punto'!Y4314","v":0}]
[null,{"$f":"'Patrones Punto a Punto'!Y5058","v":0}]
[null,{"$f":"'Patrones Punto a Punto'!Y5573","v":0}]
[null,{"$f":"'Patrones Punto a Punto'!Y5794","v":0}]
[null,{"$f":"'Patrones Punto a Punto'!Y6309","v":0}]
[null,{"$f":"'Patrones Punto a Punto'!Y7053","v":0}]
[null,{"$f":"'Patrones Punto a Punto'!Y7274","v":0}]
[null,{"$f":"'Patrones Punto a Punto'!Y7789","v":0}]
[null,{"$f":"'Patrones Punto a Punto'!Y8533","v":0}]
[null,{"$f":"'Patrones Punto a Punto'!Y9277","v":0}]
[null,{"$f":"'Patrones Punto a Punto'!Y9792","v":0}]
[null,{"$f":"'Patrones Punto a Punto'!Y10013","v":0}]
[null,{"$f":"'Patrones Punto a Punto'!Y10528","v":0}]
[null,{"$f":"'Patrones Punto a Punto'!Y11272","v":0}]
[null,{"$f":"'Patrones Punto a Punto'!Y11493","v":0}]
[null,{"$f":"'Patrones Punto a Punto'!Y12008","v":0}]
[null,{"$f":"'Patrones Punto a Punto'!Y12752","v":0}]
[null,{"$f":"'Patrones Punto a Punto'!Y13267","v":0}]
[null,{"$f":"'Patrones Punto a Punto'!Y14011","v":0}]
[null,{"$f":"'Patrones Punto a Punto'!Y14232","v":0}]
[null,{"$f":"'Patrones Punto a Punto'!Y14747","v":0}]
[null,{"$f":"'Patrones Punto a Punto'!Y15491","v":0}]
[null,{"$f":"'Patrones Punto a Punto'!Y15924","v":0}]
[null,{"$f":"'Patrones Punto a Punto'!Y16228","v":0}]
[null,{"$f":"'Patrones Punto a Punto'!Y16972","v":0}]
[null,{"$f":"'Patrones Punto a Punto'!Y17487","v":0}]
[null,{"$f":"'Patrones Punto a Punto'!Y17708","v":0}]
[null,{"$f":"'Patrones Punto a Punto'!Y18452","v":0}]
[null,{"$f":"'Patrones Punto a Punto'!Y18967","v":0}]
[null,{"$f":"'Patrones Punto a Punto'!Y19711","v":0}]
[null,{"$f":"'Patrones Punto a Punto'!Y19932","v":0}]
[null,{"$f":"'Patrones Punto a Punto'!Y20447","v":0}]
[null,{"$f":"'Patrones Punto a Punto'!Y21191","v":0}]
[null,{"$f":"'Patrones Punto a Punto'!Y21706","v":0}]
[null,{"$f":"'Patrones Punto a Punto'!Y21927","v":0}]
[null,{"$f":"'Patrones Punto a Punto'!Y22671","v":0}]
[null,{"$f":"'Patrones Punto a Punto'!Y23186","v":0}]
[null,{"$f":"'Patrones Punto a Punto'!Y23930","v":0}]
[null,{"$f":"'Patrones Punto a Punto'!Y24445","v":0}]
[null,{"$f":"'Patrones Punto a Punto'!Y24666","v":0}]
[null,{"$f":"'Patrones Punto a Punto'!Y25410","v":0}]
[null,{"$f":"'Patrones Punto a Punto'!Y25925","v":0}]
[null,{"$f":"'Patrones Punto a Punto'!Y26146","v":0}]
[null,{"$f":"'Patrones Punto a Punto'!Y26890","v":0}]
[null,{"$f":"'Patrones Punto a Punto'!Y27405","v":0}]
[null,{"$f":"'Patrones Punto a Punto'!Y28149","v":0}]
[null,{"$f":"'Patrones Punto a Punto'!Y28664","v":0}]
[null,{"$f":"'Patrones Punto a Punto'!Y28885","v":0}]
[null,{"$f":"'Patrones Punto a Punto'!Y29553","v":0}]
[null,{"$f":"'Patrones Punto a Punto'!Y30145","v":0}]
[null,{"$f":"'Patrones Punto a Punto'!Y30366","v":0}]
[null,{"$f":"'Patrones Punto a Punto'!Y30881","v":0}]
[null,{"$f":"'Patrones Punto a Punto'!Y31625","v":0}]
[null,{"$f":"'Patrones Punto a Punto'!Y31846","v":0}]
[null,{"$f":"'Patrones Punto a Punto'!Y32361","v":0}]
[null,{"$f":"'Patrones Punto a Punto'!Y33105","v":0}]
[null,{"$f":"'Patrones Punto a Punto'!Y33849","v":0}]
[null,{"$f":"'Patrones Punto a Punto'!Y34364","v":0}]
[null,{"$f":"'Patrones Punto a Punto'!Y34585","v":0}]
[null,{"$f":"'Patrones Punto a Punto'!Y35100","v":0}]
[null,{"$f":"'Patrones Punto a Punto'!Y35844","v":0}]
[null,{"$f":"'Patrones Punto a Punto'!Y36065","v":0}]
[null,{"$f":"'Patrones Punto a Punto'!Y36580","v":0}]
[null,{"$f":"'Patrones Punto a Punto'!Y37324","v":0}]
[null,{"$f":"'Patrones Punto a Punto'!Y38068","v":0}]
[null,{"$f":"'Patrones Punto a Punto'!Y38583","v":0}]
[null,{"$f":"'Patrones Punto a Punto'!Y38804","v":0}]
[null,{"$f":"'Patrones Punto a Punto'!Y39319","v":0}]
[null,{"$f":"'Patrones Punto a Punto'!Y40063","v":0}]
[null,{"$f":"'Patrones Punto a Punto'!Y40284","v":0}]
[null,{"$f":"'Patrones Punto a Punto'!Y40799","v":0}]
[null,{"$f":"'Patrones Punto a Punto'!Y41543","v":0}]
[null,{"$f":"'Patrones Punto a Punto'!Y42058","v":0}]
[null,{"$f":"'Patrones Punto a Punto'!Y42279","v":0}]
[null,{"$f":"'Patrones Punto a Punto'!Y43182","v":0}]
[null,{"$f":"'Patrones Punto a Punto'!Y43539","v":0}]
[null,{"$f":"'Patrones Punto a Punto'!Y44283","v":0}]
[null,{"$f":"'Patrones Punto a Punto'!Y44504","v":0}]
[null,{"$f":"'Patrones Punto a Punto'!Y45019","v":0}]
[null,{"$f":"'Patrones Punto a Punto'!Y45763","v":0}]
[null,{"$f":"'Patrones Punto a Punto'!Y46278","v":0}]
[null,{"$f":"'Patrones Punto a Punto'!Y46499","v":0}]
[null,{"$f":"'Patrones Punto a Punto'!Y47243","v":0}]
[null,{"$f":"'Patrones Punto a Punto'!Y47758","v":0}]
[null,{"$f":"'Patrones Punto a Punto'!Y48502","v":0}]
[null,{"$f":"'Patrones Punto a Punto'!Y48723","v":0}]
[null,{"$f":"'Patrones Punto a Punto'!Y49238","v":0}]
[null,{"$f":"'Patrones Punto a Punto'!Y49982","v":0}]
[null,{"$f":"'Patrones Punto a Punto'!Y50497","v":0}]
[null,{"$f":"'Patrones Punto a Punto'!Y50718","v":0}]
[null,{"$f":"'Patrones Punto a Punto'!Y51462","v":0}]
[null,{"$f":"'Patrones Punto a Punto'!Y51977","v":0}]
[null,{"$f":"'Patrones Punto a Punto'!Y52721","v":0}]
[null,{"$f":"'Patrones Punto a Punto'!Y53236","v":0}]
[null,{"$f":"'Patrones Punto a Punto'!Y53457","v":0}]
[null,{"$f":"'Patrones Punto a Punto'!Y54201","v":0}]
[null,{"$f":"'Patrones Punto a Punto'!Y54716","v":0}]
[null,{"$f":"'Patrones Punto a Punto'!Y54937","v":0}]
[null,{"$f":"'Patrones Punto a Punto'!Y55681","v":0}]
[null,{"$f":"'Patrones Punto a Punto'!Y56196","v":0}]
[null,{"$f":"'Patrones Punto a Punto'!Y56417","v":0}]
[null,{"$f":"'Patrones Punto a Punto'!Y57387","v":0}]
[null,{"$f":"'Patrones Punto a Punto'!Y57677","v":0}]
[null,{"$f":"'Patrones Punto a Punto'!Y58421","v":0}]
[null,{"$f":"'Patrones Punto a Punto'!Y58936","v":0}]
[null,{"$f":"'Patrones Punto a Punto'!Y59157","v":0}]
[null,{"$f":"'Patrones Punto a Punto'!Y59672","v":0}]
[null,{"$f":"'Patrones Punto a Punto'!Y60416","v":0}]
[null,{"$f":"'Patrones Punto a Punto'!Y60637","v":0}]
[null,{"$f":"'Patrones Punto a Punto'!Y61152","v":0}]
[null,{"$f":"'Patrones Punto a Punto'!Y61896","v":0}]
[null,{"$f":"'Patrones Punto a Punto'!Y62640","v":0}]
[null,{"$f":"'Patrones Punto a Punto'!Y63155","v":0}]
[null,{"$f":"'Patrones Punto a Punto'!Y63376","v":0}]
[null,{"$f":"'Patrones Punto a Punto'!Y63891","v":0}]
[null,{"$f":"'Patrones Punto a Punto'!Y64635","v":0}]
[null,{"$f":"'Patrones Punto a Punto'!Y64856","v":0}]
[null,{"$f":"'Patrones Punto a Punto'!Y65371","v":0}]
[null,{"$f":"'Patrones Punto a Punto'!Y66115","v":0}]
[null,{"$f":"'Patrones Punto a Punto'!Y66336","v":0}]
[null,{"$f":"'Patrones Punto a Punto'!Y67374","v":0}]
[null,{"$f":"'Patrones Punto a Punto'!Y67595","v":0}]
[null,{"$f":"'Patrones Punto a Punto'!Y68110","v":0}]
[null,{"$f":"'Patrones Punto a Punto'!Y68854","v":0}]
[null,{"$f":"'Patrones Punto a Punto'!Y69075","v":0}]
[null,{"$f":"'Patrones Punto a Punto'!Y69590","v":0}]
[null,{"$f":"'Patrones Punto a Punto'!Y70334","v":0}]
[null,{"$f":"'Patrones Punto a Punto'!Y71016","v":0}]
[null,{"$f":"'Patrones Punto a Punto'!Y71071","v":0}]
[null,{"$f":"'Patrones Punto a Punto'!Y71815","v":0}]
[null,{"$f":"'Patrones Punto a Punto'!Y72330","v":0}]
[null,{"$f":"'Patrones Punto a Punto'!Y73074","v":0}]
[null,{"$f":"'Patrones Punto a Punto'!Y73295","v":0}]
[null,{"$f":"'Patrones Punto a Punto'!Y73810","v":0}]
[null,{"$f":"'Patrones Punto a Punto'!Y74554","v":0}]
[null,{"$f":"'Patrones Punto a Punto'!Y75069","v":0}]
[null,{"$f":"'Patrones Punto a Punto'!Y75290","v":0}]
[null,{"$f":"'Patrones Punto a Punto'!Y76034","v":0}]
[null,{"$f":"'Patrones Punto a Punto'!Y76549","v":0}]
[null,{"$f":"'Patrones Punto a Punto'!Y77293","v":0}]
[null,{"$f":"'Patrones Punto a Punto'!Y77808","v":0}]
[null,{"$f":"'Patrones Punto a Punto'!Y78029","v":0}]
[null,{"$f":"'Patrones Punto a Punto'!Y78773","v":0}]
[null,{"$f":"'Patrones Punto a Punto'!Y79288","v":0}]
[null,{"$f":"'Patrones Punto a Punto'!Y79509","v":0}]
[null,{"$f":"'Patrones Punto a Punto'!Y80253","v":0}]
[null,{"$f":"'Patrones Punto a Punto'!Y80768","v":0}]
[null,{"$f":"'Patrones Punto a Punto'!Y80989","v":0}]
[null,{"$f":"'Patrones Punto a Punto'!Y81504","v":0}]
[null,{"$f":"'Patrones Punto a Punto'!Y82248","v":0}]
[null,{"$f":"'Patrones Punto a Punto'!Y82992","v":0}]
[null,{"$f":"'Patrones Punto a Punto'!Y83507","v":0}]
[null,{"$f":"'Patrones Punto a Punto'!Y83728","v":0}]
[null,{"$f":"'Patrones Punto a Punto'!Y84397","v":0}]
[null,{"$f":"'Patrones Punto a Punto'!Y84988","v":0}]
[null,{"$f":"'Patrones Punto a Punto'!Y85209","v":0}]
[null,{"$f":"'Patrones Punto a Punto'!Y85724","v":0}]
[null,{"$f":"'Patrones Punto a Punto'!Y86468","v":0}]
[null,{"$f":"'Patrones Punto a Punto'!Y87212","v":0}]
[null,{"$f":"'Patrones Punto a Punto'!Y87727","v":0}]
[null,{"$f":"'Patrones Punto a Punto'!Y87948","v":0}]
[null,{"$f":"'Patrones Punto a Punto'!Y88463","v":0}]
[null,{"$f":"'Patrones Punto a Punto'!Y89207","v":0}]
[null,{"$f":"'Patrones Punto a Punto'!Y89428","v":0}]
[null,{"$f":"'Patrones Punto a Punto'!Y89943","v":0}]
[null,{"$f":"'Patrones Punto a Punto'!Y90687","v":0}]
[null,{"$f":"'Patrones Punto a Punto'!Y91431","v":0}]
[null,{"$f":"'Patrones Punto a Punto'!Y91946","v":0}]
[null,{"$f":"'Patrones Punto a Punto'!Y92167","v":0}]
[null,{"$f":"'Patrones Punto a Punto'!Y92682","v":0}]
[null,{"$f":"'Patrones Punto a Punto'!Y93426","v":0}]
[null,{"$f":"'Patrones Punto a Punto'!Y93647","v":0}]
[null,{"$f":"'Patrones Punto a Punto'!Y94162","v":0}]
[null,{"$f":"'Patrones Punto a Punto'!Y94906","v":0}]
[null,{"$f":"'Patrones Punto a Punto'!Y95127","v":0}]
[null,{"$f":"'Patrones Punto a Punto'!Y95642","v":0}]
[null,{"$f":"'Patrones Punto a Punto'!Y96386","v":0}]
[null,{"$f":"'Patrones Punto a Punto'!Y96901","v":0}]
[null,{"$f":"'Patrones Punto a Punto'!Y97645","v":0}]
[null,{"$f":"'Patrones Punto a Punto'!Y97866","v":0}]
[null,{"$f":"'Patrones Punto a Punto'!Y98602","v":0}]
[null,{"$f":"'Patrones Punto a Punto'!Y99126","v":0}]
[null,{"$f":"'Patrones Punto a Punto'!Y99641","v":0}]
[null,{"$f":"'Patrones Punto a Punto'!Y99862","v":0}]
[null,{"$f":"'Patrones Punto a Punto'!Y100606","v":0}]
[null,{"$f":"'Patrones Punto a Punto'!Y101121","v":0}]
[null,{"$f":"'Patrones Punto a Punto'!Y101865","v":0}]
[null,{"$f":"'Patrones Punto a Punto'!Y102086","v":0}]
[null,{"$f":"'Patrones Punto a Punto'!Y102601","v":0}]
[null,{"$f":"'Patrones Punto a Punto'!Y103345","v":0}]
[null,{"$f":"'Patrones Punto a Punto'!Y103860","v":0}]
[null,{"$f":"'Patrones Punto a Punto'!Y104081","v":0}]
[null,{"$f":"'Patrones Punto a Punto'!Y104825","v":0}]
[null,{"$f":"'Patrones Punto a Punto'!Y105340","v":0}]
[null,{"$f":"'Patrones Punto a Punto'!Y106084","v":0}]
[null,{"$f":"'Patrones Punto a Punto'!Y106599","v":0}]
[null,{"$f":"'Patrones Punto a Punto'!Y106820","v":0}]
[null,{"$f":"'Patrones Punto a Punto'!Y107564","v":0}]
[null,{"$f":"'Patrones Punto a Punto'!Y108079","v":0}]
[null,{"$f":"'Patrones Punto a Punto'!Y108300","v":0}]
[null,{"$f":"'Patrones Punto a Punto'!Y109044","v":0}]
[null,{"$f":"'Patrones Punto a Punto'!Y109559","v":0}]
[null,{"$f":"'Patrones Punto a Punto'!Y109780","v":0}]
[null,{"$f":"'Patrones Punto a Punto'!Y110295","v":0}]
[null,{"$f":"'Patrones Punto a Punto'!Y111039","v":0}]
[null,{"$f":"'Patrones Punto a Punto'!Y111783","v":0}]
[null,{"$f":"'Patrones Punto a Punto'!Y112231","v":0}]
[null,{"$f":"'Patrones Punto a Punto'!Y112520","v":0}]
[null,{"$f":"'Patrones Punto a Punto'!Y113264","v":0}]
[null,{"$f":"'Patrones Punto a Punto'!Y113779","v":0}]
[null,{"$f":"'Patrones Punto a Punto'!Y114000","v":0}]
[null,{"$f":"'Patrones Punto a Punto'!Y114515","v":0}]
[null,{"$f":"'Patrones Punto a Punto'!Y115259","v":0}]
[null,{"$f":"'Patrones Punto a Punto'!Y116003","v":0}]
[null,{"$f":"'Patrones Punto a Punto'!Y116518","v":0}]
[null,{"$f":"'Patrones Punto a Punto'!Y116739","v":0}]
[null,{"$f":"'Patrones Punto a Punto'!Y117254","v":0}]
[null,{"$f":"'Patrones Punto a Punto'!Y117998","v":0}]
[null,{"$f":"'Patrones Punto a Punto'!Y118219","v":0}]
[null,{"$f":"'Patrones Punto a Punto'!Y118734","v":0}]
[null,{"$f":"'Patrones Punto a Punto'!Y119478","v":0}]
[null,{"$f":"'Patrones Punto a Punto'!Y119699","v":0}]
[null,{"$f":"'Patrones Punto a Punto'!Y120214","v":0}]
[null,{"$f":"'Patrones Punto a Punto'!Y120958","v":0}]
[null,{"$f":"'Patrones Punto a Punto'!Y121473","v":0}]
[null,{"$f":"'Patrones Punto a Punto'!Y122217","v":0}]
[null,{"$f":"'Patrones Punto a Punto'!Y122438","v":0}]
[null,{"$f":"'Patrones Punto a Punto'!Y122953","v":0}]
[null,{"$f":"'Patrones Punto a Punto'!Y123697","v":0}]
[null,{"$f":"'Patrones Punto a Punto'!Y123918","v":0}]
[null,{"$f":"'Patrones Punto a Punto'!Y124433","v":0}]
[null,{"$f":"'Patrones Punto a Punto'!Y125177","v":0}]
[null,{"$f":"'Patrones Punto a Punto'!Y125860","v":0}]
[null,{"$f":"'Patrones Punto a Punto'!Y126437","v":0}]
[null,{"$f":"'Patrones Punto a Punto'!Y126658","v":0}]
[null,{"$f":"'Patrones Punto a Punto'!Y127173","v":0}]
[null,{"$f":"'Patrones Punto a Punto'!Y127917","v":0}]
[null,{"$f":"'Patrones Punto a Punto'!Y128432","v":0}]
[null,{"$f":"'Patrones Punto a Punto'!Y128653","v":0}]
[null,{"$f":"'Patrones Punto a Punto'!Y129397","v":0}]
[null,{"$f":"'Patrones Punto a Punto'!Y129912","v":0}]
[null,{"$f":"'Patrones Punto a Punto'!Y130656","v":0}]
[null,{"$f":"'Patrones Punto a Punto'!Y130877","v":0}]
[null,{"$f":"'Patrones Punto a Punto'!Y131392","v":0}]
[null,{"$f":"'Patrones Punto a Punto'!Y132136","v":0}]
[null,{"$f":"'Patrones Punto a Punto'!Y132651","v":0}]
[null,{"$f":"'Patrones Punto a Punto'!Y132872","v":0}]
[null,{"$f":"'Patrones Punto a Punto'!Y133616","v":0}]
[null,{"$f":"'Patrones Punto a Punto'!Y134131","v":0}]
[null,{"$f":"'Patrones Punto a Punto'!Y134352","v":0}]
[null,{"$f":"'Patrones Punto a Punto'!Y134867","v":0}]
[null,{"$f":"'Patrones Punto a Punto'!Y135611","v":0}]
[null,{"$f":"'Patrones Punto a Punto'!Y136355","v":0}]
[null,{"$f":"'Patrones Punto a Punto'!Y136870","v":0}]
[null,{"$f":"'Patrones Punto a Punto'!Y137091","v":0}]
[null,{"$f":"'Patrones Punto a Punto'!Y137835","v":0}]
[null,{"$f":"'Patrones Punto a Punto'!Y138350","v":0}]
[null,{"$f":"'Patrones Punto a Punto'!Y138571","v":0}]
[null,{"$f":"'Patrones Punto a Punto'!Y139086","v":0}]
[null,{"$f":"'Patrones Punto a Punto'!Y139817","v":0}]
[null,{"$f":"'Patrones Punto a Punto'!Y140575","v":0}]
[null,{"$f":"'Patrones Punto a Punto'!Y141090","v":0}]
[null,{"$f":"'Patrones Punto a Punto'!Y141311","v":0}]
[null,{"$f":"'Patrones Punto a Punto'!Y142055","v":0}]
[null,{"$f":"'Patrones Punto a Punto'!Y142570","v":0}]
[null,{"$f":"'Patrones Punto a Punto'!Y142791","v":0}]
[null,{"$f":"'Patrones Punto a Punto'!Y143306","v":0}]
[null,{"$f":"'Patrones Punto a Punto'!Y144050","v":0}]
[null,{"$f":"'Patrones Punto a Punto'!Y144271","v":0}]
[null,{"$f":"'Patrones Punto a Punto'!Y145309","v":0}]
[null,{"$f":"'Patrones Punto a Punto'!Y145530","v":0}]
[null,{"$f":"'Patrones Punto a Punto'!Y146045","v":0}]
[null,{"$f":"'Patrones Punto a Punto'!Y146789","v":0}]
[null,{"$f":"'Patrones Punto a Punto'!Y147010","v":0}]
[null,{"$f":"'Patrones Punto a Punto'!Y147525","v":0}]
[null,{"$f":"'Patrones Punto a Punto'!Y148269","v":0}]
[null,{"$f":"'Patrones Punto a Punto'!Y148490","v":0}]
[null,{"$f":"'Patrones Punto a Punto'!Y149005","v":0}]
[null,{"$f":"'Patrones Punto a Punto'!Y149749","v":0}]
[null,{"$f":"'Patrones Punto a Punto'!Y150264","v":0}]
[null,{"$f":"'Patrones Punto a Punto'!Y151008","v":0}]
[null,{"$f":"'Patrones Punto a Punto'!Y151229","v":0}]
[null,{"$f":"'Patrones Punto a Punto'!Y151744","v":0}]
[null,{"$f":"'Patrones Punto a Punto'!Y152488","v":0}]
[null,{"$f":"'Patrones Punto a Punto'!Y153003","v":0}]
[null,{"$f":"'Patrones Punto a Punto'!Y153446","v":0}]
[null,{"$f":"'Patrones Punto a Punto'!Y153969","v":0}]
[null,{"$f":"'Patrones Punto a Punto'!Y154484","v":0}]
[null,{"$f":"'Patrones Punto a Punto'!Y155228","v":0}]
[null,{"$f":"'Patrones Punto a Punto'!Y155449","v":0}]
[null,{"$f":"'Patrones Punto a Punto'!Y155964","v":0}]
[null,{"$f":"'Patrones Punto a Punto'!Y156708","v":0}]
[null,{"$f":"'Patrones Punto a Punto'!Y157223","v":0}]
[null,{"$f":"'Patrones Punto a Punto'!Y157444","v":0}]
[null,{"$f":"'Patrones Punto a Punto'!Y158188","v":0}]
[null,{"$f":"'Patrones Punto a Punto'!Y158703","v":0}]
[null,{"$f":"'Patrones Punto a Punto'!Y158924","v":0}]
[null,{"$f":"'Patrones Punto a Punto'!Y159668","v":0}]
[null,{"$f":"'Patrones Punto a Punto'!Y160183","v":0}]
[null,{"$f":"'Patrones Punto a Punto'!Y160927","v":0}]
[null,{"$f":"'Patrones Punto a Punto'!Y161442","v":0}]
[null,{"$f":"'Patrones Punto a Punto'!Y161663","v":0}]
[null,{"$f":"'Patrones Punto a Punto'!Y162407","v":0}]
[null,{"$f":"'Patrones Punto a Punto'!Y162922","v":0}]
[null,{"$f":"'Patrones Punto a Punto'!Y163143","v":0}]
[null,{"$f":"'Patrones Punto a Punto'!Y163658","v":0}]
[null,{"$f":"'Patrones Punto a Punto'!Y164402","v":0}]
[null,{"$f":"'Patrones Punto a Punto'!Y165146","v":0}]
[null,{"$f":"'Patrones Punto a Punto'!Y165661","v":0}]
[null,{"$f":"'Patrones Punto a Punto'!Y165882","v":0}]
[null,{"$f":"'Patrones Punto a Punto'!Y166626","v":0}]
[null,{"$f":"'Patrones Punto a Punto'!Y167075","v":0}]
[null,{"$f":"'Patrones Punto a Punto'!Y167363","v":0}]
[null,{"$f":"'Patrones Punto a Punto'!Y167878","v":0}]
[null,{"$f":"'Patrones Punto a Punto'!Y168622","v":0}]
[null,{"$f":"'Patrones Punto a Punto'!Y169366","v":0}]
[null,{"$f":"'Patrones Punto a Punto'!Y169881","v":0}]
[null,{"$f":"'Patrones Punto a Punto'!Y170102","v":0}]
[null,{"$f":"'Patrones Punto a Punto'!Y170846","v":0}]
[null,{"$f":"'Patrones Punto a Punto'!Y171361","v":0}]
[null,{"$f":"'Patrones Punto a Punto'!Y171582","v":0}]
[null,{"$f":"'Patrones Punto a Punto'!Y172097","v":0}]
[null,{"$f":"'Patrones Punto a Punto'!Y172841","v":0}]
[null,{"$f":"'Patrones Punto a Punto'!Y173062","v":0}]
[null,{"$f":"'Patrones Punto a Punto'!Y173577","v":0}]
[null,{"$f":"'Patrones Punto a Punto'!Y174321","v":0}]
[null,{"$f":"'Patrones Punto a Punto'!Y174836","v":0}]
[null,{"$f":"'Patrones Punto a Punto'!Y175580","v":0}]
[null,{"$f":"'Patrones Punto a Punto'!Y175801","v":0}]
[null,{"$f":"'Patrones Punto a Punto'!Y176316","v":0}]
[null,{"$f":"'Patrones Punto a Punto'!Y177060","v":0}]
[null,{"$f":"'Patrones Punto a Punto'!Y177281","v":0}]
[null,{"$f":"'Patrones Punto a Punto'!Y177796","v":0}]
[null,{"$f":"'Patrones Punto a Punto'!Y178540","v":0}]
[null,{"$f":"'Patrones Punto a Punto'!Y179055","v":0}]
[null,{"$f":"'Patrones Punto a Punto'!Y179799","v":0}]
[null,{"$f":"'Patrones Punto a Punto'!Y180020","v":0}]
[null,{"$f":"'Patrones Punto a Punto'!Y180535","v":0}]
[null,{"$f":"'Patrones Punto a Punto'!Y181032","v":0}]
[null,{"$f":"'Patrones Punto a Punto'!Y181795","v":0}]
[null,{"$f":"'Patrones Punto a Punto'!Y182016","v":0}]
[null,{"$f":"'Patrones Punto a Punto'!Y182760","v":0}]
[null,{"$f":"'Patrones Punto a Punto'!Y183275","v":0}]
[null,{"$f":"'Patrones Punto a Punto'!Y184019","v":0}]
[null,{"$f":"'Patrones Punto a Punto'!Y184240","v":0}]
[null,{"$f":"'Patrones Punto a Punto'!Y184755","v":0}]
[null,{"$f":"'Patrones Punto a Punto'!Y185499","v":0}]
[null,{"$f":"'Patrones Punto a Punto'!Y186014","v":0}]
[null,{"$f":"'Patrones Punto a Punto'!Y186235","v":0}]
[null,{"$f":"'Patrones Punto a Punto'!Y186979","v":0}]
[null,{"$f":"'Patrones Punto a Punto'!Y187494","v":0}]
[null,{"$f":"'Patrones Punto a Punto'!Y187715","v":0}]
[null,{"$f":"'Patrones Punto a Punto'!Y188459","v":0}]
[null,{"$f":"'Patrones Punto a Punto'!Y188974","v":0}]
[null,{"$f":"'Patrones Punto a Punto'!Y189718","v":0}]
[null,{"$f":"'Patrones Punto a Punto'!Y190233","v":0}]
[null,{"$f":"'Patrones Punto a Punto'!Y190454","v":0}]
[null,{"$f":"'Patrones Punto a Punto'!Y191198","v":0}]
[null,{"$f":"'Patrones Punto a Punto'!Y191713","v":0}]
[null,{"$f":"'Patrones Punto a Punto'!Y191934","v":0}]
[null,{"$f":"'Patrones Punto a Punto'!Y192449","v":0}]
[null,{"$f":"'Patrones Punto a Punto'!Y193193","v":0}]
[null,{"$f":"'Patrones Punto a Punto'!Y193937","v":0}]
[null,{"$f":"'Patrones Punto a Punto'!Y194452","v":0}]
[null,{"$f":"'Patrones Punto a Punto'!Y194661","v":0}]
[null,{"$f":"'Patrones Punto a Punto'!Y195418","v":0}]
[null,{"$f":"'Patrones Punto a Punto'!Y195933","v":0}]
[null,{"$f":"'Patrones Punto a Punto'!Y196154","v":0}]
[null,{"$f":"'Patrones Punto a Punto'!Y196669","v":0}]
[null,{"$f":"'Patrones Punto a Punto'!Y197413","v":0}]
[null,{"$f":"'Patrones Punto a Punto'!Y197634","v":0}]
[null,{"$f":"'Patrones Punto a Punto'!Y198149","v":0}]
[null,{"$f":"'Patrones Punto a Punto'!Y198893","v":0}]
[null,{"$f":"'Patrones Punto a Punto'!Y199408","v":0}]
[null,{"$f":"'Patrones Punto a Punto'!Y200152","v":0}]
[null,{"$f":"'Patrones Punto a Punto'!Y200373","v":0}]
[null,{"$f":"'Patrones Punto a Punto'!Y200888","v":0}]
[null,{"$f":"'Patrones Punto a Punto'!Y201632","v":0}]
[null,{"$f":"'Patrones Punto a Punto'!Y201853","v":0}]
[null,{"$f":"'Patrones Punto a Punto'!Y202368","v":0}]
[null,{"$f":"'Patrones Punto a Punto'!Y203112","v":0}]
[null,{"$f":"'Patrones Punto a Punto'!Y203627","v":0}]
[null,{"$f":"'Patrones Punto a Punto'!Y204371","v":0}]
[null,{"$f":"'Patrones Punto a Punto'!Y204592","v":0}]
[null,{"$f":"'Patrones Punto a Punto'!Y205107","v":0}]
[null,{"$f":"'Patrones Punto a Punto'!Y205851","v":0}]
[null,{"$f":"'Patrones Punto a Punto'!Y206072","v":0}]
[null,{"$f":"'Patrones Punto a Punto'!Y206587","v":0}]
[null,{"$f":"'Patrones Punto a Punto'!Y207331","v":0}]
[null,{"$f":"'Patrones Punto a Punto'!Y207846","v":0}]
[null,{"$f":"'Patrones Punto a Punto'!Y208290","v":0}]
[null,{"$f":"'Patrones Punto a Punto'!Y208812","v":0}]
[null,{"$f":"'Patrones Punto a Punto'!Y209327","v":0}]
[null,{"$f":"'Patrones Punto a Punto'!Y210071","v":0}]
[null,{"$f":"'Patrones Punto a Punto'!Y210586","v":0}]
[null,{"$f":"'Patrones Punto a Punto'!Y210807","v":0}]
[null,{"$f":"'Patrones Punto a Punto'!Y211551","v":0}]
[null,{"$f":"'Patrones Punto a Punto'!Y212066","v":0}]
[null,{"$f":"'Patrones Punto a Punto'!Y212287","v":0}]
[null,{"$f":"'Patrones Punto a Punto'!Y213031","v":0}]
[null,{"$f":"'Patrones Punto a Punto'!Y213546","v":0}]
[null,{"$f":"'Patrones Punto a Punto'!Y214290","v":0}]
[null,{"$f":"'Patrones Punto a Punto'!Y214805","v":0}]
[null,{"$f":"'Patrones Punto a Punto'!Y215026","v":0}]
[null,{"$f":"'Patrones Punto a Punto'!Y215770","v":0}]
[null,{"$f":"'Patrones Punto a Punto'!Y216285","v":0}]
[null,{"$f":"'Patrones Punto a Punto'!Y216506","v":0}]
[null,{"$f":"'Patrones Punto a Punto'!Y217250","v":0}]
[null,{"$f":"'Patrones Punto a Punto'!Y217765","v":0}]
[null,{"$f":"'Patrones Punto a Punto'!Y218509","v":0}]
[null,{"$f":"'Patrones Punto a Punto'!Y219024","v":0}]
[null,{"$f":"'Patrones Punto a Punto'!Y219245","v":0}]
[null,{"$f":"'Patrones Punto a Punto'!Y219989","v":0}]
[null,{"$f":"'Patrones Punto a Punto'!Y220504","v":0}]
[null,{"$f":"'Patrones Punto a Punto'!Y220725","v":0}]
[null,{"$f":"'Patrones Punto a Punto'!Y221240","v":0}]
[null,{"$f":"'Patrones Punto a Punto'!Y221984","v":0}]
[null,{"$f":"'Patrones Punto a Punto'!Y222247","v":0}]
[null,{"$f":"'Patrones Punto a Punto'!Y223244","v":0}]
[null,{"$f":"'Patrones Punto a Punto'!Y223465","v":0}]
[null,{"$f":"'Patrones Punto a Punto'!Y224209","v":0}]
[null,{"$f":"'Patrones Punto a Punto'!Y224724","v":0}]
[null,{"$f":"'Patrones Punto a Punto'!Y224945","v":0}]
[null,{"$f":"'Patrones Punto a Punto'!Y225460","v":0}]
[null,{"$f":"'Patrones Punto a Punto'!Y226204","v":0}]
[null,{"$f":"'Patrones Punto a Punto'!Y226425","v":0}]
[null,{"$f":"'Patrones Punto a Punto'!Y226940","v":0}]
[null,{"$f":"'Patrones Punto a Punto'!Y227684","v":0}]
[null,{"$f":"'Patrones Punto a Punto'!Y228199","v":0}]
[null,{"$f":"'Patrones Punto a Punto'!Y228943","v":0}]
[null,{"$f":"'Patrones Punto a Punto'!Y229164","v":0}]
[null,{"$f":"'Patrones Punto a Punto'!Y229679","v":0}]
[null,{"$f":"'Patrones Punto a Punto'!Y230423","v":0}]
[null,{"$f":"'Patrones Punto a Punto'!Y230644","v":0}]
[null,{"$f":"'Patrones Punto a Punto'!Y231159","v":0}]
[null,{"$f":"'Patrones Punto a Punto'!Y231903","v":0}]
[null,{"$f":"'Patrones Punto a Punto'!Y232418","v":0}]
[null,{"$f":"'Patrones Punto a Punto'!Y233162","v":0}]
[null,{"$f":"'Patrones Punto a Punto'!Y233383","v":0}]
[null,{"$f":"'Patrones Punto a Punto'!Y233898","v":0}]
[null,{"$f":"'Patrones Punto a Punto'!Y234642","v":0}]
[null,{"$f":"'Patrones Punto a Punto'!Y234863","v":0}]
[null,{"$f":"'Patrones Punto a Punto'!Y235378","v":0}]
[null,{"$f":"'Patrones Punto a Punto'!Y235876","v":0}]
[null,{"$f":"'Patrones Punto a Punto'!Y236638","v":0}]
[null,{"$f":"'Patrones Punto a Punto'!Y236859","v":0}]
[null,{"$f":"'Patrones Punto a Punto'!Y237603","v":0}]
[null,{"$f":"'Patrones Punto a Punto'!Y238118","v":0}]
[null,{"$f":"'Patrones Punto a Punto'!Y238862","v":0}]
[null,{"$f":"'Patrones Punto a Punto'!Y239377","v":0}]
[null,{"$f":"'Patrones Punto a Punto'!Y239598","v":0}]
[null,{"$f":"'Patrones Punto a Punto'!Y240342","v":0}]
[null,{"$f":"'Patrones Punto a Punto'!Y240857","v":0}]
[null,{"$f":"'Patrones Punto a Punto'!Y241078","v":0}]
[null,{"$f":"'Patrones Punto a Punto'!Y241822","v":0}]
[null,{"$f":"'Patrones Punto a Punto'!Y242337","v":0}]
[null,{"$f":"'Patrones Punto a Punto'!Y243081","v":0}]
[null,{"$f":"'Patrones Punto a Punto'!Y243596","v":0}]
[null,{"$f":"'Patrones Punto a Punto'!Y243817","v":0}]
[null,{"$f":"'Patrones Punto a Punto'!Y244561","v":0}]
[null,{"$f":"'Patrones Punto a Punto'!Y245076","v":0}]
[null,{"$f":"'Patrones Punto a Punto'!Y245297","v":0}]
[null,{"$f":"'Patrones Punto a Punto'!Y246041","v":0}]
[null,{"$f":"'Patrones Punto a Punto'!Y246556","v":0}]
[null,{"$f":"'Patrones Punto a Punto'!Y247300","v":0}]
[null,{"$f":"'Patrones Punto a Punto'!Y247815","v":0}]
[null,{"$f":"'Patrones Punto a Punto'!Y248036","v":0}]
[null,{"$f":"'Patrones Punto a Punto'!Y248780","v":0}]
[null,{"$f":"'Patrones Punto a Punto'!Y249295","v":0}]
[null,{"$f":"'Patrones Punto a Punto'!Y249505","v":0}]
[null,{"$f":"'Patrones Punto a Punto'!Y250032","v":0}]
[null,{"$f":"'Patrones Punto a Punto'!Y250776","v":0}]
[null,{"$f":"'Patrones Punto a Punto'!Y250997","v":0}]
[null,{"$f":"'Patrones Punto a Punto'!Y251512","v":0}]
[null,{"$f":"'Patrones Punto a Punto'!Y252256","v":0}]
[null,{"$f":"'Patrones Punto a Punto'!Y253000","v":0}]
[null,{"$f":"'Patrones Punto a Punto'!Y253515","v":0}]
[null,{"$f":"'Patrones Punto a Punto'!Y253736","v":0}]
[null,{"$f":"'Patrones Punto a Punto'!Y254251","v":0}]
[null,{"$f":"'Patrones Punto a Punto'!Y254995","v":0}]
[null,{"$f":"'Patrones Punto a Punto'!Y255216","v":0}]
[null,{"$f":"'Patrones Punto a Punto'!Y255731","v":0}]
[null,{"$f":"'Patrones Punto a Punto'!Y256475","v":0}]
[null,{"$f":"'Patrones Punto a Punto'!Y256990","v":0}]
[null,{"$f":"'Patrones Punto a Punto'!Y257734","v":0}]
[null,{"$f":"'Patrones Punto a Punto'!Y257955","v":0}]
[null,{"$f":"'Patrones Punto a Punto'!Y258470","v":0}]
[null,{"$f":"'Patrones Punto a Punto'!Y259214","v":0}]
[null,{"$f":"'Patrones Punto a Punto'!Y259435","v":0}]
[null,{"$f":"'Patrones Punto a Punto'!Y259950","v":0}]
[null,{"$f":"'Patrones Punto a Punto'!Y260694","v":0}]
[null,{"$f":"'Patrones Punto a Punto'!Y261209","v":0}]
[null,{"$f":"'Patrones Punto a Punto'!Y261430","v":0}]
[null,{"$f":"'Patrones Punto a Punto'!Y262174","v":0}]
[null,{"$f":"'Patrones Punto a Punto'!Y262689","v":0}]
[null,{"$f":"'Patrones Punto a Punto'!Y263134","v":0}]
[null,{"$f":"'Patrones Punto a Punto'!Y263655","v":0}]
[null,{"$f":"'Patrones Punto a Punto'!Y264170","v":0}]
[null,{"$f":"'Patrones Punto a Punto'!Y264914","v":0}]
[null,{"$f":"'Patrones Punto a Punto'!Y265429","v":0}]
[null,{"$f":"'Patrones Punto a Punto'!Y265650","v":0}]
[null,{"$f":"'Patrones Punto a Punto'!Y266394","v":0}]
[null,{"$f":"'Patrones Punto a Punto'!Y266909","v":0}]
[null,{"$f":"'Patrones Punto a Punto'!Y267653","v":0}]
[null,{"$f":"'Patrones Punto a Punto'!Y268168","v":0}]
[null,{"$f":"'Patrones Punto a Punto'!Y268389","v":0}]
[null,{"$f":"'Patrones Punto a Punto'!Y269133","v":0}]
[null,{"$f":"'Patrones Punto a Punto'!Y269648","v":0}]
[null,{"$f":"'Patrones Punto a Punto'!Y269869","v":0}]
[null,{"$f":"'Patrones Punto a Punto'!Y270613","v":0}]
[null,{"$f":"'Patrones Punto a Punto'!Y271128","v":0}]
[null,{"$f":"'Patrones Punto a Punto'!Y271872","v":0}]
[null,{"$f":"'Patrones Punto a Punto'!Y272387","v":0}]
[null,{"$f":"'Patrones Punto a Punto'!Y272608","v":0}]
[null,{"$f":"'Patrones Punto a Punto'!Y273352","v":0}]
[null,{"$f":"'Patrones Punto a Punto'!Y273867","v":0}]
[null,{"$f":"'Patrones Punto a Punto'!Y274088","v":0}]
[null,{"$f":"'Patrones Punto a Punto'!Y274603","v":0}]
[null,{"$f":"'Patrones Punto a Punto'!Y275347","v":0}]
[null,{"$f":"'Patrones Punto a Punto'!Y275568","v":0}]
[null,{"$f":"'Patrones Punto a Punto'!Y276083","v":0}]
[null,{"$f":"'Patrones Punto a Punto'!Y276827","v":0}]
[null,{"$f":"'Patrones Punto a Punto'!Y277615","v":0}]
[null,{"$f":"'Patrones Punto a Punto'!Y278087","v":0}]
[null,{"$f":"'Patrones Punto a Punto'!Y278308","v":0}]
[null,{"$f":"'Patrones Punto a Punto'!Y278823","v":0}]
[null,{"$f":"'Patrones Punto a Punto'!Y279567","v":0}]
[null,{"$f":"'Patrones Punto a Punto'!Y279788","v":0}]
[null,{"$f":"'Patrones Punto a Punto'!Y280303","v":0}]
[null,{"$f":"'Patrones Punto a Punto'!Y281047","v":0}]
[null,{"$f":"'Patrones Punto a Punto'!Y281791","v":0}]
[null,{"$f":"'Patrones Punto a Punto'!Y282306","v":0}]
[null,{"$f":"'Patrones Punto a Punto'!Y282527","v":0}]
[null,{"$f":"'Patrones Punto a Punto'!Y283042","v":0}]
[null,{"$f":"'Patrones Punto a Punto'!Y283786","v":0}]
[null,{"$f":"'Patrones Punto a Punto'!Y284007","v":0}]
[null,{"$f":"'Patrones Punto a Punto'!Y284522","v":0}]
[null,{"$f":"'Patrones Punto a Punto'!Y285266","v":0}]
[null,{"$f":"'Patrones Punto a Punto'!Y285781","v":0}]
[null,{"$f":"'Patrones Punto a Punto'!Y286525","v":0}]
[null,{"$f":"'Patrones Punto a Punto'!Y286746","v":0}]
[null,{"$f":"'Patrones Punto a Punto'!Y287261","v":0}]
[null,{"$f":"'Patrones Punto a Punto'!Y288005","v":0}]
[null,{"$f":"'Patrones Punto a Punto'!Y288226","v":0}]
[null,{"$f":"'Patrones Punto a Punto'!Y288741","v":0}]
[null,{"$f":"'Patrones Punto a Punto'!Y289485","v":0}]
[null,{"$f":"'Patrones Punto a Punto'!Y290000","v":0}]
[null,{"$f":"'Patrones Punto a Punto'!Y290221","v":0}]
[null,{"$f":"'Patrones Punto a Punto'!Y290720","v":0}]
[null,{"$f":"'Patrones Punto a Punto'!Y291481","v":0}]
[null,{"$f":"'Patrones Punto a Punto'!Y292225","v":0}]
[null,{"$f":"'Patrones Punto a Punto'!Y292446","v":0}]
[null,{"$f":"'Patrones Punto a Punto'!Y292961","v":0}]
[null,{"$f":"'Patrones Punto a Punto'!Y293705","v":0}]
[null,{"$f":"'Patrones Punto a Punto'!Y294220","v":0}]
[null,{"$f":"'Patrones Punto a Punto'!Y294441","v":0}]
[null,{"$f":"'Patrones Punto a Punto'!Y295185","v":0}]
[null,{"$f":"'Patrones Punto a Punto'!Y295700","v":0}]
[null,{"$f":"'Patrones Punto a Punto'!Y296444","v":0}]
[null,{"$f":"'Patrones Punto a Punto'!Y296959","v":0}]
[null,{"$f":"'Patrones Punto a Punto'!Y297180","v":0}]
[null,{"$f":"'Patrones Punto a Punto'!Y297924","v":0}]
[null,{"$f":"'Patrones Punto a Punto'!Y298439","v":0}]
[null,{"$f":"'Patrones Punto a Punto'!Y298660","v":0}]
[null,{"$f":"'Patrones Punto a Punto'!Y299404","v":0}]
[null,{"$f":"'Patrones Punto a Punto'!Y299919","v":0}]
[null,{"$f":"'Patrones Punto a Punto'!Y300140","v":0}]
[null,{"$f":"'Patrones Punto a Punto'!Y301178","v":0}]
[null,{"$f":"'Patrones Punto a Punto'!Y301399","v":0}]
[null,{"$f":"'Patrones Punto a Punto'!Y302143","v":0}]
[null,{"$f":"'Patrones Punto a Punto'!Y302658","v":0}]
[null,{"$f":"'Patrones Punto a Punto'!Y302879","v":0}]
[null,{"$f":"'Patrones Punto a Punto'!Y303394","v":0}]
[null,{"$f":"'Patrones Punto a Punto'!Y304138","v":0}]
[null,{"$f":"'Patrones Punto a Punto'!Y304349","v":0}]
[null,{"$f":"'Patrones Punto a Punto'!Y304875","v":0}]
[null,{"$f":"'Patrones Punto a Punto'!Y305619","v":0}]
[null,{"$f":"'Patrones Punto a Punto'!Y306363","v":0}]
[null,{"$f":"'Patrones Punto a Punto'!Y306878","v":0}]
[null,{"$f":"'Patrones Punto a Punto'!Y307099","v":0}]
[null,{"$f":"'Patrones Punto a Punto'!Y307614","v":0}]
[null,{"$f":"'Patrones Punto a Punto'!Y308358","v":0}]
[null,{"$f":"'Patrones Punto a Punto'!Y308579","v":0}]
[null,{"$f":"'Patrones Punto a Punto'!Y309094","v":0}]
[null,{"$f":"'Patrones Punto a Punto'!Y309838","v":0}]
[null,{"$f":"'Patrones Punto a Punto'!Y310582","v":0}]
[null,{"$f":"'Patrones Punto a Punto'!Y311097","v":0}]
[null,{"$f":"'Patrones Punto a Punto'!Y311318","v":0}]
[null,{"$f":"'Patrones Punto a Punto'!Y311833","v":0}]
[null,{"$f":"'Patrones Punto a Punto'!Y312577","v":0}]
[null,{"$f":"'Patrones Punto a Punto'!Y312798","v":0}]
[null,{"$f":"'Patrones Punto a Punto'!Y313313","v":0}]
[null,{"$f":"'Patrones Punto a Punto'!Y314057","v":0}]
[null,{"$f":"'Patrones Punto a Punto'!Y314572","v":0}]
[null,{"$f":"'Patrones Punto a Punto'!Y314793","v":0}]
[null,{"$f":"'Patrones Punto a Punto'!Y315537","v":0}]
[null,{"$f":"'Patrones Punto a Punto'!Y316052","v":0}]
[null,{"$f":"'Patrones Punto a Punto'!Y316796","v":0}]
[null,{"$f":"'Patrones Punto a Punto'!Y317017","v":0}]
[null,{"$f":"'Patrones Punto a Punto'!Y317532","v":0}]
[null,{"$f":"'Patrones Punto a Punto'!Y318276","v":0}]
[null,{"$f":"'Patrones Punto a Punto'!Y318554","v":0}]
[null,{"$f":"'Patrones Punto a Punto'!Y319013","v":0}]
[null,{"$f":"'Patrones Punto a Punto'!Y319757","v":0}]
[null,{"$f":"'Patrones Punto a Punto'!Y320272","v":0}]
[null,{"$f":"'Patrones Punto a Punto'!Y321016","v":0}]
[null,{"$f":"'Patrones Punto a Punto'!Y321237","v":0}]
[null,{"$f":"'Patrones Punto a Punto'!Y321752","v":0}]
[null,{"$f":"'Patrones Punto a Punto'!Y322496","v":0}]
[null,{"$f":"'Patrones Punto a Punto'!Y323011","v":0}]
[null,{"$f":"'Patrones Punto a Punto'!Y323232","v":0}]
[null,{"$f":"'Patrones Punto a Punto'!Y323976","v":0}]
[null,{"$f":"'Patrones Punto a Punto'!Y324491","v":0}]
[null,{"$f":"'Patrones Punto a Punto'!Y325235","v":0}]
[null,{"$f":"'Patrones Punto a Punto'!Y325750","v":0}]
[null,{"$f":"'Patrones Punto a Punto'!Y325971","v":0}]
[null,{"$f":"'Patrones Punto a Punto'!Y326715","v":0}]
[null,{"$f":"'Patrones Punto a Punto'!Y327230","v":0}]
[null,{"$f":"'Patrones Punto a Punto'!Y327451","v":0}]
[null,{"$f":"'Patrones Punto a Punto'!Y328195","v":0}]
[null,{"$f":"'Patrones Punto a Punto'!Y328710","v":0}]
[null,{"$f":"'Patrones Punto a Punto'!Y328931","v":0}]
[null,{"$f":"'Patrones Punto a Punto'!Y329446","v":0}]
[null,{"$f":"'Patrones Punto a Punto'!Y330190","v":0}]
[null,{"$f":"'Patrones Punto a Punto'!Y330934","v":0}]
[null,{"$f":"'Patrones Punto a Punto'!Y331449","v":0}]
[null,{"$f":"'Patrones Punto a Punto'!Y331670","v":0}]
[null,{"$f":"'Patrones Punto a Punto'!Y332183","v":0}]
[null,{"$f":"'Patrones Punto a Punto'!Y332930","v":0}]
[null,{"$f":"'Patrones Punto a Punto'!Y333151","v":0}]
[null,{"$f":"'Patrones Punto a Punto'!Y333666","v":0}]
[null,{"$f":"'Patrones Punto a Punto'!Y334410","v":0}]
[null,{"$f":"'Patrones Punto a Punto'!Y335154","v":0}]
[null,{"$f":"'Patrones Punto a Punto'!Y335669","v":0}]
[null,{"$f":"'Patrones Punto a Punto'!Y335890","v":0}]
[null,{"$f":"'Patrones Punto a Punto'!Y336405","v":0}]
[null,{"$f":"'Patrones Punto a Punto'!Y337149","v":0}]
[null,{"$f":"'Patrones Punto a Punto'!Y337370","v":0}]
[null,{"$f":"'Patrones Punto a Punto'!Y337885","v":0}]
[null,{"$f":"'Patrones Punto a Punto'!Y338629","v":0}]
[null,{"$f":"'Patrones Punto a Punto'!Y338850","v":0}]
[null,{"$f":"'Patrones Punto a Punto'!Y339365","v":0}]
[null,{"$f":"'Patrones Punto a Punto'!Y340109","v":0}]
[null,{"$f":"'Patrones Punto a Punto'!Y340624","v":0}]
[null,{"$f":"'Patrones Punto a Punto'!Y341368","v":0}]
[null,{"$f":"'Patrones Punto a Punto'!Y341589","v":0}]
[null,{"$f":"'Patrones Punto a Punto'!Y342104","v":0}]
[null,{"$f":"'Patrones Punto a Punto'!Y342848","v":0}]
[null,{"$f":"'Patrones Punto a Punto'!Y343363","v":0}]
[null,{"$f":"'Patrones Punto a Punto'!Y343584","v":0}]
[null,{"$f":"'Patrones Punto a Punto'!Y344328","v":0}]
[null,{"$f":"'Patrones Punto a Punto'!Y344843","v":0}]
[null,{"$f":"'Patrones Punto a Punto'!Y345587","v":0}]
[null,{"$f":"'Patrones Punto a Punto'!Y346088","v":0}]
[null,{"$f":"'Patrones Punto a Punto'!Y346324","v":0}]
[null,{"$f":"'Patrones Punto a Punto'!Y347068","v":0}]
[null,{"$f":"'Patrones Punto a Punto'!Y347583","v":0}]
[null,{"$f":"'Patrones Punto a Punto'!Y347804","v":0}]
[null,{"$f":"'Patrones Punto a Punto'!Y348548","v":0}]
[null,{"$f":"'Patrones Punto a Punto'!Y349063","v":0}]
[null,{"$f":"'Patrones Punto a Punto'!Y349807","v":0}]
[null,{"$f":"'Patrones Punto a Punto'!Y350322","v":0}]
[null,{"$f":"'Patrones Punto a Punto'!Y350543","v":0}]
[null,{"$f":"'Patrones Punto a Punto'!Y351287","v":0}]
[null,{"$f":"'Patrones Punto a Punto'!Y351802","v":0}]
[null,{"$f":"'Patrones Punto a Punto'!Y352023","v":0}]
[null,{"$f":"'Patrones Punto a Punto'!Y352767","v":0}]
[null,{"$f":"'Patrones Punto a Punto'!Y353282","v":0}]
[null,{"$f":"'Patrones Punto a Punto'!Y353503","v":0}]
[null,{"$f":"'Patrones Punto a Punto'!Y354018","v":0}]
[null,{"$f":"'Patrones Punto a Punto'!Y354762","v":0}]
[null,{"$f":"'Patrones Punto a Punto'!Y355506","v":0}]
[null,{"$f":"'Patrones Punto a Punto'!Y356021","v":0}]
[null,{"$f":"'Patrones Punto a Punto'!Y356242","v":0}]
[null,{"$f":"'Patrones Punto a Punto'!Y356986","v":0}]
[null,{"$f":"'Patrones Punto a Punto'!Y357501","v":0}]
[null,{"$f":"'Patrones Punto a Punto'!Y357722","v":0}]
[null,{"$f":"'Patrones Punto a Punto'!Y358237","v":0}]
[null,{"$f":"'Patrones Punto a Punto'!Y358981","v":0}]
[null,{"$f":"'Patrones Punto a Punto'!Y359725","v":0}]
[null,{"$f":"'Patrones Punto a Punto'!Y359769","v":0}]
[null,{"$f":"'Patrones Punto a Punto'!Y360462","v":0}]
[null,{"$f":"'Patrones Punto a Punto'!Y360977","v":0}]
[null,{"$f":"'Patrones Punto a Punto'!Y361721","v":0}]
[null,{"$f":"'Patrones Punto a Punto'!Y361942","v":0}]
[null,{"$f":"'Patrones Punto a Punto'!Y362457","v":0}]
[null,{"$f":"'Patrones Punto a Punto'!Y363201","v":0}]
[null,{"$f":"'Patrones Punto a Punto'!Y363422","v":0}]
[null,{"$f":"'Patrones Punto a Punto'!Y364460","v":0}]
[null,{"$f":"'Patrones Punto a Punto'!Y364681","v":0}]
[null,{"$f":"'Patrones Punto a Punto'!Y365196","v":0}]
[null,{"$f":"'Patrones Punto a Punto'!Y365940","v":0}]
[null,{"$f":"'Patrones Punto a Punto'!Y366161","v":0}]
[null,{"$f":"'Patrones Punto a Punto'!Y366676","v":0}]
[null,{"$f":"'Patrones Punto a Punto'!Y367420","v":0}]
[null,{"$f":"'Patrones Punto a Punto'!Y367641","v":0}]
[null,{"$f":"'Patrones Punto a Punto'!Y368156","v":0}]
[null,{"$f":"'Patrones Punto a Punto'!Y368900","v":0}]
[null,{"$f":"'Patrones Punto a Punto'!Y369415","v":0}]
[null,{"$f":"'Patrones Punto a Punto'!Y370159","v":0}]
[null,{"$f":"'Patrones Punto a Punto'!Y370380","v":0}]
[null,{"$f":"'Patrones Punto a Punto'!Y370895","v":0}]
[null,{"$f":"'Patrones Punto a Punto'!Y371639","v":0}]
[null,{"$f":"'Patrones Punto a Punto'!Y372154","v":0}]
[null,{"$f":"'Patrones Punto a Punto'!Y372375","v":0}]
[null,{"$f":"'Patrones Punto a Punto'!Y373119","v":0}]
[null,{"$f":"'Patrones Punto a Punto'!Y373398","v":0}]
[null,{"$f":"'Patrones Punto a Punto'!Y374379","v":0}]
[null,{"$f":"'Patrones Punto a Punto'!Y374600","v":0}]
[null,{"$f":"'Patrones Punto a Punto'!Y375115","v":0}]
[null,{"$f":"'Patrones Punto a Punto'!Y375859","v":0}]
[null,{"$f":"'Patrones Punto a Punto'!Y376374","v":0}]
[null,{"$f":"'Patrones Punto a Punto'!Y376595","v":0}]
[null,{"$f":"'Patrones Punto a Punto'!Y377339","v":0}]
[null,{"$f":"'Patrones Punto a Punto'!Y377854","v":0}]
[null,{"$f":"'Patrones Punto a Punto'!Y378075","v":0}]
[null,{"$f":"'Patrones Punto a Punto'!Y378590","v":0}]
[null,{"$f":"'Patrones Punto a Punto'!Y379334","v":0}]
[null,{"$f":"'Patrones Punto a Punto'!Y380078","v":0}]
[null,{"$f":"'Patrones Punto a Punto'!Y380593","v":0}]
[null,{"$f":"'Patrones Punto a Punto'!Y380814","v":0}]
[null,{"$f":"'Patrones Punto a Punto'!Y381558","v":0}]
[null,{"$f":"'Patrones Punto a Punto'!Y382073","v":0}]
[null,{"$f":"'Patrones Punto a Punto'!Y382294","v":0}]
[null,{"$f":"'Patrones Punto a Punto'!Y382809","v":0}]
[null,{"$f":"'Patrones Punto a Punto'!Y383553","v":0}]
[null,{"$f":"'Patrones Punto a Punto'!Y384297","v":0}]
[null,{"$f":"'Patrones Punto a Punto'!Y384812","v":0}]
[null,{"$f":"'Patrones Punto a Punto'!Y385033","v":0}]
[null,{"$f":"'Patrones Punto a Punto'!Y385777","v":0}]
[null,{"$f":"'Patrones Punto a Punto'!Y386292","v":0}]
[null,{"$f":"'Patrones Punto a Punto'!Y386513","v":0}]
[null,{"$f":"'Patrones Punto a Punto'!Y387027","v":0}]
[null,{"$f":"'Patrones Punto a Punto'!Y387773","v":0}]
[null,{"$f":"'Patrones Punto a Punto'!Y388517","v":0}]
[null,{"$f":"'Patrones Punto a Punto'!Y389032","v":0}]
[null,{"$f":"'Patrones Punto a Punto'!Y389253","v":0}]
[null,{"$f":"'Patrones Punto a Punto'!Y389768","v":0}]
[null,{"$f":"'Patrones Punto a Punto'!Y390512","v":0}]
[null,{"$f":"'Patrones Punto a Punto'!Y390733","v":0}]
[null,{"$f":"'Patrones Punto a Punto'!Y391248","v":0}]
[null,{"$f":"'Patrones Punto a Punto'!Y391992","v":0}]
[null,{"$f":"'Patrones Punto a Punto'!Y392213","v":0}]
[null,{"$f":"'Patrones Punto a Punto'!Y392728","v":0}]
[null,{"$f":"'Patrones Punto a Punto'!Y393472","v":0}]
[null,{"$f":"'Patrones Punto a Punto'!Y393987","v":0}]
[null,{"$f":"'Patrones Punto a Punto'!Y394731","v":0}]
[null,{"$f":"'Patrones Punto a Punto'!Y394952","v":0}]
[null,{"$f":"'Patrones Punto a Punto'!Y395467","v":0}]
[null,{"$f":"'Patrones Punto a Punto'!Y396211","v":0}]
[null,{"$f":"'Patrones Punto a Punto'!Y396726","v":0}]
[null,{"$f":"'Patrones Punto a Punto'!Y396947","v":0}]
[null,{"$f":"'Patrones Punto a Punto'!Y397691","v":0}]
[null,{"$f":"'Patrones Punto a Punto'!Y398206","v":0}]
[null,{"$f":"'Patrones Punto a Punto'!Y398950","v":0}]
[null,{"$f":"'Patrones Punto a Punto'!Y399171","v":0}]
[null,{"$f":"'Patrones Punto a Punto'!Y399686","v":0}]
[null,{"$f":"'Patrones Punto a Punto'!Y400430","v":0}]
[null,{"$f":"'Patrones Punto a Punto'!Y400945","v":0}]
[null,{"$f":"'Patrones Punto a Punto'!Y401508","v":0}]
[null,{"$f":"'Patrones Punto a Punto'!Y401911","v":0}]
[null,{"$f":"'Patrones Punto a Punto'!Y402426","v":0}]
[null,{"$f":"'Patrones Punto a Punto'!Y403170","v":0}]
[null,{"$f":"'Patrones Punto a Punto'!Y403391","v":0}]
[null,{"$f":"'Patrones Punto a Punto'!Y403906","v":0}]
[null,{"$f":"'Patrones Punto a Punto'!Y404650","v":0}]
[null,{"$f":"'Patrones Punto a Punto'!Y405165","v":0}]
[null,{"$f":"'Patrones Punto a Punto'!Y405386","v":0}]
[null,{"$f":"'Patrones Punto a Punto'!Y406130","v":0}]
[null,{"$f":"'Patrones Punto a Punto'!Y406645","v":0}]
[null,{"$f":"'Patrones Punto a Punto'!Y406866","v":0}]
[null,{"$f":"'Patrones Punto a Punto'!Y407381","v":0}]
[null,{"$f":"'Patrones Punto a Punto'!Y408125","v":0}]
[null,{"$f":"'Patrones Punto a Punto'!Y408869","v":0}]
[null,{"$f":"'Patrones Punto a Punto'!Y409384","v":0}]
[null,{"$f":"'Patrones Punto a Punto'!Y409605","v":0}]
[null,{"$f":"'Patrones Punto a Punto'!Y410349","v":0}]
[null,{"$f":"'Patrones Punto a Punto'!Y410864","v":0}]
[null,{"$f":"'Patrones Punto a Punto'!Y411085","v":0}]
[null,{"$f":"'Patrones Punto a Punto'!Y411600","v":0}]
[null,{"$f":"'Patrones Punto a Punto'!Y412344","v":0}]
[null,{"$f":"'Patrones Punto a Punto'!Y413088","v":0}]
[null,{"$f":"'Patrones Punto a Punto'!Y413603","v":0}]
[null,{"$f":"'Patrones Punto a Punto'!Y413824","v":0}]
[null,{"$f":"'Patrones Punto a Punto'!Y414568","v":0}]
[null,{"$f":"'Patrones Punto a Punto'!Y415137","v":0}]
[null,{"$f":"'Patrones Punto a Punto'!Y415305","v":0}]
[null,{"$f":"'Patrones Punto a Punto'!Y415820","v":0}]
[null,{"$f":"'Patrones Punto a Punto'!Y416564","v":0}]
[null,{"$f":"'Patrones Punto a Punto'!Y416785","v":0}]
[null,{"$f":"'Patrones Punto a Punto'!Y417300","v":0}]
[null,{"$f":"'Patrones Punto a Punto'!Y418044","v":0}]
[null,{"$f":"'Patrones Punto a Punto'!Y418559","v":0}]
[null,{"$f":"'Patrones Punto a Punto'!Y419303","v":0}]
[null,{"$f":"'Patrones Punto a Punto'!Y419524","v":0}]
[null,{"$f":"'Patrones Punto a Punto'!Y420039","v":0}]
[null,{"$f":"'Patrones Punto a Punto'!Y420783","v":0}]
[null,{"$f":"'Patrones Punto a Punto'!Y421004","v":0}]
[null,{"$f":"'Patrones Punto a Punto'!Y421519","v":0}]
[null,{"$f":"'Patrones Punto a Punto'!Y422263","v":0}]
[null,{"$f":"'Patrones Punto a Punto'!Y422778","v":0}]
[null,{"$f":"'Patrones Punto a Punto'!Y423522","v":0}]
[null,{"$f":"'Patrones Punto a Punto'!Y423743","v":0}]
[null,{"$f":"'Patrones Punto a Punto'!Y424258","v":0}]
[null,{"$f":"'Patrones Punto a Punto'!Y425002","v":0}]
[null,{"$f":"'Patrones Punto a Punto'!Y425517","v":0}]
[null,{"$f":"'Patrones Punto a Punto'!Y425738","v":0}]
[null,{"$f":"'Patrones Punto a Punto'!Y426482","v":0}]
[null,{"$f":"'Patrones Punto a Punto'!Y426997","v":0}]
[null,{"$f":"'Patrones Punto a Punto'!Y427741","v":0}]
[null,{"$f":"'Patrones Punto a Punto'!Y427962","v":0}]
[null,{"$f":"'Patrones Punto a Punto'!Y428766","v":0}]
[null,{"$f":"'Patrones Punto a Punto'!Y429222","v":0}]
[null,{"$f":"'Patrones Punto a Punto'!Y429737","v":0}]
[null,{"$f":"'Patrones Punto a Punto'!Y429958","v":0}]
[null,{"$f":"'Patrones Punto a Punto'!Y430702","v":0}]
[null,{"$f":"'Patrones Punto a Punto'!Y431217","v":0}]
[null,{"$f":"'Patrones Punto a Punto'!Y431438","v":0}]
[null,{"$f":"'Patrones Punto a Punto'!Y432182","v":0}]
[null,{"$f":"'Patrones Punto a Punto'!Y432697","v":0}]
[null,{"$f":"'Patrones Punto a Punto'!Y433441","v":0}]
[null,{"$f":"'Patrones Punto a Punto'!Y433956","v":0}]
[null,{"$f":"'Patrones Punto a Punto'!Y434177","v":0}]
[null,{"$f":"'Patrones Punto a Punto'!Y434921","v":0}]
[null,{"$f":"'Patrones Punto a Punto'!Y435436","v":0}]
[null,{"$f":"'Patrones Punto a Punto'!Y435657","v":0}]
[null,{"$f":"'Patrones Punto a Punto'!Y436172","v":0}]
[null,{"$f":"'Patrones Punto a Punto'!Y436916","v":0}]
[null,{"$f":"'Patrones Punto a Punto'!Y437660","v":0}]
[null,{"$f":"'Patrones Punto a Punto'!Y438175","v":0}]
[null,{"$f":"'Patrones Punto a Punto'!Y438396","v":0}]
[null,{"$f":"'Patrones Punto a Punto'!Y439140","v":0}]
[null,{"$f":"'Patrones Punto a Punto'!Y439655","v":0}]
[null,{"$f":"'Patrones Punto a Punto'!Y439876","v":0}]
[null,{"$f":"'Patrones Punto a Punto'!Y440391","v":0}]
[null,{"$f":"'Patrones Punto a Punto'!Y441135","v":0}]
[null,{"$f":"'Patrones Punto a Punto'!Y441356","v":0}]
[null,{"$f":"'Patrones Punto a Punto'!Y442394","v":0}]
[null,{"$f":"'Patrones Punto a Punto'!Y442723","v":0}]
[null,{"$f":"'Patrones Punto a Punto'!Y443360","v":0}]
[null,{"$f":"'Patrones Punto a Punto'!Y443875","v":0}]
[null,{"$f":"'Patrones Punto a Punto'!Y444096","v":0}]
[null,{"$f":"'Patrones Punto a Punto'!Y444611","v":0}]
[null,{"$f":"'Patrones Punto a Punto'!Y445355","v":0}]
[null,{"$f":"'Patrones Punto a Punto'!Y445576","v":0}]
[null,{"$f":"'Patrones Punto a Punto'!Y446091","v":0}]
[null,{"$f":"'Patrones Punto a Punto'!Y446835","v":0}]
[null,{"$f":"'Patrones Punto a Punto'!Y447350","v":0}]
[null,{"$f":"'Patrones Punto a Punto'!Y448094","v":0}]
[null,{"$f":"'Patrones Punto a Punto'!Y448315","v":0}]
[null,{"$f":"'Patrones Punto a Punto'!Y448830","v":0}]
[null,{"$f":"'Patrones Punto a Punto'!Y449574","v":0}]
[null,{"$f":"'Patrones Punto a Punto'!Y449795","v":0}]
[null,{"$f":"'Patrones Punto a Punto'!Y450310","v":0}]
[null,{"$f":"'Patrones Punto a Punto'!Y451054","v":0}]
[null,{"$f":"'Patrones Punto a Punto'!Y451569","v":0}]
[null,{"$f":"'Patrones Punto a Punto'!Y452313","v":0}]
[null,{"$f":"'Patrones Punto a Punto'!Y452534","v":0}]
[null,{"$f":"'Patrones Punto a Punto'!Y453049","v":0}]
[null,{"$f":"'Patrones Punto a Punto'!Y453793","v":0}]
[null,{"$f":"'Patrones Punto a Punto'!Y454308","v":0}]
[null,{"$f":"'Patrones Punto a Punto'!Y454529","v":0}]
[null,{"$f":"'Patrones Punto a Punto'!Y455273","v":0}]
[null,{"$f":"'Patrones Punto a Punto'!Y455788","v":0}]
[null,{"$f":"'Patrones Punto a Punto'!Y456352","v":0}]
[null,{"$f":"'Patrones Punto a Punto'!Y456754","v":0}]
[null,{"$f":"'Patrones Punto a Punto'!Y457269","v":0}]
[null,{"$f":"'Patrones Punto a Punto'!Y458013","v":0}]
[null,{"$f":"'Patrones Punto a Punto'!Y458528","v":0}]
[null,{"$f":"'Patrones Punto a Punto'!Y458749","v":0}]
[null,{"$f":"'Patrones Punto a Punto'!Y459493","v":0}]
[null,{"$f":"'Patrones Punto a Punto'!Y460008","v":0}]
[null,{"$f":"'Patrones Punto a Punto'!Y460229","v":0}]
[null,{"$f":"'Patrones Punto a Punto'!Y460973","v":0}]
[null,{"$f":"'Patrones Punto a Punto'!Y461488","v":0}]
[null,{"$f":"'Patrones Punto a Punto'!Y462232","v":0}]
[null,{"$f":"'Patrones Punto a Punto'!Y462747","v":0}]
[null,{"$f":"'Patrones Punto a Punto'!Y462968","v":0}]
[null,{"$f":"'Patrones Punto a Punto'!Y463712","v":0}]
[null,{"$f":"'Patrones Punto a Punto'!Y464227","v":0}]
[null,{"$f":"'Patrones Punto a Punto'!Y464448","v":0}]
[null,{"$f":"'Patrones Punto a Punto'!Y464963","v":0}]
[null,{"$f":"'Patrones Punto a Punto'!Y465707","v":0}]
[null,{"$f":"'Patrones Punto a Punto'!Y466451","v":0}]
[null,{"$f":"'Patrones Punto a Punto'!Y466966","v":0}]
[null,{"$f":"'Patrones Punto a Punto'!Y467187","v":0}]
[null,{"$f":"'Patrones Punto a Punto'!Y467931","v":0}]
[null,{"$f":"'Patrones Punto a Punto'!Y468446","v":0}]
[null,{"$f":"'Patrones Punto a Punto'!Y468667","v":0}]
[null,{"$f":"'Patrones Punto a Punto'!Y469182","v":0}]
[null,{"$f":"'Patrones Punto a Punto'!Y469981","v":0}]
[null,{"$f":"'Patrones Punto a Punto'!Y470148","v":0}]
[null,{"$f":"'Patrones Punto a Punto'!Y470663","v":0}]
[null,{"$f":"'Patrones Punto a Punto'!Y471407","v":0}]
[null,{"$f":"'Patrones Punto a Punto'!Y471922","v":0}]
[null,{"$f":"'Patrones Punto a Punto'!Y472666","v":0}]
[null,{"$f":"'Patrones Punto a Punto'!Y472887","v":0}]
[null,{"$f":"'Patrones Punto a Punto'!Y473402","v":0}]
[null,{"$f":"'Patrones Punto a Punto'!Y474146","v":0}]
[null,{"$f":"'Patrones Punto a Punto'!Y474367","v":0}]
[null,{"$f":"'Patrones Punto a Punto'!Y474882","v":0}]
[null,{"$f":"'Patrones Punto a Punto'!Y475626","v":0}]
[null,{"$f":"'Patrones Punto a Punto'!Y476141","v":0}]
[null,{"$f":"'Patrones Punto a Punto'!Y476885","v":0}]
[null,{"$f":"'Patrones Punto a Punto'!Y477106","v":0}]
[null,{"$f":"'Patrones Punto a Punto'!Y477621","v":0}]
[null,{"$f":"'Patrones Punto a Punto'!Y478365","v":0}]
[null,{"$f":"'Patrones Punto a Punto'!Y478586","v":0}]
[null,{"$f":"'Patrones Punto a Punto'!Y479101","v":0}]
[null,{"$f":"'Patrones Punto a Punto'!Y479845","v":0}]
[null,{"$f":"'Patrones Punto a Punto'!Y480360","v":0}]
[null,{"$f":"'Patrones Punto a Punto'!Y481104","v":0}]
[null,{"$f":"'Patrones Punto a Punto'!Y481325","v":0}]
[null,{"$f":"'Patrones Punto a Punto'!Y481840","v":0}]
[null,{"$f":"'Patrones Punto a Punto'!Y482584","v":0}]
[null,{"$f":"'Patrones Punto a Punto'!Y483099","v":0}]
[null,{"$f":"'Patrones Punto a Punto'!Y483320","v":0}]
[null,{"$f":"'Patrones Punto a Punto'!Y483938","v":0}]
[null,{"$f":"'Patrones Punto a Punto'!Y484580","v":0}]
[null,{"$f":"'Patrones Punto a Punto'!Y484801","v":0}]
[null,{"$f":"'Patrones Punto a Punto'!Y485545","v":0}]
[null,{"$f":"'Patrones Punto a Punto'!Y486060","v":0}]
[null,{"$f":"'Patrones Punto a Punto'!Y486804","v":0}]
[null,{"$f":"'Patrones Punto a Punto'!Y487319","v":0}]
[null,{"$f":"'Patrones Punto a Punto'!Y487540","v":0}]
[null,{"$f":"'Patrones Punto a Punto'!Y488284","v":0}]
[null,{"$f":"'Patrones Punto a Punto'!Y488799","v":0}]
[null,{"$f":"'Patrones Punto a Punto'!Y489020","v":0}]
[null,{"$f":"'Patrones Punto a Punto'!Y489764","v":0}]
[null,{"$f":"'Patrones Punto a Punto'!Y490279","v":0}]
[null,{"$f":"'Patrones Punto a Punto'!Y491023","v":0}]
[null,{"$f":"'Patrones Punto a Punto'!Y491538","v":0}]
[null,{"$f":"'Patrones Punto a Punto'!Y491759","v":0}]
[null,{"$f":"'Patrones Punto a Punto'!Y492503","v":0}]
[null,{"$f":"'Patrones Punto a Punto'!Y493018","v":0}]
[null,{"$f":"'Patrones Punto a Punto'!Y493239","v":0}]
[null,{"$f":"'Patrones Punto a Punto'!Y493754","v":0}]
[null,{"$f":"'Patrones Punto a Punto'!Y494498","v":0}]
[null,{"$f":"'Patrones Punto a Punto'!Y494719","v":0}]
[null,{"$f":"'Patrones Punto a Punto'!Y495234","v":0}]
[null,{"$f":"'Patrones Punto a Punto'!Y495978","v":0}]
[null,{"$f":"'Patrones Punto a Punto'!Y496722","v":0}]
[null,{"$f":"'Patrones Punto a Punto'!Y497237","v":0}]
[null,{"$f":"'Patrones Punto a Punto'!Y497567","v":0}]
[null,{"$f":"'Patrones Punto a Punto'!Y497974","v":0}]
[null,{"$f":"'Patrones Punto a Punto'!Y498718","v":0}]
[null,{"$f":"'Patrones Punto a Punto'!Y498939","v":0}]
[null,{"$f":"'Patrones Punto a Punto'!Y499454","v":0}]
[null,{"$f":"'Patrones Punto a Punto'!Y500198","v":0}]
[null,{"$f":"'Patrones Punto a Punto'!Y500713","v":0}]
[null,{"$f":"'Patrones Punto a Punto'!Y501457","v":0}]
[null,{"$f":"'Patrones Punto a Punto'!Y501678","v":0}]
[null,{"$f":"'Patrones Punto a Punto'!Y502193","v":0}]
[null,{"$f":"'Patrones Punto a Punto'!Y502937","v":0}]
[null,{"$f":"'Patrones Punto a Punto'!Y503158","v":0}]
[null,{"$f":"'Patrones Punto a Punto'!Y503673","v":0}]
[null,{"$f":"'Patrones Punto a Punto'!Y504417","v":0}]
[null,{"$f":"'Patrones Punto a Punto'!Y504932","v":0}]
[null,{"$f":"'Patrones Punto a Punto'!Y505676","v":0}]
[null,{"$f":"'Patrones Punto a Punto'!Y505897","v":0}]
[null,{"$f":"'Patrones Punto a Punto'!Y506412","v":0}]
[null,{"$f":"'Patrones Punto a Punto'!Y507156","v":0}]
[null,{"$f":"'Patrones Punto a Punto'!Y507377","v":0}]
[null,{"$f":"'Patrones Punto a Punto'!Y507892","v":0}]
[null,{"$f":"'Patrones Punto a Punto'!Y508636","v":0}]
[null,{"$f":"'Patrones Punto a Punto'!Y509151","v":0}]
[null,{"$f":"'Patrones Punto a Punto'!Y509372","v":0}]
[null,{"$f":"'Patrones Punto a Punto'!Y510116","v":0}]
[null,{"$f":"'Patrones Punto a Punto'!Y510631","v":0}]
[null,{"$f":"'Patrones Punto a Punto'!Y511196","v":0}]
[null,{"$f":"'Patrones Punto a Punto'!Y511891","v":0}]
[null,{"$f":"'Patrones Punto a Punto'!Y512112","v":0}]
[null,{"$f":"'Patrones Punto a Punto'!Y512856","v":0}]
[null,{"$f":"'Patrones Punto a Punto'!Y513371","v":0}]
[null,{"$f":"'Patrones Punto a Punto'!Y513592","v":0}]
[null,{"$f":"'Patrones Punto a Punto'!Y514336","v":0}]
[null,{"$f":"'Patrones Punto a Punto'!Y514851","v":0}]
[null,{"$f":"'Patrones Punto a Punto'!Y515595","v":0}]
[null,{"$f":"'Patrones Punto a Punto'!Y516110","v":0}]
[null,{"$f":"'Patrones Punto a Punto'!Y516331","v":0}]
[null,{"$f":"'Patrones Punto a Punto'!Y517075","v":0}]
[null,{"$f":"'Patrones Punto a Punto'!Y517590","v":0}]
[null,{"$f":"'Patrones Punto a Punto'!Y517811","v":0}]
[null,{"$f":"'Patrones Punto a Punto'!Y518326","v":0}]
[null,{"$f":"'Patrones Punto a Punto'!Y519070","v":0}]
[null,{"$f":"'Patrones Punto a Punto'!Y519291","v":0}]
[null,{"$f":"'Patrones Punto a Punto'!Y520329","v":0}]
[null,{"$f":"'Patrones Punto a Punto'!Y520550","v":0}]
[null,{"$f":"'Patrones Punto a Punto'!Y521294","v":0}]
[null,{"$f":"'Patrones Punto a Punto'!Y521809","v":0}]
[null,{"$f":"'Patrones Punto a Punto'!Y522030","v":0}]
[null,{"$f":"'Patrones Punto a Punto'!Y522545","v":0}]
[null,{"$f":"'Patrones Punto a Punto'!Y523289","v":0}]
[null,{"$f":"'Patrones Punto a Punto'!Y523510","v":0}]
[null,{"$f":"'Patrones Punto a Punto'!Y524025","v":0}]
[null,{"$f":"'Patrones Punto a Punto'!Y524825","v":0}]
[null,{"$f":"'Patrones Punto a Punto'!Y525514","v":0}]
[null,{"$f":"'Patrones Punto a Punto'!Y526029","v":0}]
[null,{"$f":"'Patrones Punto a Punto'!Y526250","v":0}]
[null,{"$f":"'Patrones Punto a Punto'!Y526765","v":0}]
[null,{"$f":"'Patrones Punto a Punto'!Y527509","v":0}]
[null,{"$f":"'Patrones Punto a Punto'!Y527730","v":0}]
[null,{"$f":"'Patrones Punto a Punto'!Y528245","v":0}]
[null,{"$f":"'Patrones Punto a Punto'!Y528989","v":0}]
[null,{"$f":"'Patrones Punto a Punto'!Y529504","v":0}]
[null,{"$f":"'Patrones Punto a Punto'!Y530248","v":0}]
[null,{"$f":"'Patrones Punto a Punto'!Y530469","v":0}]
[null,{"$f":"'Patrones Punto a Punto'!Y530984","v":0}]
[null,{"$f":"'Patrones Punto a Punto'!Y531728","v":0}]
[null,{"$f":"'Patrones Punto a Punto'!Y531949","v":0}]
[null,{"$f":"'Patrones Punto a Punto'!Y532464","v":0}]
[null,{"$f":"'Patrones Punto a Punto'!Y533208","v":0}]
[null,{"$f":"'Patrones Punto a Punto'!Y533723","v":0}]
[null,{"$f":"'Patrones Punto a Punto'!Y533944","v":0}]
[null,{"$f":"'Patrones Punto a Punto'!Y534688","v":0}]
[null,{"$f":"'Patrones Punto a Punto'!Y535203","v":0}]
[null,{"$f":"'Patrones Punto a Punto'!Y535947","v":0}]
[null,{"$f":"'Patrones Punto a Punto'!Y536168","v":0}]
[null,{"$f":"'Patrones Punto a Punto'!Y536683","v":0}]
[null,{"$f":"'Patrones Punto a Punto'!Y537427","v":0}]
[null,{"$f":"'Patrones Punto a Punto'!Y537942","v":0}]
[null,{"$f":"'Patrones Punto a Punto'!Y538163","v":0}]
[null,{"$f":"'Patrones Punto a Punto'!Y538782","v":0}]
[null,{"$f":"'Patrones Punto a Punto'!Y539423","v":0}]
[null,{"$f":"'Patrones Punto a Punto'!Y540167","v":0}]
[null,{"$f":"'Patrones Punto a Punto'!Y540682","v":0}]
[null,{"$f":"'Patrones Punto a Punto'!Y540903","v":0}]
[null,{"$f":"'Patrones Punto a Punto'!Y541647","v":0}]
[null,{"$f":"'Patrones Punto a Punto'!Y542162","v":0}]
[null,{"$f":"'Patrones Punto a Punto'!Y542383","v":0}]
[null,{"$f":"'Patrones Punto a Punto'!Y543127","v":0}]
[null,{"$f":"'Patrones Punto a Punto'!Y543642","v":0}]
[null,{"$f":"'Patrones Punto a Punto'!Y544386","v":0}]
[null,{"$f":"'Patrones Punto a Punto'!Y544901","v":0}]
[null,{"$f":"'Patrones Punto a Punto'!Y545122","v":0}]
[null,{"$f":"'Patrones Punto a Punto'!Y545866","v":0}]
[null,{"$f":"'Patrones Punto a Punto'!Y546381","v":0}]
[null,{"$f":"'Patrones Punto a Punto'!Y546602","v":0}]
[null,{"$f":"'Patrones Punto a Punto'!Y547117","v":0}]
[null,{"$f":"'Patrones Punto a Punto'!Y547861","v":0}]
[null,{"$f":"'Patrones Punto a Punto'!Y548082","v":0}]
[null,{"$f":"'Patrones Punto a Punto'!Y548597","v":0}]
[null,{"$f":"'Patrones Punto a Punto'!Y549341","v":0}]
[null,{"$f":"'Patrones Punto a Punto'!Y550085","v":0}]
[null,{"$f":"'Patrones Punto a Punto'!Y550600","v":0}]
[null,{"$f":"'Patrones Punto a Punto'!Y550821","v":0}]
[null,{"$f":"'Patrones Punto a Punto'!Y551336","v":0}]
[null,{"$f":"'Patrones Punto a Punto'!Y552080","v":0}]
[null,{"$f":"'Patrones Punto a Punto'!Y552411","v":0}]
[null,{"$f":"'Patrones Punto a Punto'!Y552817","v":0}]
[null,{"$f":"'Patrones Punto a Punto'!Y553561","v":0}]
[null,{"$f":"'Patrones Punto a Punto'!Y554305","v":0}]
[null,{"$f":"'Patrones Punto a Punto'!Y554820","v":0}]
[null,{"$f":"'Patrones Punto a Punto'!Y555041","v":0}]
[null,{"$f":"'Patrones Punto a Punto'!Y555556","v":0}]
[null,{"$f":"'Patrones Punto a Punto'!Y556300","v":0}]
[null,{"$f":"'Patrones Punto a Punto'!Y556521","v":0}]
[null,{"$f":"'Patrones Punto a Punto'!Y557036","v":0}]
[null,{"$f":"'Patrones Punto a Punto'!Y557780","v":0}]
[null,{"$f":"'Patrones Punto a Punto'!Y558295","v":0}]
[null,{"$f":"'Patrones Punto a Punto'!Y558516","v":0}]
[null,{"$f":"'Patrones Punto a Punto'!Y559260","v":0}]
[null,{"$f":"'Patrones Punto a Punto'!Y559775","v":0}]
[null,{"$f":"'Patrones Punto a Punto'!Y560519","v":0}]
[null,{"$f":"'Patrones Punto a Punto'!Y560740","v":0}]
[null,{"$f":"'Patrones Punto a Punto'!Y561255","v":0}]
[null,{"$f":"'Patrones Punto a Punto'!Y561999","v":0}]
[null,{"$f":"'Patrones Punto a Punto'!Y562514","v":0}]
[null,{"$f":"'Patrones Punto a Punto'!Y562735","v":0}]
[null,{"$f":"'Patrones Punto a Punto'!Y563479","v":0}]
[null,{"$f":"'Patrones Punto a Punto'!Y563994","v":0}]
[null,{"$f":"'Patrones Punto a Punto'!Y564738","v":0}]
[null,{"$f":"'Patrones Punto a Punto'!Y564959","v":0}]
[null,{"$f":"'Patrones Punto a Punto'!Y565474","v":0}]
[null,{"$f":"'Patrones Punto a Punto'!Y566040","v":0}]
[null,{"$f":"'Patrones Punto a Punto'!Y566734","v":0}]
[null,{"$f":"'Patrones Punto a Punto'!Y566955","v":0}]
[null,{"$f":"'Patrones Punto a Punto'!Y567699","v":0}]
[null,{"$f":"'Patrones Punto a Punto'!Y568214","v":0}]
[null,{"$f":"'Patrones Punto a Punto'!Y568958","v":0}]
[null,{"$f":"'Patrones Punto a Punto'!Y569473","v":0}]
[null,{"$f":"'Patrones Punto a Punto'!Y569694","v":0}]
[null,{"$f":"'Patrones Punto a Punto'!Y570438","v":0}]
[null,{"$f":"'Patrones Punto a Punto'!Y570953","v":0}]
[null,{"$f":"'Patrones Punto a Punto'!Y571174","v":0}]
[null,{"$f":"'Patrones Punto a Punto'!Y571918","v":0}]
[null,{"$f":"'Patrones Punto a Punto'!Y572433","v":0}]
[null,{"$f":"'Patrones Punto a Punto'!Y572654","v":0}]
[null,{"$f":"'Patrones Punto a Punto'!Y573169","v":0}]
[null,{"$f":"'Patrones Punto a Punto'!Y573913","v":0}]
[null,{"$f":"'Patrones Punto a Punto'!Y574657","v":0}]
[null,{"$f":"'Patrones Punto a Punto'!Y575172","v":0}]
[null,{"$f":"'Patrones Punto a Punto'!Y575393","v":0}]
[null,{"$f":"'Patrones Punto a Punto'!Y575908","v":0}]
[null,{"$f":"'Patrones Punto a Punto'!Y576652","v":0}]
[null,{"$f":"'Patrones Punto a Punto'!Y576873","v":0}]
[null,{"$f":"'Patrones Punto a Punto'!Y577388","v":0}]
[null,{"$f":"'Patrones Punto a Punto'!Y578132","v":0}]
[null,{"$f":"'Patrones Punto a Punto'!Y578876","v":0}]
[null,{"$f":"'Patrones Punto a Punto'!Y579391","v":0}]
[null,{"$f":"'Patrones Punto a Punto'!Y579612","v":0}]
[null,{"$f":"'Patrones Punto a Punto'!Y580245","v":0}]
[null,{"$f":"'Patrones Punto a Punto'!Y580872","v":0}]
[null,{"$f":"'Patrones Punto a Punto'!Y581093","v":0}]
[null,{"$f":"'Patrones Punto a Punto'!Y581608","v":0}]
[null,{"$f":"'Patrones Punto a Punto'!Y582352","v":0}]
[null,{"$f":"'Patrones Punto a Punto'!Y583096","v":0}]
[null,{"$f":"'Patrones Punto a Punto'!Y583611","v":0}]
[null,{"$f":"'Patrones Punto a Punto'!Y583832","v":0}]
[null,{"$f":"'Patrones Punto a Punto'!Y584347","v":0}]
[null,{"$f":"'Patrones Punto a Punto'!Y585091","v":0}]
[null,{"$f":"'Patrones Punto a Punto'!Y585312","v":0}]
[null,{"$f":"'Patrones Punto a Punto'!Y585827","v":0}]
[null,{"$f":"'Patrones Punto a Punto'!Y586571","v":0}]
[null,{"$f":"'Patrones Punto a Punto'!Y587086","v":0}]
[null,{"$f":"'Patrones Punto a Punto'!Y587307","v":0}]
[null,{"$f":"'Patrones Punto a Punto'!Y588051","v":0}]
[null,{"$f":"'Patrones Punto a Punto'!Y588566","v":0}]
[null,{"$f":"'Patrones Punto a Punto'!Y589310","v":0}]
[null,{"$f":"'Patrones Punto a Punto'!Y589531","v":0}]
[null,{"$f":"'Patrones Punto a Punto'!Y590046","v":0}]
[null,{"$f":"'Patrones Punto a Punto'!Y590790","v":0}]
[null,{"$f":"'Patrones Punto a Punto'!Y591305","v":0}]
[null,{"$f":"'Patrones Punto a Punto'!Y591526","v":0}]
[null,{"$f":"'Patrones Punto a Punto'!Y592270","v":0}]
[null,{"$f":"'Patrones Punto a Punto'!Y592785","v":0}]
[null,{"$f":"'Patrones Punto a Punto'!Y593529","v":0}]
[null,{"$f":"'Patrones Punto a Punto'!Y593874","v":0}]
[null,{"$f":"'Patrones Punto a Punto'!Y594266","v":0}]
[null,{"$f":"'Patrones Punto a Punto'!Y595010","v":0}]
[null,{"$f":"'Patrones Punto a Punto'!Y595525","v":0}]
[null,{"$f":"'Patrones Punto a Punto'!Y595746","v":0}]
[null,{"$f":"'Patrones Punto a Punto'!Y596490","v":0}]
[null,{"$f":"'Patrones Punto a Punto'!Y597005","v":0}]
[null,{"$f":"'Patrones Punto a Punto'!Y597226","v":0}]
[null,{"$f":"'Patrones Punto a Punto'!Y598264","v":0}]
[null,{"$f":"'Patrones Punto a Punto'!Y598485","v":0}]
[null,{"$f":"'Patrones Punto a Punto'!Y599229","v":0}]
[null,{"$f":"'Patrones Punto a Punto'!Y599744","v":0}]
[null,{"$f":"'Patrones Punto a Punto'!Y599965","v":0}]
[null,{"$f":"'Patrones Punto a Punto'!Y600709","v":0}]
[null,{"$f":"'Patrones Punto a Punto'!Y601224","v":0}]
[null,{"$f":"'Patrones Punto a Punto'!Y601445","v":0}]
[null,{"$f":"'Patrones Punto a Punto'!Y601960","v":0}]
[null,{"$f":"'Patrones Punto a Punto'!Y602704","v":0}]
[null,{"$f":"'Patrones Punto a Punto'!Y603448","v":0}]
[null,{"$f":"'Patrones Punto a Punto'!Y603963","v":0}]
[null,{"$f":"'Patrones Punto a Punto'!Y604184","v":0}]
[null,{"$f":"'Patrones Punto a Punto'!Y604699","v":0}]
[null,{"$f":"'Patrones Punto a Punto'!Y605443","v":0}]
[null,{"$f":"'Patrones Punto a Punto'!Y605664","v":0}]
[null,{"$f":"'Patrones Punto a Punto'!Y606179","v":0}]
[null,{"$f":"'Patrones Punto a Punto'!Y606923","v":0}]
[null,{"$f":"'Patrones Punto a Punto'!Y607255","v":0}]
[null,{"$f":"'Patrones Punto a Punto'!Y608183","v":0}]
[null,{"$f":"'Patrones Punto a Punto'!Y608404","v":0}]
[null,{"$f":"'Patrones Punto a Punto'!Y608919","v":0}]
[null,{"$f":"'Patrones Punto a Punto'!Y609663","v":0}]
[null,{"$f":"'Patrones Punto a Punto'!Y609884","v":0}]
[null,{"$f":"'Patrones Punto a Punto'!Y610399","v":0}]
[null,{"$f":"'Patrones Punto a Punto'!Y611143","v":0}]
[null,{"$f":"'Patrones Punto a Punto'!Y611364","v":0}]
[null,{"$f":"'Patrones Punto a Punto'!Y611879","v":0}]
[null,{"$f":"'Patrones Punto a Punto'!Y612623","v":0}]
[null,{"$f":"'Patrones Punto a Punto'!Y613138","v":0}]
[null,{"$f":"'Patrones Punto a Punto'!Y613882","v":0}]
[null,{"$f":"'Patrones Punto a Punto'!Y614103","v":0}]
[null,{"$f":"'Patrones Punto a Punto'!Y614618","v":0}]
[null,{"$f":"'Patrones Punto a Punto'!Y615362","v":0}]
[null,{"$f":"'Patrones Punto a Punto'!Y615877","v":0}]
[null,{"$f":"'Patrones Punto a Punto'!Y616098","v":0}]
[null,{"$f":"'Patrones Punto a Punto'!Y616842","v":0}]
[null,{"$f":"'Patrones Punto a Punto'!Y617357","v":0}]
[null,{"$f":"'Patrones Punto a Punto'!Y618101","v":0}]
[null,{"$f":"'Patrones Punto a Punto'!Y618322","v":0}]
[null,{"$f":"'Patrones Punto a Punto'!Y618837","v":0}]
[null,{"$f":"'Patrones Punto a Punto'!Y619581","v":0}]
[null,{"$f":"'Patrones Punto a Punto'!Y620096","v":0}]
[null,{"$f":"'Patrones Punto a Punto'!Y620317","v":0}]
[null,{"$f":"'Patrones Punto a Punto'!Y621061","v":0}]
[null,{"$f":"'Patrones Punto a Punto'!Y621460","v":0}]
[null,{"$f":"'Patrones Punto a Punto'!Y622321","v":0}]
[null,{"$f":"'Patrones Punto a Punto'!Y622836","v":0}]
[null,{"$f":"'Patrones Punto a Punto'!Y623057","v":0}]
[null,{"$f":"'Patrones Punto a Punto'!Y623801","v":0}]
[null,{"$f":"'Patrones Punto a Punto'!Y624316","v":0}]
[null,{"$f":"'Patrones Punto a Punto'!Y624537","v":0}]
[null,{"$f":"'Patrones Punto a Punto'!Y625281","v":0}]
[null,{"$f":"'Patrones Punto a Punto'!Y625796","v":0}]
[null,{"$f":"'Patrones Punto a Punto'!Y626017","v":0}]
[null,{"$f":"'Patrones Punto a Punto'!Y626532","v":0}]
[null,{"$f":"'Patrones Punto a Punto'!Y627276","v":0}]
[null,{"$f":"'Patrones Punto a Punto'!Y628020","v":0}]
[null,{"$f":"'Patrones Punto a Punto'!Y628535","v":0}]
[null,{"$f":"'Patrones Punto a Punto'!Y628756","v":0}]
[null,{"$f":"'Patrones Punto a Punto'!Y629500","v":0}]
[null,{"$f":"'Patrones Punto a Punto'!Y630015","v":0}]
[null,{"$f":"'Patrones Punto a Punto'!Y630236","v":0}]
[null,{"$f":"'Patrones Punto a Punto'!Y630751","v":0}]
[null,{"$f":"'Patrones Punto a Punto'!Y631495","v":0}]
[null,{"$f":"'Patrones Punto a Punto'!Y632239","v":0}]
[null,{"$f":"'Patrones Punto a Punto'!Y632754","v":0}]
[null,{"$f":"'Patrones Punto a Punto'!Y632975","v":0}]
[null,{"$f":"'Patrones Punto a Punto'!Y633490","v":0}]
[null,{"$f":"'Patrones Punto a Punto'!Y634234","v":0}]
[null,{"$f":"'Patrones Punto a Punto'!Y634455","v":0}]
[null,{"$f":"'Patrones Punto a Punto'!Y635089","v":0}]
[null,{"$f":"'Patrones Punto a Punto'!Y635715","v":0}]
[null,{"$f":"'Patrones Punto a Punto'!Y635936","v":0}]
[null,{"$f":"'Patrones Punto a Punto'!Y636451","v":0}]
[null,{"$f":"'Patrones Punto a Punto'!Y637195","v":0}]
[null,{"$f":"'Patrones Punto a Punto'!Y637710","v":0}]
[null,{"$f":"'Patrones Punto a Punto'!Y638454","v":0}]
[null,{"$f":"'Patrones Punto a Punto'!Y638675","v":0}]
[null,{"$f":"'Patrones Punto a Punto'!Y639190","v":0}]
[null,{"$f":"'Patrones Punto a Punto'!Y639934","v":0}]
[null,{"$f":"'Patrones Punto a Punto'!Y640155","v":0}]
[null,{"$f":"'Patrones Punto a Punto'!Y640670","v":0}]
[null,{"$f":"'Patrones Punto a Punto'!Y641414","v":0}]
[null,{"$f":"'Patrones Punto a Punto'!Y641929","v":0}]
[null,{"$f":"'Patrones Punto a Punto'!Y642673","v":0}]
[null,{"$f":"'Patrones Punto a Punto'!Y642894","v":0}]
[null,{"$f":"'Patrones Punto a Punto'!Y643409","v":0}]
[null,{"$f":"'Patrones Punto a Punto'!Y644153","v":0}]
[null,{"$f":"'Patrones Punto a Punto'!Y644668","v":0}]
[null,{"$f":"'Patrones Punto a Punto'!Y644889","v":0}]
[null,{"$f":"'Patrones Punto a Punto'!Y645633","v":0}]
[null,{"$f":"'Patrones Punto a Punto'!Y646148","v":0}]
[null,{"$f":"'Patrones Punto a Punto'!Y646892","v":0}]
[null,{"$f":"'Patrones Punto a Punto'!Y647113","v":0}]
[null,{"$f":"'Patrones Punto a Punto'!Y647628","v":0}]
[null,{"$f":"'Patrones Punto a Punto'!Y648372","v":0}]
[null,{"$f":"'Patrones Punto a Punto'!Y648718","v":0}]
[null,{"$f":"'Patrones Punto a Punto'!Y649109","v":0}]
[null,{"$f":"'Patrones Punto a Punto'!Y649853","v":0}]
[null,{"$f":"'Patrones Punto a Punto'!Y650368","v":0}]
[null,{"$f":"'Patrones Punto a Punto'!Y650589","v":0}]
[null,{"$f":"'Patrones Punto a Punto'!Y651104","v":0}]
[null,{"$f":"'Patrones Punto a Punto'!Y651848","v":0}]
[null,{"$f":"'Patrones Punto a Punto'!Y652592","v":0}]
[null,{"$f":"'Patrones Punto a Punto'!Y653107","v":0}]
[null,{"$f":"'Patrones Punto a Punto'!Y653328","v":0}]
[null,{"$f":"'Patrones Punto a Punto'!Y654072","v":0}]
[null,{"$f":"'Patrones Punto a Punto'!Y654587","v":0}]
[null,{"$f":"'Patrones Punto a Punto'!Y654808","v":0}]
[null,{"$f":"'Patrones Punto a Punto'!Y655323","v":0}]
[null,{"$f":"'Patrones Punto a Punto'!Y656067","v":0}]
[null,{"$f":"'Patrones Punto a Punto'!Y656811","v":0}]
[null,{"$f":"'Patrones Punto a Punto'!Y657326","v":0}]
[null,{"$f":"'Patrones Punto a Punto'!Y657547","v":0}]
[null,{"$f":"'Patrones Punto a Punto'!Y658291","v":0}]
[null,{"$f":"'Patrones Punto a Punto'!Y658806","v":0}]
[null,{"$f":"'Patrones Punto a Punto'!Y659027","v":0}]
[null,{"$f":"'Patrones Punto a Punto'!Y659542","v":0}]
[null,{"$f":"'Patrones Punto a Punto'!Y660286","v":0}]
[null,{"$f":"'Patrones Punto a Punto'!Y660507","v":0}]
[null,{"$f":"'Patrones Punto a Punto'!Y661545","v":0}]
[null,{"$f":"'Patrones Punto a Punto'!Y661766","v":0}]
[null,{"$f":"'Patrones Punto a Punto'!Y662281","v":0}]
[null,{"$f":"'Patrones Punto a Punto'!Y662675","v":0}]
[null,{"$f":"'Patrones Punto a Punto'!Y663247","v":0}]
[null,{"$f":"'Patrones Punto a Punto'!Y663762","v":0}]
[null,{"$f":"'Patrones Punto a Punto'!Y664506","v":0}]
[null,{"$f":"'Patrones Punto a Punto'!Y664727","v":0}]
[null,{"$f":"'Patrones Punto a Punto'!Y665242","v":0}]
[null,{"$f":"'Patrones Punto a Punto'!Y665986","v":0}]
[null,{"$f":"'Patrones Punto a Punto'!Y666501","v":0}]
[null,{"$f":"'Patrones Punto a Punto'!Y667245","v":0}]
[null,{"$f":"'Patrones Punto a Punto'!Y667466","v":0}]
[null,{"$f":"'Patrones Punto a Punto'!Y667981","v":0}]
[null,{"$f":"'Patrones Punto a Punto'!Y668725","v":0}]
[null,{"$f":"'Patrones Punto a Punto'!Y669240","v":0}]
[null,{"$f":"'Patrones Punto a Punto'!Y669461","v":0}]
[null,{"$f":"'Patrones Punto a Punto'!Y670205","v":0}]
[null,{"$f":"'Patrones Punto a Punto'!Y670720","v":0}]
[null,{"$f":"'Patrones Punto a Punto'!Y671464","v":0}]
[null,{"$f":"'Patrones Punto a Punto'!Y671685","v":0}]
[null,{"$f":"'Patrones Punto a Punto'!Y672200","v":0}]
[null,{"$f":"'Patrones Punto a Punto'!Y672944","v":0}]
[null,{"$f":"'Patrones Punto a Punto'!Y673459","v":0}]
[null,{"$f":"'Patrones Punto a Punto'!Y673680","v":0}]
[null,{"$f":"'Patrones Punto a Punto'!Y674424","v":0}]
[null,{"$f":"'Patrones Punto a Punto'!Y674939","v":0}]
[null,{"$f":"'Patrones Punto a Punto'!Y675160","v":0}]
[null,{"$f":"'Patrones Punto a Punto'!Y675904","v":0}]
[null,{"$f":"'Patrones Punto a Punto'!Y676304","v":0}]
[null,{"$f":"'Patrones Punto a Punto'!Y677164","v":0}]
[null,{"$f":"'Patrones Punto a Punto'!Y677679","v":0}]
[null,{"$f":"'Patrones Punto a Punto'!Y677900","v":0}]
[null,{"$f":"'Patrones Punto a Punto'!Y678644","v":0}]
[null,{"$f":"'Patrones Punto a Punto'!Y679159","v":0}]
[null,{"$f":"'Patrones Punto a Punto'!Y679380","v":0}]
[null,{"$f":"'Patrones Punto a Punto'!Y679895","v":0}]
[null,{"$f":"'Patrones Punto a Punto'!Y680639","v":0}]
[null,{"$f":"'Patrones Punto a Punto'!Y681383","v":0}]
[null,{"$f":"'Patrones Punto a Punto'!Y681898","v":0}]
[null,{"$f":"'Patrones Punto a Punto'!Y682119","v":0}]
[null,{"$f":"'Patrones Punto a Punto'!Y682863","v":0}]
[null,{"$f":"'Patrones Punto a Punto'!Y683378","v":0}]
[null,{"$f":"'Patrones Punto a Punto'!Y683599","v":0}]
[null,{"$f":"'Patrones Punto a Punto'!Y684114","v":0}]
[null,{"$f":"'Patrones Punto a Punto'!Y684858","v":0}]
[null,{"$f":"'Patrones Punto a Punto'!Y685602","v":0}]
[null,{"$f":"'Patrones Punto a Punto'!Y686117","v":0}]
[null,{"$f":"'Patrones Punto a Punto'!Y686338","v":0}]
[null,{"$f":"'Patrones Punto a Punto'!Y687082","v":0}]
[null,{"$f":"'Patrones Punto a Punto'!Y687597","v":0}]
[null,{"$f":"'Patrones Punto a Punto'!Y687818","v":0}]
[null,{"$f":"'Patrones Punto a Punto'!Y688333","v":0}]
[null,{"$f":"'Patrones Punto a Punto'!Y689077","v":0}]
[null,{"$f":"'Patrones Punto a Punto'!Y689298","v":0}]
[null,{"$f":"'Patrones Punto a Punto'!Y689933","v":0}]
[null,{"$f":"'Patrones Punto a Punto'!Y690558","v":0}]
[null,{"$f":"'Patrones Punto a Punto'!Y691073","v":0}]
[null,{"$f":"'Patrones Punto a Punto'!Y691817","v":0}]
[null,{"$f":"'Patrones Punto a Punto'!Y692038","v":0}]
[null,{"$f":"'Patrones Punto a Punto'!Y692553","v":0}]
[null,{"$f":"'Patrones Punto a Punto'!Y693297","v":0}]
[null,{"$f":"'Patrones Punto a Punto'!Y693518","v":0}]
[null,{"$f":"'Patrones Punto a Punto'!Y694033","v":0}]
[null,{"$f":"'Patrones Punto a Punto'!Y694777","v":0}]
[null,{"$f":"'Patrones Punto a Punto'!Y695292","v":0}]
[null,{"$f":"'Patrones Punto a Punto'!Y696036","v":0}]
[null,{"$f":"'Patrones Punto a Punto'!Y696257","v":0}]
[null,{"$f":"'Patrones Punto a Punto'!Y696772","v":0}]
[null,{"$f":"'Patrones Punto a Punto'!Y697516","v":0}]
[null,{"$f":"'Patrones Punto a Punto'!Y698031","v":0}]
[null,{"$f":"'Patrones Punto a Punto'!Y698252","v":0}]
[null,{"$f":"'Patrones Punto a Punto'!Y698996","v":0}]
[null,{"$f":"'Patrones Punto a Punto'!Y699511","v":0}]
[null,{"$f":"'Patrones Punto a Punto'!Y700255","v":0}]
[null,{"$f":"'Patrones Punto a Punto'!Y700476","v":0}]
[null,{"$f":"'Patrones Punto a Punto'!Y700991","v":0}]
[null,{"$f":"'Patrones Punto a Punto'!Y701735","v":0}]
[null,{"$f":"'Patrones Punto a Punto'!Y702250","v":0}]
[null,{"$f":"'Patrones Punto a Punto'!Y702471","v":0}]
[null,{"$f":"'Patrones Punto a Punto'!Y703215","v":0}]
[null,{"$f":"'Patrones Punto a Punto'!Y703730","v":0}]
[null,{"$f":"'Patrones Punto a Punto'!Y704414","v":0}]
[null,{"$f":"'Patrones Punto a Punto'!Y704696","v":0}]
[null,{"$f":"'Patrones Punto a Punto'!Y705211","v":0}]
[null,{"$f":"'Patrones Punto a Punto'!Y705955","v":0}]
[null,{"$f":"'Patrones Punto a Punto'!Y706470","v":0}]
[null,{"$f":"'Patrones Punto a Punto'!Y706691","v":0}]
[null,{"$f":"'Patrones Punto a Punto'!Y707435","v":0}]
[null,{"$f":"'Patrones Punto a Punto'!Y707950","v":0}]
[null,{"$f":"'Patrones Punto a Punto'!Y708171","v":0}]
[null,{"$f":"'Patrones Punto a Punto'!Y708686","v":0}]
[null,{"$f":"'Patrones Punto a Punto'!Y709430","v":0}]
[null,{"$f":"'Patrones Punto a Punto'!Y710174","v":0}]
[null,{"$f":"'Patrones Punto a Punto'!Y710689","v":0}]
[null,{"$f":"'Patrones Punto a Punto'!Y710910","v":0}]
[null,{"$f":"'Patrones Punto a Punto'!Y711654","v":0}]
[null,{"$f":"'Patrones Punto a Punto'!Y712169","v":0}]
[null,{"$f":"'Patrones Punto a Punto'!Y712390","v":0}]
[null,{"$f":"'Patrones Punto a Punto'!Y712905","v":0}]
[null,{"$f":"'Patrones Punto a Punto'!Y713649","v":0}]
[null,{"$f":"'Patrones Punto a Punto'!Y713870","v":0}]
[null,{"$f":"'Patrones Punto a Punto'!Y714385","v":0}]
[null,{"$f":"'Patrones Punto a Punto'!Y715129","v":0}]
[null,{"$f":"'Patrones Punto a Punto'!Y715644","v":0}]
[null,{"$f":"'Patrones Punto a Punto'!Y716388","v":0}]
[null,{"$f":"'Patrones Punto a Punto'!Y716609","v":0}]
[null,{"$f":"'Patrones Punto a Punto'!Y717124","v":0}]
[null,{"$f":"'Patrones Punto a Punto'!Y717519","v":0}]
[null,{"$f":"'Patrones Punto a Punto'!Y718090","v":0}]
[null,{"$f":"'Patrones Punto a Punto'!Y718605","v":0}]
[null,{"$f":"'Patrones Punto a Punto'!Y719349","v":0}]
[null,{"$f":"'Patrones Punto a Punto'!Y719864","v":0}]
[null,{"$f":"'Patrones Punto a Punto'!Y720608","v":0}]
[null,{"$f":"'Patrones Punto a Punto'!Y720829","v":0}]
[null,{"$f":"'Patrones Punto a Punto'!Y721344","v":0}]
[null,{"$f":"'Patrones Punto a Punto'!Y722088","v":0}]
[null,{"$f":"'Patrones Punto a Punto'!Y722309","v":0}]
[null,{"$f":"'Patrones Punto a Punto'!Y722824","v":0}]
[null,{"$f":"'Patrones Punto a Punto'!Y723568","v":0}]
[null,{"$f":"'Patrones Punto a Punto'!Y724083","v":0}]
[null,{"$f":"'Patrones Punto a Punto'!Y724827","v":0}]
[null,{"$f":"'Patrones Punto a Punto'!Y725048","v":0}]
[null,{"$f":"'Patrones Punto a Punto'!Y725563","v":0}]
[null,{"$f":"'Patrones Punto a Punto'!Y726307","v":0}]
[null,{"$f":"'Patrones Punto a Punto'!Y726822","v":0}]
[null,{"$f":"'Patrones Punto a Punto'!Y727043","v":0}]
[null,{"$f":"'Patrones Punto a Punto'!Y727787","v":0}]
[null,{"$f":"'Patrones Punto a Punto'!Y728302","v":0}]
[null,{"$f":"'Patrones Punto a Punto'!Y728523","v":0}]
[null,{"$f":"'Patrones Punto a Punto'!Y729267","v":0}]
[null,{"$f":"'Patrones Punto a Punto'!Y729782","v":0}]
[null,{"$f":"'Patrones Punto a Punto'!Y730526","v":0}]
[null,{"$f":"'Patrones Punto a Punto'!Y731041","v":0}]
[null,{"$f":"'Patrones Punto a Punto'!Y731148","v":0}]
[null,{"$f":"'Patrones Punto a Punto'!Y732007","v":0}]
[null,{"$f":"'Patrones Punto a Punto'!Y732522","v":0}]
[null,{"$f":"'Patrones Punto a Punto'!Y732743","v":0}]
[null,{"$f":"'Patrones Punto a Punto'!Y733487","v":0}]
[null,{"$f":"'Patrones Punto a Punto'!Y734002","v":0}]
[null,{"$f":"'Patrones Punto a Punto'!Y734746","v":0}]
[null,{"$f":"'Patrones Punto a Punto'!Y735261","v":0}]
[null,{"$f":"'Patrones Punto a Punto'!Y735482","v":0}]
[null,{"$f":"'Patrones Punto a Punto'!Y736226","v":0}]
[null,{"$f":"'Patrones Punto a Punto'!Y736741","v":0}]
[null,{"$f":"'Patrones Punto a Punto'!Y736962","v":0}]
[null,{"$f":"'Patrones Punto a Punto'!Y737477","v":0}]
[null,{"$f":"'Patrones Punto a Punto'!Y738221","v":0}]
[null,{"$f":"'Patrones Punto a Punto'!Y738442","v":0}]
[null,{"$f":"'Patrones Punto a Punto'!Y739480","v":0}]
[null,{"$f":"'Patrones Punto a Punto'!Y739701","v":0}]
[null,{"$f":"'Patrones Punto a Punto'!Y740445","v":0}]
[null,{"$f":"'Patrones Punto a Punto'!Y740960","v":0}]
[null,{"$f":"'Patrones Punto a Punto'!Y741181","v":0}]
[null,{"$f":"'Patrones Punto a Punto'!Y741696","v":0}]
[null,{"$f":"'Patrones Punto a Punto'!Y742440","v":0}]
[null,{"$f":"'Patrones Punto a Punto'!Y742661","v":0}]
[null,{"$f":"'Patrones Punto a Punto'!Y743176","v":0}]
[null,{"$f":"'Patrones Punto a Punto'!Y743920","v":0}]
[null,{"$f":"'Patrones Punto a Punto'!Y744435","v":0}]
[null,{"$f":"'Patrones Punto a Punto'!Y745179","v":0}]
[null,{"$f":"'Patrones Punto a Punto'!Y745629","v":0}]
[null,{"$f":"'Patrones Punto a Punto'!Y745916","v":0}]
[null,{"$f":"'Patrones Punto a Punto'!Y746660","v":0}]
[null,{"$f":"'Patrones Punto a Punto'!Y746881","v":0}]
[null,{"$f":"'Patrones Punto a Punto'!Y747396","v":0}]
[null,{"$f":"'Patrones Punto a Punto'!Y748140","v":0}]
[null,{"$f":"'Patrones Punto a Punto'!Y748655","v":0}]
[null,{"$f":"'Patrones Punto a Punto'!Y749399","v":0}]
[null,{"$f":"'Patrones Punto a Punto'!Y749620","v":0}]
[null,{"$f":"'Patrones Punto a Punto'!Y750135","v":0}]
[null,{"$f":"'Patrones Punto a Punto'!Y750879","v":0}]
[null,{"$f":"'Patrones Punto a Punto'!Y751100","v":0}]
[null,{"$f":"'Patrones Punto a Punto'!Y751615","v":0}]
[null,{"$f":"'Patrones Punto a Punto'!Y752359","v":0}]
[null,{"$f":"'Patrones Punto a Punto'!Y752874","v":0}]
[null,{"$f":"'Patrones Punto a Punto'!Y753095","v":0}]
[null,{"$f":"'Patrones Punto a Punto'!Y753839","v":0}]
[null,{"$f":"'Patrones Punto a Punto'!Y754354","v":0}]
[null,{"$f":"'Patrones Punto a Punto'!Y755098","v":0}]
[null,{"$f":"'Patrones Punto a Punto'!Y755613","v":0}]
[null,{"$f":"'Patrones Punto a Punto'!Y755834","v":0}]
[null,{"$f":"'Patrones Punto a Punto'!Y756578","v":0}]
[null,{"$f":"'Patrones Punto a Punto'!Y757093","v":0}]
[null,{"$f":"'Patrones Punto a Punto'!Y757314","v":0}]
[null,{"$f":"'Patrones Punto a Punto'!Y758058","v":0}]
[null,{"$f":"'Patrones Punto a Punto'!Y758573","v":0}]
[null,{"$f":"'Patrones Punto a Punto'!Y759258","v":0}]
[null,{"$f":"'Patrones Punto a Punto'!Y759833","v":0}]
[null,{"$f":"'Patrones Punto a Punto'!Y760054","v":0}]
[null,{"$f":"'Patrones Punto a Punto'!Y760798","v":0}]
[null,{"$f":"'Patrones Punto a Punto'!Y761313","v":0}]
[null,{"$f":"'Patrones Punto a Punto'!Y761534","v":0}]
[null,{"$f":"'Patrones Punto a Punto'!Y762278","v":0}]
[null,{"$f":"'Patrones Punto a Punto'!Y762793","v":0}]
[null,{"$f":"'Patrones Punto a Punto'!Y763537","v":0}]
[null,{"$f":"'Patrones Punto a Punto'!Y764052","v":0}]
[null,{"$f":"'Patrones Punto a Punto'!Y764273","v":0}]
[null,{"$f":"'Patrones Punto a Punto'!Y765017","v":0}]
[null,{"$f":"'Patrones Punto a Punto'!Y765532","v":0}]
[null,{"$f":"'Patrones Punto a Punto'!Y765753","v":0}]
[null,{"$f":"'Patrones Punto a Punto'!Y766268","v":0}]
[null,{"$f":"'Patrones Punto a Punto'!Y767012","v":0}]
[null,{"$f":"'Patrones Punto a Punto'!Y767233","v":0}]
[null,{"$f":"'Patrones Punto a Punto'!Y767748","v":0}]
[null,{"$f":"'Patrones Punto a Punto'!Y768492","v":0}]
[null,{"$f":"'Patrones Punto a Punto'!Y769236","v":0}]
[null,{"$f":"'Patrones Punto a Punto'!Y769751","v":0}]
[null,{"$f":"'Patrones Punto a Punto'!Y769972","v":0}]
[null,{"$f":"'Patrones Punto a Punto'!Y770487","v":0}]
[null,{"$f":"'Patrones Punto a Punto'!Y771231","v":0}]
[null,{"$f":"'Patrones Punto a Punto'!Y771452","v":0}]
[null,{"$f":"'Patrones Punto a Punto'!Y771967","v":0}]
[null,{"$f":"'Patrones Punto a Punto'!Y772887","v":0}]
[null,{"$f":"'Patrones Punto a Punto'!Y773227","v":0}]
[null,{"$f":"'Patrones Punto a Punto'!Y773971","v":0}]
[null,{"$f":"'Patrones Punto a Punto'!Y774192","v":0}]
[null,{"$f":"'Patrones Punto a Punto'!Y774707","v":0}]
[null,{"$f":"'Patrones Punto a Punto'!Y775451","v":0}]
[null,{"$f":"'Patrones Punto a Punto'!Y775672","v":0}]
[null,{"$f":"'Patrones Punto a Punto'!Y776187","v":0}]
[null,{"$f":"'Patrones Punto a Punto'!Y776931","v":0}]
[null,{"$f":"'Patrones Punto a Punto'!Y777446","v":0}]
[null,{"$f":"'Patrones Punto a Punto'!Y778190","v":0}]
[null,{"$f":"'Patrones Punto a Punto'!Y778411","v":0}]
[null,{"$f":"'Patrones Punto a Punto'!Y778926","v":0}]
[null,{"$f":"'Patrones Punto a Punto'!Y779670","v":0}]
[null,{"$f":"'Patrones Punto a Punto'!Y779891","v":0}]
[null,{"$f":"'Patrones Punto a Punto'!Y780406","v":0}]
[null,{"$f":"'Patrones Punto a Punto'!Y781150","v":0}]
[null,{"$f":"'Patrones Punto a Punto'!Y781665","v":0}]
[null,{"$f":"'Patrones Punto a Punto'!Y781886","v":0}]
[null,{"$f":"'Patrones Punto a Punto'!Y782630","v":0}]
[null,{"$f":"'Patrones Punto a Punto'!Y783145","v":0}]
[null,{"$f":"'Patrones Punto a Punto'!Y783889","v":0}]
[null,{"$f":"'Patrones Punto a Punto'!Y784404","v":0}]
[null,{"$f":"'Patrones Punto a Punto'!Y784625","v":0}]
[null,{"$f":"'Patrones Punto a Punto'!Y785369","v":0}]
[null,{"$f":"'Patrones Punto a Punto'!Y785884","v":0}]
[null,{"$f":"'Patrones Punto a Punto'!Y786516","v":0}]
[null,{"$f":"'Patrones Punto a Punto'!Y786850","v":0}]
[null,{"$f":"'Patrones Punto a Punto'!Y787365","v":0}]
[null,{"$f":"'Patrones Punto a Punto'!Y788109","v":0}]
[null,{"$f":"'Patrones Punto a Punto'!Y788624","v":0}]
[null,{"$f":"'Patrones Punto a Punto'!Y788845","v":0}]
[null,{"$f":"'Patrones Punto a Punto'!Y789589","v":0}]
[null,{"$f":"'Patrones Punto a Punto'!Y790104","v":0}]
[null,{"$f":"'Patrones Punto a Punto'!Y790325","v":0}]
[null,{"$f":"'Patrones Punto a Punto'!Y790840","v":0}]
[null,{"$f":"'Patrones Punto a Punto'!Y791584","v":0}]
[null,{"$f":"'Patrones Punto a Punto'!Y791805","v":0}]
[null,{"$f":"'Patrones Punto a Punto'!Y792320","v":0}]
[null,{"$f":"'Patrones Punto a Punto'!Y793064","v":0}]
[null,{"$f":"'Patrones Punto a Punto'!Y793808","v":0}]
[null,{"$f":"'Patrones Punto a Punto'!Y794323","v":0}]
[null,{"$f":"'Patrones Punto a Punto'!Y794544","v":0}]
[null,{"$f":"'Patrones Punto a Punto'!Y795059","v":0}]
[null,{"$f":"'Patrones Punto a Punto'!Y795803","v":0}]
[null,{"$f":"'Patrones Punto a Punto'!Y796024","v":0}]
[null,{"$f":"'Patrones Punto a Punto'!Y796539","v":0}]
[null,{"$f":"'Patrones Punto a Punto'!Y797283","v":0}]
[null,{"$f":"'Patrones Punto a Punto'!Y798027","v":0}]
[null,{"$f":"'Patrones Punto a Punto'!Y798542","v":0}]
[null,{"$f":"'Patrones Punto a Punto'!Y798763","v":0}]
[null,{"$f":"'Patrones Punto a Punto'!Y799278","v":0}]
[null,{"$f":"'Patrones Punto a Punto'!Y800022","v":0}]
[null,{"$f":"'Patrones Punto a Punto'!Y800473","v":0}]
[null,{"$f":"'Patrones Punto a Punto'!Y800759","v":0}]
[null,{"$f":"'Patrones Punto a Punto'!Y801503","v":0}]
[null,{"$f":"'Patrones Punto a Punto'!Y802018","v":0}]
[null,{"$f":"'Patrones Punto a Punto'!Y802762","v":0}]
[null,{"$f":"'Patrones Punto a Punto'!Y802983","v":0}]
[null,{"$f":"'Patrones Punto a Punto'!Y803498","v":0}]
[null,{"$f":"'Patrones Punto a Punto'!Y804242","v":0}]
[null,{"$f":"'Patrones Punto a Punto'!Y804463","v":0}]
[null,{"$f":"'Patrones Punto a Punto'!Y804978","v":0}]
[null,{"$f":"'Patrones Punto a Punto'!Y805722","v":0}]
[null,{"$f":"'Patrones Punto a Punto'!Y806237","v":0}]
[null,{"$f":"'Patrones Punto a Punto'!Y806458","v":0}]
[null,{"$f":"'Patrones Punto a Punto'!Y807202","v":0}]
[null,{"$f":"'Patrones Punto a Punto'!Y807717","v":0}]
[null,{"$f":"'Patrones Punto a Punto'!Y808461","v":0}]
[null,{"$f":"'Patrones Punto a Punto'!Y808682","v":0}]
[null,{"$f":"'Patrones Punto a Punto'!Y809197","v":0}]
[null,{"$f":"'Patrones Punto a Punto'!Y809941","v":0}]
[null,{"$f":"'Patrones Punto a Punto'!Y810456","v":0}]
[null,{"$f":"'Patrones Punto a Punto'!Y810677","v":0}]
[null,{"$f":"'Patrones Punto a Punto'!Y811421","v":0}]
[null,{"$f":"'Patrones Punto a Punto'!Y811936","v":0}]
[null,{"$f":"'Patrones Punto a Punto'!Y812680","v":0}]
[null,{"$f":"'Patrones Punto a Punto'!Y813195","v":0}]
[null,{"$f":"'Patrones Punto a Punto'!Y813416","v":0}]
[null,{"$f":"'Patrones Punto a Punto'!Y814102","v":0}]
[null,{"$f":"'Patrones Punto a Punto'!Y814676","v":0}]
[null,{"$f":"'Patrones Punto a Punto'!Y814897","v":0}]
[null,{"$f":"'Patrones Punto a Punto'!Y815641","v":0}]
[null,{"$f":"'Patrones Punto a Punto'!Y816156","v":0}]
[null,{"$f":"'Patrones Punto a Punto'!Y816377","v":0}]
[null,{"$f":"'Patrones Punto a Punto'!Y817415","v":0}]
[null,{"$f":"'Patrones Punto a Punto'!Y817636","v":0}]
[null,{"$f":"'Patrones Punto a Punto'!Y818380","v":0}]
[null,{"$f":"'Patrones Punto a Punto'!Y818895","v":0}]
[null,{"$f":"'Patrones Punto a Punto'!Y819116","v":0}]
[null,{"$f":"'Patrones Punto a Punto'!Y819631","v":0}]
[null,{"$f":"'Patrones Punto a Punto'!Y820375","v":0}]
[null,{"$f":"'Patrones Punto a Punto'!Y820596","v":0}]
[null,{"$f":"'Patrones Punto a Punto'!Y821111","v":0}]
[null,{"$f":"'Patrones Punto a Punto'!Y821855","v":0}]
[null,{"$f":"'Patrones Punto a Punto'!Y822599","v":0}]
[null,{"$f":"'Patrones Punto a Punto'!Y823114","v":0}]
[null,{"$f":"'Patrones Punto a Punto'!Y823335","v":0}]
[null,{"$f":"'Patrones Punto a Punto'!Y823850","v":0}]
[null,{"$f":"'Patrones Punto a Punto'!Y824594","v":0}]
[null,{"$f":"'Patrones Punto a Punto'!Y824815","v":0}]
[null,{"$f":"'Patrones Punto a Punto'!Y825330","v":0}]
[null,{"$f":"'Patrones Punto a Punto'!Y826074","v":0}]
[null,{"$f":"'Patrones Punto a Punto'!Y826818","v":0}]
[null,{"$f":"'Patrones Punto a Punto'!Y827333","v":0}]
[null,{"$f":"'Patrones Punto a Punto'!Y827731","v":0}]
[null,{"$f":"'Patrones Punto a Punto'!Y828070","v":0}]
[null,{"$f":"'Patrones Punto a Punto'!Y828814","v":0}]
[null,{"$f":"'Patrones Punto a Punto'!Y829035","v":0}]
[null,{"$f":"'Patrones Punto a Punto'!Y829550","v":0}]
[null,{"$f":"'Patrones Punto a Punto'!Y830294","v":0}]
[null,{"$f":"'Patrones Punto a Punto'!Y830809","v":0}]
[null,{"$f":"'Patrones Punto a Punto'!Y831030","v":0}]
[null,{"$f":"'Patrones Punto a Punto'!Y831774","v":0}]
[null,{"$f":"'Patrones Punto a Punto'!Y832289","v":0}]
[null,{"$f":"'Patrones Punto a Punto'!Y833033","v":0}]
[null,{"$f":"'Patrones Punto a Punto'!Y833254","v":0}]
[null,{"$f":"'Patrones Punto a Punto'!Y833769","v":0}]
[null,{"$f":"'Patrones Punto a Punto'!Y834513","v":0}]
[null,{"$f":"'Patrones Punto a Punto'!Y835028","v":0}]
[null,{"$f":"'Patrones Punto a Punto'!Y835249","v":0}]
[null,{"$f":"'Patrones Punto a Punto'!Y835993","v":0}]
[null,{"$f":"'Patrones Punto a Punto'!Y836508","v":0}]
[null,{"$f":"'Patrones Punto a Punto'!Y837252","v":0}]
[null,{"$f":"'Patrones Punto a Punto'!Y837473","v":0}]
[null,{"$f":"'Patrones Punto a Punto'!Y837988","v":0}]
[null,{"$f":"'Patrones Punto a Punto'!Y838732","v":0}]
[null,{"$f":"'Patrones Punto a Punto'!Y839247","v":0}]
[null,{"$f":"'Patrones Punto a Punto'!Y839468","v":0}]
[null,{"$f":"'Patrones Punto a Punto'!Y840212","v":0}]
[null,{"$f":"'Patrones Punto a Punto'!Y840727","v":0}]
[null,{"$f":"'Patrones Punto a Punto'!Y841471","v":0}]
[null,{"$f":"'Patrones Punto a Punto'!Y841936","v":0}]
[null,{"$f":"'Patrones Punto a Punto'!Y842208","v":0}]
[null,{"$f":"'Patrones Punto a Punto'!Y842952","v":0}]
[null,{"$f":"'Patrones Punto a Punto'!Y843467","v":0}]
[null,{"$f":"'Patrones Punto a Punto'!Y843688","v":0}]
[null,{"$f":"'Patrones Punto a Punto'!Y844432","v":0}]
[null,{"$f":"'Patrones Punto a Punto'!Y844947","v":0}]
[null,{"$f":"'Patrones Punto a Punto'!Y845168","v":0}]
[null,{"$f":"'Patrones Punto a Punto'!Y845683","v":0}]
[null,{"$f":"'Patrones Punto a Punto'!Y846427","v":0}]
[null,{"$f":"'Patrones Punto a Punto'!Y847171","v":0}]
[null,{"$f":"'Patrones Punto a Punto'!Y847686","v":0}]
[null,{"$f":"'Patrones Punto a Punto'!Y847907","v":0}]
[null,{"$f":"'Patrones Punto a Punto'!Y848422","v":0}]
[null,{"$f":"'Patrones Punto a Punto'!Y849166","v":0}]
[null,{"$f":"'Patrones Punto a Punto'!Y849387","v":0}]
[null,{"$f":"'Patrones Punto a Punto'!Y849902","v":0}]
[null,{"$f":"'Patrones Punto a Punto'!Y850646","v":0}]
[null,{"$f":"'Patrones Punto a Punto'!Y851390","v":0}]
[null,{"$f":"'Patrones Punto a Punto'!Y851905","v":0}]
[null,{"$f":"'Patrones Punto a Punto'!Y852126","v":0}]
[null,{"$f":"'Patrones Punto a Punto'!Y852641","v":0}]
[null,{"$f":"'Patrones Punto a Punto'!Y853385","v":0}]
[null,{"$f":"'Patrones Punto a Punto'!Y853606","v":0}]
[null,{"$f":"'Patrones Punto a Punto'!Y854121","v":0}]
[null,{"$f":"'Patrones Punto a Punto'!Y854865","v":0}]
[null,{"$f":"'Patrones Punto a Punto'!Y855317","v":0}]
[null,{"$f":"'Patrones Punto a Punto'!Y855602","v":0}]
[null,{"$f":"'Patrones Punto a Punto'!Y856346","v":0}]
[null,{"$f":"'Patrones Punto a Punto'!Y856861","v":0}]
[null,{"$f":"'Patrones Punto a Punto'!Y857605","v":0}]
[null,{"$f":"'Patrones Punto a Punto'!Y857826","v":0}]
[null,{"$f":"'Patrones Punto a Punto'!Y858341","v":0}]
[null,{"$f":"'Patrones Punto a Punto'!Y859085","v":0}]
[null,{"$f":"'Patrones Punto a Punto'!Y859600","v":0}]
[null,{"$f":"'Patrones Punto a Punto'!Y859821","v":0}]
[null,{"$f":"'Patrones Punto a Punto'!Y860565","v":0}]
[null,{"$f":"'Patrones Punto a Punto'!Y861080","v":0}]
[null,{"$f":"'Patrones Punto a Punto'!Y861824","v":0}]
[null,{"$f":"'Patrones Punto a Punto'!Y862045","v":0}]
[null,{"$f":"'Patrones Punto a Punto'!Y862560","v":0}]
[null,{"$f":"'Patrones Punto a Punto'!Y863304","v":0}]
[null,{"$f":"'Patrones Punto a Punto'!Y863819","v":0}]
[null,{"$f":"'Patrones Punto a Punto'!Y864040","v":0}]
[null,{"$f":"'Patrones Punto a Punto'!Y864784","v":0}]
[null,{"$f":"'Patrones Punto a Punto'!Y865299","v":0}]
[null,{"$f":"'Patrones Punto a Punto'!Y866043","v":0}]
[null,{"$f":"'Patrones Punto a Punto'!Y866558","v":0}]
[null,{"$f":"'Patrones Punto a Punto'!Y866779","v":0}]
[null,{"$f":"'Patrones Punto a Punto'!Y867523","v":0}]
[null,{"$f":"'Patrones Punto a Punto'!Y868038","v":0}]
[null,{"$f":"'Patrones Punto a Punto'!Y868259","v":0}]
[null,{"$f":"'Patrones Punto a Punto'!Y868946","v":0}]
[null,{"$f":"'Patrones Punto a Punto'!Y869519","v":0}]
[null,{"$f":"'Patrones Punto a Punto'!Y869740","v":0}]
[null,{"$f":"'Patrones Punto a Punto'!Y870255","v":0}]
[null,{"$f":"'Patrones Punto a Punto'!Y870999","v":0}]
[null,{"$f":"'Patrones Punto a Punto'!Y871743","v":0}]
[null,{"$f":"'Patrones Punto a Punto'!Y872258","v":0}]
[null,{"$f":"'Patrones Punto a Punto'!Y872479","v":0}]
[null,{"$f":"'Patrones Punto a Punto'!Y873223","v":0}]
[null,{"$f":"'Patrones Punto a Punto'!Y873738","v":0}]
[null,{"$f":"'Patrones Punto a Punto'!Y873959","v":0}]
[null,{"$f":"'Patrones Punto a Punto'!Y874474","v":0}]
[null,{"$f":"'Patrones Punto a Punto'!Y875218","v":0}]
[null,{"$f":"'Patrones Punto a Punto'!Y875962","v":0}]
[null,{"$f":"'Patrones Punto a Punto'!Y876477","v":0}]
[null,{"$f":"'Patrones Punto a Punto'!Y876698","v":0}]
[null,{"$f":"'Patrones Punto a Punto'!Y877213","v":0}]
[null,{"$f":"'Patrones Punto a Punto'!Y877957","v":0}]
[null,{"$f":"'Patrones Punto a Punto'!Y878178","v":0}]
[null,{"$f":"'Patrones Punto a Punto'!Y878693","v":0}]
[null,{"$f":"'Patrones Punto a Punto'!Y879437","v":0}]
[null,{"$f":"'Patrones Punto a Punto'!Y880181","v":0}]
[null,{"$f":"'Patrones Punto a Punto'!Y880696","v":0}]
[null,{"$f":"'Patrones Punto a Punto'!Y880917","v":0}]
[null,{"$f":"'Patrones Punto a Punto'!Y881432","v":0}]
[null,{"$f":"'Patrones Punto a Punto'!Y882176","v":0}]
[null,{"$f":"'Patrones Punto a Punto'!Y882397","v":0}]
[null,{"$f":"'Patrones Punto a Punto'!Y883151","v":0}]
[null,{"$f":"'Patrones Punto a Punto'!Y883657","v":0}]
[null,{"$f":"'Patrones Punto a Punto'!Y883878","v":0}]
[null,{"$f":"'Patrones Punto a Punto'!Y884393","v":0}]
[null,{"$f":"'Patrones Punto a Punto'!Y885137","v":0}]
[null,{"$f":"'Patrones Punto a Punto'!Y885652","v":0}]
[null,{"$f":"'Patrones Punto a Punto'!Y886396","v":0}]
[null,{"$f":"'Patrones Punto a Punto'!Y886617","v":0}]
[null,{"$f":"'Patrones Punto a Punto'!Y887132","v":0}]
[null,{"$f":"'Patrones Punto a Punto'!Y887876","v":0}]
[null,{"$f":"'Patrones Punto a Punto'!Y888391","v":0}]
[null,{"$f":"'Patrones Punto a Punto'!Y888612","v":0}]
[null,{"$f":"'Patrones Punto a Punto'!Y889356","v":0}]
[null,{"$f":"'Patrones Punto a Punto'!Y889871","v":0}]
[null,{"$f":"'Patrones Punto a Punto'!Y890615","v":0}]
[null,{"$f":"'Patrones Punto a Punto'!Y890836","v":0}]
[null,{"$f":"'Patrones Punto a Punto'!Y891351","v":0}]
[null,{"$f":"'Patrones Punto a Punto'!Y892095","v":0}]
[null,{"$f":"'Patrones Punto a Punto'!Y892610","v":0}]
[null,{"$f":"'Patrones Punto a Punto'!Y892831","v":0}]
[null,{"$f":"'Patrones Punto a Punto'!Y893575","v":0}]
[null,{"$f":"'Patrones Punto a Punto'!Y894090","v":0}]
[null,{"$f":"'Patrones Punto a Punto'!Y894311","v":0}]
[null,{"$f":"'Patrones Punto a Punto'!Y895349","v":0}]
[null,{"$f":"'Patrones Punto a Punto'!Y895570","v":0}]
[null,{"$f":"'Patrones Punto a Punto'!Y896314","v":0}]
[null,{"$f":"'Patrones Punto a Punto'!Y896780","v":0}]
[null,{"$f":"'Patrones Punto a Punto'!Y897051","v":0}]
[null,{"$f":"'Patrones Punto a Punto'!Y897795","v":0}]
[null,{"$f":"'Patrones Punto a Punto'!Y898310","v":0}]
[null,{"$f":"'Patrones Punto a Punto'!Y898531","v":0}]
[null,{"$f":"'Patrones Punto a Punto'!Y899046","v":0}]
[null,{"$f":"'Patrones Punto a Punto'!Y899790","v":0}]
[null,{"$f":"'Patrones Punto a Punto'!Y900534","v":0}]
[null,{"$f":"'Patrones Punto a Punto'!Y901049","v":0}]
[null,{"$f":"'Patrones Punto a Punto'!Y901270","v":0}]
[null,{"$f":"'Patrones Punto a Punto'!Y902014","v":0}]
[null,{"$f":"'Patrones Punto a Punto'!Y902529","v":0}]
[null,{"$f":"'Patrones Punto a Punto'!Y902750","v":0}]
[null,{"$f":"'Patrones Punto a Punto'!Y903265","v":0}]
[null,{"$f":"'Patrones Punto a Punto'!Y904009","v":0}]
[null,{"$f":"'Patrones Punto a Punto'!Y904753","v":0}]
[null,{"$f":"'Patrones Punto a Punto'!Y905268","v":0}]
[null,{"$f":"'Patrones Punto a Punto'!Y905489","v":0}]
[null,{"$f":"'Patrones Punto a Punto'!Y906004","v":0}]
[null,{"$f":"'Patrones Punto a Punto'!Y906748","v":0}]
[null,{"$f":"'Patrones Punto a Punto'!Y906969","v":0}]
[null,{"$f":"'Patrones Punto a Punto'!Y907484","v":0}]
[null,{"$f":"'Patrones Punto a Punto'!Y908228","v":0}]
[null,{"$f":"'Patrones Punto a Punto'!Y908449","v":0}]
[null,{"$f":"'Patrones Punto a Punto'!Y908964","v":0}]
[null,{"$f":"'Patrones Punto a Punto'!Y909708","v":0}]
[null,{"$f":"'Patrones Punto a Punto'!Y910409","v":0}]
[null,{"$f":"'Patrones Punto a Punto'!Y910968","v":0}]
[null,{"$f":"'Patrones Punto a Punto'!Y911189","v":0}]
[null,{"$f":"'Patrones Punto a Punto'!Y911704","v":0}]
[null,{"$f":"'Patrones Punto a Punto'!Y912448","v":0}]
[null,{"$f":"'Patrones Punto a Punto'!Y912963","v":0}]
[null,{"$f":"'Patrones Punto a Punto'!Y913184","v":0}]
[null,{"$f":"'Patrones Punto a Punto'!Y913928","v":0}]
[null,{"$f":"'Patrones Punto a Punto'!Y914443","v":0}]
[null,{"$f":"'Patrones Punto a Punto'!Y915187","v":0}]
[null,{"$f":"'Patrones Punto a Punto'!Y915408","v":0}]
[null,{"$f":"'Patrones Punto a Punto'!Y915923","v":0}]
[null,{"$f":"'Patrones Punto a Punto'!Y916667","v":0}]
[null,{"$f":"'Patrones Punto a Punto'!Y917182","v":0}]
[null,{"$f":"'Patrones Punto a Punto'!Y917403","v":0}]
[null,{"$f":"'Patrones Punto a Punto'!Y918147","v":0}]
[null,{"$f":"'Patrones Punto a Punto'!Y918662","v":0}]
[null,{"$f":"'Patrones Punto a Punto'!Y919406","v":0}]
[null,{"$f":"'Patrones Punto a Punto'!Y919627","v":0}]
[null,{"$f":"'Patrones Punto a Punto'!Y920142","v":0}]
[null,{"$f":"'Patrones Punto a Punto'!Y920886","v":0}]
[null,{"$f":"'Patrones Punto a Punto'!Y921401","v":0}]
[null,{"$f":"'Patrones Punto a Punto'!Y921622","v":0}]
[null,{"$f":"'Patrones Punto a Punto'!Y922366","v":0}]
[null,{"$f":"'Patrones Punto a Punto'!Y922881","v":0}]
[null,{"$f":"'Patrones Punto a Punto'!Y923102","v":0}]
[null,{"$f":"'Patrones Punto a Punto'!Y923617","v":0}]
[null,{"$f":"'Patrones Punto a Punto'!Y924366","v":0}]
[null,{"$f":"'Patrones Punto a Punto'!Y925106","v":0}]
[null,{"$f":"'Patrones Punto a Punto'!Y925621","v":0}]
[null,{"$f":"'Patrones Punto a Punto'!Y925842","v":0}]
[null,{"$f":"'Patrones Punto a Punto'!Y926586","v":0}]
[null,{"$f":"'Patrones Punto a Punto'!Y927101","v":0}]
[null,{"$f":"'Patrones Punto a Punto'!Y927322","v":0}]
[null,{"$f":"'Patrones Punto a Punto'!Y927837","v":0}]
[null,{"$f":"'Patrones Punto a Punto'!Y928581","v":0}]
[null,{"$f":"'Patrones Punto a Punto'!Y929325","v":0}]
[null,{"$f":"'Patrones Punto a Punto'!Y929840","v":0}]
[null,{"$f":"'Patrones Punto a Punto'!Y930061","v":0}]
[null,{"$f":"'Patrones Punto a Punto'!Y930805","v":0}]
[null,{"$f":"'Patrones Punto a Punto'!Y931320","v":0}]
[null,{"$f":"'Patrones Punto a Punto'!Y931541","v":0}]
[null,{"$f":"'Patrones Punto a Punto'!Y932056","v":0}]
[null,{"$f":"'Patrones Punto a Punto'!Y932800","v":0}]
[null,{"$f":"'Patrones Punto a Punto'!Y933021","v":0}]
[null,{"$f":"'Patrones Punto a Punto'!Y933536","v":0}]
[null,{"$f":"'Patrones Punto a Punto'!Y934280","v":0}]
[null,{"$f":"'Patrones Punto a Punto'!Y934795","v":0}]
[null,{"$f":"'Patrones Punto a Punto'!Y935539","v":0}]
[null,{"$f":"'Patrones Punto a Punto'!Y935760","v":0}]
[null,{"$f":"'Patrones Punto a Punto'!Y936275","v":0}]
[null,{"$f":"'Patrones Punto a Punto'!Y937019","v":0}]
[null,{"$f":"'Patrones Punto a Punto'!Y937240","v":0}]
[null,{"$f":"'Patrones Punto a Punto'!Y937995","v":0}]
[null,{"$f":"'Patrones Punto a Punto'!Y938500","v":0}]
[null,{"$f":"'Patrones Punto a Punto'!Y939015","v":0}]
[null,{"$f":"'Patrones Punto a Punto'!Y939759","v":0}]
[null,{"$f":"'Patrones Punto a Punto'!Y939980","v":0}]
[null,{"$f":"'Patrones Punto a Punto'!Y940495","v":0}]
[null,{"$f":"'Patrones Punto a Punto'!Y941239","v":0}]
[null,{"$f":"'Patrones Punto a Punto'!Y941754","v":0}]
[null,{"$f":"'Patrones Punto a Punto'!Y941975","v":0}]
[null,{"$f":"'Patrones Punto a Punto'!Y942719","v":0}]
[null,{"$f":"'Patrones Punto a Punto'!Y943234","v":0}]
[null,{"$f":"'Patrones Punto a Punto'!Y943978","v":0}]
[null,{"$f":"'Patrones Punto a Punto'!Y944199","v":0}]
[null,{"$f":"'Patrones Punto a Punto'!Y944714","v":0}]
[null,{"$f":"'Patrones Punto a Punto'!Y945458","v":0}]
[null,{"$f":"'Patrones Punto a Punto'!Y945973","v":0}]
[null,{"$f":"'Patrones Punto a Punto'!Y946194","v":0}]
[null,{"$f":"'Patrones Punto a Punto'!Y946938","v":0}]
[null,{"$f":"'Patrones Punto a Punto'!Y947453","v":0}]
[null,{"$f":"'Patrones Punto a Punto'!Y947674","v":0}]
[null,{"$f":"'Patrones Punto a Punto'!Y948418","v":0}]
[null,{"$f":"'Patrones Punto a Punto'!Y948933","v":0}]
[null,{"$f":"'Patrones Punto a Punto'!Y949677","v":0}]
[null,{"$f":"'Patrones Punto a Punto'!Y950192","v":0}]
[null,{"$f":"'Patrones Punto a Punto'!Y950413","v":0}]
[null,{"$f":"'Patrones Punto a Punto'!Y951157","v":0}]
[null,{"$f":"'Patrones Punto a Punto'!Y951624","v":0}]
[null,{"$f":"'Patrones Punto a Punto'!Y951894","v":0}]
[null,{"$f":"'Patrones Punto a Punto'!Y952409","v":0}]
[null,{"$f":"'Patrones Punto a Punto'!Y953153","v":0}]
[null,{"$f":"'Patrones Punto a Punto'!Y953897","v":0}]
[null,{"$f":"'Patrones Punto a Punto'!Y954412","v":0}]
[null,{"$f":"'Patrones Punto a Punto'!Y954633","v":0}]
[null,{"$f":"'Patrones Punto a Punto'!Y955377","v":0}]
[null,{"$f":"'Patrones Punto a Punto'!Y955892","v":0}]
[null,{"$f":"'Patrones Punto a Punto'!Y956113","v":0}]
[null,{"$f":"'Patrones Punto a Punto'!Y956628","v":0}]
[null,{"$f":"'Patrones Punto a Punto'!Y957372","v":0}]
[null,{"$f":"'Patrones Punto a Punto'!Y957593","v":0}]
[null,{"$f":"'Patrones Punto a Punto'!Y958631","v":0}]
[null,{"$f":"'Patrones Punto a Punto'!Y958852","v":0}]
[null,{"$f":"'Patrones Punto a Punto'!Y959596","v":0}]
[null,{"$f":"'Patrones Punto a Punto'!Y960111","v":0}]
[null,{"$f":"'Patrones Punto a Punto'!Y960332","v":0}]
[null,{"$f":"'Patrones Punto a Punto'!Y960847","v":0}]
[null,{"$f":"'Patrones Punto a Punto'!Y961591","v":0}]
[null,{"$f":"'Patrones Punto a Punto'!Y961812","v":0}]
[null,{"$f":"'Patrones Punto a Punto'!Y962327","v":0}]
[null,{"$f":"'Patrones Punto a Punto'!Y963071","v":0}]
[null,{"$f":"'Patrones Punto a Punto'!Y963586","v":0}]
[null,{"$f":"'Patrones Punto a Punto'!Y964330","v":0}]
[null,{"$f":"'Patrones Punto a Punto'!Y964551","v":0}]
[null,{"$f":"'Patrones Punto a Punto'!Y965066","v":0}]
[null,{"$f":"'Patrones Punto a Punto'!Y965581","v":0}]
[null,{"$f":"'Patrones Punto a Punto'!Y966032","v":0}]
[null,{"$f":"'Patrones Punto a Punto'!Y966547","v":0}]
[null,{"$f":"'Patrones Punto a Punto'!Y967291","v":0}]
[null,{"$f":"'Patrones Punto a Punto'!Y967806","v":0}]
[null,{"$f":"'Patrones Punto a Punto'!Y968550","v":0}]
[null,{"$f":"'Patrones Punto a Punto'!Y968771","v":0}]
[null,{"$f":"'Patrones Punto a Punto'!Y969286","v":0}]
[null,{"$f":"'Patrones Punto a Punto'!Y970030","v":0}]
[null,{"$f":"'Patrones Punto a Punto'!Y970545","v":0}]
[null,{"$f":"'Patrones Punto a Punto'!Y970766","v":0}]
[null,{"$f":"'Patrones Punto a Punto'!Y971510","v":0}]
[null,{"$f":"'Patrones Punto a Punto'!Y972025","v":0}]
[null,{"$f":"'Patrones Punto a Punto'!Y972246","v":0}]
[null,{"$f":"'Patrones Punto a Punto'!Y972990","v":0}]
[null,{"$f":"'Patrones Punto a Punto'!Y973505","v":0}]
[null,{"$f":"'Patrones Punto a Punto'!Y974249","v":0}]
[null,{"$f":"'Patrones Punto a Punto'!Y974764","v":0}]
[null,{"$f":"'Patrones Punto a Punto'!Y974985","v":0}]
[null,{"$f":"'Patrones Punto a Punto'!Y975729","v":0}]
[null,{"$f":"'Patrones Punto a Punto'!Y976244","v":0}]
[null,{"$f":"'Patrones Punto a Punto'!Y976465","v":0}]
[null,{"$f":"'Patrones Punto a Punto'!Y977209","v":0}]
[null,{"$f":"'Patrones Punto a Punto'!Y977724","v":0}]
[null,{"$f":"'Patrones Punto a Punto'!Y978468","v":0}]
[null,{"$f":"'Patrones Punto a Punto'!Y978983","v":0}]
[null,{"$f":"'Patrones Punto a Punto'!Y979210","v":0}]
[null,{"$f":"'Patrones Punto a Punto'!Y979949","v":0}]
[null,{"$f":"'Patrones Punto a Punto'!Y980464","v":0}]
[null,{"$f":"'Patrones Punto a Punto'!Y980685","v":0}]
[null,{"$f":"'Patrones Punto a Punto'!Y981200","v":0}]
[null,{"$f":"'Patrones Punto a Punto'!Y981944","v":0}]
[null,{"$f":"'Patrones Punto a Punto'!Y982688","v":0}]
[null,{"$f":"'Patrones Punto a Punto'!Y983203","v":0}]
[null,{"$f":"'Patrones Punto a Punto'!Y983424","v":0}]
[null,{"$f":"'Patrones Punto a Punto'!Y984168","v":0}]
[null,{"$f":"'Patrones Punto a Punto'!Y984683","v":0}]
[null,{"$f":"'Patrones Punto a Punto'!Y984904","v":0}]
[null,{"$f":"'Patrones Punto a Punto'!Y985419","v":0}]
[null,{"$f":"'Patrones Punto a Punto'!Y986163","v":0}]
[null,{"$f":"'Patrones Punto a Punto'!Y986384","v":0}]
[null,{"$f":"'Patrones Punto a Punto'!Y986899","v":0}]
[null,{"$f":"'Patrones Punto a Punto'!Y987643","v":0}]
[null,{"$f":"'Patrones Punto a Punto'!Y988158","v":0}]
[null,{"$f":"'Patrones Punto a Punto'!Y988902","v":0}]
[null,{"$f":"'Patrones Punto a Punto'!Y989123","v":0}]
[null,{"$f":"'Patrones Punto a Punto'!Y989638","v":0}]
[null,{"$f":"'Patrones Punto a Punto'!Y990382","v":0}]
[null,{"$f":"'Patrones Punto a Punto'!Y990603","v":0}]
[null,{"$f":"'Patrones Punto a Punto'!Y991118","v":0}]
[null,{"$f":"'Patrones Punto a Punto'!Y991862","v":0}]
[null,{"$f":"'Patrones Punto a Punto'!Y992377","v":0}]
[null,{"$f":"'Patrones Punto a Punto'!Y992839","v":0}]
[null,{"$f":"'Patrones Punto a Punto'!Y993343","v":0}]
[null,{"$f":"'Patrones Punto a Punto'!Y993858","v":0}]
[null,{"$f":"'Patrones Punto a Punto'!Y994602","v":0}]
[null,{"$f":"'Patrones Punto a Punto'!Y994823","v":0}]
[null,{"$f":"'Patrones Punto a Punto'!Y995338","v":0}]
[null,{"$f":"'Patrones Punto a Punto'!Y996082","v":0}]
[null,{"$f":"'Patrones Punto a Punto'!Y996597","v":0}]
[null,{"$f":"'Patrones Punto a Punto'!Y997341","v":0}]
[null,{"$f":"'Patrones Punto a Punto'!Y997562","v":0}]
[null,{"$f":"'Patrones Punto a Punto'!Y998077","v":0}]
[null,{"$f":"'Patrones Punto a Punto'!Y998821","v":0}]
[null,{"$f":"'Patrones Punto a Punto'!Y999336","v":0}]
[null,{"$f":"'Patrones Punto a Punto'!Y999557","v":0}]
[null,{"$f":"'Patrones Punto a Punto'!Y1000301","v":0}]
[null,{"$f":"'Patrones Punto a Punto'!Y1000816","v":0}]
[null,{"$f":"'Patrones Punto a Punto'!Y1001037","v":0}]
[null,{"$f":"'Patrones Punto a Punto'!Y1001781","v":0}]
[null,{"$f":"'Patrones Punto a Punto'!Y1002296","v":0}]
[null,{"$f":"'Patrones Punto a Punto'!Y1003040","v":0}]
[null,{"$f":"'Patrones Punto a Punto'!Y1003555","v":0}]
[null,{"$f":"'Patrones Punto a Punto'!Y1003776","v":0}]
[null,{"$f":"'Patrones Punto a Punto'!Y1004520","v":0}]
[null,{"$f":"'Patrones Punto a Punto'!Y1005035","v":0}]
[null,{"$f":"'Patrones Punto a Punto'!Y1005256","v":0}]
[null,{"$f":"'Patrones Punto a Punto'!Y1006000","v":0}]
[null,{"$f":"'Patrones Punto a Punto'!Y1006515","v":0}]
[null,{"$f":"'Patrones Punto a Punto'!Y1006796","v":0}]
[null,{"$f":"'Patrones Punto a Punto'!Y1007775","v":0}]
[null,{"$f":"'Patrones Punto a Punto'!Y1007996","v":0}]
[null,{"$f":"'Patrones Punto a Punto'!Y1008740","v":0}]
[null,{"$f":"'Patrones Punto a Punto'!Y1009255","v":0}]
[null,{"$f":"'Patrones Punto a Punto'!Y1009476","v":0}]
[null,{"$f":"'Patrones Punto a Punto'!Y1009991","v":0}]
[null,{"$f":"'Patrones Punto a Punto'!Y1010735","v":0}]
[null,{"$f":"'Patrones Punto a Punto'!Y1010956","v":0}]
[null,{"$f":"'Patrones Punto a Punto'!Y1011471","v":0}]
[null,{"$f":"'Patrones Punto a Punto'!Y1012215","v":0}]
[null,{"$f":"'Patrones Punto a Punto'!Y1012959","v":0}]
[null,{"$f":"'Patrones Punto a Punto'!Y1013474","v":0}]
[null,{"$f":"'Patrones Punto a Punto'!Y1013695","v":0}]
[null,{"$f":"'Patrones Punto a Punto'!Y1014210","v":0}]
[null,{"$f":"'Patrones Punto a Punto'!Y1014954","v":0}]
[null,{"$f":"'Patrones Punto a Punto'!Y1015175","v":0}]
[null,{"$f":"'Patrones Punto a Punto'!Y1015690","v":0}]
[null,{"$f":"'Patrones Punto a Punto'!Y1016434","v":0}]
[null,{"$f":"'Patrones Punto a Punto'!Y1016949","v":0}]
[null,{"$f":"'Patrones Punto a Punto'!Y1017693","v":0}]
[null,{"$f":"'Patrones Punto a Punto'!Y1017914","v":0}]
[null,{"$f":"'Patrones Punto a Punto'!Y1018429","v":0}]
[null,{"$f":"'Patrones Punto a Punto'!Y1019173","v":0}]
[null,{"$f":"'Patrones Punto a Punto'!Y1019394","v":0}]
[null,{"$f":"'Patrones Punto a Punto'!Y1019909","v":0}]
[null,{"$f":"'Patrones Punto a Punto'!Y1020425","v":0}]
[null,{"$f":"'Patrones Punto a Punto'!Y1021169","v":0}]
[null,{"$f":"'Patrones Punto a Punto'!Y1021913","v":0}]
[null,{"$f":"'Patrones Punto a Punto'!Y1022134","v":0}]
[null,{"$f":"'Patrones Punto a Punto'!Y1022649","v":0}]
[null,{"$f":"'Patrones Punto a Punto'!Y1023393","v":0}]
[null,{"$f":"'Patrones Punto a Punto'!Y1023614","v":0}]
[null,{"$f":"'Patrones Punto a Punto'!Y1024129","v":0}]
[null,{"$f":"'Patrones Punto a Punto'!Y1024873","v":0}]
[null,{"$f":"'Patrones Punto a Punto'!Y1025388","v":0}]
[null,{"$f":"'Patrones Punto a Punto'!Y1025609","v":0}]
[null,{"$f":"'Patrones Punto a Punto'!Y1026353","v":0}]
[null,{"$f":"'Patrones Punto a Punto'!Y1026868","v":0}]
[null,{"$f":"'Patrones Punto a Punto'!Y1027612","v":0}]
[null,{"$f":"'Patrones Punto a Punto'!Y1028127","v":0}]
[null,{"$f":"'Patrones Punto a Punto'!Y1028348","v":0}]
[null,{"$f":"'Patrones Punto a Punto'!Y1029092","v":0}]
[null,{"$f":"'Patrones Punto a Punto'!Y1029607","v":0}]
[null,{"$f":"'Patrones Punto a Punto'!Y1029828","v":0}]
[null,{"$f":"'Patrones Punto a Punto'!Y1030572","v":0}]
[null,{"$f":"'Patrones Punto a Punto'!Y1031087","v":0}]
[null,{"$f":"'Patrones Punto a Punto'!Y1031831","v":0}]
[null,{"$f":"'Patrones Punto a Punto'!Y1032346","v":0}]
[null,{"$f":"'Patrones Punto a Punto'!Y1032567","v":0}]
[null,{"$f":"'Patrones Punto a Punto'!Y1033311","v":0}]
[null,{"$f":"'Patrones Punto a Punto'!Y1033826","v":0}]
[null,{"$f":"'Patrones Punto a Punto'!Y1034054","v":0}]
[null,{"$f":"'Patrones Punto a Punto'!Y1034563","v":0}]
[null,{"$f":"'Patrones Punto a Punto'!Y1035307","v":0}]
[null,{"$f":"'Patrones Punto a Punto'!Y1035528","v":0}]
[null,{"$f":"'Patrones Punto a Punto'!Y1036566","v":0}]
[null,{"$f":"'Patrones Punto a Punto'!Y1036787","v":0}]
[null,{"$f":"'Patrones Punto a Punto'!Y1037531","v":0}]
[null,{"$f":"'Patrones Punto a Punto'!Y1038046","v":0}]
[null,{"$f":"'Patrones Punto a Punto'!Y1038267","v":0}]
[null,{"$f":"'Patrones Punto a Punto'!Y1038782","v":0}]
[null,{"$f":"'Patrones Punto a Punto'!Y1039526","v":0}]
[null,{"$f":"'Patrones Punto a Punto'!Y1039747","v":0}]
[null,{"$f":"'Patrones Punto a Punto'!Y1040262","v":0}]
[null,{"$f":"'Patrones Punto a Punto'!Y1041006","v":0}]
[null,{"$f":"'Patrones Punto a Punto'!Y1041750","v":0}]
[null,{"$f":"'Patrones Punto a Punto'!Y1042265","v":0}]
[null,{"$f":"'Patrones Punto a Punto'!Y1042486","v":0}]
[null,{"$f":"'Patrones Punto a Punto'!Y1043001","v":0}]
[null,{"$f":"'Patrones Punto a Punto'!Y1043745","v":0}]
[null,{"$f":"'Patrones Punto a Punto'!Y1043966","v":0}]
[null,{"$f":"'Patrones Punto a Punto'!Y1044481","v":0}]
[null,{"$f":"'Patrones Punto a Punto'!Y1045225","v":0}]
[null,{"$f":"'Patrones Punto a Punto'!Y1045740","v":0}]
[null,{"$f":"'Patrones Punto a Punto'!Y1046484","v":0}]
[null,{"$f":"'Patrones Punto a Punto'!Y1046705","v":0}]
[null,{"$f":"'Patrones Punto a Punto'!Y1047220","v":0}]
[null,{"$f":"'Patrones Punto a Punto'!Y1047683","v":0}]
[null,{"$f":"'Patrones Punto a Punto'!Y1048079","v":0}]
[null,{"$f":"'Patrones Punto a Punto'!Y1048080","v":0}]
[null,{"$f":"'Patrones Punto a Punto'!Y1048081","v":0}]
[null,{"$f":"'Patrones Punto a Punto'!Y1048082","v":0}]
[null,{"$f":"'Patrones Punto a Punto'!Y1048083","v":0}]
[null,{"$f":"'Patrones Punto a Punto'!Y1048084","v":0}]
[null,{"$f":"'Patrones Punto a Punto'!Y1048085","v":0}]
[null,{"$f":"'Patrones Punto a Punto'!Y1048086","v":0}]
[null,{"$f":"'Patrones Punto a Punto'!Y1048087","v":0}]
[null,{"$f":"'Patrones Punto a Punto'!Y1048088","v":0}]
[null,{"$f":"'Patrones Punto a Punto'!Y1048089","v":0}]
[null,{"$f":"'Patrones Punto a Punto'!Y1048090","v":0}]
[null,{"$f":"'Patrones Punto a Punto'!Y1048091","v":0}]
[null,{"$f":"'Patrones Punto a Punto'!Y1048092","v":0}]
[null,{"$f":"'Patrones Punto a Punto'!Y1048093","v":0}]
[null,{"$f":"'Patrones Punto a Punto'!Y1048094","v":0}]
[null,{"$f":"'Patrones Punto a Punto'!Y1048095","v":0}]
[null,{"$f":"'Patrones Punto a Punto'!Y1048096","v":0}]
[null,{"$f":"'Patrones Punto a Punto'!Y1048097","v":0}]
[null,{"$f":"'Patrones Punto a Punto'!Y1048098","v":0}]
[null,{"$f":"'Patrones Punto a Punto'!Y1048099","v":0}]
[null,{"$f":"'Patrones Punto a Punto'!Y1048100","v":0}]
[null,{"$f":"'Patrones Punto a Punto'!Y1048101","v":0}]
[null,{"$f":"'Patrones Punto a Punto'!Y1048102","v":0}]
[null,{"$f":"'Patrones Punto a Punto'!Y1048103","v":0}]
[null,{"$f":"'Patrones Punto a Punto'!Y1048104","v":0}]
[null,{"$f":"'Patrones Punto a Punto'!Y1048105","v":0}]
[null,{"$f":"'Patrones Punto a Punto'!Y1048106","v":0}]
[null,{"$f":"'Patrones Punto a Punto'!Y1048107","v":0}]
[null,{"$f":"'Patrones Punto a Punto'!Y1048108","v":0}]
[null,{"$f":"'Patrones Punto a Punto'!Y1048109","v":0}]
[null,{"$f":"'Patrones Punto a Punto'!Y1048110","v":0}]
[null,{"$f":"'Patrones Punto a Punto'!Y1048111","v":0}]
[null,{"$f":"'Patrones Punto a Punto'!Y1048112","v":0}]
[null,{"$f":"'Patrones Punto a Punto'!Y1048113","v":0}]
[null,{"$f":"'Patrones Punto a Punto'!Y1048114","v":0}]
[null,{"$f":"'Patrones Punto a Punto'!Y1048115","v":0}]
[null,{"$f":"'Patrones Punto a Punto'!Y1048116","v":0}]
[null,{"$f":"'Patrones Punto a Punto'!Y1048117","v":0}]
[null,{"$f":"'Patrones Punto a Punto'!Y1048118","v":0}]
[null,{"$f":"'Patrones Punto a Punto'!Y1048119","v":0}]
[null,{"$f":"'Patrones Punto a Punto'!Y1048120","v":0}]
[null,{"$f":"'Patrones Punto a Punto'!Y1048121","v":0}]
[null,{"$f":"'Patrones Punto a Punto'!Y1048122","v":0}]
[null,{"$f":"'Patrones Punto a Punto'!Y1048123","v":0}]
[null,{"$f":"'Patrones Punto a Punto'!Y1048124","v":0}]
[null,{"$f":"'Patrones Punto a Punto'!Y1048125","v":0}]
[null,{"$f":"'Patrones Punto a Punto'!Y1048126","v":0}]
[null,{"$f":"'Patrones Punto a Punto'!Y1048127","v":0}]
[null,{"$f":"'Patrones Punto a Punto'!Y1048128","v":0}]
[null,{"$f":"'Patrones Punto a Punto'!Y1048129","v":0}]
[null,{"$f":"'Patrones Punto a Punto'!Y1048130","v":0}]
[null,{"$f":"'Patrones Punto a Punto'!Y1048131","v":0}]
[null,{"$f":"'Patrones Punto a Punto'!Y1048132","v":0}]
[null,{"$f":"'Patrones Punto a Punto'!Y1048133","v":0}]
[null,{"$f":"'Patrones Punto a Punto'!Y1048134","v":0}]
[null,{"$f":"'Patrones Punto a Punto'!Y1048135","v":0}]
[null,{"$f":"'Patrones Punto a Punto'!Y1048136","v":0}]
[null,{"$f":"'Patrones Punto a Punto'!Y1048137","v":0}]
[null,{"$f":"'Patrones Punto a Punto'!Y1048138","v":0}]
[null,{"$f":"'Patrones Punto a Punto'!Y1048139","v":0}]
[null,{"$f":"'Patrones Punto a Punto'!Y1048140","v":0}]
[null,{"$f":"'Patrones Punto a Punto'!Y1048141","v":0}]
[null,{"$f":"'Patrones Punto a Punto'!Y1048142","v":0}]
[null,{"$f":"'Patrones Punto a Punto'!Y1048143","v":0}]
[null,{"$f":"'Patrones Punto a Punto'!Y1048144","v":0}]
[null,{"$f":"'Patrones Punto a Punto'!Y1048145","v":0}]
[null,{"$f":"'Patrones Punto a Punto'!Y1048146","v":0}]
[null,{"$f":"'Patrones Punto a Punto'!Y1048147","v":0}]
[null,{"$f":"'Patrones Punto a Punto'!Y1048148","v":0}]
[null,{"$f":"'Patrones Punto a Punto'!Y1048149","v":0}]
[null,{"$f":"'Patrones Punto a Punto'!Y1048150","v":0}]
[null,{"$f":"'Patrones Punto a Punto'!Y1048151","v":0}]
[null,{"$f":"'Patrones Punto a Punto'!Y1048152","v":0}]
[null,{"$f":"'Patrones Punto a Punto'!Y1048153","v":0}]
[null,{"$f":"'Patrones Punto a Punto'!Y1048154","v":0}]
[null,{"$f":"'Patrones Punto a Punto'!Y1048155","v":0}]
[null,{"$f":"'Patrones Punto a Punto'!Y1048156","v":0}]
[null,{"$f":"'Patrones Punto a Punto'!Y1048157","v":0}]
[null,{"$f":"'Patrones Punto a Punto'!Y1048158","v":0}]
[null,{"$f":"'Patrones Punto a Punto'!Y1048159","v":0}]
[null,{"$f":"'Patrones Punto a Punto'!Y1048160","v":0}]
[null,{"$f":"'Patrones Punto a Punto'!Y1048161","v":0}]
[null,{"$f":"'Patrones Punto a Punto'!Y1048162","v":0}]
[null,{"$f":"'Patrones Punto a Punto'!Y1048163","v":0}]
[null,{"$f":"'Patrones Punto a Punto'!Y1048164","v":0}]
[null,{"$f":"'Patrones Punto a Punto'!Y1048165","v":0}]
[null,{"$f":"'Patrones Punto a Punto'!Y1048166","v":0}]
[null,{"$f":"'Patrones Punto a Punto'!Y1048167","v":0}]
[null,{"$f":"'Patrones Punto a Punto'!Y1048168","v":0}]
[null,{"$f":"'Patrones Punto a Punto'!Y1048169","v":0}]
[null,{"$f":"'Patrones Punto a Punto'!Y1048170","v":0}]
[null,{"$f":"'Patrones Punto a Punto'!Y1048171","v":0}]
[null,{"$f":"'Patrones Punto a Punto'!Y1048172","v":0}]
[null,{"$f":"'Patrones Punto a Punto'!Y1048173","v":0}]
[null,{"$f":"'Patrones Punto a Punto'!Y1048174","v":0}]
[null,{"$f":"'Patrones Punto a Punto'!Y1048175","v":0}]
[null,{"$f":"'Patrones Punto a Punto'!Y1048176","v":0}]
[null,{"$f":"'Patrones Punto a Punto'!Y1048177","v":0}]
[null,{"$f":"'Patrones Punto a Punto'!Y1048178","v":0}]
[null,{"$f":"'Patrones Punto a Punto'!Y1048179","v":0}]
[null,{"$f":"'Patrones Punto a Punto'!Y1048180","v":0}]
[null,{"$f":"'Patrones Punto a Punto'!Y1048181","v":0}]
[null,{"$f":"'Patrones Punto a Punto'!Y1048182","v":0}]
[null,{"$f":"'Patrones Punto a Punto'!Y1048183","v":0}]
[null,{"$f":"'Patrones Punto a Punto'!Y1048184","v":0}]
[null,{"$f":"'Patrones Punto a Punto'!Y1048185","v":0}]
[null,{"$f":"'Patrones Punto a Punto'!Y1048186","v":0}]
[null,{"$f":"'Patrones Punto a Punto'!Y1048187","v":0}]
[null,{"$f":"'Patrones Punto a Punto'!Y1048188","v":0}]
[null,{"$f":"'Patrones Punto a Punto'!Y1048189","v":0}]
[null,{"$f":"'Patrones Punto a Punto'!Y1048190","v":0}]
[null,{"$f":"'Patrones Punto a Punto'!Y1048191","v":0}]
[null,{"$f":"'Patrones Punto a Punto'!Y1048192","v":0}]
[null,{"$f":"'Patrones Punto a Punto'!Y1048193","v":0}]
[null,{"$f":"'Patrones Punto a Punto'!Y1048194","v":0}]
[null,{"$f":"'Patrones Punto a Punto'!Y1048195","v":0}]
[null,{"$f":"'Patrones Punto a Punto'!Y1048196","v":0}]
[null,{"$f":"'Patrones Punto a Punto'!Y1048197","v":0}]
[null,{"$f":"'Patrones Punto a Punto'!Y1048198","v":0}]
[null,{"$f":"'Patrones Punto a Punto'!Y1048199","v":0}]
[null,{"$f":"'Patrones Punto a Punto'!Y1048200","v":0}]
[null,{"$f":"'Patrones Punto a Punto'!Y1048201","v":0}]
[null,{"$f":"'Patrones Punto a Punto'!Y1048202","v":0}]
[null,{"$f":"'Patrones Punto a Punto'!Y1048203","v":0}]
[null,{"$f":"'Patrones Punto a Punto'!Y1048204","v":0}]
[null,{"$f":"'Patrones Punto a Punto'!Y1048205","v":0}]
[null,{"$f":"'Patrones Punto a Punto'!Y1048206","v":0}]
[null,{"$f":"'Patrones Punto a Punto'!Y1048207","v":0}]
[null,{"$f":"'Patrones Punto a Punto'!Y1048208","v":0}]
[null,{"$f":"'Patrones Punto a Punto'!Y1048209","v":0}]
[null,{"$f":"'Patrones Punto a Punto'!Y1048210","v":0}]
[null,{"$f":"'Patrones Punto a Punto'!Y1048211","v":0}]
[null,{"$f":"'Patrones Punto a Punto'!Y1048212","v":0}]
[null,{"$f":"'Patrones Punto a Punto'!Y1048213","v":0}]
[null,{"$f":"'Patrones Punto a Punto'!Y1048214","v":0}]
[null,{"$f":"'Patrones Punto a Punto'!Y1048215","v":0}]
[null,{"$f":"'Patrones Punto a Punto'!Y1048216","v":0}]
[null,{"$f":"'Patrones Punto a Punto'!Y1048217","v":0}]
[null,{"$f":"'Patrones Punto a Punto'!Y1048218","v":0}]
[null,{"$f":"'Patrones Punto a Punto'!Y1048219","v":0}]
[null,{"$f":"'Patrones Punto a Punto'!Y1048220","v":0}]
[null,{"$f":"'Patrones Punto a Punto'!Y1048221","v":0}]
[null,{"$f":"'Patrones Punto a Punto'!Y1048222","v":0}]
[null,{"$f":"'Patrones Punto a Punto'!Y1048223","v":0}]
[null,{"$f":"'Patrones Punto a Punto'!Y1048224","v":0}]
[null,{"$f":"'Patrones Punto a Punto'!Y1048225","v":0}]
[null,{"$f":"'Patrones Punto a Punto'!Y1048226","v":0}]
[null,{"$f":"'Patrones Punto a Punto'!Y1048227","v":0}]
[null,{"$f":"'Patrones Punto a Punto'!Y1048228","v":0}]
[null,{"$f":"'Patrones Punto a Punto'!Y1048229","v":0}]
[null,{"$f":"'Patrones Punto a Punto'!Y1048230","v":0}]
[null,{"$f":"'Patrones Punto a Punto'!Y1048231","v":0}]
[null,{"$f":"'Patrones Punto a Punto'!Y1048232","v":0}]
[null,{"$f":"'Patrones Punto a Punto'!Y1048233","v":0}]
[null,{"$f":"'Patrones Punto a Punto'!Y1048234","v":0}]
[null,{"$f":"'Patrones Punto a Punto'!Y1048235","v":0}]
[null,{"$f":"'Patrones Punto a Punto'!Y1048236","v":0}]
[null,{"$f":"'Patrones Punto a Punto'!Y1048237","v":0}]
[null,{"$f":"'Patrones Punto a Punto'!Y1048238","v":0}]
[null,{"$f":"'Patrones Punto a Punto'!Y1048239","v":0}]
[null,{"$f":"'Patrones Punto a Punto'!Y1048240","v":0}]
[null,{"$f":"'Patrones Punto a Punto'!Y1048241","v":0}]
[null,{"$f":"'Patrones Punto a Punto'!Y1048242","v":0}]
[null,{"$f":"'Patrones Punto a Punto'!Y1048243","v":0}]
[null,{"$f":"'Patrones Punto a Punto'!Y1048244","v":0}]
[null,{"$f":"'Patrones Punto a Punto'!Y1048245","v":0}]
[null,{"$f":"'Patrones Punto a Punto'!Y1048246","v":0}]
[null,{"$f":"'Patrones Punto a Punto'!Y1048247","v":0}]
[null,{"$f":"'Patrones Punto a Punto'!Y1048248","v":0}]
[null,{"$f":"'Patrones Punto a Punto'!Y1048249","v":0}]
[null,{"$f":"'Patrones Punto a Punto'!Y1048250","v":0}]
[null,{"$f":"'Patrones Punto a Punto'!Y1048251","v":0}]
[null,{"$f":"'Patrones Punto a Punto'!Y1048252","v":0}]
[null,{"$f":"'Patrones Punto a Punto'!Y1048253","v":0}]
[null,{"$f":"'Patrones Punto a Punto'!Y1048254","v":0}]
[null,{"$f":"'Patrones Punto a Punto'!Y1048255","v":0}]
[null,{"$f":"'Patrones Punto a Punto'!Y1048256","v":0}]
[null,{"$f":"'Patrones Punto a Punto'!Y1048257","v":0}]
[null,{"$f":"'Patrones Punto a Punto'!Y1048258","v":0}]
[null,{"$f":"'Patrones Punto a Punto'!Y1048259","v":0}]
[null,{"$f":"'Patrones Punto a Punto'!Y1048260","v":0}]
[null,{"$f":"'Patrones Punto a Punto'!Y1048261","v":0}]
[null,{"$f":"'Patrones Punto a Punto'!Y1048262","v":0}]
[null,{"$f":"'Patrones Punto a Punto'!Y1048263","v":0}]
[null,{"$f":"'Patrones Punto a Punto'!Y1048264","v":0}]
[null,{"$f":"'Patrones Punto a Punto'!Y1048265","v":0}]
[null,{"$f":"'Patrones Punto a Punto'!Y1048266","v":0}]
[null,{"$f":"'Patrones Punto a Punto'!Y1048267","v":0}]
[null,{"$f":"'Patrones Punto a Punto'!Y1048268","v":0}]
[null,{"$f":"'Patrones Punto a Punto'!Y1048269","v":0}]
[null,{"$f":"'Patrones Punto a Punto'!Y1048270","v":0}]
[null,{"$f":"'Patrones Punto a Punto'!Y1048271","v":0}]
[null,{"$f":"'Patrones Punto a Punto'!Y1048272","v":0}]
[null,{"$f":"'Patrones Punto a Punto'!Y1048273","v":0}]
[null,{"$f":"'Patrones Punto a Punto'!Y1048274","v":0}]
[null,{"$f":"'Patrones Punto a Punto'!Y1048275","v":0}]
[null,{"$f":"'Patrones Punto a Punto'!Y1048276","v":0}]
[null,{"$f":"'Patrones Punto a Punto'!Y1048277","v":0}]
[null,{"$f":"'Patrones Punto a Punto'!Y1048278","v":0}]
[null,{"$f":"'Patrones Punto a Punto'!Y1048279","v":0}]
[null,{"$f":"'Patrones Punto a Punto'!Y1048280","v":0}]
[null,{"$f":"'Patrones Punto a Punto'!Y1048281","v":0}]
[null,{"$f":"'Patrones Punto a Punto'!Y1048282","v":0}]
[null,{"$f":"'Patrones Punto a Punto'!Y1048283","v":0}]
[null,{"$f":"'Patrones Punto a Punto'!Y1048284","v":0}]
[null,{"$f":"'Patrones Punto a Punto'!Y1048285","v":0}]
[null,{"$f":"'Patrones Punto a Punto'!Y1048286","v":0}]
[null,{"$f":"'Patrones Punto a Punto'!Y1048287","v":0}]
[null,{"$f":"'Patrones Punto a Punto'!Y1048288","v":0}]
[null,{"$f":"'Patrones Punto a Punto'!Y1048289","v":0}]
[null,{"$f":"'Patrones Punto a Punto'!Y1048290","v":0}]
[null,{"$f":"'Patrones Punto a Punto'!Y1048291","v":0}]
[null,{"$f":"'Patrones Punto a Punto'!Y1048292","v":0}]
[null,{"$f":"'Patrones Punto a Punto'!Y1048293","v":0}]
[null,{"$f":"'Patrones Punto a Punto'!Y1048294","v":0}]
[null,{"$f":"'Patrones Punto a Punto'!Y1048295","v":0}]
[null,{"$f":"'Patrones Punto a Punto'!Y1048296","v":0}]
[null,{"$f":"'Patrones Punto a Punto'!Y1048297","v":0}]
[null,{"$f":"'Patrones Punto a Punto'!Y1048298","v":0}]
[null,{"$f":"'Patrones Punto a Punto'!Y1048299","v":0}]
[null,{"$f":"'Patrones Punto a Punto'!Y1048300","v":0}]
[null,{"$f":"'Patrones Punto a Punto'!Y1048301","v":0}]
[null,{"$f":"'Patrones Punto a Punto'!Y1048302","v":0}]
[null,{"$f":"'Patrones Punto a Punto'!Y1048303","v":0}]
[null,{"$f":"'Patrones Punto a Punto'!Y1048304","v":0}]
[null,{"$f":"'Patrones Punto a Punto'!Y1048305","v":0}]
[null,{"$f":"'Patrones Punto a Punto'!Y1048306","v":0}]
[null,{"$f":"'Patrones Punto a Punto'!Y1048307","v":0}]
[null,{"$f":"'Patrones Punto a Punto'!Y1048308","v":0}]
[null,{"$f":"'Patrones Punto a Punto'!Y1048309","v":0}]
[null,{"$f":"'Patrones Punto a Punto'!Y1048310","v":0}]
[null,{"$f":"'Patrones Punto a Punto'!Y1048311","v":0}]
[null,{"$f":"'Patrones Punto a Punto'!Y1048312","v":0}]
[null,{"$f":"'Patrones Punto a Punto'!Y1048313","v":0}]
[null,{"$f":"'Patrones Punto a Punto'!Y1048314","v":0}]
[null,{"$f":"'Patrones Punto a Punto'!Y1048315","v":0}]
[null,{"$f":"'Patrones Punto a Punto'!Y1048316","v":0}]
[null,{"$f":"'Patrones Punto a Punto'!Y1048317","v":0}]
[null,{"$f":"'Patrones Punto a Punto'!Y1048318","v":0}]
[null,{"$f":"'Patrones Punto a Punto'!Y1048319","v":0}]
[null,{"$f":"'Patrones Punto a Punto'!Y1048320","v":0}]
[null,{"$f":"'Patrones Punto a Punto'!Y1048321","v":0}]
[null,{"$f":"'Patrones Punto a Punto'!Y1048322","v":0}]
[null,{"$f":"'Patrones Punto a Punto'!Y1048323","v":0}]
[null,{"$f":"'Patrones Punto a Punto'!Y1048324","v":0}]
[null,{"$f":"'Patrones Punto a Punto'!Y1048325","v":0}]
[null,{"$f":"'Patrones Punto a Punto'!Y1048326","v":0}]
[null,{"$f":"'Patrones Punto a Punto'!Y1048327","v":0}]
[null,{"$f":"'Patrones Punto a Punto'!Y1048328","v":0}]
[null,{"$f":"'Patrones Punto a Punto'!Y1048329","v":0}]
[null,{"$f":"'Patrones Punto a Punto'!Y1048330","v":0}]
[null,{"$f":"'Patrones Punto a Punto'!Y1048331","v":0}]
[null,{"$f":"'Patrones Punto a Punto'!Y1048332","v":0}]
[null,{"$f":"'Patrones Punto a Punto'!Y1048333","v":0}]
[null,{"$f":"'Patrones Punto a Punto'!Y1048334","v":0}]
[null,{"$f":"'Patrones Punto a Punto'!Y1048335","v":0}]
[null,{"$f":"'Patrones Punto a Punto'!Y1048336","v":0}]
[null,{"$f":"'Patrones Punto a Punto'!Y1048337","v":0}]
[null,{"$f":"'Patrones Punto a Punto'!Y1048338","v":0}]
[null,{"$f":"'Patrones Punto a Punto'!Y1048339","v":0}]
[null,{"$f":"'Patrones Punto a Punto'!Y1048340","v":0}]
[null,{"$f":"'Patrones Punto a Punto'!Y1048341","v":0}]
[null,{"$f":"'Patrones Punto a Punto'!Y1048342","v":0}]
[null,{"$f":"'Patrones Punto a Punto'!Y1048343","v":0}]
[null,{"$f":"'Patrones Punto a Punto'!Y1048344","v":0}]
[null,{"$f":"'Patrones Punto a Punto'!Y1048345","v":0}]
[null,{"$f":"'Patrones Punto a Punto'!Y1048346","v":0}]
[null,{"$f":"'Patrones Punto a Punto'!Y1048347","v":0}]
[null,{"$f":"'Patrones Punto a Punto'!Y1048348","v":0}]
[null,{"$f":"'Patrones Punto a Punto'!Y1048349","v":0}]
[null,{"$f":"'Patrones Punto a Punto'!Y1048350","v":0}]
[null,{"$f":"'Patrones Punto a Punto'!Y1048351","v":0}]
[null,{"$f":"'Patrones Punto a Punto'!Y1048352","v":0}]
[null,{"$f":"'Patrones Punto a Punto'!Y1048353","v":0}]
[null,{"$f":"'Patrones Punto a Punto'!Y1048354","v":0}]
[null,{"$f":"'Patrones Punto a Punto'!Y1048355","v":0}]
[null,{"$f":"'Patrones Punto a Punto'!Y1048356","v":0}]
[null,{"$f":"'Patrones Punto a Punto'!Y1048357","v":0}]
[null,{"$f":"'Patrones Punto a Punto'!Y1048358","v":0}]
[null,{"$f":"'Patrones Punto a Punto'!Y1048359","v":0}]
[null,{"$f":"'Patrones Punto a Punto'!Y1048360","v":0}]
[null,{"$f":"'Patrones Punto a Punto'!Y1048361","v":0}]
[null,{"$f":"'Patrones Punto a Punto'!Y1048362","v":0}]
[null,{"$f":"'Patrones Punto a Punto'!Y1048363","v":0}]
[null,{"$f":"'Patrones Punto a Punto'!Y1048364","v":0}]
[null,{"$f":"'Patrones Punto a Punto'!Y1048365","v":0}]
[null,{"$f":"'Patrones Punto a Punto'!Y1048366","v":0}]
[null,{"$f":"'Patrones Punto a Punto'!Y1048367","v":0}]
[null,{"$f":"'Patrones Punto a Punto'!Y1048368","v":0}]
[null,{"$f":"'Patrones Punto a Punto'!Y1048369","v":0}]
[null,{"$f":"'Patrones Punto a Punto'!Y1048370","v":0}]
[null,{"$f":"'Patrones Punto a Punto'!Y1048371","v":0}]
[null,{"$f":"'Patrones Punto a Punto'!Y1048372","v":0}]
[null,{"$f":"'Patrones Punto a Punto'!Y1048373","v":0}]
[null,{"$f":"'Patrones Punto a Punto'!Y1048374","v":0}]
[null,{"$f":"'Patrones Punto a Punto'!Y1048375","v":0}]
[null,{"$f":"'Patrones Punto a Punto'!Y1048376","v":0}]
[null,{"$f":"'Patrones Punto a Punto'!Y1048377","v":0}]
[null,{"$f":"'Patrones Punto a Punto'!Y1048378","v":0}]
[null,{"$f":"'Patrones Punto a Punto'!Y1048379","v":0}]
[null,{"$f":"'Patrones Punto a Punto'!Y1048380","v":0}]
[null,{"$f":"'Patrones Punto a Punto'!Y1048381","v":0}]
[null,{"$f":"'Patrones Punto a Punto'!Y1048382","v":0}]
[null,{"$f":"'Patrones Punto a Punto'!Y1048383","v":0}]
[null,{"$f":"'Patrones Punto a Punto'!Y1048384","v":0}]
[null,{"$f":"'Patrones Punto a Punto'!Y1048385","v":0}]
[null,{"$f":"'Patrones Punto a Punto'!Y1048386","v":0}]
[null,{"$f":"'Patrones Punto a Punto'!Y1048387","v":0}]
[null,{"$f":"'Patrones Punto a Punto'!Y1048388","v":0}]
[null,{"$f":"'Patrones Punto a Punto'!Y1048389","v":0}]
[null,{"$f":"'Patrones Punto a Punto'!Y1048390","v":0}]
[null,{"$f":"'Patrones Punto a Punto'!Y1048391","v":0}]
[null,{"$f":"'Patrones Punto a Punto'!Y1048392","v":0}]
[null,{"$f":"'Patrones Punto a Punto'!Y1048393","v":0}]
[null,{"$f":"'Patrones Punto a Punto'!Y1048394","v":0}]
[null,{"$f":"'Patrones Punto a Punto'!Y1048395","v":0}]
[null,{"$f":"'Patrones Punto a Punto'!Y1048396","v":0}]
[null,{"$f":"'Patrones Punto a Punto'!Y1048397","v":0}]
[null,{"$f":"'Patrones Punto a Punto'!Y1048398","v":0}]
[null,{"$f":"'Patrones Punto a Punto'!Y1048399","v":0}]
[null,{"$f":"'Patrones Punto a Punto'!Y1048400","v":0}]
[null,{"$f":"'Patrones Punto a Punto'!Y1048401","v":0}]
[null,{"$f":"'Patrones Punto a Punto'!Y1048402","v":0}]
[null,{"$f":"'Patrones Punto a Punto'!Y1048403","v":0}]
[null,{"$f":"'Patrones Punto a Punto'!Y1048404","v":0}]
[null,{"$f":"'Patrones Punto a Punto'!Y1048405","v":0}]
[null,{"$f":"'Patrones Punto a Punto'!Y1048406","v":0}]
[null,{"$f":"'Patrones Punto a Punto'!Y1048407","v":0}]
[null,{"$f":"'Patrones Punto a Punto'!Y1048408","v":0}]
[null,{"$f":"'Patrones Punto a Punto'!Y1048409","v":0}]
[null,{"$f":"'Patrones Punto a Punto'!Y1048410","v":0}]
[null,{"$f":"'Patrones Punto a Punto'!Y1048411","v":0}]
[null,{"$f":"'Patrones Punto a Punto'!Y1048412","v":0}]
[null,{"$f":"'Patrones Punto a Punto'!Y1048413","v":0}]
[null,{"$f":"'Patrones Punto a Punto'!Y1048414","v":0}]
[null,{"$f":"'Patrones Punto a Punto'!Y1048415","v":0}]
[null,{"$f":"'Patrones Punto a Punto'!Y1048416","v":0}]
[null,{"$f":"'Patrones Punto a Punto'!Y1048417","v":0}]
[null,{"$f":"'Patrones Punto a Punto'!Y1048418","v":0}]
[null,{"$f":"'Patrones Punto a Punto'!Y1048419","v":0}]
[null,{"$f":"'Patrones Punto a Punto'!Y1048420","v":0}]
[null,{"$f":"'Patrones Punto a Punto'!Y1048421","v":0}]
[null,{"$f":"'Patrones Punto a Punto'!Y1048422","v":0}]
[null,{"$f":"'Patrones Punto a Punto'!Y1048423","v":0}]
[null,{"$f":"'Patrones Punto a Punto'!Y1048424","v":0}]
[null,{"$f":"'Patrones Punto a Punto'!Y1048425","v":0}]
[null,{"$f":"'Patrones Punto a Punto'!Y1048426","v":0}]
[null,{"$f":"'Patrones Punto a Punto'!Y1048427","v":0}]
[null,{"$f":"'Patrones Punto a Punto'!Y1048428","v":0}]
[null,{"$f":"'Patrones Punto a Punto'!Y1048429","v":0}]
[null,{"$f":"'Patrones Punto a Punto'!Y1048430","v":0}]
[null,{"$f":"'Patrones Punto a Punto'!Y1048431","v":0}]
[null,{"$f":"'Patrones Punto a Punto'!Y1048432","v":0}]
[null,{"$f":"'Patrones Punto a Punto'!Y1048433","v":0}]
[null,{"$f":"'Patrones Punto a Punto'!Y1048434","v":0}]
[null,{"$f":"'Patrones Punto a Punto'!Y1048435","v":0}]
[null,{"$f":"'Patrones Punto a Punto'!Y1048436","v":0}]
[null,{"$f":"'Patrones Punto a Punto'!Y1048437","v":0}]
[null,{"$f":"'Patrones Punto a Punto'!Y1048438","v":0}]
[null,{"$f":"'Patrones Punto a Punto'!Y1048439","v":0}]
[null,{"$f":"'Patrones Punto a Punto'!Y1048440","v":0}]
[null,{"$f":"'Patrones Punto a Punto'!Y1048441","v":0}]
[null,{"$f":"'Patrones Punto a Punto'!Y1048442","v":0}]
[null,{"$f":"'Patrones Punto a Punto'!Y1048443","v":0}]
[null,{"$f":"'Patrones Punto a Punto'!Y1048444","v":0}]
[null,{"$f":"'Patrones Punto a Punto'!Y1048445","v":0}]
[null,{"$f":"'Patrones Punto a Punto'!Y1048446","v":0}]
[null,{"$f":"'Patrones Punto a Punto'!Y1048447","v":0}]
[null,{"$f":"'Patrones Punto a Punto'!Y1048448","v":0}]
[null,{"$f":"'Patrones Punto a Punto'!Y1048449","v":0}]
[null,{"$f":"'Patrones Punto a Punto'!Y1048450","v":0}]
[null,{"$f":"'Patrones Punto a Punto'!Y1048451","v":0}]
[null,{"$f":"'Patrones Punto a Punto'!Y1048452","v":0}]
[null,{"$f":"'Patrones Punto a Punto'!Y1048453","v":0}]
[null,{"$f":"'Patrones Punto a Punto'!Y1048454","v":0}]
[null,{"$f":"'Patrones Punto a Punto'!Y1048455","v":0}]
[null,{"$f":"'Patrones Punto a Punto'!Y1048456","v":0}]
[null,{"$f":"'Patrones Punto a Punto'!Y1048457","v":0}]
[null,{"$f":"'Patrones Punto a Punto'!Y1048458","v":0}]
[null,{"$f":"'Patrones Punto a Punto'!Y1048459","v":0}]
[null,{"$f":"'Patrones Punto a Punto'!Y1048460","v":0}]
[null,{"$f":"'Patrones Punto a Punto'!Y1048461","v":0}]
[null,{"$f":"'Patrones Punto a Punto'!Y1048462","v":0}]
[null,{"$f":"'Patrones Punto a Punto'!Y1048463","v":0}]
[null,{"$f":"'Patrones Punto a Punto'!Y1048464","v":0}]
[null,{"$f":"'Patrones Punto a Punto'!Y1048465","v":0}]
[null,{"$f":"'Patrones Punto a Punto'!Y1048466","v":0}]
[null,{"$f":"'Patrones Punto a Punto'!Y1048467","v":0}]
[null,{"$f":"'Patrones Punto a Punto'!Y1048468","v":0}]
[null,{"$f":"'Patrones Punto a Punto'!Y1048469","v":0}]
[null,{"$f":"'Patrones Punto a Punto'!Y1048470","v":0}]
[null,{"$f":"'Patrones Punto a Punto'!Y1048471","v":0}]
[null,{"$f":"'Patrones Punto a Punto'!Y1048472","v":0}]
[null,{"$f":"'Patrones Punto a Punto'!Y1048473","v":0}]
[null,{"$f":"'Patrones Punto a Punto'!Y1048474","v":0}]
[null,{"$f":"'Patrones Punto a Punto'!Y1048475","v":0}]
[null,{"$f":"'Patrones Punto a Punto'!Y1048476","v":0}]
[null,{"$f":"'Patrones Punto a Punto'!Y1048477","v":0}]
[null,{"$f":"'Patrones Punto a Punto'!Y1048478","v":0}]
[null,{"$f":"'Patrones Punto a Punto'!Y1048479","v":0}]
[null,{"$f":"'Patrones Punto a Punto'!Y1048480","v":0}]
[null,{"$f":"'Patrones Punto a Punto'!Y1048481","v":0}]
[null,{"$f":"'Patrones Punto a Punto'!Y1048482","v":0}]
[null,{"$f":"'Patrones Punto a Punto'!Y1048483","v":0}]
[null,{"$f":"'Patrones Punto a Punto'!Y1048484","v":0}]
[null,{"$f":"'Patrones Punto a Punto'!Y1048485","v":0}]
[null,{"$f":"'Patrones Punto a Punto'!Y1048486","v":0}]
[null,{"$f":"'Patrones Punto a Punto'!Y1048487","v":0}]
[null,{"$f":"'Patrones Punto a Punto'!Y1048488","v":0}]
[null,{"$f":"'Patrones Punto a Punto'!Y1048489","v":0}]
[null,{"$f":"'Patrones Punto a Punto'!Y1048490","v":0}]
[null,{"$f":"'Patrones Punto a Punto'!Y1048491","v":0}]
[null,{"$f":"'Patrones Punto a Punto'!Y1048492","v":0}]
[null,{"$f":"'Patrones Punto a Punto'!Y1048493","v":0}]
[null,{"$f":"'Patrones Punto a Punto'!Y1048494","v":0}]
[null,{"$f":"'Patrones Punto a Punto'!Y1048495","v":0}]
[null,{"$f":"'Patrones Punto a Punto'!Y1048496","v":0}]
[null,{"$f":"'Patrones Punto a Punto'!Y1048497","v":0}]
[null,{"$f":"'Patrones Punto a Punto'!Y1048498","v":0}]
[null,{"$f":"'Patrones Punto a Punto'!Y1048499","v":0}]
[null,{"$f":"'Patrones Punto a Punto'!Y1048500","v":0}]
[null,{"$f":"'Patrones Punto a Punto'!Y1048501","v":0}]
[null,{"$f":"'Patrones Punto a Punto'!Y1048502","v":0}]
[null,{"$f":"'Patrones Punto a Punto'!Y1048503","v":0}]
[null,{"$f":"'Patrones Punto a Punto'!Y1048504","v":0}]
[null,{"$f":"'Patrones Punto a Punto'!Y1048505","v":0}]
[null,{"$f":"'Patrones Punto a Punto'!Y1048506","v":0}]
[null,{"$f":"'Patrones Punto a Punto'!Y1048507","v":0}]
[null,{"$f":"'Patrones Punto a Punto'!Y1048508","v":0}]
[null,{"$f":"'Patrones Punto a Punto'!Y1048509","v":0}]
[null,{"$f":"'Patrones Punto a Punto'!Y1048510","v":0}]
[null,{"$f":"'Patrones Punto a Punto'!Y1048511","v":0}]
[null,{"$f":"'Patrones Punto a Punto'!Y1048512","v":0}]
[null,{"$f":"'Patrones Punto a Punto'!Y1048513","v":0}]
[null,{"$f":"'Patrones Punto a Punto'!Y1048514","v":0}]
[null,{"$f":"'Patrones Punto a Punto'!Y1048515","v":0}]
[null,{"$f":"'Patrones Punto a Punto'!Y1048516","v":0}]
[null,{"$f":"'Patrones Punto a Punto'!Y1048517","v":0}]
[null,{"$f":"'Patrones Punto a Punto'!Y1048518","v":0}]
[null,{"$f":"'Patrones Punto a Punto'!Y1048519","v":0}]
[null,{"$f":"'Patrones Punto a Punto'!Y1048520","v":0}]
[null,{"$f":"'Patrones Punto a Punto'!Y1048521","v":0}]
[null,{"$f":"'Patrones Punto a Punto'!Y1048522","v":0}]
[null,{"$f":"'Patrones Punto a Punto'!Y1048523","v":0}]
[null,{"$f":"'Patrones Punto a Punto'!Y1048524","v":0}]
[null,{"$f":"'Patrones Punto a Punto'!Y1048525","v":0}]
[null,{"$f":"'Patrones Punto a Punto'!Y1048526","v":0}]
[null,{"$f":"'Patrones Punto a Punto'!Y1048527","v":0}]
[null,{"$f":"'Patrones Punto a Punto'!Y1048528","v":0}]
[null,{"$f":"'Patrones Punto a Punto'!Y1048529","v":0}]
[null,{"$f":"'Patrones Punto a Punto'!Y1048530","v":0}]
[null,{"$f":"'Patrones Punto a Punto'!Y1048531","v":0}]
[null,{"$f":"'Patrones Punto a Punto'!Y1048532","v":0}]
[null,{"$f":"'Patrones Punto a Punto'!Y1048533","v":0}]
[null,{"$f":"'Patrones Punto a Punto'!Y1048534","v":0}]
[null,{"$f":"'Patrones Punto a Punto'!Y1048535","v":0}]
[null,{"$f":"'Patrones Punto a Punto'!Y1048536","v":0}]
[null,{"$f":"'Patrones Punto a Punto'!Y1048537","v":0}]
[null,{"$f":"'Patrones Punto a Punto'!Y1048538","v":0}]
[null,{"$f":"'Patrones Punto a Punto'!Y1048539","v":0}]
[null,{"$f":"'Patrones Punto a Punto'!Y1048540","v":0}]
[null,{"$f":"'Patrones Punto a Punto'!Y1048541","v":0}]
[null,{"$f":"'Patrones Punto a Punto'!Y1048542","v":0}]
[null,{"$f":"'Patrones Punto a Punto'!Y1048543","v":0}]
[null,{"$f":"'Patrones Punto a Punto'!Y1048544","v":0}]
[null,{"$f":"'Patrones Punto a Punto'!Y1048545","v":0}]
[null,{"$f":"'Patrones Punto a Punto'!Y1048546","v":0}]
[null,{"$f":"'Patrones Punto a Punto'!Y1048547","v":0}]
[null,{"$f":"'Patrones Punto a Punto'!Y1048548","v":0}]
[null,{"$f":"'Patrones Punto a Punto'!Y1048549","v":0}]
[null,{"$f":"'Patrones Punto a Punto'!Y1048550","v":0}]
[null,{"$f":"'Patrones Punto a Punto'!Y1048551","v":0}]
[null,{"$f":"'Patrones Punto a Punto'!Y1048552","v":0}]
[null,{"$f":"'Patrones Punto a Punto'!Y1048553","v":0}]
[null,{"$f":"'Patrones Punto a Punto'!Y1048554","v":0}]
[null,{"$f":"'Patrones Punto a Punto'!Y1048555","v":0}]
[null,{"$f":"'Patrones Punto a Punto'!Y1048556","v":0}]
[null,{"$f":"'Patrones Punto a Punto'!Y1048557","v":0}]
[null,{"$f":"'Patrones Punto a Punto'!Y1048558","v":0}]
[null,{"$f":"'Patrones Punto a Punto'!Y1048559","v":0}]
[null,{"$f":"'Patrones Punto a Punto'!Y1048560","v":0}]
[null,{"$f":"'Patrones Punto a Punto'!Y1048561","v":0}]
[null,{"$f":"'Patrones Punto a Punto'!Y1048562","v":0}]
[null,{"$f":"'Patrones Punto a Punto'!Y1048563","v":0}]
[null,{"$f":"'Patrones Punto a Punto'!Y1048564","v":0}]
[null,{"$f":"'Patrones Punto a Punto'!Y1048565","v":0}]
[null,{"$f":"'Patrones Punto a Punto'!Y1048566","v":0}]
[null,{"$f":"'Patrones Punto a Punto'!Y1048567","v":0}]
[null,{"$f":"'Patrones Punto a Punto'!Y1048568","v":0}]
[null,{"$f":"'Patrones Punto a Punto'!Y1048569","v":0}]
[null,{"$f":"'Patrones Punto a Punto'!Y1048570","v":0}]
[null,{"$f":"'Patrones Punto a Punto'!Y1048571","v":0}]
[null,{"$f":"'Patrones Punto a Punto'!Y1048572","v":0}]
[null,{"$f":"'Patrones Punto a Punto'!Y1048573","v":0}]
[null,{"$f":"'Patrones Punto a Punto'!Y1048574","v":0}]
[null,{"$f":"'Patrones Punto a Punto'!Y1048575","v":0}]
[null,{"$f":"'Patrones Punto a Punto'!Y1048576","v":0}]
[null,{"$f":"'Patrones Punto a Punto'!#REF!","v":{"$error":"#REF!"}}]
[null,{"$f":"'Patrones Punto a Punto'!#REF!","v":{"$error":"#REF!"}}]

{"sheet":"Validaciones","index":7,"n_rows":66,"n_cols":36,"rows_kept":66,"cut":false,"hidden":true,"merged":[[2,1,3,1],[2,5,3,5],[5,0,6,0],[5,3,6,3],[17,1,18,1],[17,5,18,5]]}
[]
[null,"Departamento Concesión",{"$f":"IF(ISBLANK(Modificacion!B17),0,1)","v":0},null,null,null,null,null,null,null,null,null,null,null,null,null,null,null,null,null,null,null,null,null,null,null,null,null,"DEP_AS","MUN_AS",null,null,"Tip_Antena","dB_dBi","Red_Tra","Enlace"]
[null,"Nit o CC",{"$f":"FIND(\",\",Modificacion!H15)","v":{"$error":"#VALUE!"}},{"$f":"FIND(\".\",Modificacion!H15)","v":{"$error":"#VALUE!"}},{"$f":"FIND(\"-\",Modificacion!H15)","v":{"$error":"#VALUE!"}},{"$f":"SUM(C4:E4)","v":0},null,"Tramite","SINO","SINONA","CLASE","NS","TIPO_EMI","Fre_Aero","Ingeniero","Torre","Zona","Emision","Polarizacion",null,null,"A","B","C","D","TRANSMOVIL","TIPO_ESTACION",null,{"$f":"Modificacion!A139","v":0},{"$f":"Modificacion!B139:C139","v":0},0,null,"Yagi","dBd",{"$f":"Transmoviles!A61","v":0},"SI"]
[null,null,{"$f":"IF(ISERROR(C3),0,C3)","v":0},{"$f":"IF(ISERROR(D3),0,D3)","v":0},0,null,null,"Modificación de parámetros técnicos","SI","SI","A","N","Comunitaria","Frecuencia","Electrónico","Circular","Rural","180KF3E","H-Horizontal",null,null,"Comercial","Comercial","Comercial","Comercial","Punto a Zona","Transmovil",null,{"$f":"Modificacion!A140","v":0},{"$f":"Modificacion!B140:C140","v":0},0,null,"Dipolos","dBi",{"$f":"Transmoviles!A62","v":0},"NO"]
[null,null,null,null,null,null,null,"Concepto técnico para el otorga de la concesión ","NO","NO","B","S","Comercial","Rango de Frecuencia","Electricista con posgrado en telecomunicaciones","Triangular","Urbana","200KF8E","C-Circular",null,null,"Interés Publico ","Interés Publico ","Interés Publico ","Interés Publico ","Punto a Punto","Repetidor",null,{"$f":"Modificacion!A141","v":0},{"$f":"Modificacion!B141:C141","v":0},0,null,"Parabolica",null,{"$f":"Transmoviles!A63","v":0}]
[null,null,null,null,null,null,null,null,null,"NA","C_",null,"Interés  Publico",null,"Telecomunicaciones","Cuadrada",null,"Otro","M-Mixta",null,null,null,null,null,"Comunitaria",null,"Estudios",null,{"$f":"Modificacion!A142","v":0},{"$f":"Modificacion!B142:C142","v":0},0,null,"Corner Reflector",null,{"$f":"Transmoviles!A64","v":0}]
[null,null,null,null,null,null,null,null,null,null,"D",null,null,null,null,"Rectangular",null,null,"Otra",null,null,null,null,null,null,null,null,null,{"$f":"Modificacion!A143","v":0},{"$f":"Modificacion!B143:C143","v":0},0,null,"Latigo",null,{"$f":"Transmoviles!A65","v":0}]
[null,null,null,null,null,null,null,null,null,null,null,null,null,null,null,null,null,null,null,null,null,null,null,null,null,null,null,null,{"$f":"Modificacion!A144","v":0},{"$f":"Modificacion!B144:C144","v":0},0,null,"Otra",null,{"$f":"Transmoviles!A66","v":0}]
["Celular",{"$f":"LEN(Modificacion!B21:C21)","v":0},null,null,{"$f":"OR(B9<10,B9>10)","v":true},null,null,null,null,null,null,null,null,null,null,null,null,null,null,null,null,null,null,null,null,null,null,null,{"$f":"Modificacion!A145","v":0},{"$f":"Modificacion!B145:C145","v":0},0,null,null,null,{"$f":"Transmoviles!F61","v":0}]
[null,null,null,null,null,null,null,null,null,null,null,null,null,null,null,"Radios","Equipos","Tx_Rx","T_Señal","Info a TX","Modulaciones","Antenas","AntenasII",null,null,null,null,null,{"$f":"Modificacion!A146","v":0},{"$f":"Modificacion!B146:C146","v":0},0,null,null,null,{"$f":"Transmoviles!F62","v":0}]
[null,{"$f":"Modificacion!B19:E19","v":0},null,null,null,null,null,null,null,null,null,null,null,null,null,{"$f":"Transmoviles!A29","v":"R1"},1,"Tx","Análoga","Voz","FM",1,{"$f":"Transmoviles!A39","v":"A1"},null,null,null,null,null,{"$f":"Modificacion!A147","v":0},{"$f":"Modificacion!B147:C147","v":0},0,null,null,null,{"$f":"Transmoviles!F63","v":0}]
[null,"arroba",{"$f":"+FIND(\"@\",B11)","v":{"$error":"#VALUE!"}},null,null,null,null,null,null,null,null,null,null,null,null,{"$f":"Transmoviles!A30","v":"R2"},2,"Rx","Digital","Datos","AM",2,{"$f":"Transmoviles!A40","v":"A2"},null,null,null,null,null,{"$f":"Modificacion!A148","v":0},{"$f":"Modificacion!B148:C148","v":0},0,null,null,null,{"$f":"Transmoviles!F64","v":0}]
[null,"punto",{"$f":"+FIND(\".\",B11,FIND(\"@\",B11)+2)","v":{"$error":"#VALUE!"}},null,null,null,null,null,null,null,null,null,null,null,null,{"$f":"Transmoviles!A31","v":" "},3,"RPT","Análoga-Digital","Voz - Datos","QPSK",3,{"$f":"Transmoviles!A41","v":"A3"},null,null,null,null,null,{"$f":"Modificacion!A149","v":0},{"$f":"Modificacion!B149:C149","v":0},0,null,null,null,{"$f":"Transmoviles!F65","v":0}]
[null,"Validación",{"$f":"+IFERROR(AND(FIND(\"@\",B11),FIND(\".\",B11,C12+2)),FALSE)","v":false},null,null,null,null,null,null,null,null,null,null,null,null,{"$f":"Transmoviles!A32","v":" "},4,null,null,"Video","QAM",4,{"$f":"Transmoviles!A42","v":"A4"},null,null,null,null,null,{"$f":"Modificacion!A150","v":0},{"$f":"Modificacion!B150:C150","v":0},0,null,null,null,{"$f":"Transmoviles!F66","v":0}]
[null,null,null,null,null,null,null,null,null,null,null,null,null,null,null,{"$f":"Transmoviles!A33","v":" "},5,null,null,"Otra","FSK",5,{"$f":"Transmoviles!A43","v":"A5"},null,null,null,null,null,{"$f":"Modificacion!A151","v":0},{"$f":"Modificacion!B151:C151","v":0},0]
[null,null,null,null,null,null,null,null,null,null,null,null,null,null,null,null,null,null,null,null,"Otra",6,null,null,null,null,null,null,{"$f":"Modificacion!A152","v":0},{"$f":"Modificacion!B152:C152","v":0},0]
[null,null,null,null,null,null,null,null,null,null,null,null,null,null,null,null,null,null,null,null,null,7,null,null,null,null,null,null,{"$f":"Modificacion!A153","v":0},{"$f":"Modificacion!B153:C153","v":0},0]
[null,"Nit o CC",{"$f":"FIND(\",\",Modificacion!B43)","v":{"$error":"#VALUE!"}},{"$f":"FIND(\".\",Modificacion!B43)","v":{"$error":"#VALUE!"}},{"$f":"FIND(\"-\",Modificacion!B43)","v":{"$error":"#VALUE!"}},{"$f":"SUM(C19:E19)","v":0},null,null,null,null,null,null,null,null,null,null,null,null,null,null,null,8,null,null,null,null,null,null,{"$f":"Modificacion!A154","v":0},{"$f":"Modificacion!B154:C154","v":0},0]
[null,null,{"$f":"IF(ISERROR(C18),0,C18)","v":0},{"$f":"IF(ISERROR(D18),0,D18)","v":0},0,null,null,null,null,null,null,null,null,null,null,null,null,null,null,null,null,9,null,null,null,null,null,null,{"$f":"Modificacion!A155","v":0},{"$f":"Modificacion!B155:C155","v":0},0]
[null,null,null,null,null,null,null,null,null,null,null,null,null,null,null,null,null,null,null,null,null,10,null,null,null,null,null,null,{"$f":"Modificacion!A156","v":0},{"$f":"Modificacion!B156:C156","v":0},0]
[null,null,null,null,null,null,null,null,null,null,null,null,null,null,null,null,null,null,null,null,null,null,null,null,null,null,null,null,{"$f":"Modificacion!A157","v":0},{"$f":"Modificacion!B157:C157","v":0},0]
[null,null,null,null,null,null,null,null,null,null,null,null,null,null,null,null,null,null,null,null,null,null,null,null,null,null,null,null,{"$f":"Modificacion!A158","v":0},{"$f":"Modificacion!B158:C158","v":0},0]
[null,null,null,null,null,null,null,null,null,null,null,null,null,null,null,null,null,null,null,null,null,null,null,null,null,null,null,null,{"$f":"Modificacion!A159","v":0},{"$f":"Modificacion!B159:C159","v":0},0]
[null,null,null,null,null,null,null,null,null,null,null,null,null,null,null,null,null,null,null,null,null,null,null,null,null,null,null,null,{"$f":"Modificacion!A160","v":0},{"$f":"Modificacion!B160:C160","v":0},0]
[null,null,null,null,null,null,null,null,null,null,null,null,null,null,null,null,null,null,null,null,null,null,null,null,null,null,null,null,{"$f":"Modificacion!A161","v":0},{"$f":"Modificacion!B161:C161","v":0},0]
[null,null,null,null,null,null,null,null,null,null,null,null,null,null,null,"TIP_ESTA","TIP_RED_II",null,null,null,null,"Modalidad",null,null,null,null,null,null,{"$f":"Modificacion!A162","v":0},{"$f":"Modificacion!B162:C162","v":0},0]
[null,null,null,null,null,null,null,null,null,null,null,null,null,null,null,"Repetidor","Punto a Punto (Repetidor – Estudios)",null,null,null,null,"Monocanal",null,null,null,null,null,null,{"$f":"Modificacion!A163","v":0},{"$f":"Modificacion!B163:C163","v":0},0]
[null,null,null,null,null,null,null,null,null,null,null,null,null,null,null,"Base","Punto a Zona (Móvil – Repetidor o Móvil – Estudios)",null,null,null,null,"Multicanal",null,null,null,null,null,null,{"$f":"Modificacion!A164","v":0},{"$f":"Modificacion!B164:C164","v":0},0]
[null,null,null,null,null,null,null,null,null,null,null,null,null,null,null,"Móvil",null,null,null,null,null,"Acceso Troncalizado",null,null,null,null,null,null,{"$f":"Modificacion!A165","v":0},{"$f":"Modificacion!B165:C165","v":0},0]
[null,null,null,null,null,null,null,null,null,null,null,null,null,null,null,null,null,null,null,null,null,null,null,null,null,null,null,null,{"$f":"Modificacion!A166","v":0},{"$f":"Modificacion!B166:C166","v":0},0]
[null,null,null,null,null,null,null,null,null,null,null,null,null,null,null,null,null,null,null,null,null,null,null,null,null,null,null,null,{"$f":"Modificacion!A167","v":0},{"$f":"Modificacion!B167:C167","v":0},0]
[null,null,null,null,null,null,null,null,null,null,null,null,null,null,null,null,null,null,null,null,null,null,null,null,null,null,null,null,{"$f":"Modificacion!A168","v":0},{"$f":"Modificacion!B168:C168","v":0},0]
[null,null,null,null,null,null,null,null,null,null,null,null,null,null,null,null,null,null,null,null,null,null,null,null,null,null,null,null,{"$f":"Modificacion!A169","v":0},{"$f":"Modificacion!B169:C169","v":0},0]
[null,null,null,null,null,null,null,null,null,null,null,null,null,null,null,null,null,null,null,null,null,null,null,null,null,null,null,null,{"$f":"Modificacion!A170","v":0},{"$f":"Modificacion!B170:C170","v":0},0]
[null,null,null,null,null,null,null,null,null,null,null,null,null,null,null,null,null,null,null,null,null,null,null,null,null,null,null,null,{"$f":"Modificacion!F139","v":0},{"$f":"Modificacion!G139:H139","v":0},0]
[null,null,null,null,null,null,null,null,null,null,null,null,null,null,null,null,null,null,null,null,null,null,null,null,null,null,null,null,{"$f":"Modificacion!F140","v":0},{"$f":"Modificacion!G140:H140","v":0},0]
[null,null,null,null,null,null,null,null,null,null,null,null,null,null,null,null,null,null,null,null,null,null,null,null,null,null,null,null,{"$f":"Modificacion!F141","v":0},{"$f":"Modificacion!G141:H141","v":0},0]
[null,null,null,null,null,null,null,null,null,null,null,null,null,null,null,null,null,null,null,null,null,null,null,null,null,null,null,null,{"$f":"Modificacion!F142","v":0},{"$f":"Modificacion!G142:H142","v":0},0]
[null,null,null,null,null,null,null,null,null,null,null,null,null,null,null,null,null,null,null,null,null,null,null,null,null,null,null,null,{"$f":"Modificacion!F143","v":0},{"$f":"Modificacion!G143:H143","v":0},0]
[null,null,null,null,null,null,null,null,null,null,null,null,null,null,null,null,null,null,null,null,null,null,null,null,null,null,null,null,{"$f":"Modificacion!F144","v":0},{"$f":"Modificacion!G144:H144","v":0},0]
[null,null,null,null,null,null,null,null,null,null,null,null,null,null,null,null,null,null,null,null,null,null,null,null,null,null,null,null,{"$f":"Modificacion!F145","v":0},{"$f":"Modificacion!G145:H145","v":0},0]
[null,null,null,null,null,null,null,null,null,null,null,null,null,null,null,null,null,null,null,null,null,null,null,null,null,null,null,null,{"$f":"Modificacion!F146","v":0},{"$f":"Modificacion!G146:H146","v":0},0]
[null,null,null,null,null,null,null,null,null,null,null,null,null,null,null,null,null,null,null,null,null,null,null,null,null,null,null,null,{"$f":"Modificacion!F147","v":0},{"$f":"Modificacion!G147:H147","v":0},0]
[null,null,null,null,null,null,null,null,null,null,null,null,null,null,null,null,null,null,null,null,null,null,null,null,null,null,null,null,{"$f":"Modificacion!F148","v":0},{"$f":"Modificacion!G148:H148","v":0},0]
[null,null,null,null,null,null,null,null,null,null,null,null,null,null,null,null,null,null,null,null,null,null,null,null,null,null,null,null,{"$f":"Modificacion!F149","v":0},{"$f":"Modificacion!G149:H149","v":0},0]
[null,null,null,null,null,null,null,null,null,null,null,null,null,null,null,null,null,null,null,null,null,null,null,null,null,null,null,null,{"$f":"Modificacion!F150","v":0},{"$f":"Modificacion!G150:H150","v":0},0]
[null,null,null,null,null,null,null,null,null,null,null,null,null,null,null,null,null,null,null,null,null,null,null,null,null,null,null,null,{"$f":"Modificacion!F151","v":0},{"$f":"Modificacion!G151:H151","v":0},0]
[null,null,null,null,null,null,null,null,null,null,null,null,null,null,null,null,null,null,null,null,null,null,null,null,null,null,null,null,{"$f":"Modificacion!F152","v":0},{"$f":"Modificacion!G152:H152","v":0},0]
[null,null,null,null,null,null,null,null,null,null,null,null,null,null,null,null,null,null,null,null,null,null,null,null,null,null,null,null,{"$f":"Modificacion!F153","v":0},{"$f":"Modificacion!G153:H153","v":0},0]
[null,null,null,null,null,null,null,null,null,null,null,null,null,null,null,null,null,null,null,null,null,null,null,null,null,null,null,null,{"$f":"Modificacion!F154","v":0},{"$f":"Modificacion!G154:H154","v":0},0]
[null,null,null,null,null,null,null,null,null,null,null,null,null,null,null,null,null,null,null,null,null,null,null,null,null,null,null,null,{"$f":"Modificacion!F155","v":0},{"$f":"Modificacion!G155:H155","v":0},0]
[null,null,null,null,null,null,null,null,null,null,null,null,null,null,null,null,null,null,null,null,null,null,null,null,null,null,null,null,{"$f":"Modificacion!F156","v":0},{"$f":"Modificacion!G156:H156","v":0},0]
[null,null,null,null,null,null,null,null,null,null,null,null,null,null,null,null,null,null,null,null,null,null,null,null,null,null,null,null,{"$f":"Modificacion!F157","v":0},{"$f":"Modificacion!G157:H157","v":0},0]
[null,null,null,null,null,null,null,null,null,null,null,null,null,null,null,null,null,null,null,null,null,null,null,null,null,null,null,null,{"$f":"Modificacion!F158","v":0},{"$f":"Modificacion!G158:H158","v":0},0]
[null,null,null,null,null,null,null,null,null,null,null,null,null,null,null,null,null,null,null,null,null,null,null,null,null,null,null,null,{"$f":"Modificacion!F159","v":0},{"$f":"Modificacion!G159:H159","v":0},0]
[null,null,null,null,null,null,null,null,null,null,null,null,null,null,null,null,null,null,null,null,null,null,null,null,null,null,null,null,{"$f":"Modificacion!F160","v":0},{"$f":"Modificacion!G160:H160","v":0},0]
[null,null,null,null,null,null,null,null,null,null,null,null,null,null,null,null,null,null,null,null,null,null,null,null,null,null,null,null,{"$f":"Modificacion!F161","v":0},{"$f":"Modificacion!G161:H161","v":0},0]
[null,null,null,null,null,null,null,null,null,null,null,null,null,null,null,null,null,null,null,null,null,null,null,null,null,null,null,null,{"$f":"Modificacion!F162","v":0},{"$f":"Modificacion!G162:H162","v":0},0]
[null,null,null,null,null,null,null,null,null,null,null,null,null,null,null,null,null,null,null,null,null,null,null,null,null,null,null,null,{"$f":"Modificacion!F163","v":0},{"$f":"Modificacion!G163:H163","v":0},0]
[null,null,null,null,null,null,null,null,null,null,null,null,null,null,null,null,null,null,null,null,null,null,null,null,null,null,null,null,{"$f":"Modificacion!F164","v":0},{"$f":"Modificacion!G164:H164","v":0},0]
[null,null,null,null,null,null,null,null,null,null,null,null,null,null,null,null,null,null,null,null,null,null,null,null,null,null,null,null,{"$f":"Modificacion!F165","v":0},{"$f":"Modificacion!G165:H165","v":0},0]
[null,null,null,null,null,null,null,null,null,null,null,null,null,null,null,null,null,null,null,null,null,null,null,null,null,null,null,null,{"$f":"Modificacion!F166","v":0},{"$f":"Modificacion!G166:H166","v":0},0]
[null,null,null,null,null,null,null,null,null,null,null,null,null,null,null,null,null,null,null,null,null,null,null,null,null,null,null,null,{"$f":"Modificacion!F167","v":0},{"$f":"Modificacion!G167:H167","v":0},0]
[null,null,null,null,null,null,null,null,null,null,null,null,null,null,null,null,null,null,null,null,null,null,null,null,null,null,null,null,{"$f":"Modificacion!F168","v":0},{"$f":"Modificacion!G168:H168","v":0},0]
[null,null,null,null,null,null,null,null,null,null,null,null,null,null,null,null,null,null,null,null,null,null,null,null,null,null,null,null,{"$f":"Modificacion!F169","v":0},{"$f":"Modificacion!G169:H169","v":0},0]
[null,null,null,null,null,null,null,null,null,null,null,null,null,null,null,null,null,null,null,null,null,null,null,null,null,null,null,null,{"$f":"Modificacion!F170","v":0},{"$f":"Modificacion!G170:H170","v":0},0]

{"sheet":"Control de Cambios","index":8,"n_rows":7,"n_cols":10,"rows_kept":7,"cut":false,"hidden":false,"merged":[[6,3,6,4],[6,5,6,6],[6,7,6,8],[6,9,6,10],[2,2,2,11],[4,3,4,4],[4,5,4,6],[4,7,4,8],[4,9,4,10],[5,3,5,4],[5,5,5,6],[5,7,5,8],[5,9,5,10]]}
[]
[]
[null,null,"Cambios al documento"]
[]
[null,null,"Versión","Fecha",null,"Naturaleza de la modificación",null,"Elaborado por",null,"Aprobado por"]
[null,null,1,"2020-12-21",null,"Emisión del documento",null,"Javier Giraldo",null,"Juan Vergara"]
[null,null,2,"2021-02-16",null,"*Se elimana la validación del Email.\n*Se ajustan notas relativa a las notaciones de la P.R.A, unidades de la ganacia y de la Potencia Nominal.\n*Se ajusta mensaje de error de la P.R.A de acuerdo a la clase de estación.\n*Se elimina la sección de presentación del certificado de planeación municipal.\n* Se elimina la opción de polarización vertical para el arreglo de antenas de la red de cubrimiento.\n* Se realizan validaciones para la banda de frecuencia de enlace.\n*En la Hoja enlace se incluye el campo azimut de la máxima intensidad de radiación\n*Se elimina restricción para los códigos de emisión en la hoja de transmoviles.\n* En la Hoja de Transmoviles Sección 2.0a \"Radios a Utilizar\" Se cambio # de repetidores por # de radios",null,"Javier Giraldo",null,"Juan Vergara"]

{"sheet":"DANE-Municipios","index":9,"n_rows":1145,"n_cols":41,"rows_kept":1145,"cut":false,"hidden":true,"merged":[[1136,0,1136,4],[5,0,6,4],[7,0,8,4],[9,0,9,1],[9,2,9,3],[9,4,10,4]]}
[]
[]
[]
[]
[]
["Codificación de la División Político Administrativa de Colombia - DIVIPOLA. Diciembre 2019"]
[]
["Municipios"]
[]
["Departamento",null,"Municipio",null,"Tipo: Municipio / Isla\n/ Área no municipalizada"]
["Código ","Nombre","Código ","Nombre"]
["05","ANTIOQUIA","05001","MEDELLÍN","Municipio",null,null,null,"SAN_ANDRES","AMAZONAS","ANTIOQUIA","ARAUCA","ATLÁNTICO","BOGOTÁ_DC","BOLÍVAR","BOYACÁ","CALDAS","CAQUETÁ","CASANARE","CAUCA","CESAR","CHOCÓ","CÓRDOBA","CUNDINAMARCA","GUAINÍA","GUAVIARE","HUILA","LA_GUAJIRA","MAGDALENA","META","NARIÑO","NORTE_DE_SANTANDER","PUTUMAYO","QUINDÍO","RISARALDA","SANTANDER","SUCRE","TOLIMA","VALLE DEL CAUCA","VAUPÉS","VICHADA"]
["05","ANTIOQUIA","05002","ABEJORRAL","Municipio",null,null,null,"SAN ANDRÉS (INSULAR)","LETICIA","MEDELLÍN","ARAUCA","BARRANQUILLA","BOGOTÁ, D.C.","CARTAGENA DE INDIAS","TUNJA","MANIZALES","FLORENCIA (CAQ)","YOPAL","POPAYÁN","VALLEDUPAR","QUIBDÓ","MONTERÍA","AGUA DE DIOS","INÍRIDA","SAN JOSÉ DEL GUAVIARE","NEIVA","RIOHACHA","SANTA MARTA","VILLAVICENCIO","PASTO","SAN JOSÉ DE CÚCUTA","MOCOA","ARMENIA","PEREIRA","BUCARAMANGA","SINCELEJO","IBAGUÉ","CALI","MITÚ","PUERTO CARREÑO"]
["05","ANTIOQUIA","05004","ABRIAQUÍ","Municipio",null,"Departamento",null,"PROVIDENCIA (INSULAR)","EL ENCANTO","ABEJORRAL","ARAUQUITA","BARANOA",null,"ACHÍ","ALMEIDA","AGUADAS","ALBANIA (CAQ)","AGUAZUL","ALMAGUER","AGUACHICA","ACANDÍ","AYAPEL","ALBÁN (CUN)","BARRANCOMINAS*","CALAMAR","ACEVEDO","ALBANIA (GUAJ)","ALGARROBO","ACACÍAS","ALBÁN","ÁBREGO","COLÓN (PUT)","BUENAVISTA","APÍA","AGUADA","BUENAVISTA (SUC)","ALPUJARRA","ALCALÁ","CARURÚ","LA PRIMAVERA"]
["05","ANTIOQUIA","05021","ALEJANDRÍA","Municipio",null,"AMAZONAS",900,null,"LA CHORRERA","ABRIAQUÍ","CRAVO NORTE","CAMPO DE LA CRUZ",null,"ALTOS DEL ROSARIO","AQUITANIA","ANSERMA","BELÉN DE LOS ANDAQUÍES","CHÁMEZA","ARGELIA (CAU)","AGUSTÍN CODAZZI","ALTO BAUDÓ","BUENAVISTA (COR)","ANAPOIMA","MAPIRIPANA*","EL RETORNO","AGRADO","BARRANCAS","ARACATACA","BARRANCA DE UPÍA","ALDANA","ARBOLEDAS","ORITO","CALARCÁ","BALBOA","ALBANIA","CAIMITO","ALVARADO","ANDALUCÍA","PACOA","SANTA ROSALÍA"]
["05","ANTIOQUIA","05030","AMAGÁ","Municipio",null,"ANTIOQUIA",250,null,"LA PEDRERA","ALEJANDRÍA","FORTUL","CANDELARIA (ATL)",null,"ARENAL","ARCABUCO","ARANZAZU","CARTAGENA DEL CHAIRÁ","HATO COROZAL","BALBOA (CAU)","ASTREA","ATRATO","CANALETE","ANOLAIMA","SAN FELIPE","MIRAFLORES","AIPE","DIBULLA","ARIGUANÍ","CABUYARO","ANCUYA","BOCHALEMA","PUERTO ASÍS","CIRCASIA","BELÉN DE UMBRÍA","ARATOCA","COLOSÓ","AMBALEMA","ANSERMANUEVO","TARAIRA","CUMARIBO"]
["05","ANTIOQUIA","05031","AMALFI","Municipio",null,"ARAUCA",900,null,"LA VICTORIA (AMZ)","AMAGÁ","PUERTO RONDÓN","GALAPA",null,"ARJONA","BELÉN (BOY)","BELALCÁZAR","CURILLO","LA SALINA","BOLÍVAR (CAU)","BECERRIL","BAGADÓ","CERETÉ","ARBELÁEZ","PUERTO COLOMBIA",null,"ALGECIRAS","DISTRACCIÓN","CERRO DE SAN ANTONIO","CASTILLA LA NUEVA","ARBOLEDA","BUCARASICA","PUERTO CAICEDO","CÓRDOBA","DOSQUEBRADAS","BARBOSA","COROZAL","ANZOÁTEGUI","ARGELIA","PAPUNAHUA"]
["05","ANTIOQUIA","05034","ANDES","Municipio",null,"ATLÁNTICO",250,null,"MIRITÍ - PARANÁ","AMALFI","SARAVENA","JUAN DE ACOSTA",null,"ARROYOHONDO","BERBEO","CHINCHINÁ","EL DONCELLO","MANÍ","BUENOS AIRES","BOSCONIA","BAHÍA SOLANO","CHIMÁ","BELTRÁN","LA GUADALUPE",null,"ALTAMIRA","EL MOLINO","CHIVOLO","CUBARRAL","BARBACOAS","CÁCOTA","PUERTO GUZMÁN","FILANDIA","GUÁTICA","BARICHARA","COVEÑAS","ARMERO","BOLÍVAR","YAVARATÉ"]
["05","ANTIOQUIA","05036","ANGELÓPOLIS","Municipio",null,"BOGOTÁ_DC",250,null,"PUERTO ALEGRÍA","ANDES","TAME","LURUACO",null,"BARRANCO DE LOBA","BETÉITIVA","FILADELFIA","EL PAUJÍL","MONTERREY","CAJIBÍO","CHIMICHAGUA","BAJO BAUDÓ","CHINÚ","BITUIMA","CACAHUAL",null,"BARAYA","FONSECA","CIÉNAGA","CUMARAL","BELÉN","CÁCHIRA","PUERTO LEGUÍZAMO","GÉNOVA","LA CELIA","BARRANCABERMEJA","CHALÁN","ATACO","BUENAVENTURA"]
["05","ANTIOQUIA","05038","ANGOSTURA","Municipio",null,"BOLÍVAR",250,null,"PUERTO ARICA","ANGELÓPOLIS",null,"MALAMBO",null,"CALAMAR (BOL)","BOAVITA","LA DORADA","LA MONTAÑITA","NUNCHÍA","CALDONO","CHIRIGUANÁ","BOJAYÁ","CIÉNAGA DE ORO","BOJACÁ","PANA PANA",null,"CAMPOALEGRE","HATONUEVO","CONCORDIA","EL CALVARIO","BUESACO","CHINÁCOTA","SIBUNDOY","LA TEBAIDA","LA VIRGINIA","BETULIA","EL ROBLE","CAJAMARCA","GUADALAJARA DE BUGA"]
["05","ANTIOQUIA","05040","ANORÍ","Municipio",null,"BOYACÁ",250,null,"PUERTO NARIÑO","ANGOSTURA",null,"MANATÍ",null,"CANTAGALLO","BOYACÁ","LA MERCED","MILÁN","OROCUÉ","CALOTO","CURUMANÍ","EL CANTÓN DEL SAN PABLO","COTORRA","CABRERA (CUN)","MORICHAL",null,"COLOMBIA","LA JAGUA DEL PILAR","EL BANCO","EL CASTILLO","COLÓN","CHITAGÁ","SAN FRANCISCO (PUT)","MONTENEGRO","MARSELLA","BOLÍVAR (SANT)","GALERAS","CARMEN DE APICALÁ","BUGALAGRANDE"]
["05","ANTIOQUIA","05042","SANTA FÉ DE ANTIOQUIA","Municipio",null,"CALDAS",250,null,"PUERTO SANTANDER (AMZ)","ANORÍ",null,"PALMAR DE VARELA",null,"CICUCO","BRICEÑO","MANZANARES","MORELIA","PAZ DE ARIPORO","CORINTO","EL COPEY","CARMEN DEL DARIÉN","LA APARTADA","CACHIPAY",null,null,"ELÍAS","MAICAO","EL PIÑÓN","EL DORADO","CONSACÁ","CONVENCIÓN","SAN MIGUEL (PUT)","PIJAO","MISTRATÓ","CABRERA","GUARANDA","CASABIANCA","CAICEDONIA"]
["05","ANTIOQUIA","05044","ANZÁ","Municipio",null,"CAQUETÁ",900,null,"TARAPACÁ","SANTA FÉ DE ANTIOQUIA",null,"PIOJÓ",null,"CÓRDOBA (BOL)","BUENAVISTA (BOY)","MARMATO","PUERTO RICO (CAQ)","PORE","EL TAMBO (CAU)","EL PASO","CÉRTEGUI","LORICA","CAJICÁ",null,null,"GARZÓN","MANAURE","EL RETÉN","FUENTE DE ORO","CONTADERO","CUCUTILLA","SANTIAGO (PUT)","QUIMBAYA","PUEBLO RICO","CALIFORNIA","LA UNIÓN (SUC)","CHAPARRAL","CALIMA"]
["05","ANTIOQUIA","05045","APARTADÓ","Municipio",null,"CASANARE",900,null,null,"ANZÁ",null,"POLONUEVO",null,"CLEMENCIA","BUSBANZÁ","MARQUETALIA","SAN JOSÉ DEL FRAGUA","RECETOR","FLORENCIA","GAMARRA","CONDOTO","LOS CÓRDOBAS","CAPARRAPÍ",null,null,"GIGANTE","SAN JUAN DEL CESAR","FUNDACIÓN","GRANADA","CÓRDOBA (NAR)","DURANIA","VALLE DEL GUAMUEZ","SALENTO","QUINCHÍA","CAPITANEJO","LOS PALMITOS","COELLO","CANDELARIA"]
["05","ANTIOQUIA","05051","ARBOLETES","Municipio",null,"CAUCA",250,null,null,"APARTADÓ",null,"PONEDERA",null,"EL CARMEN DE BOLÍVAR","CALDAS","MARULANDA","SAN VICENTE DEL CAGUÁN","SABANALARGA","GUACHENÉ","GONZÁLEZ","EL CARMEN DE ATRATO","MOMIL","CÁQUEZA",null,null,"GUADALUPE (HUI)","URIBIA","GUAMAL (MAG)","GUAMAL","CUASPUD CARLOSAMA","EL CARMEN","VILLAGARZÓN",null,"SANTA ROSA DE CABAL","CARCASÍ","MAJAGUAL","COYAIMA","CARTAGO"]
["05","ANTIOQUIA","05055","ARGELIA","Municipio",null,"CESAR",250,null,null,"ARBOLETES",null,"PUERTO COLOMBIA (ATL)",null,"EL GUAMO","CAMPOHERMOSO","NEIRA","SOLANO","SÁCAMA","GUAPI","LA GLORIA","EL LITORAL DEL SAN JUAN","MONTELÍBANO","CARMEN DE CARUPA",null,null,"HOBO","URUMITA","NUEVA GRANADA","MAPIRIPÁN","CUMBAL","EL TARRA",null,null,"SANTUARIO","CEPITÁ","MORROA","CUNDAY","DAGUA"]
["05","ANTIOQUIA","05059","ARMENIA","Municipio",null,"CHOCÓ",900,null,null,"ARGELIA (ANT)",null,"REPELÓN",null,"EL PEÑÓN (BOL)","CERINZA","NORCASIA","SOLITA","SAN LUIS DE PALENQUE","INZÁ","LA JAGUA DE IBIRICO","ISTMINA","MOÑITOS","CHAGUANÍ",null,null,"ÍQUIRA","VILLANUEVA (GUAJ)","PEDRAZA","MESETAS","CUMBITARA","EL ZULIA",null,null,null,"CERRITO","OVEJAS","DOLORES","EL ÁGUILA"]
["05","ANTIOQUIA","05079","BARBOSA","Municipio",null,"CÓRDOBA",250,null,null,"ARMENIA (ANT)",null,"SABANAGRANDE",null,"HATILLO DE LOBA","CHINAVITA","PÁCORA","VALPARAÍSO","TÁMARA","JAMBALÓ","MANAURE BALCÓN DEL CESAR","JURADÓ","PLANETA RICA","CHÍA",null,null,"ISNOS",null,"PIJIÑO DEL CARMEN","LA MACARENA","CHACHAGÜÍ","GRAMALOTE",null,null,null,"CHARALÁ","PALMITO","ESPINAL","EL CAIRO"]
["05","ANTIOQUIA","05086","BELMIRA","Municipio",null,"CUNDINAMARCA",250,null,null,"BARBOSA (ANT)",null,"SABANALARGA (ATL)",null,"MAGANGUÉ","CHIQUINQUIRÁ","PALESTINA (CAL)",null,"TAURAMENA","LA SIERRA","PAILITAS","LLORÓ","PUEBLO NUEVO","CHIPAQUE",null,null,"LA ARGENTINA",null,"PIVIJAY","URIBE","EL CHARCO","HACARÍ",null,null,null,"CHARTA","SAMPUÉS","FALAN","EL CERRITO"]
["05","ANTIOQUIA","05088","BELLO","Municipio",null,"GUAINÍA",900,null,null,"BELMIRA",null,"SANTA LUCÍA",null,"MAHATES","CHISCAS","PENSILVANIA",null,"TRINIDAD","LA VEGA (CAU)","PELAYA","MEDIO ATRATO","PUERTO ESCONDIDO","CHOACHÍ",null,null,"LA PLATA",null,"PLATO","LEJANÍAS","EL PEÑOL","HERRÁN",null,null,null,"CHIMA","SAN BENITO ABAD","FLANDES","EL DOVIO"]
["05","ANTIOQUIA","05091","BETANIA","Municipio",null,"GUAVIARE",900,null,null,"BELLO",null,"SANTO TOMÁS",null,"MARGARITA","CHITA","RIOSUCIO (CAL)",null,"VILLANUEVA (CAS)","LÓPEZ DE MICAY","PUEBLO BELLO","MEDIO BAUDÓ","PUERTO LIBERTADOR","CHOCONTÁ",null,null,"NÁTAGA",null,"PUEBLOVIEJO","PUERTO CONCORDIA","EL ROSARIO","LABATECA",null,null,null,"CHIPATÁ","SAN JUAN DE BETULIA","FRESNO","FLORIDA"]
["05","ANTIOQUIA","05093","BETULIA","Municipio",null,"HUILA",250,null,null,"BETANIA",null,"SOLEDAD",null,"MARÍA LA BAJA","CHITARAQUE","RISARALDA",null,null,"MERCADERES","RÍO DE ORO","MEDIO SAN JUAN","PURÍSIMA DE LA CONCEPCIÓN","COGUA",null,null,"OPORAPA",null,"REMOLINO","PUERTO GAITÁN","EL TABLÓN DE GÓMEZ","LA ESPERANZA",null,null,null,"CIMITARRA","SAN MARCOS","GUAMO","GINEBRA"]
["05","ANTIOQUIA","05101","CIUDAD BOLÍVAR","Municipio",null,"LA_GUAJIRA",900,null,null,"BETULIA (ANT)",null,"SUAN",null,"MONTECRISTO","CHIVATÁ","SALAMINA (CAL)",null,null,"MIRANDA","LA PAZ (CES)","NÓVITA","SAHAGÚN","COTA",null,null,"PAICOL",null,"SABANAS DE SAN ÁNGEL","PUERTO LÓPEZ","EL TAMBO","LA PLAYA",null,null,null,"CONCEPCIÓN","SAN ONOFRE","HERVEO","GUACARÍ"]
["05","ANTIOQUIA","05107","BRICEÑO","Municipio",null,"MAGDALENA",250,null,null,"CIUDAD BOLÍVAR",null,"TUBARÁ",null,"MOMPÓS","CIÉNEGA","SAMANÁ",null,null,"MORALES","SAN ALBERTO","NUQUÍ","SAN ANDRÉS DE SOTAVENTO","CUCUNUBÁ",null,null,"PALERMO",null,"SALAMINA","PUERTO LLERAS","FUNES","LOS PATIOS",null,null,null,"CONFINES","SAN PEDRO (SUC)","HONDA","JAMUNDÍ"]
["05","ANTIOQUIA","05113","BURITICÁ","Municipio",null,"META",900,null,null,"BRICEÑO (ANT)",null,"USIACURÍ",null,"MORALES (BOL)","CÓMBITA","SAN JOSÉ",null,null,"PADILLA","SAN DIEGO","RÍO IRÓ","SAN ANTERO","EL COLEGIO",null,null,"PALESTINA",null,"SAN SEBASTIÁN DE BUENAVISTA","PUERTO RICO","GUACHUCAL","LOURDES",null,null,null,"CONTRATACIÓN","SAN LUIS DE SINCÉ","ICONONZO","LA CUMBRE"]
["05","ANTIOQUIA","05120","CÁCERES","Municipio",null,"NARIÑO",250,null,null,"BURITICÁ",null,null,null,"NOROSÍ","COPER","SUPÍA",null,null,"PÁEZ","SAN MARTÍN (CES)","RÍO QUITO","SAN BERNARDO DEL VIENTO","EL PEÑÓN (CUN)",null,null,"PITAL",null,"SAN ZENÓN","RESTREPO (MET)","GUAITARILLA","MUTISCUA",null,null,null,"COROMORO","SUCRE (SUC)","LÉRIDA","LA UNIÓN"]
["05","ANTIOQUIA","05125","CAICEDO","Municipio",null,"NORTE_DE_SANTANDER",250,null,null,"CÁCERES",null,null,null,"PINILLOS","CORRALES","VICTORIA",null,null,"PATÍA","TAMALAMEQUE","RIOSUCIO","SAN CARLOS","EL ROSAL",null,null,"PITALITO",null,"SANTA ANA","SAN CARLOS DE GUAROA","GUALMATÁN","OCAÑA",null,null,null,"CURITÍ","SANTIAGO DE TOLÚ","LÍBANO","LA VICTORIA"]
["05","ANTIOQUIA","05129","CALDAS","Municipio",null,"PUTUMAYO",900,null,null,"CAICEDO",null,null,null,"REGIDOR","COVARACHÍA","VILLAMARÍA",null,null,"PIAMONTE",null,"SAN JOSÉ DEL PALMAR","SAN JOSÉ DE URÉ","FACATATIVÁ",null,null,"RIVERA",null,"SANTA BÁRBARA DE PINTO","SAN JUAN DE ARAMA","ILES","PAMPLONA",null,null,null,"EL CARMEN DE CHUCURI","SAN JOSÉ DE TOLUVIEJO","SAN SEBASTIÁN DE MARIQUITA","OBANDO"]
["05","ANTIOQUIA","05134","CAMPAMENTO","Municipio",null,"QUINDÍO",250,null,null,"CALDAS (ANT)",null,null,null,"RÍO VIEJO","CUBARÁ","VITERBO",null,null,"PIENDAMÓ - TUNÍA",null,"SIPÍ","SAN PELAYO","FÓMEQUE",null,null,"SALADOBLANCO",null,"SITIONUEVO","SAN JUANITO","IMUÉS","PAMPLONITA",null,null,null,"EL GUACAMAYO",null,"MELGAR","PALMIRA"]
["05","ANTIOQUIA","05138","CAÑASGORDAS","Municipio",null,"RISARALDA",250,null,null,"CAMPAMENTO",null,null,null,"SAN CRISTÓBAL","CUCAITA",null,null,null,"PUERTO TEJADA",null,"TADÓ","TIERRALTA","FOSCA",null,null,"SAN AGUSTÍN",null,"TENERIFE","SAN MARTÍN","IPIALES","PUERTO SANTANDER",null,null,null,"EL PEÑÓN",null,"MURILLO","PRADERA"]
["05","ANTIOQUIA","05142","CARACOLÍ","Municipio",null,"SAN_ANDRES",250,null,null,"CAÑASGORDAS",null,null,null,"SAN ESTANISLAO","CUÍTIVA",null,null,null,"PURACÉ",null,"UNGUÍA","TUCHÍN","FUNZA",null,null,"SANTA MARÍA",null,"ZAPAYÁN","VISTAHERMOSA","LA CRUZ","RAGONVALIA",null,null,null,"EL PLAYÓN",null,"NATAGAIMA","RESTREPO"]
["05","ANTIOQUIA","05145","CARAMANTA","Municipio",null,"SANTANDER",250,null,null,"CARACOLÍ",null,null,null,"SAN FERNANDO","CHÍQUIZA",null,null,null,"ROSAS",null,"UNIÓN PANAMERICANA","VALENCIA","FÚQUENE",null,null,"SUAZA",null,"ZONA BANANERA",null,"LA FLORIDA","SALAZAR",null,null,null,"ENCINO",null,"ORTEGA","RIOFRÍO"]
["05","ANTIOQUIA","05147","CAREPA","Municipio",null,"SUCRE",250,null,null,"CARAMANTA",null,null,null,"SAN JACINTO","CHIVOR",null,null,null,"SAN SEBASTIÁN",null,null,null,"FUSAGASUGÁ",null,null,"TARQUI",null,null,null,"LA LLANADA","SAN CALIXTO",null,null,null,"ENCISO",null,"PALOCABILDO","ROLDANILLO"]
["05","ANTIOQUIA","05148","EL CARMEN DE VIBORAL","Municipio",null,"TOLIMA",250,null,null,"CAREPA",null,null,null,"SAN JACINTO DEL CAUCA","DUITAMA",null,null,null,"SANTANDER DE QUILICHAO",null,null,null,"GACHALÁ",null,null,"TESALIA",null,null,null,"LA TOLA","SAN CAYETANO",null,null,null,"FLORIÁN",null,"PIEDRAS","SAN PEDRO"]
["05","ANTIOQUIA","05150","CAROLINA","Municipio",null,"VALLE_DEL_CAUCA",250,null,null,"EL CARMEN DE VIBORAL",null,null,null,"SAN JUAN NEPOMUCENO","EL COCUY",null,null,null,"SANTA ROSA",null,null,null,"GACHANCIPÁ",null,null,"TELLO",null,null,null,"LA UNIÓN (NAR)","SANTIAGO",null,null,null,"FLORIDABLANCA",null,"PLANADAS","SEVILLA"]
["05","ANTIOQUIA","05154","CAUCASIA","Municipio",null,"VAUPÉS",900,null,null,"CAROLINA",null,null,null,"SAN MARTÍN DE LOBA","EL ESPINO",null,null,null,"SILVIA",null,null,null,"GACHETÁ",null,null,"TERUEL",null,null,null,"LEIVA","SARDINATA",null,null,null,"GALÁN",null,"PRADO","TORO"]
["05","ANTIOQUIA","05172","CHIGORODÓ","Municipio",null,"VICHADA",900,null,null,"CAUCASIA",null,null,null,"SAN PABLO (BOL)","FIRAVITOBA",null,null,null,"SOTARÁ PAISPAMBA",null,null,null,"GAMA",null,null,"TIMANÁ",null,null,null,"LINARES","SILOS",null,null,null,"GÁMBITA",null,"PURIFICACIÓN","TRUJILLO"]
["05","ANTIOQUIA","05190","CISNEROS","Municipio",null,null,null,null,null,"CHIGORODÓ",null,null,null,"SANTA CATALINA","FLORESTA",null,null,null,"SUÁREZ (CAU)",null,null,null,"GIRARDOT",null,null,"VILLAVIEJA",null,null,null,"LOS ANDES","TEORAMA",null,null,null,"GIRÓN",null,"RIOBLANCO","TULUÁ"]
["05","ANTIOQUIA","05197","COCORNÁ","Municipio",null,null,null,null,null,"CISNEROS",null,null,null,"SANTA ROSA (BOL)","GACHANTIVÁ",null,null,null,"SUCRE (CAU)",null,null,null,"GRANADA (CUN)",null,null,"YAGUARÁ",null,null,null,"MAGÜÍ","TIBÚ",null,null,null,"GUACA",null,"RONCESVALLES","ULLOA"]
["05","ANTIOQUIA","05206","CONCEPCIÓN","Municipio",null,null,null,null,null,"COCORNÁ",null,null,null,"SANTA ROSA DEL SUR","GÁMEZA",null,null,null,"TIMBÍO",null,null,null,"GUACHETÁ",null,null,null,null,null,null,"MALLAMA","TOLEDO",null,null,null,"GUADALUPE",null,"ROVIRA","VERSALLES"]
["05","ANTIOQUIA","05209","CONCORDIA","Municipio",null,null,null,null,null,"CONCEPCIÓN (ANT)",null,null,null,"SIMITÍ","GARAGOA",null,null,null,"TIMBIQUÍ",null,null,null,"GUADUAS",null,null,null,null,null,null,"MOSQUERA","VILLA CARO",null,null,null,"GUAPOTÁ",null,"SALDAÑA","VIJES"]
["05","ANTIOQUIA","05212","COPACABANA","Municipio",null,null,null,null,null,"CONCORDIA (ANT)",null,null,null,"SOPLAVIENTO","GUACAMAYAS",null,null,null,"TORIBÍO",null,null,null,"GUASCA",null,null,null,null,null,null,"NARIÑO","VILLA DEL ROSARIO",null,null,null,"GUAVATÁ",null,"SAN ANTONIO","YOTOCO"]
["05","ANTIOQUIA","05234","DABEIBA","Municipio",null,null,null,null,null,"COPACABANA",null,null,null,"TALAIGUA NUEVO","GUATEQUE",null,null,null,"TOTORÓ",null,null,null,"GUATAQUÍ",null,null,null,null,null,null,"OLAYA HERRERA",null,null,null,null,"GÜEPSA",null,"SAN LUIS","YUMBO"]
["05","ANTIOQUIA","05237","DONMATÍAS","Municipio",null,null,null,null,null,"DABEIBA",null,null,null,"TIQUISIO","GUAYATÁ",null,null,null,"VILLA RICA",null,null,null,"GUATAVITA",null,null,null,null,null,null,"OSPINA",null,null,null,null,"HATO",null,"SANTA ISABEL","ZARZAL"]
["05","ANTIOQUIA","05240","EBÉJICO","Municipio",null,null,null,null,null,"DONMATÍAS",null,null,null,"TURBACO","GÜICÁN DE LA SIERRA",null,null,null,null,null,null,null,"GUAYABAL DE SÍQUIMA",null,null,null,null,null,null,"FRANCISCO PIZARRO",null,null,null,null,"JESÚS MARÍA",null,"SUÁREZ"]
["05","ANTIOQUIA","05250","EL BAGRE","Municipio",null,null,null,null,null,"EBÉJICO",null,null,null,"TURBANÁ","IZA",null,null,null,null,null,null,null,"GUAYABETAL",null,null,null,null,null,null,"POLICARPA",null,null,null,null,"JORDÁN",null,"VALLE DE SAN JUAN"]
["05","ANTIOQUIA","05264","ENTRERRÍOS","Municipio",null,null,null,null,null,"EL BAGRE",null,null,null,"VILLANUEVA (BOL)","JENESANO",null,null,null,null,null,null,null,"GUTIÉRREZ",null,null,null,null,null,null,"POTOSÍ",null,null,null,null,"LA BELLEZA",null,"VENADILLO"]
["05","ANTIOQUIA","05266","ENVIGADO","Municipio",null,null,null,null,null,"ENTRERRÍOS",null,null,null,"ZAMBRANO","JERICÓ",null,null,null,null,null,null,null,"JERUSALÉN",null,null,null,null,null,null,"PROVIDENCIA",null,null,null,null,"LANDÁZURI",null,"VILLAHERMOSA"]
["05","ANTIOQUIA","05282","FREDONIA","Municipio",null,null,null,null,null,"ENVIGADO",null,null,null,null,"LABRANZAGRANDE",null,null,null,null,null,null,null,"JUNÍN",null,null,null,null,null,null,"PUERRES",null,null,null,null,"LA PAZ",null,"VILLARRICA"]
["05","ANTIOQUIA","05284","FRONTINO","Municipio",null,null,null,null,null,"FREDONIA",null,null,null,null,"LA CAPILLA",null,null,null,null,null,null,null,"LA CALERA",null,null,null,null,null,null,"PUPIALES",null,null,null,null,"LEBRIJA"]
["05","ANTIOQUIA","05306","GIRALDO","Municipio",null,null,null,null,null,"FRONTINO",null,null,null,null,"LA VICTORIA(BOY)",null,null,null,null,null,null,null,"LA MESA",null,null,null,null,null,null,"RICAURTE",null,null,null,null,"LOS SANTOS"]
["05","ANTIOQUIA","05308","GIRARDOTA","Municipio",null,null,null,null,null,"GIRALDO",null,null,null,null,"LA UVITA",null,null,null,null,null,null,null,"LA PALMA",null,null,null,null,null,null,"ROBERTO PAYÁN",null,null,null,null,"MACARAVITA"]
["05","ANTIOQUIA","05310","GÓMEZ PLATA","Municipio",null,null,null,null,null,"GIRARDOTA",null,null,null,null,"VILLA DE LEYVA",null,null,null,null,null,null,null,"LA PEÑA",null,null,null,null,null,null,"SAMANIEGO",null,null,null,null,"MÁLAGA"]
["05","ANTIOQUIA","05313","GRANADA","Municipio",null,null,null,null,null,"GÓMEZ PLATA",null,null,null,null,"MACANAL",null,null,null,null,null,null,null,"LA VEGA",null,null,null,null,null,null,"SANDONÁ",null,null,null,null,"MATANZA"]
["05","ANTIOQUIA","05315","GUADALUPE","Municipio",null,null,null,null,null,"GRANADA (ANT)",null,null,null,null,"MARIPÍ",null,null,null,null,null,null,null,"LENGUAZAQUE",null,null,null,null,null,null,"SAN BERNARDO",null,null,null,null,"MOGOTES"]
["05","ANTIOQUIA","05318","GUARNE","Municipio",null,null,null,null,null,"GUADALUPE (ANT)",null,null,null,null,"MIRAFLORES (BOY)",null,null,null,null,null,null,null,"MACHETÁ",null,null,null,null,null,null,"SAN LORENZO",null,null,null,null,"MOLAGAVITA"]
["05","ANTIOQUIA","05321","GUATAPÉ","Municipio",null,null,null,null,null,"GUARNE",null,null,null,null,"MONGUA",null,null,null,null,null,null,null,"MADRID",null,null,null,null,null,null,"SAN PABLO",null,null,null,null,"OCAMONTE"]
["05","ANTIOQUIA","05347","HELICONIA","Municipio",null,null,null,null,null,"GUATAPÉ",null,null,null,null,"MONGUÍ",null,null,null,null,null,null,null,"MANTA",null,null,null,null,null,null,"SAN PEDRO DE CARTAGO",null,null,null,null,"OIBA"]
["05","ANTIOQUIA","05353","HISPANIA","Municipio",null,null,null,null,null,"HELICONIA",null,null,null,null,"MONIQUIRÁ",null,null,null,null,null,null,null,"MEDINA",null,null,null,null,null,null,"SANTA BÁRBARA (NAR)",null,null,null,null,"ONZAGA"]
["05","ANTIOQUIA","05360","ITAGÜÍ","Municipio",null,null,null,null,null,"HISPANIA",null,null,null,null,"MOTAVITA",null,null,null,null,null,null,null,"MOSQUERA (CUN)",null,null,null,null,null,null,"SANTACRUZ",null,null,null,null,"PALMAR"]
["05","ANTIOQUIA","05361","ITUANGO","Municipio",null,null,null,null,null,"ITAGÜÍ",null,null,null,null,"MUZO",null,null,null,null,null,null,null,"NARIÑO (CUN)",null,null,null,null,null,null,"SAPUYES",null,null,null,null,"PALMAS DEL SOCORRO"]
["05","ANTIOQUIA","05364","JARDÍN","Municipio",null,null,null,null,null,"ITUANGO",null,null,null,null,"NOBSA",null,null,null,null,null,null,null,"NEMOCÓN",null,null,null,null,null,null,"TAMINANGO",null,null,null,null,"PÁRAMO"]
["05","ANTIOQUIA","05368","JERICÓ","Municipio",null,null,null,null,null,"JARDÍN",null,null,null,null,"NUEVO COLÓN",null,null,null,null,null,null,null,"NILO",null,null,null,null,null,null,"TANGUA",null,null,null,null,"PIEDECUESTA"]
["05","ANTIOQUIA","05376","LA CEJA","Municipio",null,null,null,null,null,"JERICÓ (ANT)",null,null,null,null,"OICATÁ",null,null,null,null,null,null,null,"NIMAIMA",null,null,null,null,null,null,"SAN ANDRÉS DE TUMACO",null,null,null,null,"PINCHOTE"]
["05","ANTIOQUIA","05380","LA ESTRELLA","Municipio",null,null,null,null,null,"LA CEJA",null,null,null,null,"OTANCHE",null,null,null,null,null,null,null,"NOCAIMA",null,null,null,null,null,null,"TÚQUERRES",null,null,null,null,"PUENTE NACIONAL"]
["05","ANTIOQUIA","05390","LA PINTADA","Municipio",null,null,null,null,null,"LA ESTRELLA",null,null,null,null,"PACHAVITA",null,null,null,null,null,null,null,"VENECIA",null,null,null,null,null,null,"YACUANQUER",null,null,null,null,"PUERTO PARRA"]
["05","ANTIOQUIA","05400","LA UNIÓN","Municipio",null,null,null,null,null,"LA PINTADA",null,null,null,null,"PÁEZ (BOY)",null,null,null,null,null,null,null,"PACHO",null,null,null,null,null,null,null,null,null,null,null,"PUERTO WILCHES"]
["05","ANTIOQUIA","05411","LIBORINA","Municipio",null,null,null,null,null,"LA UNIÓN (ANT)",null,null,null,null,"PAIPA",null,null,null,null,null,null,null,"PAIME",null,null,null,null,null,null,null,null,null,null,null,"RIONEGRO"]
["05","ANTIOQUIA","05425","MACEO","Municipio",null,null,null,null,null,"LIBORINA",null,null,null,null,"PAJARITO",null,null,null,null,null,null,null,"PANDI",null,null,null,null,null,null,null,null,null,null,null,"SABANA DE TORRES"]
["05","ANTIOQUIA","05440","MARINILLA","Municipio",null,null,null,null,null,"MACEO",null,null,null,null,"PANQUEBA",null,null,null,null,null,null,null,"PARATEBUENO",null,null,null,null,null,null,null,null,null,null,null,"SAN ANDRÉS"]
["05","ANTIOQUIA","05467","MONTEBELLO","Municipio",null,null,null,null,null,"MARINILLA",null,null,null,null,"PAUNA",null,null,null,null,null,null,null,"PASCA",null,null,null,null,null,null,null,null,null,null,null,"SAN BENITO"]
["05","ANTIOQUIA","05475","MURINDÓ","Municipio",null,null,null,null,null,"MONTEBELLO",null,null,null,null,"PAYA",null,null,null,null,null,null,null,"PUERTO SALGAR",null,null,null,null,null,null,null,null,null,null,null,"SAN GIL"]
["05","ANTIOQUIA","05480","MUTATÁ","Municipio",null,null,null,null,null,"MURINDÓ",null,null,null,null,"PAZ DE RÍO",null,null,null,null,null,null,null,"PULÍ",null,null,null,null,null,null,null,null,null,null,null,"SAN JOAQUÍN"]
["05","ANTIOQUIA","05483","NARIÑO","Municipio",null,null,null,null,null,"MUTATÁ",null,null,null,null,"PESCA",null,null,null,null,null,null,null,"QUEBRADANEGRA",null,null,null,null,null,null,null,null,null,null,null,"SAN JOSÉ DE MIRANDA"]
["05","ANTIOQUIA","05490","NECOCLÍ","Municipio",null,null,null,null,null,"NARIÑO (ANT)",null,null,null,null,"PISBA",null,null,null,null,null,null,null,"QUETAME",null,null,null,null,null,null,null,null,null,null,null,"SAN MIGUEL"]
["05","ANTIOQUIA","05495","NECHÍ","Municipio",null,null,null,null,null,"NECOCLÍ",null,null,null,null,"PUERTO BOYACÁ",null,null,null,null,null,null,null,"QUIPILE",null,null,null,null,null,null,null,null,null,null,null,"SAN VICENTE DE CHUCURÍ"]
["05","ANTIOQUIA","05501","OLAYA","Municipio",null,null,null,null,null,"NECHÍ",null,null,null,null,"QUÍPAMA",null,null,null,null,null,null,null,"APULO",null,null,null,null,null,null,null,null,null,null,null,"SANTA BÁRBARA"]
["05","ANTIOQUIA","05541","PEÑOL","Municipio",null,null,null,null,null,"OLAYA",null,null,null,null,"RAMIRIQUÍ",null,null,null,null,null,null,null,"RICAURTE (CUN)",null,null,null,null,null,null,null,null,null,null,null,"SANTA HELENA DEL OPÓN"]
["05","ANTIOQUIA","05543","PEQUE","Municipio",null,null,null,null,null,"PEÑOL",null,null,null,null,"RÁQUIRA",null,null,null,null,null,null,null,"SAN ANTONIO DEL TEQUENDAMA",null,null,null,null,null,null,null,null,null,null,null,"SIMACOTA"]
["05","ANTIOQUIA","05576","PUEBLORRICO","Municipio",null,null,null,null,null,"PEQUE",null,null,null,null,"RONDÓN",null,null,null,null,null,null,null,"SAN BERNARDO (CUN)",null,null,null,null,null,null,null,null,null,null,null,"SOCORRO"]
["05","ANTIOQUIA","05579","PUERTO BERRÍO","Municipio",null,null,null,null,null,"PUEBLORRICO",null,null,null,null,"SABOYÁ",null,null,null,null,null,null,null,"SAN CAYETANO (CUN)",null,null,null,null,null,null,null,null,null,null,null,"SUAITA"]
["05","ANTIOQUIA","05585","PUERTO NARE","Municipio",null,null,null,null,null,"PUERTO BERRÍO",null,null,null,null,"SÁCHICA",null,null,null,null,null,null,null,"SAN FRANCISCO",null,null,null,null,null,null,null,null,null,null,null,"SUCRE"]
["05","ANTIOQUIA","05591","PUERTO TRIUNFO","Municipio",null,null,null,null,null,"PUERTO NARE",null,null,null,null,"SAMACÁ",null,null,null,null,null,null,null,"SAN JUAN DE RIOSECO",null,null,null,null,null,null,null,null,null,null,null,"SURATÁ"]
["05","ANTIOQUIA","05604","REMEDIOS","Municipio",null,null,null,null,null,"PUERTO TRIUNFO",null,null,null,null,"SAN EDUARDO",null,null,null,null,null,null,null,"SASAIMA",null,null,null,null,null,null,null,null,null,null,null,"TONA"]
["05","ANTIOQUIA","05607","RETIRO","Municipio",null,null,null,null,null,"REMEDIOS",null,null,null,null,"SAN JOSÉ DE PARE",null,null,null,null,null,null,null,"SESQUILÉ",null,null,null,null,null,null,null,null,null,null,null,"VALLE DE SAN JOSÉ"]
["05","ANTIOQUIA","05615","RIONEGRO","Municipio",null,null,null,null,null,"RETIRO",null,null,null,null,"SAN LUIS DE GACENO",null,null,null,null,null,null,null,"SIBATÉ",null,null,null,null,null,null,null,null,null,null,null,"VÉLEZ"]
["05","ANTIOQUIA","05628","SABANALARGA","Municipio",null,null,null,null,null,"RIONEGRO (ANT)",null,null,null,null,"SAN MATEO",null,null,null,null,null,null,null,"SILVANIA",null,null,null,null,null,null,null,null,null,null,null,"VETAS"]
["05","ANTIOQUIA","05631","SABANETA","Municipio",null,null,null,null,null,"SABANALARGA (ANT)",null,null,null,null,"SAN MIGUEL DE SEMA",null,null,null,null,null,null,null,"SIMIJACA",null,null,null,null,null,null,null,null,null,null,null,"VILLANUEVA"]
["05","ANTIOQUIA","05642","SALGAR","Municipio",null,null,null,null,null,"SABANETA",null,null,null,null,"SAN PABLO DE BORBUR",null,null,null,null,null,null,null,"SOACHA",null,null,null,null,null,null,null,null,null,null,null,"ZAPATOCA"]
["05","ANTIOQUIA","05647","SAN ANDRÉS DE CUERQUÍA","Municipio",null,null,null,null,null,"SALGAR",null,null,null,null,"SANTANA",null,null,null,null,null,null,null,"SOPÓ"]
["05","ANTIOQUIA","05649","SAN CARLOS","Municipio",null,null,null,null,null,"SAN ANDRÉS DE CUERQUÍA",null,null,null,null,"SANTA MARÍA (BOY)",null,null,null,null,null,null,null,"SUBACHOQUE"]
["05","ANTIOQUIA","05652","SAN FRANCISCO","Municipio",null,null,null,null,null,"SAN CARLOS (ANT)",null,null,null,null,"SANTA ROSA DE VITERBO",null,null,null,null,null,null,null,"SUESCA"]
["05","ANTIOQUIA","05656","SAN JERÓNIMO","Municipio",null,null,null,null,null,"SAN FRANCISCO (ANT)",null,null,null,null,"SANTA SOFÍA",null,null,null,null,null,null,null,"SUPATÁ"]
["05","ANTIOQUIA","05658","SAN JOSÉ DE LA MONTAÑA","Municipio",null,null,null,null,null,"SAN JERÓNIMO",null,null,null,null,"SATIVANORTE",null,null,null,null,null,null,null,"SUSA"]
["05","ANTIOQUIA","05659","SAN JUAN DE URABÁ","Municipio",null,null,null,null,null,"SAN JOSÉ DE LA MONTAÑA",null,null,null,null,"SATIVASUR",null,null,null,null,null,null,null,"SUTATAUSA"]
["05","ANTIOQUIA","05660","SAN LUIS","Municipio",null,null,null,null,null,"SAN JUAN DE URABÁ",null,null,null,null,"SIACHOQUE",null,null,null,null,null,null,null,"TABIO"]
["05","ANTIOQUIA","05664","SAN PEDRO DE LOS MILAGROS","Municipio",null,null,null,null,null,"SAN LUIS (ANT)",null,null,null,null,"SOATÁ",null,null,null,null,null,null,null,"TAUSA"]
["05","ANTIOQUIA","05665","SAN PEDRO DE URABÁ","Municipio",null,null,null,null,null,"SAN PEDRO DE LOS MILAGROS",null,null,null,null,"SOCOTÁ",null,null,null,null,null,null,null,"TENA"]
["05","ANTIOQUIA","05667","SAN RAFAEL","Municipio",null,null,null,null,null,"SAN PEDRO DE URABÁ",null,null,null,null,"SOCHA",null,null,null,null,null,null,null,"TENJO"]
["05","ANTIOQUIA","05670","SAN ROQUE","Municipio",null,null,null,null,null,"SAN RAFAEL",null,null,null,null,"SOGAMOSO",null,null,null,null,null,null,null,"TIBACUY"]
["05","ANTIOQUIA","05674","SAN VICENTE FERRER","Municipio",null,null,null,null,null,"SAN ROQUE",null,null,null,null,"SOMONDOCO",null,null,null,null,null,null,null,"TIBIRITA"]
["05","ANTIOQUIA","05679","SANTA BÁRBARA","Municipio",null,null,null,null,null,"SAN VICENTE FERRER",null,null,null,null,"SORA",null,null,null,null,null,null,null,"TOCAIMA"]
["05","ANTIOQUIA","05686","SANTA ROSA DE OSOS","Municipio",null,null,null,null,null,"SANTA BÁRBARA (ANT)",null,null,null,null,"SOTAQUIRÁ",null,null,null,null,null,null,null,"TOCANCIPÁ"]
["05","ANTIOQUIA","05690","SANTO DOMINGO","Municipio",null,null,null,null,null,"SANTA ROSA DE OSOS",null,null,null,null,"SORACÁ",null,null,null,null,null,null,null,"TOPAIPÍ"]
["05","ANTIOQUIA","05697","EL SANTUARIO","Municipio",null,null,null,null,null,"SANTO DOMINGO",null,null,null,null,"SUSACÓN",null,null,null,null,null,null,null,"UBALÁ"]
["05","ANTIOQUIA","05736","SEGOVIA","Municipio",null,null,null,null,null,"EL SANTUARIO",null,null,null,null,"SUTAMARCHÁN",null,null,null,null,null,null,null,"UBAQUE"]
["05","ANTIOQUIA","05756","SONSÓN","Municipio",null,null,null,null,null,"SEGOVIA",null,null,null,null,"SUTATENZA",null,null,null,null,null,null,null,"VILLA DE SAN DIEGO DE UBATÉ"]
["05","ANTIOQUIA","05761","SOPETRÁN","Municipio",null,null,null,null,null,"SONSÓN",null,null,null,null,"TASCO",null,null,null,null,null,null,null,"UNE"]
["05","ANTIOQUIA","05789","TÁMESIS","Municipio",null,null,null,null,null,"SOPETRÁN",null,null,null,null,"TENZA",null,null,null,null,null,null,null,"ÚTICA"]
["05","ANTIOQUIA","05790","TARAZÁ","Municipio",null,null,null,null,null,"TÁMESIS",null,null,null,null,"TIBANÁ",null,null,null,null,null,null,null,"VERGARA"]
["05","ANTIOQUIA","05792","TARSO","Municipio",null,null,null,null,null,"TARAZÁ",null,null,null,null,"TIBASOSA",null,null,null,null,null,null,null,"VIANÍ"]
["05","ANTIOQUIA","05809","TITIRIBÍ","Municipio",null,null,null,null,null,"TARSO",null,null,null,null,"TINJACÁ",null,null,null,null,null,null,null,"VILLAGÓMEZ"]
["05","ANTIOQUIA","05819","TOLEDO","Municipio",null,null,null,null,null,"TITIRIBÍ",null,null,null,null,"TIPACOQUE",null,null,null,null,null,null,null,"VILLAPINZÓN"]
["05","ANTIOQUIA","05837","TURBO","Municipio",null,null,null,null,null,"TOLEDO (ANT)",null,null,null,null,"TOCA",null,null,null,null,null,null,null,"VILLETA"]
["05","ANTIOQUIA","05842","URAMITA","Municipio",null,null,null,null,null,"TURBO",null,null,null,null,"TOGÜÍ",null,null,null,null,null,null,null,"VIOTÁ"]
["05","ANTIOQUIA","05847","URRAO","Municipio",null,null,null,null,null,"URAMITA",null,null,null,null,"TÓPAGA",null,null,null,null,null,null,null,"YACOPÍ"]
["05","ANTIOQUIA","05854","VALDIVIA","Municipio",null,null,null,null,null,"URRAO",null,null,null,null,"TOTA",null,null,null,null,null,null,null,"ZIPACÓN"]
["05","ANTIOQUIA","05856","VALPARAÍSO","Municipio",null,null,null,null,null,"VALDIVIA",null,null,null,null,"TUNUNGUÁ",null,null,null,null,null,null,null,"ZIPAQUIRÁ"]
["05","ANTIOQUIA","05858","VEGACHÍ","Municipio",null,null,null,null,null,"VALPARAÍSO (ANT)",null,null,null,null,"TURMEQUÉ"]
["05","ANTIOQUIA","05861","VENECIA","Municipio",null,null,null,null,null,"VEGACHÍ",null,null,null,null,"TUTA"]
["05","ANTIOQUIA","05873","VIGÍA DEL FUERTE","Municipio",null,null,null,null,null,"VENECIA (ANT)",null,null,null,null,"TUTAZÁ"]
["05","ANTIOQUIA","05885","YALÍ","Municipio",null,null,null,null,null,"VIGÍA DEL FUERTE",null,null,null,null,"ÚMBITA"]
["05","ANTIOQUIA","05887","YARUMAL","Municipio",null,null,null,null,null,"YALÍ",null,null,null,null,"VENTAQUEMADA"]
["05","ANTIOQUIA","05890","YOLOMBÓ","Municipio",null,null,null,null,null,"YARUMAL",null,null,null,null,"VIRACACHÁ"]
["05","ANTIOQUIA","05893","YONDÓ","Municipio",null,null,null,null,null,"YOLOMBÓ",null,null,null,null,"ZETAQUIRA"]
["05","ANTIOQUIA","05895","ZARAGOZA","Municipio",null,null,null,null,null,"YONDÓ"]
["08","ATLÁNTICO","08001","BARRANQUILLA","Municipio",null,null,null,null,null,"ZARAGOZA"]
["08","ATLÁNTICO","08078","BARANOA","Municipio"]
["08","ATLÁNTICO","08137","CAMPO DE LA CRUZ","Municipio"]
["08","ATLÁNTICO","08141","CANDELARIA","Municipio"]
["08","ATLÁNTICO","08296","GALAPA","Municipio"]
["08","ATLÁNTICO","08372","JUAN DE ACOSTA","Municipio"]
["08","ATLÁNTICO","08421","LURUACO","Municipio"]
["08","ATLÁNTICO","08433","MALAMBO","Municipio"]
["08","ATLÁNTICO","08436","MANATÍ","Municipio"]
["08","ATLÁNTICO","08520","PALMAR DE VARELA","Municipio"]
["08","ATLÁNTICO","08549","PIOJÓ","Municipio"]
["08","ATLÁNTICO","08558","POLONUEVO","Municipio"]
["08","ATLÁNTICO","08560","PONEDERA","Municipio"]
["08","ATLÁNTICO","08573","PUERTO COLOMBIA","Municipio"]
["08","ATLÁNTICO","08606","REPELÓN","Municipio"]
["08","ATLÁNTICO","08634","SABANAGRANDE","Municipio"]
["08","ATLÁNTICO","08638","SABANALARGA","Municipio"]
["08","ATLÁNTICO","08675","SANTA LUCÍA","Municipio"]
["08","ATLÁNTICO","08685","SANTO TOMÁS","Municipio"]
["08","ATLÁNTICO","08758","SOLEDAD","Municipio"]
["08","ATLÁNTICO","08770","SUAN","Municipio"]
["08","ATLÁNTICO","08832","TUBARÁ","Municipio"]
["08","ATLÁNTICO","08849","USIACURÍ","Municipio"]
["11","BOGOTÁ_DC","11001","BOGOTÁ_DC","Municipio"]
["13","BOLÍVAR","13001","CARTAGENA DE INDIAS","Municipio"]
["13","BOLÍVAR","13006","ACHÍ","Municipio"]
["13","BOLÍVAR","13030","ALTOS DEL ROSARIO","Municipio"]
["13","BOLÍVAR","13042","ARENAL","Municipio"]
["13","BOLÍVAR","13052","ARJONA","Municipio"]
["13","BOLÍVAR","13062","ARROYOHONDO","Municipio"]
["13","BOLÍVAR","13074","BARRANCO DE LOBA","Municipio"]
["13","BOLÍVAR","13140","CALAMAR","Municipio"]
["13","BOLÍVAR","13160","CANTAGALLO","Municipio"]
["13","BOLÍVAR","13188","CICUCO","Municipio"]
["13","BOLÍVAR","13212","CÓRDOBA","Municipio"]
["13","BOLÍVAR","13222","CLEMENCIA","Municipio"]
["13","BOLÍVAR","13244","EL CARMEN DE BOLÍVAR","Municipio"]
["13","BOLÍVAR","13248","EL GUAMO","Municipio"]
["13","BOLÍVAR","13268","EL PEÑÓN","Municipio"]
["13","BOLÍVAR","13300","HATILLO DE LOBA","Municipio"]
["13","BOLÍVAR","13430","MAGANGUÉ","Municipio"]
["13","BOLÍVAR","13433","MAHATES","Municipio"]
["13","BOLÍVAR","13440","MARGARITA","Municipio"]
["13","BOLÍVAR","13442","MARÍA LA BAJA","Municipio"]
["13","BOLÍVAR","13458","MONTECRISTO","Municipio"]
["13","BOLÍVAR","13468","MOMPÓS","Municipio"]
["13","BOLÍVAR","13473","MORALES","Municipio"]
["13","BOLÍVAR","13490","NOROSÍ","Municipio"]
["13","BOLÍVAR","13549","PINILLOS","Municipio"]
["13","BOLÍVAR","13580","REGIDOR","Municipio"]
["13","BOLÍVAR","13600","RÍO VIEJO","Municipio"]
["13","BOLÍVAR","13620","SAN CRISTÓBAL","Municipio"]
["13","BOLÍVAR","13647","SAN ESTANISLAO","Municipio"]
["13","BOLÍVAR","13650","SAN FERNANDO","Municipio"]
["13","BOLÍVAR","13654","SAN JACINTO","Municipio"]
["13","BOLÍVAR","13655","SAN JACINTO DEL CAUCA","Municipio"]
["13","BOLÍVAR","13657","SAN JUAN NEPOMUCENO","Municipio"]
["13","BOLÍVAR","13667","SAN MARTÍN DE LOBA","Municipio"]
["13","BOLÍVAR","13670","SAN PABLO","Municipio"]
["13","BOLÍVAR","13673","SANTA CATALINA","Municipio"]
["13","BOLÍVAR","13683","SANTA ROSA","Municipio"]
["13","BOLÍVAR","13688","SANTA ROSA DEL SUR","Municipio"]
["13","BOLÍVAR","13744","SIMITÍ","Municipio"]
["13","BOLÍVAR","13760","SOPLAVIENTO","Municipio"]
["13","BOLÍVAR","13780","TALAIGUA NUEVO","Municipio"]
["13","BOLÍVAR","13810","TIQUISIO","Municipio"]
["13","BOLÍVAR","13836","TURBACO","Municipio"]
["13","BOLÍVAR","13838","TURBANÁ","Municipio"]
["13","BOLÍVAR","13873","VILLANUEVA","Municipio"]
["13","BOLÍVAR","13894","ZAMBRANO","Municipio"]
["15","BOYACÁ","15001","TUNJA","Municipio"]
["15","BOYACÁ","15022","ALMEIDA","Municipio"]
["15","BOYACÁ","15047","AQUITANIA","Municipio"]
["15","BOYACÁ","15051","ARCABUCO","Municipio"]
["15","BOYACÁ","15087","BELÉN","Municipio"]
["15","BOYACÁ","15090","BERBEO","Municipio"]
["15","BOYACÁ","15092","BETÉITIVA","Municipio"]
["15","BOYACÁ","15097","BOAVITA","Municipio"]
["15","BOYACÁ","15104","BOYACÁ","Municipio"]
["15","BOYACÁ","15106","BRICEÑO","Municipio"]
["15","BOYACÁ","15109","BUENAVISTA","Municipio"]
["15","BOYACÁ","15114","BUSBANZÁ","Municipio"]
["15","BOYACÁ","15131","CALDAS","Municipio"]
["15","BOYACÁ","15135","CAMPOHERMOSO","Municipio"]
["15","BOYACÁ","15162","CERINZA","Municipio"]
["15","BOYACÁ","15172","CHINAVITA","Municipio"]
["15","BOYACÁ","15176","CHIQUINQUIRÁ","Municipio"]
["15","BOYACÁ","15180","CHISCAS","Municipio"]
["15","BOYACÁ","15183","CHITA","Municipio"]
["15","BOYACÁ","15185","CHITARAQUE","Municipio"]
["15","BOYACÁ","15187","CHIVATÁ","Municipio"]
["15","BOYACÁ","15189","CIÉNEGA","Municipio"]
["15","BOYACÁ","15204","CÓMBITA","Municipio"]
["15","BOYACÁ","15212","COPER","Municipio"]
["15","BOYACÁ","15215","CORRALES","Municipio"]
["15","BOYACÁ","15218","COVARACHÍA","Municipio"]
["15","BOYACÁ","15223","CUBARÁ","Municipio"]
["15","BOYACÁ","15224","CUCAITA","Municipio"]
["15","BOYACÁ","15226","CUÍTIVA","Municipio"]
["15","BOYACÁ","15232","CHÍQUIZA","Municipio"]
["15","BOYACÁ","15236","CHIVOR","Municipio"]
["15","BOYACÁ","15238","DUITAMA","Municipio"]
["15","BOYACÁ","15244","EL COCUY","Municipio"]
["15","BOYACÁ","15248","EL ESPINO","Municipio"]
["15","BOYACÁ","15272","FIRAVITOBA","Municipio"]
["15","BOYACÁ","15276","FLORESTA","Municipio"]
["15","BOYACÁ","15293","GACHANTIVÁ","Municipio"]
["15","BOYACÁ","15296","GÁMEZA","Municipio"]
["15","BOYACÁ","15299","GARAGOA","Municipio"]
["15","BOYACÁ","15317","GUACAMAYAS","Municipio"]
["15","BOYACÁ","15322","GUATEQUE","Municipio"]
["15","BOYACÁ","15325","GUAYATÁ","Municipio"]
["15","BOYACÁ","15332","GÜICÁN DE LA SIERRA","Municipio"]
["15","BOYACÁ","15362","IZA","Municipio"]
["15","BOYACÁ","15367","JENESANO","Municipio"]
["15","BOYACÁ","15368","JERICÓ","Municipio"]
["15","BOYACÁ","15377","LABRANZAGRANDE","Municipio"]
["15","BOYACÁ","15380","LA CAPILLA","Municipio"]
["15","BOYACÁ","15401","LA VICTORIA","Municipio"]
["15","BOYACÁ","15403","LA UVITA","Municipio"]
["15","BOYACÁ","15407","VILLA DE LEYVA","Municipio"]
["15","BOYACÁ","15425","MACANAL","Municipio"]
["15","BOYACÁ","15442","MARIPÍ","Municipio"]
["15","BOYACÁ","15455","MIRAFLORES","Municipio"]
["15","BOYACÁ","15464","MONGUA","Municipio"]
["15","BOYACÁ","15466","MONGUÍ","Municipio"]
["15","BOYACÁ","15469","MONIQUIRÁ","Municipio"]
["15","BOYACÁ","15476","MOTAVITA","Municipio"]
["15","BOYACÁ","15480","MUZO","Municipio"]
["15","BOYACÁ","15491","NOBSA","Municipio"]
["15","BOYACÁ","15494","NUEVO COLÓN","Municipio"]
["15","BOYACÁ","15500","OICATÁ","Municipio"]
["15","BOYACÁ","15507","OTANCHE","Municipio"]
["15","BOYACÁ","15511","PACHAVITA","Municipio"]
["15","BOYACÁ","15514","PÁEZ","Municipio"]
["15","BOYACÁ","15516","PAIPA","Municipio"]
["15","BOYACÁ","15518","PAJARITO","Municipio"]
["15","BOYACÁ","15522","PANQUEBA","Municipio"]
["15","BOYACÁ","15531","PAUNA","Municipio"]
["15","BOYACÁ","15533","PAYA","Municipio"]
["15","BOYACÁ","15537","PAZ DE RÍO","Municipio"]
["15","BOYACÁ","15542","PESCA","Municipio"]
["15","BOYACÁ","15550","PISBA","Municipio"]
["15","BOYACÁ","15572","PUERTO BOYACÁ","Municipio"]
["15","BOYACÁ","15580","QUÍPAMA","Municipio"]
["15","BOYACÁ","15599","RAMIRIQUÍ","Municipio"]
["15","BOYACÁ","15600","RÁQUIRA","Municipio"]
["15","BOYACÁ","15621","RONDÓN","Municipio"]
["15","BOYACÁ","15632","SABOYÁ","Municipio"]
["15","BOYACÁ","15638","SÁCHICA","Municipio"]
["15","BOYACÁ","15646","SAMACÁ","Municipio"]
["15","BOYACÁ","15660","SAN EDUARDO","Municipio"]
["15","BOYACÁ","15664","SAN JOSÉ DE PARE","Municipio"]
["15","BOYACÁ","15667","SAN LUIS DE GACENO","Municipio"]
["15","BOYACÁ","15673","SAN MATEO","Municipio"]
["15","BOYACÁ","15676","SAN MIGUEL DE SEMA","Municipio"]
["15","BOYACÁ","15681","SAN PABLO DE BORBUR","Municipio"]
["15","BOYACÁ","15686","SANTANA","Municipio"]
["15","BOYACÁ","15690","SANTA MARÍA","Municipio"]
["15","BOYACÁ","15693","SANTA ROSA DE VITERBO","Municipio"]
["15","BOYACÁ","15696","SANTA SOFÍA","Municipio"]
["15","BOYACÁ","15720","SATIVANORTE","Municipio"]
["15","BOYACÁ","15723","SATIVASUR","Municipio"]
["15","BOYACÁ","15740","SIACHOQUE","Municipio"]
["15","BOYACÁ","15753","SOATÁ","Municipio"]
["15","BOYACÁ","15755","SOCOTÁ","Municipio"]
["15","BOYACÁ","15757","SOCHA","Municipio"]
["15","BOYACÁ","15759","SOGAMOSO","Municipio"]
["15","BOYACÁ","15761","SOMONDOCO","Municipio"]
["15","BOYACÁ","15762","SORA","Municipio"]
["15","BOYACÁ","15763","SOTAQUIRÁ","Municipio"]
["15","BOYACÁ","15764","SORACÁ","Municipio"]
["15","BOYACÁ","15774","SUSACÓN","Municipio"]
["15","BOYACÁ","15776","SUTAMARCHÁN","Municipio"]
["15","BOYACÁ","15778","SUTATENZA","Municipio"]
["15","BOYACÁ","15790","TASCO","Municipio"]
["15","BOYACÁ","15798","TENZA","Municipio"]
["15","BOYACÁ","15804","TIBANÁ","Municipio"]
["15","BOYACÁ","15806","TIBASOSA","Municipio"]
["15","BOYACÁ","15808","TINJACÁ","Municipio"]
["15","BOYACÁ","15810","TIPACOQUE","Municipio"]
["15","BOYACÁ","15814","TOCA","Municipio"]
["15","BOYACÁ","15816","TOGÜÍ","Municipio"]
["15","BOYACÁ","15820","TÓPAGA","Municipio"]
["15","BOYACÁ","15822","TOTA","Municipio"]
["15","BOYACÁ","15832","TUNUNGUÁ","Municipio"]
["15","BOYACÁ","15835","TURMEQUÉ","Municipio"]
["15","BOYACÁ","15837","TUTA","Municipio"]
["15","BOYACÁ","15839","TUTAZÁ","Municipio"]
["15","BOYACÁ","15842","ÚMBITA","Municipio"]
["15","BOYACÁ","15861","VENTAQUEMADA","Municipio"]
["15","BOYACÁ","15879","VIRACACHÁ","Municipio"]
["15","BOYACÁ","15897","ZETAQUIRA","Municipio"]
["17","CALDAS","17001","MANIZALES","Municipio"]
["17","CALDAS","17013","AGUADAS","Municipio"]
["17","CALDAS","17042","ANSERMA","Municipio"]
["17","CALDAS","17050","ARANZAZU","Municipio"]
["17","CALDAS","17088","BELALCÁZAR","Municipio"]
["17","CALDAS","17174","CHINCHINÁ","Municipio"]
["17","CALDAS","17272","FILADELFIA","Municipio"]
["17","CALDAS","17380","LA DORADA","Municipio"]
["17","CALDAS","17388","LA MERCED","Municipio"]
["17","CALDAS","17433","MANZANARES","Municipio"]
["17","CALDAS","17442","MARMATO","Municipio"]
["17","CALDAS","17444","MARQUETALIA","Municipio"]
["17","CALDAS","17446","MARULANDA","Municipio"]
["17","CALDAS","17486","NEIRA","Municipio"]
["17","CALDAS","17495","NORCASIA","Municipio"]
["17","CALDAS","17513","PÁCORA","Municipio"]
["17","CALDAS","17524","PALESTINA","Municipio"]
["17","CALDAS","17541","PENSILVANIA","Municipio"]
["17","CALDAS","17614","RIOSUCIO","Municipio"]
["17","CALDAS","17616","RISARALDA","Municipio"]
["17","CALDAS","17653","SALAMINA","Municipio"]
["17","CALDAS","17662","SAMANÁ","Municipio"]
["17","CALDAS","17665","SAN JOSÉ","Municipio"]
["17","CALDAS","17777","SUPÍA","Municipio"]
["17","CALDAS","17867","VICTORIA","Municipio"]
["17","CALDAS","17873","VILLAMARÍA","Municipio"]
["17","CALDAS","17877","VITERBO","Municipio"]
["18","CAQUETÁ","18001","FLORENCIA","Municipio"]
["18","CAQUETÁ","18029","ALBANIA","Municipio"]
["18","CAQUETÁ","18094","BELÉN DE LOS ANDAQUÍES","Municipio"]
["18","CAQUETÁ","18150","CARTAGENA DEL CHAIRÁ","Municipio"]
["18","CAQUETÁ","18205","CURILLO","Municipio"]
["18","CAQUETÁ","18247","EL DONCELLO","Municipio"]
["18","CAQUETÁ","18256","EL PAUJÍL","Municipio"]
["18","CAQUETÁ","18410","LA MONTAÑITA","Municipio"]
["18","CAQUETÁ","18460","MILÁN","Municipio"]
["18","CAQUETÁ","18479","MORELIA","Municipio"]
["18","CAQUETÁ","18592","PUERTO RICO","Municipio"]
["18","CAQUETÁ","18610","SAN JOSÉ DEL FRAGUA","Municipio"]
["18","CAQUETÁ","18753","SAN VICENTE DEL CAGUÁN","Municipio"]
["18","CAQUETÁ","18756","SOLANO","Municipio"]
["18","CAQUETÁ","18785","SOLITA","Municipio"]
["18","CAQUETÁ","18860","VALPARAÍSO","Municipio"]
["19","CAUCA","19001","POPAYÁN","Municipio"]
["19","CAUCA","19022","ALMAGUER","Municipio"]
["19","CAUCA","19050","ARGELIA","Municipio"]
["19","CAUCA","19075","BALBOA","Municipio"]
["19","CAUCA","19100","BOLÍVAR","Municipio"]
["19","CAUCA","19110","BUENOS AIRES","Municipio"]
["19","CAUCA","19130","CAJIBÍO","Municipio"]
["19","CAUCA","19137","CALDONO","Municipio"]
["19","CAUCA","19142","CALOTO","Municipio"]
["19","CAUCA","19212","CORINTO","Municipio"]
["19","CAUCA","19256","EL TAMBO","Municipio"]
["19","CAUCA","19290","FLORENCIA","Municipio"]
["19","CAUCA","19300","GUACHENÉ","Municipio"]
["19","CAUCA","19318","GUAPI","Municipio"]
["19","CAUCA","19355","INZÁ","Municipio"]
["19","CAUCA","19364","JAMBALÓ","Municipio"]
["19","CAUCA","19392","LA SIERRA","Municipio"]
["19","CAUCA","19397","LA VEGA","Municipio"]
["19","CAUCA","19418","LÓPEZ DE MICAY","Municipio"]
["19","CAUCA","19450","MERCADERES","Municipio"]
["19","CAUCA","19455","MIRANDA","Municipio"]
["19","CAUCA","19473","MORALES","Municipio"]
["19","CAUCA","19513","PADILLA","Municipio"]
["19","CAUCA","19517","PÁEZ","Municipio"]
["19","CAUCA","19532","PATÍA","Municipio"]
["19","CAUCA","19533","PIAMONTE","Municipio"]
["19","CAUCA","19548","PIENDAMÓ - TUNÍA","Municipio"]
["19","CAUCA","19573","PUERTO TEJADA","Municipio"]
["19","CAUCA","19585","PURACÉ","Municipio"]
["19","CAUCA","19622","ROSAS","Municipio"]
["19","CAUCA","19693","SAN SEBASTIÁN","Municipio"]
["19","CAUCA","19698","SANTANDER DE QUILICHAO","Municipio"]
["19","CAUCA","19701","SANTA ROSA","Municipio"]
["19","CAUCA","19743","SILVIA","Municipio"]
["19","CAUCA","19760","SOTARÁ PAISPAMBA","Municipio"]
["19","CAUCA","19780","SUÁREZ","Municipio"]
["19","CAUCA","19785","SUCRE","Municipio"]
["19","CAUCA","19807","TIMBÍO","Municipio"]
["19","CAUCA","19809","TIMBIQUÍ","Municipio"]
["19","CAUCA","19821","TORIBÍO","Municipio"]
["19","CAUCA","19824","TOTORÓ","Municipio"]
["19","CAUCA","19845","VILLA RICA","Municipio"]
["20","CESAR","20001","VALLEDUPAR","Municipio"]
["20","CESAR","20011","AGUACHICA","Municipio"]
["20","CESAR","20013","AGUSTÍN CODAZZI","Municipio"]
["20","CESAR","20032","ASTREA","Municipio"]
["20","CESAR","20045","BECERRIL","Municipio"]
["20","CESAR","20060","BOSCONIA","Municipio"]
["20","CESAR","20175","CHIMICHAGUA","Municipio"]
["20","CESAR","20178","CHIRIGUANÁ","Municipio"]
["20","CESAR","20228","CURUMANÍ","Municipio"]
["20","CESAR","20238","EL COPEY","Municipio"]
["20","CESAR","20250","EL PASO","Municipio"]
["20","CESAR","20295","GAMARRA","Municipio"]
["20","CESAR","20310","GONZÁLEZ","Municipio"]
["20","CESAR","20383","LA GLORIA","Municipio"]
["20","CESAR","20400","LA JAGUA DE IBIRICO","Municipio"]
["20","CESAR","20443","MANAURE BALCÓN DEL CESAR","Municipio"]
["20","CESAR","20517","PAILITAS","Municipio"]
["20","CESAR","20550","PELAYA","Municipio"]
["20","CESAR","20570","PUEBLO BELLO","Municipio"]
["20","CESAR","20614","RÍO DE ORO","Municipio"]
["20","CESAR","20621","LA PAZ","Municipio"]
["20","CESAR","20710","SAN ALBERTO","Municipio"]
["20","CESAR","20750","SAN DIEGO","Municipio"]
["20","CESAR","20770","SAN MARTÍN","Municipio"]
["20","CESAR","20787","TAMALAMEQUE","Municipio"]
["23","CÓRDOBA","23001","MONTERÍA","Municipio"]
["23","CÓRDOBA","23068","AYAPEL","Municipio"]
["23","CÓRDOBA","23079","BUENAVISTA","Municipio"]
["23","CÓRDOBA","23090","CANALETE","Municipio"]
["23","CÓRDOBA","23162","CERETÉ","Municipio"]
["23","CÓRDOBA","23168","CHIMÁ","Municipio"]
["23","CÓRDOBA","23182","CHINÚ","Municipio"]
["23","CÓRDOBA","23189","CIÉNAGA DE ORO","Municipio"]
["23","CÓRDOBA","23300","COTORRA","Municipio"]
["23","CÓRDOBA","23350","LA APARTADA","Municipio"]
["23","CÓRDOBA","23417","LORICA","Municipio"]
["23","CÓRDOBA","23419","LOS CÓRDOBAS","Municipio"]
["23","CÓRDOBA","23464","MOMIL","Municipio"]
["23","CÓRDOBA","23466","MONTELÍBANO","Municipio"]
["23","CÓRDOBA","23500","MOÑITOS","Municipio"]
["23","CÓRDOBA","23555","PLANETA RICA","Municipio"]
["23","CÓRDOBA","23570","PUEBLO NUEVO","Municipio"]
["23","CÓRDOBA","23574","PUERTO ESCONDIDO","Municipio"]
["23","CÓRDOBA","23580","PUERTO LIBERTADOR","Municipio"]
["23","CÓRDOBA","23586","PURÍSIMA DE LA CONCEPCIÓN","Municipio"]
["23","CÓRDOBA","23660","SAHAGÚN","Municipio"]
["23","CÓRDOBA","23670","SAN ANDRÉS DE SOTAVENTO","Municipio"]
["23","CÓRDOBA","23672","SAN ANTERO","Municipio"]
["23","CÓRDOBA","23675","SAN BERNARDO DEL VIENTO","Municipio"]
["23","CÓRDOBA","23678","SAN CARLOS","Municipio"]
["23","CÓRDOBA","23682","SAN JOSÉ DE URÉ","Municipio"]
["23","CÓRDOBA","23686","SAN PELAYO","Municipio"]
["23","CÓRDOBA","23807","TIERRALTA","Municipio"]
["23","CÓRDOBA","23815","TUCHÍN","Municipio"]
["23","CÓRDOBA","23855","VALENCIA","Municipio"]
["25","CUNDINAMARCA","25001","AGUA DE DIOS","Municipio"]
["25","CUNDINAMARCA","25019","ALBÁN","Municipio"]
["25","CUNDINAMARCA","25035","ANAPOIMA","Municipio"]
["25","CUNDINAMARCA","25040","ANOLAIMA","Municipio"]
["25","CUNDINAMARCA","25053","ARBELÁEZ","Municipio"]
["25","CUNDINAMARCA","25086","BELTRÁN","Municipio"]
["25","CUNDINAMARCA","25095","BITUIMA","Municipio"]
["25","CUNDINAMARCA","25099","BOJACÁ","Municipio"]
["25","CUNDINAMARCA","25120","CABRERA","Municipio"]
["25","CUNDINAMARCA","25123","CACHIPAY","Municipio"]
["25","CUNDINAMARCA","25126","CAJICÁ","Municipio"]
["25","CUNDINAMARCA","25148","CAPARRAPÍ","Municipio"]
["25","CUNDINAMARCA","25151","CÁQUEZA","Municipio"]
["25","CUNDINAMARCA","25154","CARMEN DE CARUPA","Municipio"]
["25","CUNDINAMARCA","25168","CHAGUANÍ","Municipio"]
["25","CUNDINAMARCA","25175","CHÍA","Municipio"]
["25","CUNDINAMARCA","25178","CHIPAQUE","Municipio"]
["25","CUNDINAMARCA","25181","CHOACHÍ","Municipio"]
["25","CUNDINAMARCA","25183","CHOCONTÁ","Municipio"]
["25","CUNDINAMARCA","25200","COGUA","Municipio"]
["25","CUNDINAMARCA","25214","COTA","Municipio"]
["25","CUNDINAMARCA","25224","CUCUNUBÁ","Municipio"]
["25","CUNDINAMARCA","25245","EL COLEGIO","Municipio"]
["25","CUNDINAMARCA","25258","EL PEÑÓN","Municipio"]
["25","CUNDINAMARCA","25260","EL ROSAL","Municipio"]
["25","CUNDINAMARCA","25269","FACATATIVÁ","Municipio"]
["25","CUNDINAMARCA","25279","FÓMEQUE","Municipio"]
["25","CUNDINAMARCA","25281","FOSCA","Municipio"]
["25","CUNDINAMARCA","25286","FUNZA","Municipio"]
["25","CUNDINAMARCA","25288","FÚQUENE","Municipio"]
["25","CUNDINAMARCA","25290","FUSAGASUGÁ","Municipio"]
["25","CUNDINAMARCA","25293","GACHALÁ","Municipio"]
["25","CUNDINAMARCA","25295","GACHANCIPÁ","Municipio"]
["25","CUNDINAMARCA","25297","GACHETÁ","Municipio"]
["25","CUNDINAMARCA","25299","GAMA","Municipio"]
["25","CUNDINAMARCA","25307","GIRARDOT","Municipio"]
["25","CUNDINAMARCA","25312","GRANADA","Municipio"]
["25","CUNDINAMARCA","25317","GUACHETÁ","Municipio"]
["25","CUNDINAMARCA","25320","GUADUAS","Municipio"]
["25","CUNDINAMARCA","25322","GUASCA","Municipio"]
["25","CUNDINAMARCA","25324","GUATAQUÍ","Municipio"]
["25","CUNDINAMARCA","25326","GUATAVITA","Municipio"]
["25","CUNDINAMARCA","25328","GUAYABAL DE SÍQUIMA","Municipio"]
["25","CUNDINAMARCA","25335","GUAYABETAL","Municipio"]
["25","CUNDINAMARCA","25339","GUTIÉRREZ","Municipio"]
["25","CUNDINAMARCA","25368","JERUSALÉN","Municipio"]
["25","CUNDINAMARCA","25372","JUNÍN","Municipio"]
["25","CUNDINAMARCA","25377","LA CALERA","Municipio"]
["25","CUNDINAMARCA","25386","LA MESA","Municipio"]
["25","CUNDINAMARCA","25394","LA PALMA","Municipio"]
["25","CUNDINAMARCA","25398","LA PEÑA","Municipio"]
["25","CUNDINAMARCA","25402","LA VEGA","Municipio"]
["25","CUNDINAMARCA","25407","LENGUAZAQUE","Municipio"]
["25","CUNDINAMARCA","25426","MACHETÁ","Municipio"]
["25","CUNDINAMARCA","25430","MADRID","Municipio"]
["25","CUNDINAMARCA","25436","MANTA","Municipio"]
["25","CUNDINAMARCA","25438","MEDINA","Municipio"]
["25","CUNDINAMARCA","25473","MOSQUERA","Municipio"]
["25","CUNDINAMARCA","25483","NARIÑO","Municipio"]
["25","CUNDINAMARCA","25486","NEMOCÓN","Municipio"]
["25","CUNDINAMARCA","25488","NILO","Municipio"]
["25","CUNDINAMARCA","25489","NIMAIMA","Municipio"]
["25","CUNDINAMARCA","25491","NOCAIMA","Municipio"]
["25","CUNDINAMARCA","25506","VENECIA","Municipio"]
["25","CUNDINAMARCA","25513","PACHO","Municipio"]
["25","CUNDINAMARCA","25518","PAIME","Municipio"]
["25","CUNDINAMARCA","25524","PANDI","Municipio"]
["25","CUNDINAMARCA","25530","PARATEBUENO","Municipio"]
["25","CUNDINAMARCA","25535","PASCA","Municipio"]
["25","CUNDINAMARCA","25572","PUERTO SALGAR","Municipio"]
["25","CUNDINAMARCA","25580","PULÍ","Municipio"]
["25","CUNDINAMARCA","25592","QUEBRADANEGRA","Municipio"]
["25","CUNDINAMARCA","25594","QUETAME","Municipio"]
["25","CUNDINAMARCA","25596","QUIPILE","Municipio"]
["25","CUNDINAMARCA","25599","APULO","Municipio"]
["25","CUNDINAMARCA","25612","RICAURTE","Municipio"]
["25","CUNDINAMARCA","25645","SAN ANTONIO DEL TEQUENDAMA","Municipio"]
["25","CUNDINAMARCA","25649","SAN BERNARDO","Municipio"]
["25","CUNDINAMARCA","25653","SAN CAYETANO","Municipio"]
["25","CUNDINAMARCA","25658","SAN FRANCISCO","Municipio"]
["25","CUNDINAMARCA","25662","SAN JUAN DE RIOSECO","Municipio"]
["25","CUNDINAMARCA","25718","SASAIMA","Municipio"]
["25","CUNDINAMARCA","25736","SESQUILÉ","Municipio"]
["25","CUNDINAMARCA","25740","SIBATÉ","Municipio"]
["25","CUNDINAMARCA","25743","SILVANIA","Municipio"]
["25","CUNDINAMARCA","25745","SIMIJACA","Municipio"]
["25","CUNDINAMARCA","25754","SOACHA","Municipio"]
["25","CUNDINAMARCA","25758","SOPÓ","Municipio"]
["25","CUNDINAMARCA","25769","SUBACHOQUE","Municipio"]
["25","CUNDINAMARCA","25772","SUESCA","Municipio"]
["25","CUNDINAMARCA","25777","SUPATÁ","Municipio"]
["25","CUNDINAMARCA","25779","SUSA","Municipio"]
["25","CUNDINAMARCA","25781","SUTATAUSA","Municipio"]
["25","CUNDINAMARCA","25785","TABIO","Municipio"]
["25","CUNDINAMARCA","25793","TAUSA","Municipio"]
["25","CUNDINAMARCA","25797","TENA","Municipio"]
["25","CUNDINAMARCA","25799","TENJO","Municipio"]
["25","CUNDINAMARCA","25805","TIBACUY","Municipio"]
["25","CUNDINAMARCA","25807","TIBIRITA","Municipio"]
["25","CUNDINAMARCA","25815","TOCAIMA","Municipio"]
["25","CUNDINAMARCA","25817","TOCANCIPÁ","Municipio"]
["25","CUNDINAMARCA","25823","TOPAIPÍ","Municipio"]
["25","CUNDINAMARCA","25839","UBALÁ","Municipio"]
["25","CUNDINAMARCA","25841","UBAQUE","Municipio"]
["25","CUNDINAMARCA","25843","VILLA DE SAN DIEGO DE UBATÉ","Municipio"]
["25","CUNDINAMARCA","25845","UNE","Municipio"]
["25","CUNDINAMARCA","25851","ÚTICA","Municipio"]
["25","CUNDINAMARCA","25862","VERGARA","Municipio"]
["25","CUNDINAMARCA","25867","VIANÍ","Municipio"]
["25","CUNDINAMARCA","25871","VILLAGÓMEZ","Municipio"]
["25","CUNDINAMARCA","25873","VILLAPINZÓN","Municipio"]
["25","CUNDINAMARCA","25875","VILLETA","Municipio"]
["25","CUNDINAMARCA","25878","VIOTÁ","Municipio"]
["25","CUNDINAMARCA","25885","YACOPÍ","Municipio"]
["25","CUNDINAMARCA","25898","ZIPACÓN","Municipio"]
["25","CUNDINAMARCA","25899","ZIPAQUIRÁ","Municipio"]
["27","CHOCÓ","27001","QUIBDÓ","Municipio"]
["27","CHOCÓ","27006","ACANDÍ","Municipio"]
["27","CHOCÓ","27025","ALTO BAUDÓ","Municipio"]
["27","CHOCÓ","27050","ATRATO","Municipio"]
["27","CHOCÓ","27073","BAGADÓ","Municipio"]
["27","CHOCÓ","27075","BAHÍA SOLANO","Municipio"]
["27","CHOCÓ","27077","BAJO BAUDÓ","Municipio"]
["27","CHOCÓ","27099","BOJAYÁ","Municipio"]
["27","CHOCÓ","27135","EL CANTÓN DEL SAN PABLO","Municipio"]
["27","CHOCÓ","27150","CARMEN DEL DARIÉN","Municipio"]
["27","CHOCÓ","27160","CÉRTEGUI","Municipio"]
["27","CHOCÓ","27205","CONDOTO","Municipio"]
["27","CHOCÓ","27245","EL CARMEN DE ATRATO","Municipio"]
["27","CHOCÓ","27250","EL LITORAL DEL SAN JUAN","Municipio"]
["27","CHOCÓ","27361","ISTMINA","Municipio"]
["27","CHOCÓ","27372","JURADÓ","Municipio"]
["27","CHOCÓ","27413","LLORÓ","Municipio"]
["27","CHOCÓ","27425","MEDIO ATRATO","Municipio"]
["27","CHOCÓ","27430","MEDIO BAUDÓ","Municipio"]
["27","CHOCÓ","27450","MEDIO SAN JUAN","Municipio"]
["27","CHOCÓ","27491","NÓVITA","Municipio"]
["27","CHOCÓ","27495","NUQUÍ","Municipio"]
["27","CHOCÓ","27580","RÍO IRÓ","Municipio"]
["27","CHOCÓ","27600","RÍO QUITO","Municipio"]
["27","CHOCÓ","27615","RIOSUCIO","Municipio"]
["27","CHOCÓ","27660","SAN JOSÉ DEL PALMAR","Municipio"]
["27","CHOCÓ","27745","SIPÍ","Municipio"]
["27","CHOCÓ","27787","TADÓ","Municipio"]
["27","CHOCÓ","27800","UNGUÍA","Municipio"]
["27","CHOCÓ","27810","UNIÓN PANAMERICANA","Municipio"]
["41","HUILA","41001","NEIVA","Municipio"]
["41","HUILA","41006","ACEVEDO","Municipio"]
["41","HUILA","41013","AGRADO","Municipio"]
["41","HUILA","41016","AIPE","Municipio"]
["41","HUILA","41020","ALGECIRAS","Municipio"]
["41","HUILA","41026","ALTAMIRA","Municipio"]
["41","HUILA","41078","BARAYA","Municipio"]
["41","HUILA","41132","CAMPOALEGRE","Municipio"]
["41","HUILA","41206","COLOMBIA","Municipio"]
["41","HUILA","41244","ELÍAS","Municipio"]
["41","HUILA","41298","GARZÓN","Municipio"]
["41","HUILA","41306","GIGANTE","Municipio"]
["41","HUILA","41319","GUADALUPE","Municipio"]
["41","HUILA","41349","HOBO","Municipio"]
["41","HUILA","41357","ÍQUIRA","Municipio"]
["41","HUILA","41359","ISNOS","Municipio"]
["41","HUILA","41378","LA ARGENTINA","Municipio"]
["41","HUILA","41396","LA PLATA","Municipio"]
["41","HUILA","41483","NÁTAGA","Municipio"]
["41","HUILA","41503","OPORAPA","Municipio"]
["41","HUILA","41518","PAICOL","Municipio"]
["41","HUILA","41524","PALERMO","Municipio"]
["41","HUILA","41530","PALESTINA","Municipio"]
["41","HUILA","41548","PITAL","Municipio"]
["41","HUILA","41551","PITALITO","Municipio"]
["41","HUILA","41615","RIVERA","Municipio"]
["41","HUILA","41660","SALADOBLANCO","Municipio"]
["41","HUILA","41668","SAN AGUSTÍN","Municipio"]
["41","HUILA","41676","SANTA MARÍA","Municipio"]
["41","HUILA","41770","SUAZA","Municipio"]
["41","HUILA","41791","TARQUI","Municipio"]
["41","HUILA","41797","TESALIA","Municipio"]
["41","HUILA","41799","TELLO","Municipio"]
["41","HUILA","41801","TERUEL","Municipio"]
["41","HUILA","41807","TIMANÁ","Municipio"]
["41","HUILA","41872","VILLAVIEJA","Municipio"]
["41","HUILA","41885","YAGUARÁ","Municipio"]
["44","LA GUAJIRA","44001","RIOHACHA","Municipio"]
["44","LA GUAJIRA","44035","ALBANIA","Municipio"]
["44","LA GUAJIRA","44078","BARRANCAS","Municipio"]
["44","LA GUAJIRA","44090","DIBULLA","Municipio"]
["44","LA GUAJIRA","44098","DISTRACCIÓN","Municipio"]
["44","LA GUAJIRA","44110","EL MOLINO","Municipio"]
["44","LA GUAJIRA","44279","FONSECA","Municipio"]
["44","LA GUAJIRA","44378","HATONUEVO","Municipio"]
["44","LA GUAJIRA","44420","LA JAGUA DEL PILAR","Municipio"]
["44","LA GUAJIRA","44430","MAICAO","Municipio"]
["44","LA GUAJIRA","44560","MANAURE","Municipio"]
["44","LA GUAJIRA","44650","SAN JUAN DEL CESAR","Municipio"]
["44","LA GUAJIRA","44847","URIBIA","Municipio"]
["44","LA GUAJIRA","44855","URUMITA","Municipio"]
["44","LA GUAJIRA","44874","VILLANUEVA","Municipio"]
["47","MAGDALENA","47001","SANTA MARTA","Municipio"]
["47","MAGDALENA","47030","ALGARROBO","Municipio"]
["47","MAGDALENA","47053","ARACATACA","Municipio"]
["47","MAGDALENA","47058","ARIGUANÍ","Municipio"]
["47","MAGDALENA","47161","CERRO DE SAN ANTONIO","Municipio"]
["47","MAGDALENA","47170","CHIVOLO","Municipio"]
["47","MAGDALENA","47189","CIÉNAGA","Municipio"]
["47","MAGDALENA","47205","CONCORDIA","Municipio"]
["47","MAGDALENA","47245","EL BANCO","Municipio"]
["47","MAGDALENA","47258","EL PIÑÓN","Municipio"]
["47","MAGDALENA","47268","EL RETÉN","Municipio"]
["47","MAGDALENA","47288","FUNDACIÓN","Municipio"]
["47","MAGDALENA","47318","GUAMAL","Municipio"]
["47","MAGDALENA","47460","NUEVA GRANADA","Municipio"]
["47","MAGDALENA","47541","PEDRAZA","Municipio"]
["47","MAGDALENA","47545","PIJIÑO DEL CARMEN","Municipio"]
["47","MAGDALENA","47551","PIVIJAY","Municipio"]
["47","MAGDALENA","47555","PLATO","Municipio"]
["47","MAGDALENA","47570","PUEBLOVIEJO","Municipio"]
["47","MAGDALENA","47605","REMOLINO","Municipio"]
["47","MAGDALENA","47660","SABANAS DE SAN ÁNGEL","Municipio"]
["47","MAGDALENA","47675","SALAMINA","Municipio"]
["47","MAGDALENA","47692","SAN SEBASTIÁN DE BUENAVISTA","Municipio"]
["47","MAGDALENA","47703","SAN ZENÓN","Municipio"]
["47","MAGDALENA","47707","SANTA ANA","Municipio"]
["47","MAGDALENA","47720","SANTA BÁRBARA DE PINTO","Municipio"]
["47","MAGDALENA","47745","SITIONUEVO","Municipio"]
["47","MAGDALENA","47798","TENERIFE","Municipio"]
["47","MAGDALENA","47960","ZAPAYÁN","Municipio"]
["47","MAGDALENA","47980","ZONA BANANERA","Municipio"]
["50","META","50001","VILLAVICENCIO","Municipio"]
["50","META","50006","ACACÍAS","Municipio"]
["50","META","50110","BARRANCA DE UPÍA","Municipio"]
["50","META","50124","CABUYARO","Municipio"]
["50","META","50150","CASTILLA LA NUEVA","Municipio"]
["50","META","50223","CUBARRAL","Municipio"]
["50","META","50226","CUMARAL","Municipio"]
["50","META","50245","EL CALVARIO","Municipio"]
["50","META","50251","EL CASTILLO","Municipio"]
["50","META","50270","EL DORADO","Municipio"]
["50","META","50287","FUENTE DE ORO","Municipio"]
["50","META","50313","GRANADA","Municipio"]
["50","META","50318","GUAMAL","Municipio"]
["50","META","50325","MAPIRIPÁN","Municipio"]
["50","META","50330","MESETAS","Municipio"]
["50","META","50350","LA MACARENA","Municipio"]
["50","META","50370","URIBE","Municipio"]
["50","META","50400","LEJANÍAS","Municipio"]
["50","META","50450","PUERTO CONCORDIA","Municipio"]
["50","META","50568","PUERTO GAITÁN","Municipio"]
["50","META","50573","PUERTO LÓPEZ","Municipio"]
["50","META","50577","PUERTO LLERAS","Municipio"]
["50","META","50590","PUERTO RICO","Municipio"]
["50","META","50606","RESTREPO","Municipio"]
["50","META","50680","SAN CARLOS DE GUAROA","Municipio"]
["50","META","50683","SAN JUAN DE ARAMA","Municipio"]
["50","META","50686","SAN JUANITO","Municipio"]
["50","META","50689","SAN MARTÍN","Municipio"]
["50","META","50711","VISTAHERMOSA","Municipio"]
["52","NARIÑO","52001","PASTO","Municipio"]
["52","NARIÑO","52019","ALBÁN","Municipio"]
["52","NARIÑO","52022","ALDANA","Municipio"]
["52","NARIÑO","52036","ANCUYA","Municipio"]
["52","NARIÑO","52051","ARBOLEDA","Municipio"]
["52","NARIÑO","52079","BARBACOAS","Municipio"]
["52","NARIÑO","52083","BELÉN","Municipio"]
["52","NARIÑO","52110","BUESACO","Municipio"]
["52","NARIÑO","52203","COLÓN","Municipio"]
["52","NARIÑO","52207","CONSACÁ","Municipio"]
["52","NARIÑO","52210","CONTADERO","Municipio"]
["52","NARIÑO","52215","CÓRDOBA","Municipio"]
["52","NARIÑO","52224","CUASPUD CARLOSAMA","Municipio"]
["52","NARIÑO","52227","CUMBAL","Municipio"]
["52","NARIÑO","52233","CUMBITARA","Municipio"]
["52","NARIÑO","52240","CHACHAGÜÍ","Municipio"]
["52","NARIÑO","52250","EL CHARCO","Municipio"]
["52","NARIÑO","52254","EL PEÑOL","Municipio"]
["52","NARIÑO","52256","EL ROSARIO","Municipio"]
["52","NARIÑO","52258","EL TABLÓN DE GÓMEZ","Municipio"]
["52","NARIÑO","52260","EL TAMBO","Municipio"]
["52","NARIÑO","52287","FUNES","Municipio"]
["52","NARIÑO","52317","GUACHUCAL","Municipio"]
["52","NARIÑO","52320","GUAITARILLA","Municipio"]
["52","NARIÑO","52323","GUALMATÁN","Municipio"]
["52","NARIÑO","52352","ILES","Municipio"]
["52","NARIÑO","52354","IMUÉS","Municipio"]
["52","NARIÑO","52356","IPIALES","Municipio"]
["52","NARIÑO","52378","LA CRUZ","Municipio"]
["52","NARIÑO","52381","LA FLORIDA","Municipio"]
["52","NARIÑO","52385","LA LLANADA","Municipio"]
["52","NARIÑO","52390","LA TOLA","Municipio"]
["52","NARIÑO","52399","LA UNIÓN","Municipio"]
["52","NARIÑO","52405","LEIVA","Municipio"]
["52","NARIÑO","52411","LINARES","Municipio"]
["52","NARIÑO","52418","LOS ANDES","Municipio"]
["52","NARIÑO","52427","MAGÜÍ","Municipio"]
["52","NARIÑO","52435","MALLAMA","Municipio"]
["52","NARIÑO","52473","MOSQUERA","Municipio"]
["52","NARIÑO","52480","NARIÑO","Municipio"]
["52","NARIÑO","52490","OLAYA HERRERA","Municipio"]
["52","NARIÑO","52506","OSPINA","Municipio"]
["52","NARIÑO","52520","FRANCISCO PIZARRO","Municipio"]
["52","NARIÑO","52540","POLICARPA","Municipio"]
["52","NARIÑO","52560","POTOSÍ","Municipio"]
["52","NARIÑO","52565","PROVIDENCIA","Municipio"]
["52","NARIÑO","52573","PUERRES","Municipio"]
["52","NARIÑO","52585","PUPIALES","Municipio"]
["52","NARIÑO","52612","RICAURTE","Municipio"]
["52","NARIÑO","52621","ROBERTO PAYÁN","Municipio"]
["52","NARIÑO","52678","SAMANIEGO","Municipio"]
["52","NARIÑO","52683","SANDONÁ","Municipio"]
["52","NARIÑO","52685","SAN BERNARDO","Municipio"]
["52","NARIÑO","52687","SAN LORENZO","Municipio"]
["52","NARIÑO","52693","SAN PABLO","Municipio"]
["52","NARIÑO","52694","SAN PEDRO DE CARTAGO","Municipio"]
["52","NARIÑO","52696","SANTA BÁRBARA","Municipio"]
["52","NARIÑO","52699","SANTACRUZ","Municipio"]
["52","NARIÑO","52720","SAPUYES","Municipio"]
["52","NARIÑO","52786","TAMINANGO","Municipio"]
["52","NARIÑO","52788","TANGUA","Municipio"]
["52","NARIÑO","52835","SAN ANDRÉS DE TUMACO","Municipio"]
["52","NARIÑO","52838","TÚQUERRES","Municipio"]
["52","NARIÑO","52885","YACUANQUER","Municipio"]
["54","NORTE DE SANTANDER","54001","SAN JOSÉ DE CÚCUTA","Municipio"]
["54","NORTE DE SANTANDER","54003","ÁBREGO","Municipio"]
["54","NORTE DE SANTANDER","54051","ARBOLEDAS","Municipio"]
["54","NORTE DE SANTANDER","54099","BOCHALEMA","Municipio"]
["54","NORTE DE SANTANDER","54109","BUCARASICA","Municipio"]
["54","NORTE DE SANTANDER","54125","CÁCOTA","Municipio"]
["54","NORTE DE SANTANDER","54128","CÁCHIRA","Municipio"]
["54","NORTE DE SANTANDER","54172","CHINÁCOTA","Municipio"]
["54","NORTE DE SANTANDER","54174","CHITAGÁ","Municipio"]
["54","NORTE DE SANTANDER","54206","CONVENCIÓN","Municipio"]
["54","NORTE DE SANTANDER","54223","CUCUTILLA","Municipio"]
["54","NORTE DE SANTANDER","54239","DURANIA","Municipio"]
["54","NORTE DE SANTANDER","54245","EL CARMEN","Municipio"]
["54","NORTE DE SANTANDER","54250","EL TARRA","Municipio"]
["54","NORTE DE SANTANDER","54261","EL ZULIA","Municipio"]
["54","NORTE DE SANTANDER","54313","GRAMALOTE","Municipio"]
["54","NORTE DE SANTANDER","54344","HACARÍ","Municipio"]
["54","NORTE DE SANTANDER","54347","HERRÁN","Municipio"]
["54","NORTE DE SANTANDER","54377","LABATECA","Municipio"]
["54","NORTE DE SANTANDER","54385","LA ESPERANZA","Municipio"]
["54","NORTE DE SANTANDER","54398","LA PLAYA","Municipio"]
["54","NORTE DE SANTANDER","54405","LOS PATIOS","Municipio"]
["54","NORTE DE SANTANDER","54418","LOURDES","Municipio"]
["54","NORTE DE SANTANDER","54480","MUTISCUA","Municipio"]
["54","NORTE DE SANTANDER","54498","OCAÑA","Municipio"]
["54","NORTE DE SANTANDER","54518","PAMPLONA","Municipio"]
["54","NORTE DE SANTANDER","54520","PAMPLONITA","Municipio"]
["54","NORTE DE SANTANDER","54553","PUERTO SANTANDER","Municipio"]
["54","NORTE DE SANTANDER","54599","RAGONVALIA","Municipio"]
["54","NORTE DE SANTANDER","54660","SALAZAR","Municipio"]
["54","NORTE DE SANTANDER","54670","SAN CALIXTO","Municipio"]
["54","NORTE DE SANTANDER","54673","SAN CAYETANO","Municipio"]
["54","NORTE DE SANTANDER","54680","SANTIAGO","Municipio"]
["54","NORTE DE SANTANDER","54720","SARDINATA","Municipio"]
["54","NORTE DE SANTANDER","54743","SILOS","Municipio"]
["54","NORTE DE SANTANDER","54800","TEORAMA","Municipio"]
["54","NORTE DE SANTANDER","54810","TIBÚ","Municipio"]
["54","NORTE DE SANTANDER","54820","TOLEDO","Municipio"]
["54","NORTE DE SANTANDER","54871","VILLA CARO","Municipio"]
["54","NORTE DE SANTANDER","54874","VILLA DEL ROSARIO","Municipio"]
["63","QUINDÍO","63001","ARMENIA","Municipio"]
["63","QUINDÍO","63111","BUENAVISTA","Municipio"]
["63","QUINDÍO","63130","CALARCÁ","Municipio"]
["63","QUINDÍO","63190","CIRCASIA","Municipio"]
["63","QUINDÍO","63212","CÓRDOBA","Municipio"]
["63","QUINDÍO","63272","FILANDIA","Municipio"]
["63","QUINDÍO","63302","GÉNOVA","Municipio"]
["63","QUINDÍO","63401","LA TEBAIDA","Municipio"]
["63","QUINDÍO","63470","MONTENEGRO","Municipio"]
["63","QUINDÍO","63548","PIJAO","Municipio"]
["63","QUINDÍO","63594","QUIMBAYA","Municipio"]
["63","QUINDÍO","63690","SALENTO","Municipio"]
["66","RISARALDA","66001","PEREIRA","Municipio"]
["66","RISARALDA","66045","APÍA","Municipio"]
["66","RISARALDA","66075","BALBOA","Municipio"]
["66","RISARALDA","66088","BELÉN DE UMBRÍA","Municipio"]
["66","RISARALDA","66170","DOSQUEBRADAS","Municipio"]
["66","RISARALDA","66318","GUÁTICA","Municipio"]
["66","RISARALDA","66383","LA CELIA","Municipio"]
["66","RISARALDA","66400","LA VIRGINIA","Municipio"]
["66","RISARALDA","66440","MARSELLA","Municipio"]
["66","RISARALDA","66456","MISTRATÓ","Municipio"]
["66","RISARALDA","66572","PUEBLO RICO","Municipio"]
["66","RISARALDA","66594","QUINCHÍA","Municipio"]
["66","RISARALDA","66682","SANTA ROSA DE CABAL","Municipio"]
["66","RISARALDA","66687","SANTUARIO","Municipio"]
["68","SANTANDER","68001","BUCARAMANGA","Municipio"]
["68","SANTANDER","68013","AGUADA","Municipio"]
["68","SANTANDER","68020","ALBANIA","Municipio"]
["68","SANTANDER","68051","ARATOCA","Municipio"]
["68","SANTANDER","68077","BARBOSA","Municipio"]
["68","SANTANDER","68079","BARICHARA","Municipio"]
["68","SANTANDER","68081","BARRANCABERMEJA","Municipio"]
["68","SANTANDER","68092","BETULIA","Municipio"]
["68","SANTANDER","68101","BOLÍVAR","Municipio"]
["68","SANTANDER","68121","CABRERA","Municipio"]
["68","SANTANDER","68132","CALIFORNIA","Municipio"]
["68","SANTANDER","68147","CAPITANEJO","Municipio"]
["68","SANTANDER","68152","CARCASÍ","Municipio"]
["68","SANTANDER","68160","CEPITÁ","Municipio"]
["68","SANTANDER","68162","CERRITO","Municipio"]
["68","SANTANDER","68167","CHARALÁ","Municipio"]
["68","SANTANDER","68169","CHARTA","Municipio"]
["68","SANTANDER","68176","CHIMA","Municipio"]
["68","SANTANDER","68179","CHIPATÁ","Municipio"]
["68","SANTANDER","68190","CIMITARRA","Municipio"]
["68","SANTANDER","68207","CONCEPCIÓN","Municipio"]
["68","SANTANDER","68209","CONFINES","Municipio"]
["68","SANTANDER","68211","CONTRATACIÓN","Municipio"]
["68","SANTANDER","68217","COROMORO","Municipio"]
["68","SANTANDER","68229","CURITÍ","Municipio"]
["68","SANTANDER","68235","EL CARMEN DE CHUCURI","Municipio"]
["68","SANTANDER","68245","EL GUACAMAYO","Municipio"]
["68","SANTANDER","68250","EL PEÑÓN","Municipio"]
["68","SANTANDER","68255","EL PLAYÓN","Municipio"]
["68","SANTANDER","68264","ENCINO","Municipio"]
["68","SANTANDER","68266","ENCISO","Municipio"]
["68","SANTANDER","68271","FLORIÁN","Municipio"]
["68","SANTANDER","68276","FLORIDABLANCA","Municipio"]
["68","SANTANDER","68296","GALÁN","Municipio"]
["68","SANTANDER","68298","GÁMBITA","Municipio"]
["68","SANTANDER","68307","GIRÓN","Municipio"]
["68","SANTANDER","68318","GUACA","Municipio"]
["68","SANTANDER","68320","GUADALUPE","Municipio"]
["68","SANTANDER","68322","GUAPOTÁ","Municipio"]
["68","SANTANDER","68324","GUAVATÁ","Municipio"]
["68","SANTANDER","68327","GÜEPSA","Municipio"]
["68","SANTANDER","68344","HATO","Municipio"]
["68","SANTANDER","68368","JESÚS MARÍA","Municipio"]
["68","SANTANDER","68370","JORDÁN","Municipio"]
["68","SANTANDER","68377","LA BELLEZA","Municipio"]
["68","SANTANDER","68385","LANDÁZURI","Municipio"]
["68","SANTANDER","68397","LA PAZ","Municipio"]
["68","SANTANDER","68406","LEBRIJA","Municipio"]
["68","SANTANDER","68418","LOS SANTOS","Municipio"]
["68","SANTANDER","68425","MACARAVITA","Municipio"]
["68","SANTANDER","68432","MÁLAGA","Municipio"]
["68","SANTANDER","68444","MATANZA","Municipio"]
["68","SANTANDER","68464","MOGOTES","Municipio"]
["68","SANTANDER","68468","MOLAGAVITA","Municipio"]
["68","SANTANDER","68498","OCAMONTE","Municipio"]
["68","SANTANDER","68500","OIBA","Municipio"]
["68","SANTANDER","68502","ONZAGA","Municipio"]
["68","SANTANDER","68522","PALMAR","Municipio"]
["68","SANTANDER","68524","PALMAS DEL SOCORRO","Municipio"]
["68","SANTANDER","68533","PÁRAMO","Municipio"]
["68","SANTANDER","68547","PIEDECUESTA","Municipio"]
["68","SANTANDER","68549","PINCHOTE","Municipio"]
["68","SANTANDER","68572","PUENTE NACIONAL","Municipio"]
["68","SANTANDER","68573","PUERTO PARRA","Municipio"]
["68","SANTANDER","68575","PUERTO WILCHES","Municipio"]
["68","SANTANDER","68615","RIONEGRO","Municipio"]
["68","SANTANDER","68655","SABANA DE TORRES","Municipio"]
["68","SANTANDER","68669","SAN ANDRÉS","Municipio"]
["68","SANTANDER","68673","SAN BENITO","Municipio"]
["68","SANTANDER","68679","SAN GIL","Municipio"]
["68","SANTANDER","68682","SAN JOAQUÍN","Municipio"]
["68","SANTANDER","68684","SAN JOSÉ DE MIRANDA","Municipio"]
["68","SANTANDER","68686","SAN MIGUEL","Municipio"]
["68","SANTANDER","68689","SAN VICENTE DE CHUCURÍ","Municipio"]
["68","SANTANDER","68705","SANTA BÁRBARA","Municipio"]
["68","SANTANDER","68720","SANTA HELENA DEL OPÓN","Municipio"]
["68","SANTANDER","68745","SIMACOTA","Municipio"]
["68","SANTANDER","68755","SOCORRO","Municipio"]
["68","SANTANDER","68770","SUAITA","Municipio"]
["68","SANTANDER","68773","SUCRE","Municipio"]
["68","SANTANDER","68780","SURATÁ","Municipio"]
["68","SANTANDER","68820","TONA","Municipio"]
["68","SANTANDER","68855","VALLE DE SAN JOSÉ","Municipio"]
["68","SANTANDER","68861","VÉLEZ","Municipio"]
["68","SANTANDER","68867","VETAS","Municipio"]
["68","SANTANDER","68872","VILLANUEVA","Municipio"]
["68","SANTANDER","68895","ZAPATOCA","Municipio"]
["70","SUCRE","70001","SINCELEJO","Municipio"]
["70","SUCRE","70110","BUENAVISTA","Municipio"]
["70","SUCRE","70124","CAIMITO","Municipio"]
["70","SUCRE","70204","COLOSÓ","Municipio"]
["70","SUCRE","70215","COROZAL","Municipio"]
["70","SUCRE","70221","COVEÑAS","Municipio"]
["70","SUCRE","70230","CHALÁN","Municipio"]
["70","SUCRE","70233","EL ROBLE","Municipio"]
["70","SUCRE","70235","GALERAS","Municipio"]
["70","SUCRE","70265","GUARANDA","Municipio"]
["70","SUCRE","70400","LA UNIÓN","Municipio"]
["70","SUCRE","70418","LOS PALMITOS","Municipio"]
["70","SUCRE","70429","MAJAGUAL","Municipio"]
["70","SUCRE","70473","MORROA","Municipio"]
["70","SUCRE","70508","OVEJAS","Municipio"]
["70","SUCRE","70523","PALMITO","Municipio"]
["70","SUCRE","70670","SAMPUÉS","Municipio"]
["70","SUCRE","70678","SAN BENITO ABAD","Municipio"]
["70","SUCRE","70702","SAN JUAN DE BETULIA","Municipio"]
["70","SUCRE","70708","SAN MARCOS","Municipio"]
["70","SUCRE","70713","SAN ONOFRE","Municipio"]
["70","SUCRE","70717","SAN PEDRO","Municipio"]
["70","SUCRE","70742","SAN LUIS DE SINCÉ","Municipio"]
["70","SUCRE","70771","SUCRE","Municipio"]
["70","SUCRE","70820","SANTIAGO DE TOLÚ","Municipio"]
["70","SUCRE","70823","SAN JOSÉ DE TOLUVIEJO","Municipio"]
["73","TOLIMA","73001","IBAGUÉ","Municipio"]
["73","TOLIMA","73024","ALPUJARRA","Municipio"]
["73","TOLIMA","73026","ALVARADO","Municipio"]
["73","TOLIMA","73030","AMBALEMA","Municipio"]
["73","TOLIMA","73043","ANZOÁTEGUI","Municipio"]
["73","TOLIMA","73055","ARMERO","Municipio"]
["73","TOLIMA","73067","ATACO","Municipio"]
["73","TOLIMA","73124","CAJAMARCA","Municipio"]
["73","TOLIMA","73148","CARMEN DE APICALÁ","Municipio"]
["73","TOLIMA","73152","CASABIANCA","Municipio"]
["73","TOLIMA","73168","CHAPARRAL","Municipio"]
["73","TOLIMA","73200","COELLO","Municipio"]
["73","TOLIMA","73217","COYAIMA","Municipio"]
["73","TOLIMA","73226","CUNDAY","Municipio"]
["73","TOLIMA","73236","DOLORES","Municipio"]
["73","TOLIMA","73268","ESPINAL","Municipio"]
["73","TOLIMA","73270","FALAN","Municipio"]
["73","TOLIMA","73275","FLANDES","Municipio"]
["73","TOLIMA","73283","FRESNO","Municipio"]
["73","TOLIMA","73319","GUAMO","Municipio"]
["73","TOLIMA","73347","HERVEO","Municipio"]
["73","TOLIMA","73349","HONDA","Municipio"]
["73","TOLIMA","73352","ICONONZO","Municipio"]
["73","TOLIMA","73408","LÉRIDA","Municipio"]
["73","TOLIMA","73411","LÍBANO","Municipio"]
["73","TOLIMA","73443","SAN SEBASTIÁN DE MARIQUITA","Municipio"]
["73","TOLIMA","73449","MELGAR","Municipio"]
["73","TOLIMA","73461","MURILLO","Municipio"]
["73","TOLIMA","73483","NATAGAIMA","Municipio"]
["73","TOLIMA","73504","ORTEGA","Municipio"]
["73","TOLIMA","73520","PALOCABILDO","Municipio"]
["73","TOLIMA","73547","PIEDRAS","Municipio"]
["73","TOLIMA","73555","PLANADAS","Municipio"]
["73","TOLIMA","73563","PRADO","Municipio"]
["73","TOLIMA","73585","PURIFICACIÓN","Municipio"]
["73","TOLIMA","73616","RIOBLANCO","Municipio"]
["73","TOLIMA","73622","RONCESVALLES","Municipio"]
["73","TOLIMA","73624","ROVIRA","Municipio"]
["73","TOLIMA","73671","SALDAÑA","Municipio"]
["73","TOLIMA","73675","SAN ANTONIO","Municipio"]
["73","TOLIMA","73678","SAN LUIS","Municipio"]
["73","TOLIMA","73686","SANTA ISABEL","Municipio"]
["73","TOLIMA","73770","SUÁREZ","Municipio"]
["73","TOLIMA","73854","VALLE DE SAN JUAN","Municipio"]
["73","TOLIMA","73861","VENADILLO","Municipio"]
["73","TOLIMA","73870","VILLAHERMOSA","Municipio"]
["73","TOLIMA","73873","VILLARRICA","Municipio"]
["76","VALLE DEL CAUCA","76001","CALI","Municipio"]
["76","VALLE DEL CAUCA","76020","ALCALÁ","Municipio"]
["76","VALLE DEL CAUCA","76036","ANDALUCÍA","Municipio"]
["76","VALLE DEL CAUCA","76041","ANSERMANUEVO","Municipio"]
["76","VALLE DEL CAUCA","76054","ARGELIA","Municipio"]
["76","VALLE DEL CAUCA","76100","BOLÍVAR","Municipio"]
["76","VALLE DEL CAUCA","76109","BUENAVENTURA","Municipio"]
["76","VALLE DEL CAUCA","76111","GUADALAJARA DE BUGA","Municipio"]
["76","VALLE DEL CAUCA","76113","BUGALAGRANDE","Municipio"]
["76","VALLE DEL CAUCA","76122","CAICEDONIA","Municipio"]
["76","VALLE DEL CAUCA","76126","CALIMA","Municipio"]
["76","VALLE DEL CAUCA","76130","CANDELARIA","Municipio"]
["76","VALLE DEL CAUCA","76147","CARTAGO","Municipio"]
["76","VALLE DEL CAUCA","76233","DAGUA","Municipio"]
["76","VALLE DEL CAUCA","76243","EL ÁGUILA","Municipio"]
["76","VALLE DEL CAUCA","76246","EL CAIRO","Municipio"]
["76","VALLE DEL CAUCA","76248","EL CERRITO","Municipio"]
["76","VALLE DEL CAUCA","76250","EL DOVIO","Municipio"]
["76","VALLE DEL CAUCA","76275","FLORIDA","Municipio"]
["76","VALLE DEL CAUCA","76306","GINEBRA","Municipio"]
["76","VALLE DEL CAUCA","76318","GUACARÍ","Municipio"]
["76","VALLE DEL CAUCA","76364","JAMUNDÍ","Municipio"]
["76","VALLE DEL CAUCA","76377","LA CUMBRE","Municipio"]
["76","VALLE DEL CAUCA","76400","LA UNIÓN","Municipio"]
["76","VALLE DEL CAUCA","76403","LA VICTORIA","Municipio"]
["76","VALLE DEL CAUCA","76497","OBANDO","Municipio"]
["76","VALLE DEL CAUCA","76520","PALMIRA","Municipio"]
["76","VALLE DEL CAUCA","76563","PRADERA","Municipio"]
["76","VALLE DEL CAUCA","76606","RESTREPO","Municipio"]
["76","VALLE DEL CAUCA","76616","RIOFRÍO","Municipio"]
["76","VALLE DEL CAUCA","76622","ROLDANILLO","Municipio"]
["76","VALLE DEL CAUCA","76670","SAN PEDRO","Municipio"]
["76","VALLE DEL CAUCA","76736","SEVILLA","Municipio"]
["76","VALLE DEL CAUCA","76823","TORO","Municipio"]
["76","VALLE DEL CAUCA","76828","TRUJILLO","Municipio"]
["76","VALLE DEL CAUCA","76834","TULUÁ","Municipio"]
["76","VALLE DEL CAUCA","76845","ULLOA","Municipio"]
["76","VALLE DEL CAUCA","76863","VERSALLES","Municipio"]
["76","VALLE DEL CAUCA","76869","VIJES","Municipio"]
["76","VALLE DEL CAUCA","76890","YOTOCO","Municipio"]
["76","VALLE DEL CAUCA","76892","YUMBO","Municipio"]
["76","VALLE DEL CAUCA","76895","ZARZAL","Municipio"]
["81","ARAUCA","81001","ARAUCA","Municipio"]
["81","ARAUCA","81065","ARAUQUITA","Municipio"]
["81","ARAUCA","81220","CRAVO NORTE","Municipio"]
["81","ARAUCA","81300","FORTUL","Municipio"]
["81","ARAUCA","81591","PUERTO RONDÓN","Municipio"]
["81","ARAUCA","81736","SARAVENA","Municipio"]
["81","ARAUCA","81794","TAME","Municipio"]
["85","CASANARE","85001","YOPAL","Municipio"]
["85","CASANARE","85010","AGUAZUL","Municipio"]
["85","CASANARE","85015","CHÁMEZA","Municipio"]
["85","CASANARE","85125","HATO COROZAL","Municipio"]
["85","CASANARE","85136","LA SALINA","Municipio"]
["85","CASANARE","85139","MANÍ","Municipio"]
["85","CASANARE","85162","MONTERREY","Municipio"]
["85","CASANARE","85225","NUNCHÍA","Municipio"]
["85","CASANARE","85230","OROCUÉ","Municipio"]
["85","CASANARE","85250","PAZ DE ARIPORO","Municipio"]
["85","CASANARE","85263","PORE","Municipio"]
["85","CASANARE","85279","RECETOR","Municipio"]
["85","CASANARE","85300","SABANALARGA","Municipio"]
["85","CASANARE","85315","SÁCAMA","Municipio"]
["85","CASANARE","85325","SAN LUIS DE PALENQUE","Municipio"]
["85","CASANARE","85400","TÁMARA","Municipio"]
["85","CASANARE","85410","TAURAMENA","Municipio"]
["85","CASANARE","85430","TRINIDAD","Municipio"]
["85","CASANARE","85440","VILLANUEVA","Municipio"]
["86","PUTUMAYO","86001","MOCOA","Municipio"]
["86","PUTUMAYO","86219","COLÓN","Municipio"]
["86","PUTUMAYO","86320","ORITO","Municipio"]
["86","PUTUMAYO","86568","PUERTO ASÍS","Municipio"]
["86","PUTUMAYO","86569","PUERTO CAICEDO","Municipio"]
["86","PUTUMAYO","86571","PUERTO GUZMÁN","Municipio"]
["86","PUTUMAYO","86573","PUERTO LEGUÍZAMO","Municipio"]
["86","PUTUMAYO","86749","SIBUNDOY","Municipio"]
["86","PUTUMAYO","86755","SAN FRANCISCO","Municipio"]
["86","PUTUMAYO","86757","SAN MIGUEL","Municipio"]
["86","PUTUMAYO","86760","SANTIAGO","Municipio"]
["86","PUTUMAYO","86865","VALLE DEL GUAMUEZ","Municipio"]
["86","PUTUMAYO","86885","VILLAGARZÓN","Municipio"]
["88","ARCHIPIÉLAGO DE SAN ANDRÉS, PROVIDENCIA Y SANTA CATALINA","88001","SAN ANDRÉS","Isla"]
["88","ARCHIPIÉLAGO DE SAN ANDRÉS, PROVIDENCIA Y SANTA CATALINA","88564","PROVIDENCIA","Municipio"]
["91","AMAZONAS","91001","LETICIA","Municipio"]
["91","AMAZONAS","91263","EL ENCANTO","Área no municipalizada"]
["91","AMAZONAS","91405","LA CHORRERA","Área no municipalizada"]
["91","AMAZONAS","91407","LA PEDRERA","Área no municipalizada"]
["91","AMAZONAS","91430","LA VICTORIA","Área no municipalizada"]
["91","AMAZONAS","91460","MIRITÍ - PARANÁ","Área no municipalizada"]
["91","AMAZONAS","91530","PUERTO ALEGRÍA","Área no municipalizada"]
["91","AMAZONAS","91536","PUERTO ARICA","Área no municipalizada"]
["91","AMAZONAS","91540","PUERTO NARIÑO","Municipio"]
["91","AMAZONAS","91669","PUERTO SANTANDER","Área no municipalizada"]
["91","AMAZONAS","91798","TARAPACÁ","Área no municipalizada"]
["94","GUAINÍA","94001","INÍRIDA","Municipio"]
["94","GUAINÍA","94343","BARRANCOMINAS*","Área no municipalizada","*"]
["94","GUAINÍA","94663","MAPIRIPANA*","Área no municipalizada","*"]
["94","GUAINÍA","94883","SAN FELIPE","Área no municipalizada"]
["94","GUAINÍA","94884","PUERTO COLOMBIA","Área no municipalizada"]
["94","GUAINÍA","94885","LA GUADALUPE","Área no municipalizada"]
["94","GUAINÍA","94886","CACAHUAL","Área no municipalizada"]
["94","GUAINÍA","94887","PANA PANA","Área no municipalizada"]
["94","GUAINÍA","94888","MORICHAL","Área no municipalizada"]
["95","GUAVIARE","95001","SAN JOSÉ DEL GUAVIARE","Municipio"]
["95","GUAVIARE","95015","CALAMAR","Municipio"]
["95","GUAVIARE","95025","EL RETORNO","Municipio"]
["95","GUAVIARE","95200","MIRAFLORES","Municipio"]
["97","VAUPÉS","97001","MITÚ","Municipio"]
["97","VAUPÉS","97161","CARURÚ","Municipio"]
["97","VAUPÉS","97511","PACOA","Área no municipalizada"]
["97","VAUPÉS","97666","TARAIRA","Municipio"]
["97","VAUPÉS","97777","PAPUNAHUA","Área no municipalizada"]
["97","VAUPÉS","97889","YAVARATÉ","Área no municipalizada"]
["99","VICHADA","99001","PUERTO CARREÑO","Municipio"]
["99","VICHADA","99524","LA PRIMAVERA","Municipio"]
["99","VICHADA","99624","SANTA ROSALÍA","Municipio"]
["99","VICHADA","99773","CUMARIBO","Municipio"]
[]
[]
["Fuente: DANE."]
["Nota: En la actualidad el país se compone de 1.101 municipios, 20 Áreas no municipalizadas y la Isla de San Andrés."]
["Actualizado al: 10 de Diciembre de 2019"]
[]
[]
[]
["*Desde el 1 de diciembre de 2019 comenzó a regir la Ordenanza 248 de 2019 de la Asamblea Departamental de Guainía que crea el municipio de Barrancominas,"]
["conformado por las áreas no municipalizadas de Barrancominas y Mapiripana. Una vez el Instituto Geográfico Agustín Codazzi establezca los límites geográficos "]
["y mapas oficiales de esta nueva entidad territorial, el Departamento Administrativo Nacional de Estadística -DANE- eliminará dichas áreas municipalizadas de la DIVIPOLA "]
["e incluirá en esta y en el Marco Geoestadístico Nacional al municipio de Barrancominas."]

{"sheet":"DANE-OK","index":10,"n_rows":1122,"n_cols":8,"rows_kept":1122,"cut":false,"hidden":true,"merged":[]}
["MEDELLÍN","05","ANTIOQUIA","05001","MEDELLÍN",null,"ANTIOQUIA","05001"]
["ABEJORRAL","05","ANTIOQUIA","05002","ABEJORRAL",null,"ANTIOQUIA","05002"]
["ABRIAQUÍ","05","ANTIOQUIA","05004","ABRIAQUÍ",null,"ANTIOQUIA","05004"]
["ALEJANDRÍA","05","ANTIOQUIA","05021","ALEJANDRÍA",null,"ANTIOQUIA","05021"]
["AMAGÁ","05","ANTIOQUIA","05030","AMAGÁ",null,"ANTIOQUIA","05030"]
["AMALFI","05","ANTIOQUIA","05031","AMALFI",null,"ANTIOQUIA","05031"]
["ANDES","05","ANTIOQUIA","05034","ANDES",null,"ANTIOQUIA","05034"]
["ANGELÓPOLIS","05","ANTIOQUIA","05036","ANGELÓPOLIS",null,"ANTIOQUIA","05036"]
["ANGOSTURA","05","ANTIOQUIA","05038","ANGOSTURA",null,"ANTIOQUIA","05038"]
["ANORÍ","05","ANTIOQUIA","05040","ANORÍ",null,"ANTIOQUIA","05040"]
["SANTA FÉ DE ANTIOQUIA","05","ANTIOQUIA","05042","SANTA FÉ DE ANTIOQUIA",null,"ANTIOQUIA","05042"]
["ANZÁ","05","ANTIOQUIA","05044","ANZÁ",null,"ANTIOQUIA","05044"]
["APARTADÓ","05","ANTIOQUIA","05045","APARTADÓ",null,"ANTIOQUIA","05045"]
["ARBOLETES","05","ANTIOQUIA","05051","ARBOLETES",null,"ANTIOQUIA","05051"]
["ARGELIA (ANT)","05","ANTIOQUIA","05055","ARGELIA (ANT)","x","ANTIOQUIA","05055"]
["ARMENIA (ANT)","05","ANTIOQUIA","05059","ARMENIA (ANT)","x","ANTIOQUIA","05059"]
["BARBOSA (ANT)","05","ANTIOQUIA","05079","BARBOSA (ANT)","x","ANTIOQUIA","05079"]
["BELMIRA","05","ANTIOQUIA","05086","BELMIRA",null,"ANTIOQUIA","05086"]
["BELLO","05","ANTIOQUIA","05088","BELLO",null,"ANTIOQUIA","05088"]
["BETANIA","05","ANTIOQUIA","05091","BETANIA",null,"ANTIOQUIA","05091"]
["BETULIA (ANT)","05","ANTIOQUIA","05093","BETULIA (ANT)","x","ANTIOQUIA","05093"]
["CIUDAD BOLÍVAR","05","ANTIOQUIA","05101","CIUDAD BOLÍVAR",null,"ANTIOQUIA","05101"]
["BRICEÑO (ANT)","05","ANTIOQUIA","05107","BRICEÑO (ANT)","x","ANTIOQUIA","05107"]
["BURITICÁ","05","ANTIOQUIA","05113","BURITICÁ",null,"ANTIOQUIA","05113"]
["CÁCERES","05","ANTIOQUIA","05120","CÁCERES",null,"ANTIOQUIA","05120"]
["CAICEDO","05","ANTIOQUIA","05125","CAICEDO",null,"ANTIOQUIA","05125"]
["CALDAS (ANT)","05","ANTIOQUIA","05129","CALDAS (ANT)","x","ANTIOQUIA","05129"]
["CAMPAMENTO","05","ANTIOQUIA","05134","CAMPAMENTO",null,"ANTIOQUIA","05134"]
["CAÑASGORDAS","05","ANTIOQUIA","05138","CAÑASGORDAS",null,"ANTIOQUIA","05138"]
["CARACOLÍ","05","ANTIOQUIA","05142","CARACOLÍ",null,"ANTIOQUIA","05142"]
["CARAMANTA","05","ANTIOQUIA","05145","CARAMANTA",null,"ANTIOQUIA","05145"]
["CAREPA","05","ANTIOQUIA","05147","CAREPA",null,"ANTIOQUIA","05147"]
["EL CARMEN DE VIBORAL","05","ANTIOQUIA","05148","EL CARMEN DE VIBORAL",null,"ANTIOQUIA","05148"]
["CAROLINA","05","ANTIOQUIA","05150","CAROLINA",null,"ANTIOQUIA","05150"]
["CAUCASIA","05","ANTIOQUIA","05154","CAUCASIA",null,"ANTIOQUIA","05154"]
["CHIGORODÓ","05","ANTIOQUIA","05172","CHIGORODÓ",null,"ANTIOQUIA","05172"]
["CISNEROS","05","ANTIOQUIA","05190","CISNEROS",null,"ANTIOQUIA","05190"]
["COCORNÁ","05","ANTIOQUIA","05197","COCORNÁ",null,"ANTIOQUIA","05197"]
["CONCEPCIÓN (ANT)","05","ANTIOQUIA","05206","CONCEPCIÓN (ANT)",null,"ANTIOQUIA","05206"]
["CONCORDIA (ANT)","05","ANTIOQUIA","05209","CONCORDIA (ANT)","x","ANTIOQUIA","05209"]
["COPACABANA","05","ANTIOQUIA","05212","COPACABANA",null,"ANTIOQUIA","05212"]
["DABEIBA","05","ANTIOQUIA","05234","DABEIBA",null,"ANTIOQUIA","05234"]
["DONMATÍAS","05","ANTIOQUIA","05237","DONMATÍAS",null,"ANTIOQUIA","05237"]
["EBÉJICO","05","ANTIOQUIA","05240","EBÉJICO",null,"ANTIOQUIA","05240"]
["EL BAGRE","05","ANTIOQUIA","05250","EL BAGRE",null,"ANTIOQUIA","05250"]
["ENTRERRÍOS","05","ANTIOQUIA","05264","ENTRERRÍOS",null,"ANTIOQUIA","05264"]
["ENVIGADO","05","ANTIOQUIA","05266","ENVIGADO",null,"ANTIOQUIA","05266"]
["FREDONIA","05","ANTIOQUIA","05282","FREDONIA",null,"ANTIOQUIA","05282"]
["FRONTINO","05","ANTIOQUIA","05284","FRONTINO",null,"ANTIOQUIA","05284"]
["GIRALDO","05","ANTIOQUIA","05306","GIRALDO",null,"ANTIOQUIA","05306"]
["GIRARDOTA","05","ANTIOQUIA","05308","GIRARDOTA",null,"ANTIOQUIA","05308"]
["GÓMEZ PLATA","05","ANTIOQUIA","05310","GÓMEZ PLATA",null,"ANTIOQUIA","05310"]
["GRANADA (ANT)","05","ANTIOQUIA","05313","GRANADA (ANT)",null,"ANTIOQUIA","05313"]
["GUADALUPE (ANT)","05","ANTIOQUIA","05315","GUADALUPE (ANT)",null,"ANTIOQUIA","05315"]
["GUARNE","05","ANTIOQUIA","05318","GUARNE",null,"ANTIOQUIA","05318"]
["GUATAPÉ","05","ANTIOQUIA","05321","GUATAPÉ",null,"ANTIOQUIA","05321"]
["HELICONIA","05","ANTIOQUIA","05347","HELICONIA",null,"ANTIOQUIA","05347"]
["HISPANIA","05","ANTIOQUIA","05353","HISPANIA",null,"ANTIOQUIA","05353"]
["ITAGÜÍ","05","ANTIOQUIA","05360","ITAGÜÍ",null,"ANTIOQUIA","05360"]
["ITUANGO","05","ANTIOQUIA","05361","ITUANGO",null,"ANTIOQUIA","05361"]
["JARDÍN","05","ANTIOQUIA","05364","JARDÍN",null,"ANTIOQUIA","05364"]
["JERICÓ (ANT)","05","ANTIOQUIA","05368","JERICÓ (ANT)","x","ANTIOQUIA","05368"]
["LA CEJA","05","ANTIOQUIA","05376","LA CEJA",null,"ANTIOQUIA","05376"]
["LA ESTRELLA","05","ANTIOQUIA","05380","LA ESTRELLA",null,"ANTIOQUIA","05380"]
["LA PINTADA","05","ANTIOQUIA","05390","LA PINTADA",null,"ANTIOQUIA","05390"]
["LA UNIÓN (ANT)","05","ANTIOQUIA","05400","LA UNIÓN (ANT)","x","ANTIOQUIA","05400"]
["LIBORINA","05","ANTIOQUIA","05411","LIBORINA",null,"ANTIOQUIA","05411"]
["MACEO","05","ANTIOQUIA","05425","MACEO",null,"ANTIOQUIA","05425"]
["MARINILLA","05","ANTIOQUIA","05440","MARINILLA",null,"ANTIOQUIA","05440"]
["MONTEBELLO","05","ANTIOQUIA","05467","MONTEBELLO",null,"ANTIOQUIA","05467"]
["MURINDÓ","05","ANTIOQUIA","05475","MURINDÓ",null,"ANTIOQUIA","05475"]
["MUTATÁ","05","ANTIOQUIA","05480","MUTATÁ",null,"ANTIOQUIA","05480"]
["NARIÑO (ANT)","05","ANTIOQUIA","05483","NARIÑO (ANT)","x","ANTIOQUIA","05483"]
["NECOCLÍ","05","ANTIOQUIA","05490","NECOCLÍ",null,"ANTIOQUIA","05490"]
["NECHÍ","05","ANTIOQUIA","05495","NECHÍ",null,"ANTIOQUIA","05495"]
["OLAYA","05","ANTIOQUIA","05501","OLAYA",null,"ANTIOQUIA","05501"]
["PEÑOL","05","ANTIOQUIA","05541","PEÑOL",null,"ANTIOQUIA","05541"]
["PEQUE","05","ANTIOQUIA","05543","PEQUE",null,"ANTIOQUIA","05543"]
["PUEBLORRICO","05","ANTIOQUIA","05576","PUEBLORRICO",null,"ANTIOQUIA","05576"]
["PUERTO BERRÍO","05","ANTIOQUIA","05579","PUERTO BERRÍO",null,"ANTIOQUIA","05579"]
["PUERTO NARE","05","ANTIOQUIA","05585","PUERTO NARE",null,"ANTIOQUIA","05585"]
["PUERTO TRIUNFO","05","ANTIOQUIA","05591","PUERTO TRIUNFO",null,"ANTIOQUIA","05591"]
["REMEDIOS","05","ANTIOQUIA","05604","REMEDIOS",null,"ANTIOQUIA","05604"]
["RETIRO","05","ANTIOQUIA","05607","RETIRO",null,"ANTIOQUIA","05607"]
["RIONEGRO (ANT)","05","ANTIOQUIA","05615","RIONEGRO (ANT)","x","ANTIOQUIA","05615"]
["SABANALARGA (ANT)","05","ANTIOQUIA","05628","SABANALARGA (ANT)","x","ANTIOQUIA","05628"]
["SABANETA","05","ANTIOQUIA","05631","SABANETA",null,"ANTIOQUIA","05631"]
["SALGAR","05","ANTIOQUIA","05642","SALGAR",null,"ANTIOQUIA","05642"]
["SAN ANDRÉS DE CUERQUÍA","05","ANTIOQUIA","05647","SAN ANDRÉS DE CUERQUÍA",null,"ANTIOQUIA","05647"]
["SAN CARLOS (ANT)","05","ANTIOQUIA","05649","SAN CARLOS (ANT)","x","ANTIOQUIA","05649"]
["SAN FRANCISCO (ANT)","05","ANTIOQUIA","05652","SAN FRANCISCO (ANT)","x","ANTIOQUIA","05652"]
["SAN JERÓNIMO","05","ANTIOQUIA","05656","SAN JERÓNIMO",null,"ANTIOQUIA","05656"]
["SAN JOSÉ DE LA MONTAÑA","05","ANTIOQUIA","05658","SAN JOSÉ DE LA MONTAÑA",null,"ANTIOQUIA","05658"]
["SAN JUAN DE URABÁ","05","ANTIOQUIA","05659","SAN JUAN DE URABÁ",null,"ANTIOQUIA","05659"]
["SAN LUIS (ANT)","05","ANTIOQUIA","05660","SAN LUIS (ANT)","x","ANTIOQUIA","05660"]
["SAN PEDRO DE LOS MILAGROS","05","ANTIOQUIA","05664","SAN PEDRO DE LOS MILAGROS",null,"ANTIOQUIA","05664"]
["SAN PEDRO DE URABÁ","05","ANTIOQUIA","05665","SAN PEDRO DE URABÁ",null,"ANTIOQUIA","05665"]
["SAN RAFAEL","05","ANTIOQUIA","05667","SAN RAFAEL",null,"ANTIOQUIA","05667"]
["SAN ROQUE","05","ANTIOQUIA","05670","SAN ROQUE",null,"ANTIOQUIA","05670"]
["SAN VICENTE FERRER","05","ANTIOQUIA","05674","SAN VICENTE FERRER",null,"ANTIOQUIA","05674"]
["SANTA BÁRBARA (ANT)","05","ANTIOQUIA","05679","SANTA BÁRBARA (ANT)","x","ANTIOQUIA","05679"]
["SANTA ROSA DE OSOS","05","ANTIOQUIA","05686","SANTA ROSA DE OSOS",null,"ANTIOQUIA","05686"]
["SANTO DOMINGO","05","ANTIOQUIA","05690","SANTO DOMINGO",null,"ANTIOQUIA","05690"]
["EL SANTUARIO","05","ANTIOQUIA","05697","EL SANTUARIO",null,"ANTIOQUIA","05697"]
["SEGOVIA","05","ANTIOQUIA","05736","SEGOVIA",null,"ANTIOQUIA","05736"]
["SONSÓN","05","ANTIOQUIA","05756","SONSÓN",null,"ANTIOQUIA","05756"]
["SOPETRÁN","05","ANTIOQUIA","05761","SOPETRÁN",null,"ANTIOQUIA","05761"]
["TÁMESIS","05","ANTIOQUIA","05789","TÁMESIS",null,"ANTIOQUIA","05789"]
["TARAZÁ","05","ANTIOQUIA","05790","TARAZÁ",null,"ANTIOQUIA","05790"]
["TARSO","05","ANTIOQUIA","05792","TARSO",null,"ANTIOQUIA","05792"]
["TITIRIBÍ","05","ANTIOQUIA","05809","TITIRIBÍ",null,"ANTIOQUIA","05809"]
["TOLEDO (ANT)","05","ANTIOQUIA","05819","TOLEDO (ANT)","x","ANTIOQUIA","05819"]
["TURBO","05","ANTIOQUIA","05837","TURBO",null,"ANTIOQUIA","05837"]
["URAMITA","05","ANTIOQUIA","05842","URAMITA",null,"ANTIOQUIA","05842"]
["URRAO","05","ANTIOQUIA","05847","URRAO",null,"ANTIOQUIA","05847"]
["VALDIVIA","05","ANTIOQUIA","05854","VALDIVIA",null,"ANTIOQUIA","05854"]
["VALPARAÍSO (ANT)","05","ANTIOQUIA","05856","VALPARAÍSO (ANT)","x","ANTIOQUIA","05856"]
["VEGACHÍ","05","ANTIOQUIA","05858","VEGACHÍ",null,"ANTIOQUIA","05858"]
["VENECIA (ANT)","05","ANTIOQUIA","05861","VENECIA (ANT)","x","ANTIOQUIA","05861"]
["VIGÍA DEL FUERTE","05","ANTIOQUIA","05873","VIGÍA DEL FUERTE",null,"ANTIOQUIA","05873"]
["YALÍ","05","ANTIOQUIA","05885","YALÍ",null,"ANTIOQUIA","05885"]
["YARUMAL","05","ANTIOQUIA","05887","YARUMAL",null,"ANTIOQUIA","05887"]
["YOLOMBÓ","05","ANTIOQUIA","05890","YOLOMBÓ",null,"ANTIOQUIA","05890"]
["YONDÓ","05","ANTIOQUIA","05893","YONDÓ",null,"ANTIOQUIA","05893"]
["ZARAGOZA","05","ANTIOQUIA","05895","ZARAGOZA",null,"ANTIOQUIA","05895"]
["BARRANQUILLA","08","ATLÁNTICO","08001","BARRANQUILLA",null,"ATLÁNTICO","08001"]
["BARANOA","08","ATLÁNTICO","08078","BARANOA",null,"ATLÁNTICO","08078"]
["CAMPO DE LA CRUZ","08","ATLÁNTICO","08137","CAMPO DE LA CRUZ",null,"ATLÁNTICO","08137"]
["CANDELARIA (ATL)","08","ATLÁNTICO","08141","CANDELARIA (ATL)","x","ATLÁNTICO","08141"]
["GALAPA","08","ATLÁNTICO","08296","GALAPA",null,"ATLÁNTICO","08296"]
["JUAN DE ACOSTA","08","ATLÁNTICO","08372","JUAN DE ACOSTA",null,"ATLÁNTICO","08372"]
["LURUACO","08","ATLÁNTICO","08421","LURUACO",null,"ATLÁNTICO","08421"]
["MALAMBO","08","ATLÁNTICO","08433","MALAMBO",null,"ATLÁNTICO","08433"]
["MANATÍ","08","ATLÁNTICO","08436","MANATÍ",null,"ATLÁNTICO","08436"]
["PALMAR DE VARELA","08","ATLÁNTICO","08520","PALMAR DE VARELA",null,"ATLÁNTICO","08520"]
["PIOJÓ","08","ATLÁNTICO","08549","PIOJÓ",null,"ATLÁNTICO","08549"]
["POLONUEVO","08","ATLÁNTICO","08558","POLONUEVO",null,"ATLÁNTICO","08558"]
["PONEDERA","08","ATLÁNTICO","08560","PONEDERA",null,"ATLÁNTICO","08560"]
["PUERTO COLOMBIA (ATL)","08","ATLÁNTICO","08573","PUERTO COLOMBIA (ATL)","x","ATLÁNTICO","08573"]
["REPELÓN","08","ATLÁNTICO","08606","REPELÓN",null,"ATLÁNTICO","08606"]
["SABANAGRANDE","08","ATLÁNTICO","08634","SABANAGRANDE",null,"ATLÁNTICO","08634"]
["SABANALARGA (ATL)","08","ATLÁNTICO","08638","SABANALARGA (ATL)",null,"ATLÁNTICO","08638"]
["SANTA LUCÍA","08","ATLÁNTICO","08675","SANTA LUCÍA",null,"ATLÁNTICO","08675"]
["SANTO TOMÁS","08","ATLÁNTICO","08685","SANTO TOMÁS",null,"ATLÁNTICO","08685"]
["SOLEDAD","08","ATLÁNTICO","08758","SOLEDAD",null,"ATLÁNTICO","08758"]
["SUAN","08","ATLÁNTICO","08770","SUAN",null,"ATLÁNTICO","08770"]
["TUBARÁ","08","ATLÁNTICO","08832","TUBARÁ",null,"ATLÁNTICO","08832"]
["USIACURÍ","08","ATLÁNTICO","08849","USIACURÍ",null,"ATLÁNTICO","08849"]
["BOGOTÁ, D.C.","11","BOGOTÁ, D.C.","11001","BOGOTÁ, D.C.",null,"BOGOTÁ, D.C.","11001"]
["CARTAGENA DE INDIAS","13","BOLÍVAR","13001","CARTAGENA DE INDIAS",null,"BOLÍVAR","13001"]
["ACHÍ","13","BOLÍVAR","13006","ACHÍ",null,"BOLÍVAR","13006"]
["ALTOS DEL ROSARIO","13","BOLÍVAR","13030","ALTOS DEL ROSARIO",null,"BOLÍVAR","13030"]
["ARENAL","13","BOLÍVAR","13042","ARENAL",null,"BOLÍVAR","13042"]
["ARJONA","13","BOLÍVAR","13052","ARJONA",null,"BOLÍVAR","13052"]
["ARROYOHONDO","13","BOLÍVAR","13062","ARROYOHONDO",null,"BOLÍVAR","13062"]
["BARRANCO DE LOBA","13","BOLÍVAR","13074","BARRANCO DE LOBA",null,"BOLÍVAR","13074"]
["CALAMAR (BOL)","13","BOLÍVAR","13140","CALAMAR (BOL)","x","BOLÍVAR","13140"]
["CANTAGALLO","13","BOLÍVAR","13160","CANTAGALLO",null,"BOLÍVAR","13160"]
["CICUCO","13","BOLÍVAR","13188","CICUCO",null,"BOLÍVAR","13188"]
["CÓRDOBA (BOL)","13","BOLÍVAR","13212","CÓRDOBA (BOL)","x","BOLÍVAR","13212"]
["CLEMENCIA","13","BOLÍVAR","13222","CLEMENCIA",null,"BOLÍVAR","13222"]
["EL CARMEN DE BOLÍVAR","13","BOLÍVAR","13244","EL CARMEN DE BOLÍVAR",null,"BOLÍVAR","13244"]
["EL GUAMO","13","BOLÍVAR","13248","EL GUAMO",null,"BOLÍVAR","13248"]
["EL PEÑÓN (BOL)","13","BOLÍVAR","13268","EL PEÑÓN (BOL)","x","BOLÍVAR","13268"]
["HATILLO DE LOBA","13","BOLÍVAR","13300","HATILLO DE LOBA",null,"BOLÍVAR","13300"]
["MAGANGUÉ","13","BOLÍVAR","13430","MAGANGUÉ",null,"BOLÍVAR","13430"]
["MAHATES","13","BOLÍVAR","13433","MAHATES",null,"BOLÍVAR","13433"]
["MARGARITA","13","BOLÍVAR","13440","MARGARITA",null,"BOLÍVAR","13440"]
["MARÍA LA BAJA","13","BOLÍVAR","13442","MARÍA LA BAJA",null,"BOLÍVAR","13442"]
["MONTECRISTO","13","BOLÍVAR","13458","MONTECRISTO",null,"BOLÍVAR","13458"]
["MOMPÓS","13","BOLÍVAR","13468","MOMPÓS",null,"BOLÍVAR","13468"]
["MORALES (BOL)","13","BOLÍVAR","13473","MORALES (BOL)","x","BOLÍVAR","13473"]
["NOROSÍ","13","BOLÍVAR","13490","NOROSÍ",null,"BOLÍVAR","13490"]
["PINILLOS","13","BOLÍVAR","13549","PINILLOS",null,"BOLÍVAR","13549"]
["REGIDOR","13","BOLÍVAR","13580","REGIDOR",null,"BOLÍVAR","13580"]
["RÍO VIEJO","13","BOLÍVAR","13600","RÍO VIEJO",null,"BOLÍVAR","13600"]
["SAN CRISTÓBAL","13","BOLÍVAR","13620","SAN CRISTÓBAL",null,"BOLÍVAR","13620"]
["SAN ESTANISLAO","13","BOLÍVAR","13647","SAN ESTANISLAO",null,"BOLÍVAR","13647"]
["SAN FERNANDO","13","BOLÍVAR","13650","SAN FERNANDO",null,"BOLÍVAR","13650"]
["SAN JACINTO","13","BOLÍVAR","13654","SAN JACINTO",null,"BOLÍVAR","13654"]
["SAN JACINTO DEL CAUCA","13","BOLÍVAR","13655","SAN JACINTO DEL CAUCA",null,"BOLÍVAR","13655"]
["SAN JUAN NEPOMUCENO","13","BOLÍVAR","13657","SAN JUAN NEPOMUCENO",null,"BOLÍVAR","13657"]
["SAN MARTÍN DE LOBA","13","BOLÍVAR","13667","SAN MARTÍN DE LOBA",null,"BOLÍVAR","13667"]
["SAN PABLO (BOL)","13","BOLÍVAR","13670","SAN PABLO (BOL)",null,"BOLÍVAR","13670"]
["SANTA CATALINA","13","BOLÍVAR","13673","SANTA CATALINA",null,"BOLÍVAR","13673"]
["SANTA ROSA (BOL)","13","BOLÍVAR","13683","SANTA ROSA (BOL)",null,"BOLÍVAR","13683"]
["SANTA ROSA DEL SUR","13","BOLÍVAR","13688","SANTA ROSA DEL SUR",null,"BOLÍVAR","13688"]
["SIMITÍ","13","BOLÍVAR","13744","SIMITÍ",null,"BOLÍVAR","13744"]
["SOPLAVIENTO","13","BOLÍVAR","13760","SOPLAVIENTO",null,"BOLÍVAR","13760"]
["TALAIGUA NUEVO","13","BOLÍVAR","13780","TALAIGUA NUEVO",null,"BOLÍVAR","13780"]
["TIQUISIO","13","BOLÍVAR","13810","TIQUISIO",null,"BOLÍVAR","13810"]
["TURBACO","13","BOLÍVAR","13836","TURBACO",null,"BOLÍVAR","13836"]
["TURBANÁ","13","BOLÍVAR","13838","TURBANÁ",null,"BOLÍVAR","13838"]
["VILLANUEVA (BOL)","13","BOLÍVAR","13873","VILLANUEVA (BOL)","x","BOLÍVAR","13873"]
["ZAMBRANO","13","BOLÍVAR","13894","ZAMBRANO",null,"BOLÍVAR","13894"]
["TUNJA","15","BOYACÁ","15001","TUNJA",null,"BOYACÁ","15001"]
["ALMEIDA","15","BOYACÁ","15022","ALMEIDA",null,"BOYACÁ","15022"]
["AQUITANIA","15","BOYACÁ","15047","AQUITANIA",null,"BOYACÁ","15047"]
["ARCABUCO","15","BOYACÁ","15051","ARCABUCO",null,"BOYACÁ","15051"]
["BELÉN (BOY)","15","BOYACÁ","15087","BELÉN (BOY)","x","BOYACÁ","15087"]
["BERBEO","15","BOYACÁ","15090","BERBEO",null,"BOYACÁ","15090"]
["BETÉITIVA","15","BOYACÁ","15092","BETÉITIVA",null,"BOYACÁ","15092"]
["BOAVITA","15","BOYACÁ","15097","BOAVITA",null,"BOYACÁ","15097"]
["BOYACÁ","15","BOYACÁ","15104","BOYACÁ",null,"BOYACÁ","15104"]
["BRICEÑO","15","BOYACÁ","15106","BRICEÑO",null,"BOYACÁ","15106"]
["BUENAVISTA (BOY)","15","BOYACÁ","15109","BUENAVISTA (BOY)","x","BOYACÁ","15109"]
["BUSBANZÁ","15","BOYACÁ","15114","BUSBANZÁ",null,"BOYACÁ","15114"]
["CALDAS","15","BOYACÁ","15131","CALDAS",null,"BOYACÁ","15131"]
["CAMPOHERMOSO","15","BOYACÁ","15135","CAMPOHERMOSO",null,"BOYACÁ","15135"]
["CERINZA","15","BOYACÁ","15162","CERINZA",null,"BOYACÁ","15162"]
["CHINAVITA","15","BOYACÁ","15172","CHINAVITA",null,"BOYACÁ","15172"]
["CHIQUINQUIRÁ","15","BOYACÁ","15176","CHIQUINQUIRÁ",null,"BOYACÁ","15176"]
["CHISCAS","15","BOYACÁ","15180","CHISCAS",null,"BOYACÁ","15180"]
["CHITA","15","BOYACÁ","15183","CHITA",null,"BOYACÁ","15183"]
["CHITARAQUE","15","BOYACÁ","15185","CHITARAQUE",null,"BOYACÁ","15185"]
["CHIVATÁ","15","BOYACÁ","15187","CHIVATÁ",null,"BOYACÁ","15187"]
["CIÉNEGA","15","BOYACÁ","15189","CIÉNEGA",null,"BOYACÁ","15189"]
["CÓMBITA","15","BOYACÁ","15204","CÓMBITA",null,"BOYACÁ","15204"]
["COPER","15","BOYACÁ","15212","COPER",null,"BOYACÁ","15212"]
["CORRALES","15","BOYACÁ","15215","CORRALES",null,"BOYACÁ","15215"]
["COVARACHÍA","15","BOYACÁ","15218","COVARACHÍA",null,"BOYACÁ","15218"]
["CUBARÁ","15","BOYACÁ","15223","CUBARÁ",null,"BOYACÁ","15223"]
["CUCAITA","15","BOYACÁ","15224","CUCAITA",null,"BOYACÁ","15224"]
["CUÍTIVA","15","BOYACÁ","15226","CUÍTIVA",null,"BOYACÁ","15226"]
["CHÍQUIZA","15","BOYACÁ","15232","CHÍQUIZA",null,"BOYACÁ","15232"]
["CHIVOR","15","BOYACÁ","15236","CHIVOR",null,"BOYACÁ","15236"]
["DUITAMA","15","BOYACÁ","15238","DUITAMA",null,"BOYACÁ","15238"]
["EL COCUY","15","BOYACÁ","15244","EL COCUY",null,"BOYACÁ","15244"]
["EL ESPINO","15","BOYACÁ","15248","EL ESPINO",null,"BOYACÁ","15248"]
["FIRAVITOBA","15","BOYACÁ","15272","FIRAVITOBA",null,"BOYACÁ","15272"]
["FLORESTA","15","BOYACÁ","15276","FLORESTA",null,"BOYACÁ","15276"]
["GACHANTIVÁ","15","BOYACÁ","15293","GACHANTIVÁ",null,"BOYACÁ","15293"]
["GÁMEZA","15","BOYACÁ","15296","GÁMEZA",null,"BOYACÁ","15296"]
["GARAGOA","15","BOYACÁ","15299","GARAGOA",null,"BOYACÁ","15299"]
["GUACAMAYAS","15","BOYACÁ","15317","GUACAMAYAS",null,"BOYACÁ","15317"]
["GUATEQUE","15","BOYACÁ","15322","GUATEQUE",null,"BOYACÁ","15322"]
["GUAYATÁ","15","BOYACÁ","15325","GUAYATÁ",null,"BOYACÁ","15325"]
["GÜICÁN DE LA SIERRA","15","BOYACÁ","15332","GÜICÁN DE LA SIERRA",null,"BOYACÁ","15332"]
["IZA","15","BOYACÁ","15362","IZA",null,"BOYACÁ","15362"]
["JENESANO","15","BOYACÁ","15367","JENESANO",null,"BOYACÁ","15367"]
["JERICÓ","15","BOYACÁ","15368","JERICÓ",null,"BOYACÁ","15368"]
["LABRANZAGRANDE","15","BOYACÁ","15377","LABRANZAGRANDE",null,"BOYACÁ","15377"]
["LA CAPILLA","15","BOYACÁ","15380","LA CAPILLA",null,"BOYACÁ","15380"]
["LA VICTORIA(BOY)","15","BOYACÁ","15401","LA VICTORIA(BOY)","x","BOYACÁ","15401"]
["LA UVITA","15","BOYACÁ","15403","LA UVITA",null,"BOYACÁ","15403"]
["VILLA DE LEYVA","15","BOYACÁ","15407","VILLA DE LEYVA",null,"BOYACÁ","15407"]
["MACANAL","15","BOYACÁ","15425","MACANAL",null,"BOYACÁ","15425"]
["MARIPÍ","15","BOYACÁ","15442","MARIPÍ",null,"BOYACÁ","15442"]
["MIRAFLORES","15","BOYACÁ","15455","MIRAFLORES (BOY)","x","BOYACÁ","15455"]
["MONGUA","15","BOYACÁ","15464","MONGUA",null,"BOYACÁ","15464"]
["MONGUÍ","15","BOYACÁ","15466","MONGUÍ",null,"BOYACÁ","15466"]
["MONIQUIRÁ","15","BOYACÁ","15469","MONIQUIRÁ",null,"BOYACÁ","15469"]
["MOTAVITA","15","BOYACÁ","15476","MOTAVITA",null,"BOYACÁ","15476"]
["MUZO","15","BOYACÁ","15480","MUZO",null,"BOYACÁ","15480"]
["NOBSA","15","BOYACÁ","15491","NOBSA",null,"BOYACÁ","15491"]
["NUEVO COLÓN","15","BOYACÁ","15494","NUEVO COLÓN",null,"BOYACÁ","15494"]
["OICATÁ","15","BOYACÁ","15500","OICATÁ",null,"BOYACÁ","15500"]
["OTANCHE","15","BOYACÁ","15507","OTANCHE",null,"BOYACÁ","15507"]
["PACHAVITA","15","BOYACÁ","15511","PACHAVITA",null,"BOYACÁ","15511"]
["PÁEZ (BOY)","15","BOYACÁ","15514","PÁEZ (BOY)","x","BOYACÁ","15514"]
["PAIPA","15","BOYACÁ","15516","PAIPA",null,"BOYACÁ","15516"]
["PAJARITO","15","BOYACÁ","15518","PAJARITO",null,"BOYACÁ","15518"]
["PANQUEBA","15","BOYACÁ","15522","PANQUEBA",null,"BOYACÁ","15522"]
["PAUNA","15","BOYACÁ","15531","PAUNA",null,"BOYACÁ","15531"]
["PAYA","15","BOYACÁ","15533","PAYA",null,"BOYACÁ","15533"]
["PAZ DE RÍO","15","BOYACÁ","15537","PAZ DE RÍO",null,"BOYACÁ","15537"]
["PESCA","15","BOYACÁ","15542","PESCA",null,"BOYACÁ","15542"]
["PISBA","15","BOYACÁ","15550","PISBA",null,"BOYACÁ","15550"]
["PUERTO BOYACÁ","15","BOYACÁ","15572","PUERTO BOYACÁ",null,"BOYACÁ","15572"]
["QUÍPAMA","15","BOYACÁ","15580","QUÍPAMA",null,"BOYACÁ","15580"]
["RAMIRIQUÍ","15","BOYACÁ","15599","RAMIRIQUÍ",null,"BOYACÁ","15599"]
["RÁQUIRA","15","BOYACÁ","15600","RÁQUIRA",null,"BOYACÁ","15600"]
["RONDÓN","15","BOYACÁ","15621","RONDÓN",null,"BOYACÁ","15621"]
["SABOYÁ","15","BOYACÁ","15632","SABOYÁ",null,"BOYACÁ","15632"]
["SÁCHICA","15","BOYACÁ","15638","SÁCHICA",null,"BOYACÁ","15638"]
["SAMACÁ","15","BOYACÁ","15646","SAMACÁ",null,"BOYACÁ","15646"]
["SAN EDUARDO","15","BOYACÁ","15660","SAN EDUARDO",null,"BOYACÁ","15660"]
["SAN JOSÉ DE PARE","15","BOYACÁ","15664","SAN JOSÉ DE PARE",null,"BOYACÁ","15664"]
["SAN LUIS DE GACENO","15","BOYACÁ","15667","SAN LUIS DE GACENO",null,"BOYACÁ","15667"]
["SAN MATEO","15","BOYACÁ","15673","SAN MATEO",null,"BOYACÁ","15673"]
["SAN MIGUEL DE SEMA","15","BOYACÁ","15676","SAN MIGUEL DE SEMA",null,"BOYACÁ","15676"]
["SAN PABLO DE BORBUR","15","BOYACÁ","15681","SAN PABLO DE BORBUR",null,"BOYACÁ","15681"]
["SANTANA","15","BOYACÁ","15686","SANTANA",null,"BOYACÁ","15686"]
["SANTA MARÍA (BOY)","15","BOYACÁ","15690","SANTA MARÍA (BOY)",null,"BOYACÁ","15690"]
["SANTA ROSA DE VITERBO","15","BOYACÁ","15693","SANTA ROSA DE VITERBO",null,"BOYACÁ","15693"]
["SANTA SOFÍA","15","BOYACÁ","15696","SANTA SOFÍA",null,"BOYACÁ","15696"]
["SATIVANORTE","15","BOYACÁ","15720","SATIVANORTE",null,"BOYACÁ","15720"]
["SATIVASUR","15","BOYACÁ","15723","SATIVASUR",null,"BOYACÁ","15723"]
["SIACHOQUE","15","BOYACÁ","15740","SIACHOQUE",null,"BOYACÁ","15740"]
["SOATÁ","15","BOYACÁ","15753","SOATÁ",null,"BOYACÁ","15753"]
["SOCOTÁ","15","BOYACÁ","15755","SOCOTÁ",null,"BOYACÁ","15755"]
["SOCHA","15","BOYACÁ","15757","SOCHA",null,"BOYACÁ","15757"]
["SOGAMOSO","15","BOYACÁ","15759","SOGAMOSO",null,"BOYACÁ","15759"]
["SOMONDOCO","15","BOYACÁ","15761","SOMONDOCO",null,"BOYACÁ","15761"]
["SORA","15","BOYACÁ","15762","SORA",null,"BOYACÁ","15762"]
["SOTAQUIRÁ","15","BOYACÁ","15763","SOTAQUIRÁ",null,"BOYACÁ","15763"]
["SORACÁ","15","BOYACÁ","15764","SORACÁ",null,"BOYACÁ","15764"]
["SUSACÓN","15","BOYACÁ","15774","SUSACÓN",null,"BOYACÁ","15774"]
["SUTAMARCHÁN","15","BOYACÁ","15776","SUTAMARCHÁN",null,"BOYACÁ","15776"]
["SUTATENZA","15","BOYACÁ","15778","SUTATENZA",null,"BOYACÁ","15778"]
["TASCO","15","BOYACÁ","15790","TASCO",null,"BOYACÁ","15790"]
["TENZA","15","BOYACÁ","15798","TENZA",null,"BOYACÁ","15798"]
["TIBANÁ","15","BOYACÁ","15804","TIBANÁ",null,"BOYACÁ","15804"]
["TIBASOSA","15","BOYACÁ","15806","TIBASOSA",null,"BOYACÁ","15806"]
["TINJACÁ","15","BOYACÁ","15808","TINJACÁ",null,"BOYACÁ","15808"]
["TIPACOQUE","15","BOYACÁ","15810","TIPACOQUE",null,"BOYACÁ","15810"]
["TOCA","15","BOYACÁ","15814","TOCA",null,"BOYACÁ","15814"]
["TOGÜÍ","15","BOYACÁ","15816","TOGÜÍ",null,"BOYACÁ","15816"]
["TÓPAGA","15","BOYACÁ","15820","TÓPAGA",null,"BOYACÁ","15820"]
["TOTA","15","BOYACÁ","15822","TOTA",null,"BOYACÁ","15822"]
["TUNUNGUÁ","15","BOYACÁ","15832","TUNUNGUÁ",null,"BOYACÁ","15832"]
["TURMEQUÉ","15","BOYACÁ","15835","TURMEQUÉ",null,"BOYACÁ","15835"]
["TUTA","15","BOYACÁ","15837","TUTA",null,"BOYACÁ","15837"]
["TUTAZÁ","15","BOYACÁ","15839","TUTAZÁ",null,"BOYACÁ","15839"]
["ÚMBITA","15","BOYACÁ","15842","ÚMBITA",null,"BOYACÁ","15842"]
["VENTAQUEMADA","15","BOYACÁ","15861","VENTAQUEMADA",null,"BOYACÁ","15861"]
["VIRACACHÁ","15","BOYACÁ","15879","VIRACACHÁ",null,"BOYACÁ","15879"]
["ZETAQUIRA","15","BOYACÁ","15897","ZETAQUIRA",null,"BOYACÁ","15897"]
["MANIZALES","17","CALDAS","17001","MANIZALES",null,"CALDAS","17001"]
["AGUADAS","17","CALDAS","17013","AGUADAS",null,"CALDAS","17013"]
["ANSERMA","17","CALDAS","17042","ANSERMA",null,"CALDAS","17042"]
["ARANZAZU","17","CALDAS","17050","ARANZAZU",null,"CALDAS","17050"]
["BELALCÁZAR","17","CALDAS","17088","BELALCÁZAR",null,"CALDAS","17088"]
["CHINCHINÁ","17","CALDAS","17174","CHINCHINÁ",null,"CALDAS","17174"]
["FILADELFIA","17","CALDAS","17272","FILADELFIA",null,"CALDAS","17272"]
["LA DORADA","17","CALDAS","17380","LA DORADA",null,"CALDAS","17380"]
["LA MERCED","17","CALDAS","17388","LA MERCED",null,"CALDAS","17388"]
["MANZANARES","17","CALDAS","17433","MANZANARES",null,"CALDAS","17433"]
["MARMATO","17","CALDAS","17442","MARMATO",null,"CALDAS","17442"]
["MARQUETALIA","17","CALDAS","17444","MARQUETALIA",null,"CALDAS","17444"]
["MARULANDA","17","CALDAS","17446","MARULANDA",null,"CALDAS","17446"]
["NEIRA","17","CALDAS","17486","NEIRA",null,"CALDAS","17486"]
["NORCASIA","17","CALDAS","17495","NORCASIA",null,"CALDAS","17495"]
["PÁCORA","17","CALDAS","17513","PÁCORA",null,"CALDAS","17513"]
["PALESTINA (CAL)","17","CALDAS","17524","PALESTINA (CAL)","x","CALDAS","17524"]
["PENSILVANIA","17","CALDAS","17541","PENSILVANIA",null,"CALDAS","17541"]
["RIOSUCIO","17","CALDAS","17614","RIOSUCIO (CAL)","x","CALDAS","17614"]
["RISARALDA","17","CALDAS","17616","RISARALDA",null,"CALDAS","17616"]
["SALAMINA (CAL)","17","CALDAS","17653","SALAMINA (CAL)","x","CALDAS","17653"]
["SAMANÁ","17","CALDAS","17662","SAMANÁ",null,"CALDAS","17662"]
["SAN JOSÉ","17","CALDAS","17665","SAN JOSÉ",null,"CALDAS","17665"]
["SUPÍA","17","CALDAS","17777","SUPÍA",null,"CALDAS","17777"]
["VICTORIA","17","CALDAS","17867","VICTORIA",null,"CALDAS","17867"]
["VILLAMARÍA","17","CALDAS","17873","VILLAMARÍA",null,"CALDAS","17873"]
["VITERBO","17","CALDAS","17877","VITERBO",null,"CALDAS","17877"]
["FLORENCIA (CAQ)","18","CAQUETÁ","18001","FLORENCIA (CAQ)",null,"CAQUETÁ","18001"]
["ALBANIA (CAQ)","18","CAQUETÁ","18029","ALBANIA (CAQ)","x","CAQUETÁ","18029"]
["BELÉN DE LOS ANDAQUÍES","18","CAQUETÁ","18094","BELÉN DE LOS ANDAQUÍES",null,"CAQUETÁ","18094"]
["CARTAGENA DEL CHAIRÁ","18","CAQUETÁ","18150","CARTAGENA DEL CHAIRÁ",null,"CAQUETÁ","18150"]
["CURILLO","18","CAQUETÁ","18205","CURILLO",null,"CAQUETÁ","18205"]
["EL DONCELLO","18","CAQUETÁ","18247","EL DONCELLO",null,"CAQUETÁ","18247"]
["EL PAUJÍL","18","CAQUETÁ","18256","EL PAUJÍL",null,"CAQUETÁ","18256"]
["LA MONTAÑITA","18","CAQUETÁ","18410","LA MONTAÑITA",null,"CAQUETÁ","18410"]
["MILÁN","18","CAQUETÁ","18460","MILÁN",null,"CAQUETÁ","18460"]
["MORELIA","18","CAQUETÁ","18479","MORELIA",null,"CAQUETÁ","18479"]
["PUERTO RICO (CAQ)","18","CAQUETÁ","18592","PUERTO RICO (CAQ)","x","CAQUETÁ","18592"]
["SAN JOSÉ DEL FRAGUA","18","CAQUETÁ","18610","SAN JOSÉ DEL FRAGUA",null,"CAQUETÁ","18610"]
["SAN VICENTE DEL CAGUÁN","18","CAQUETÁ","18753","SAN VICENTE DEL CAGUÁN",null,"CAQUETÁ","18753"]
["SOLANO","18","CAQUETÁ","18756","SOLANO",null,"CAQUETÁ","18756"]
["SOLITA","18","CAQUETÁ","18785","SOLITA",null,"CAQUETÁ","18785"]
["VALPARAÍSO","18","CAQUETÁ","18860","VALPARAÍSO",null,"CAQUETÁ","18860"]
["POPAYÁN","19","CAUCA","19001","POPAYÁN",null,"CAUCA","19001"]
["ALMAGUER","19","CAUCA","19022","ALMAGUER",null,"CAUCA","19022"]
["ARGELIA (CAU)","19","CAUCA","19050","ARGELIA (CAU)","x","CAUCA","19050"]
["BALBOA (CAU)","19","CAUCA","19075","BALBOA (CAU)","x","CAUCA","19075"]
["BOLÍVAR (CAU)","19","CAUCA","19100","BOLÍVAR (CAU)","x","CAUCA","19100"]
["BUENOS AIRES","19","CAUCA","19110","BUENOS AIRES",null,"CAUCA","19110"]
["CAJIBÍO","19","CAUCA","19130","CAJIBÍO",null,"CAUCA","19130"]
["CALDONO","19","CAUCA","19137","CALDONO",null,"CAUCA","19137"]
["CALOTO","19","CAUCA","19142","CALOTO",null,"CAUCA","19142"]
["CORINTO","19","CAUCA","19212","CORINTO",null,"CAUCA","19212"]
["EL TAMBO (CAU)","19","CAUCA","19256","EL TAMBO (CAU)","x","CAUCA","19256"]
["FLORENCIA","19","CAUCA","19290","FLORENCIA",null,"CAUCA","19290"]
["GUACHENÉ","19","CAUCA","19300","GUACHENÉ",null,"CAUCA","19300"]
["GUAPI","19","CAUCA","19318","GUAPI",null,"CAUCA","19318"]
["INZÁ","19","CAUCA","19355","INZÁ",null,"CAUCA","19355"]
["JAMBALÓ","19","CAUCA","19364","JAMBALÓ",null,"CAUCA","19364"]
["LA SIERRA","19","CAUCA","19392","LA SIERRA",null,"CAUCA","19392"]
["LA VEGA (CAU)","19","CAUCA","19397","LA VEGA (CAU)","x","CAUCA","19397"]
["LÓPEZ DE MICAY","19","CAUCA","19418","LÓPEZ DE MICAY",null,"CAUCA","19418"]
["MERCADERES","19","CAUCA","19450","MERCADERES",null,"CAUCA","19450"]
["MIRANDA","19","CAUCA","19455","MIRANDA",null,"CAUCA","19455"]
["MORALES","19","CAUCA","19473","MORALES",null,"CAUCA","19473"]
["PADILLA","19","CAUCA","19513","PADILLA",null,"CAUCA","19513"]
["PÁEZ","19","CAUCA","19517","PÁEZ",null,"CAUCA","19517"]
["PATÍA","19","CAUCA","19532","PATÍA",null,"CAUCA","19532"]
["PIAMONTE","19","CAUCA","19533","PIAMONTE",null,"CAUCA","19533"]
["PIENDAMÓ - TUNÍA","19","CAUCA","19548","PIENDAMÓ - TUNÍA",null,"CAUCA","19548"]
["PUERTO TEJADA","19","CAUCA","19573","PUERTO TEJADA",null,"CAUCA","19573"]
["PURACÉ","19","CAUCA","19585","PURACÉ",null,"CAUCA","19585"]
["ROSAS","19","CAUCA","19622","ROSAS",null,"CAUCA","19622"]
["SAN SEBASTIÁN","19","CAUCA","19693","SAN SEBASTIÁN",null,"CAUCA","19693"]
["SANTANDER DE QUILICHAO","19","CAUCA","19698","SANTANDER DE QUILICHAO",null,"CAUCA","19698"]
["SANTA ROSA","19","CAUCA","19701","SANTA ROSA",null,"CAUCA","19701"]
["SILVIA","19","CAUCA","19743","SILVIA",null,"CAUCA","19743"]
["SOTARÁ PAISPAMBA","19","CAUCA","19760","SOTARÁ PAISPAMBA",null,"CAUCA","19760"]
["SUÁREZ (CAU)","19","CAUCA","19780","SUÁREZ (CAU)","x","CAUCA","19780"]
["SUCRE (CAU)","19","CAUCA","19785","SUCRE (CAU)","x","CAUCA","19785"]
["TIMBÍO","19","CAUCA","19807","TIMBÍO",null,"CAUCA","19807"]
["TIMBIQUÍ","19","CAUCA","19809","TIMBIQUÍ",null,"CAUCA","19809"]
["TORIBÍO","19","CAUCA","19821","TORIBÍO",null,"CAUCA","19821"]
["TOTORÓ","19","CAUCA","19824","TOTORÓ",null,"CAUCA","19824"]
["VILLA RICA","19","CAUCA","19845","VILLA RICA",null,"CAUCA","19845"]
["VALLEDUPAR","20","CESAR","20001","VALLEDUPAR",null,"CESAR","20001"]
["AGUACHICA","20","CESAR","20011","AGUACHICA",null,"CESAR","20011"]
["AGUSTÍN CODAZZI","20","CESAR","20013","AGUSTÍN CODAZZI",null,"CESAR","20013"]
["ASTREA","20","CESAR","20032","ASTREA",null,"CESAR","20032"]
["BECERRIL","20","CESAR","20045","BECERRIL",null,"CESAR","20045"]
["BOSCONIA","20","CESAR","20060","BOSCONIA",null,"CESAR","20060"]
["CHIMICHAGUA","20","CESAR","20175","CHIMICHAGUA",null,"CESAR","20175"]
["CHIRIGUANÁ","20","CESAR","20178","CHIRIGUANÁ",null,"CESAR","20178"]
["CURUMANÍ","20","CESAR","20228","CURUMANÍ",null,"CESAR","20228"]
["EL COPEY","20","CESAR","20238","EL COPEY",null,"CESAR","20238"]
["EL PASO","20","CESAR","20250","EL PASO",null,"CESAR","20250"]
["GAMARRA","20","CESAR","20295","GAMARRA",null,"CESAR","20295"]
["GONZÁLEZ","20","CESAR","20310","GONZÁLEZ",null,"CESAR","20310"]
["LA GLORIA","20","CESAR","20383","LA GLORIA",null,"CESAR","20383"]
["LA JAGUA DE IBIRICO","20","CESAR","20400","LA JAGUA DE IBIRICO",null,"CESAR","20400"]
["MANAURE BALCÓN DEL CESAR","20","CESAR","20443","MANAURE BALCÓN DEL CESAR",null,"CESAR","20443"]
["PAILITAS","20","CESAR","20517","PAILITAS",null,"CESAR","20517"]
["PELAYA","20","CESAR","20550","PELAYA",null,"CESAR","20550"]
["PUEBLO BELLO","20","CESAR","20570","PUEBLO BELLO",null,"CESAR","20570"]
["RÍO DE ORO","20","CESAR","20614","RÍO DE ORO",null,"CESAR","20614"]
["LA PAZ (CES)","20","CESAR","20621","LA PAZ (CES)","x","CESAR","20621"]
["SAN ALBERTO","20","CESAR","20710","SAN ALBERTO",null,"CESAR","20710"]
["SAN DIEGO","20","CESAR","20750","SAN DIEGO",null,"CESAR","20750"]
["SAN MARTÍN (CES)","20","CESAR","20770","SAN MARTÍN (CES)","x","CESAR","20770"]
["TAMALAMEQUE","20","CESAR","20787","TAMALAMEQUE",null,"CESAR","20787"]
["MONTERÍA","23","CÓRDOBA","23001","MONTERÍA",null,"CÓRDOBA","23001"]
["AYAPEL","23","CÓRDOBA","23068","AYAPEL",null,"CÓRDOBA","23068"]
["BUENAVISTA (COR)","23","CÓRDOBA","23079","BUENAVISTA (COR)","x","CÓRDOBA","23079"]
["CANALETE","23","CÓRDOBA","23090","CANALETE",null,"CÓRDOBA","23090"]
["CERETÉ","23","CÓRDOBA","23162","CERETÉ",null,"CÓRDOBA","23162"]
["CHIMÁ","23","CÓRDOBA","23168","CHIMÁ",null,"CÓRDOBA","23168"]
["CHINÚ","23","CÓRDOBA","23182","CHINÚ",null,"CÓRDOBA","23182"]
["CIÉNAGA DE ORO","23","CÓRDOBA","23189","CIÉNAGA DE ORO",null,"CÓRDOBA","23189"]
["COTORRA","23","CÓRDOBA","23300","COTORRA",null,"CÓRDOBA","23300"]
["LA APARTADA","23","CÓRDOBA","23350","LA APARTADA",null,"CÓRDOBA","23350"]
["LORICA","23","CÓRDOBA","23417","LORICA",null,"CÓRDOBA","23417"]
["LOS CÓRDOBAS","23","CÓRDOBA","23419","LOS CÓRDOBAS",null,"CÓRDOBA","23419"]
["MOMIL","23","CÓRDOBA","23464","MOMIL",null,"CÓRDOBA","23464"]
["MONTELÍBANO","23","CÓRDOBA","23466","MONTELÍBANO",null,"CÓRDOBA","23466"]
["MOÑITOS","23","CÓRDOBA","23500","MOÑITOS",null,"CÓRDOBA","23500"]
["PLANETA RICA","23","CÓRDOBA","23555","PLANETA RICA",null,"CÓRDOBA","23555"]
["PUEBLO NUEVO","23","CÓRDOBA","23570","PUEBLO NUEVO",null,"CÓRDOBA","23570"]
["PUERTO ESCONDIDO","23","CÓRDOBA","23574","PUERTO ESCONDIDO",null,"CÓRDOBA","23574"]
["PUERTO LIBERTADOR","23","CÓRDOBA","23580","PUERTO LIBERTADOR",null,"CÓRDOBA","23580"]
["PURÍSIMA DE LA CONCEPCIÓN","23","CÓRDOBA","23586","PURÍSIMA DE LA CONCEPCIÓN",null,"CÓRDOBA","23586"]
["SAHAGÚN","23","CÓRDOBA","23660","SAHAGÚN",null,"CÓRDOBA","23660"]
["SAN ANDRÉS DE SOTAVENTO","23","CÓRDOBA","23670","SAN ANDRÉS DE SOTAVENTO",null,"CÓRDOBA","23670"]
["SAN ANTERO","23","CÓRDOBA","23672","SAN ANTERO",null,"CÓRDOBA","23672"]
["SAN BERNARDO DEL VIENTO","23","CÓRDOBA","23675","SAN BERNARDO DEL VIENTO",null,"CÓRDOBA","23675"]
["SAN CARLOS","23","CÓRDOBA","23678","SAN CARLOS",null,"CÓRDOBA","23678"]
["SAN JOSÉ DE URÉ","23","CÓRDOBA","23682","SAN JOSÉ DE URÉ",null,"CÓRDOBA","23682"]
["SAN PELAYO","23","CÓRDOBA","23686","SAN PELAYO",null,"CÓRDOBA","23686"]
["TIERRALTA","23","CÓRDOBA","23807","TIERRALTA",null,"CÓRDOBA","23807"]
["TUCHÍN","23","CÓRDOBA","23815","TUCHÍN",null,"CÓRDOBA","23815"]
["VALENCIA","23","CÓRDOBA","23855","VALENCIA",null,"CÓRDOBA","23855"]
["AGUA DE DIOS","25","CUNDINAMARCA","25001","AGUA DE DIOS",null,"CUNDINAMARCA","25001"]
["ALBÁN (CUN)","25","CUNDINAMARCA","25019","ALBÁN (CUN)","x","CUNDINAMARCA","25019"]
["ANAPOIMA","25","CUNDINAMARCA","25035","ANAPOIMA",null,"CUNDINAMARCA","25035"]
["ANOLAIMA","25","CUNDINAMARCA","25040","ANOLAIMA",null,"CUNDINAMARCA","25040"]
["ARBELÁEZ","25","CUNDINAMARCA","25053","ARBELÁEZ",null,"CUNDINAMARCA","25053"]
["BELTRÁN","25","CUNDINAMARCA","25086","BELTRÁN",null,"CUNDINAMARCA","25086"]
["BITUIMA","25","CUNDINAMARCA","25095","BITUIMA",null,"CUNDINAMARCA","25095"]
["BOJACÁ","25","CUNDINAMARCA","25099","BOJACÁ",null,"CUNDINAMARCA","25099"]
["CABRERA (CUN)","25","CUNDINAMARCA","25120","CABRERA (CUN)","x","CUNDINAMARCA","25120"]
["CACHIPAY","25","CUNDINAMARCA","25123","CACHIPAY",null,"CUNDINAMARCA","25123"]
["CAJICÁ","25","CUNDINAMARCA","25126","CAJICÁ",null,"CUNDINAMARCA","25126"]
["CAPARRAPÍ","25","CUNDINAMARCA","25148","CAPARRAPÍ",null,"CUNDINAMARCA","25148"]
["CÁQUEZA","25","CUNDINAMARCA","25151","CÁQUEZA",null,"CUNDINAMARCA","25151"]
["CARMEN DE CARUPA","25","CUNDINAMARCA","25154","CARMEN DE CARUPA",null,"CUNDINAMARCA","25154"]
["CHAGUANÍ","25","CUNDINAMARCA","25168","CHAGUANÍ",null,"CUNDINAMARCA","25168"]
["CHÍA","25","CUNDINAMARCA","25175","CHÍA",null,"CUNDINAMARCA","25175"]
["CHIPAQUE","25","CUNDINAMARCA","25178","CHIPAQUE",null,"CUNDINAMARCA","25178"]
["CHOACHÍ","25","CUNDINAMARCA","25181","CHOACHÍ",null,"CUNDINAMARCA","25181"]
["CHOCONTÁ","25","CUNDINAMARCA","25183","CHOCONTÁ",null,"CUNDINAMARCA","25183"]
["COGUA","25","CUNDINAMARCA","25200","COGUA",null,"CUNDINAMARCA","25200"]
["COTA","25","CUNDINAMARCA","25214","COTA",null,"CUNDINAMARCA","25214"]
["CUCUNUBÁ","25","CUNDINAMARCA","25224","CUCUNUBÁ",null,"CUNDINAMARCA","25224"]
["EL COLEGIO","25","CUNDINAMARCA","25245","EL COLEGIO",null,"CUNDINAMARCA","25245"]
["EL PEÑÓN (CUN)","25","CUNDINAMARCA","25258","EL PEÑÓN (CUN)","x","CUNDINAMARCA","25258"]
["EL ROSAL","25","CUNDINAMARCA","25260","EL ROSAL",null,"CUNDINAMARCA","25260"]
["FACATATIVÁ","25","CUNDINAMARCA","25269","FACATATIVÁ",null,"CUNDINAMARCA","25269"]
["FÓMEQUE","25","CUNDINAMARCA","25279","FÓMEQUE",null,"CUNDINAMARCA","25279"]
["FOSCA","25","CUNDINAMARCA","25281","FOSCA",null,"CUNDINAMARCA","25281"]
["FUNZA","25","CUNDINAMARCA","25286","FUNZA",null,"CUNDINAMARCA","25286"]
["FÚQUENE","25","CUNDINAMARCA","25288","FÚQUENE",null,"CUNDINAMARCA","25288"]
["FUSAGASUGÁ","25","CUNDINAMARCA","25290","FUSAGASUGÁ",null,"CUNDINAMARCA","25290"]
["GACHALÁ","25","CUNDINAMARCA","25293","GACHALÁ",null,"CUNDINAMARCA","25293"]
["GACHANCIPÁ","25","CUNDINAMARCA","25295","GACHANCIPÁ",null,"CUNDINAMARCA","25295"]
["GACHETÁ","25","CUNDINAMARCA","25297","GACHETÁ",null,"CUNDINAMARCA","25297"]
["GAMA","25","CUNDINAMARCA","25299","GAMA",null,"CUNDINAMARCA","25299"]
["GIRARDOT","25","CUNDINAMARCA","25307","GIRARDOT",null,"CUNDINAMARCA","25307"]
["GRANADA (CUN)","25","CUNDINAMARCA","25312","GRANADA (CUN)","x","CUNDINAMARCA","25312"]
["GUACHETÁ","25","CUNDINAMARCA","25317","GUACHETÁ",null,"CUNDINAMARCA","25317"]
["GUADUAS","25","CUNDINAMARCA","25320","GUADUAS",null,"CUNDINAMARCA","25320"]
["GUASCA","25","CUNDINAMARCA","25322","GUASCA",null,"CUNDINAMARCA","25322"]
["GUATAQUÍ","25","CUNDINAMARCA","25324","GUATAQUÍ",null,"CUNDINAMARCA","25324"]
["GUATAVITA","25","CUNDINAMARCA","25326","GUATAVITA",null,"CUNDINAMARCA","25326"]
["GUAYABAL DE SÍQUIMA","25","CUNDINAMARCA","25328","GUAYABAL DE SÍQUIMA",null,"CUNDINAMARCA","25328"]
["GUAYABETAL","25","CUNDINAMARCA","25335","GUAYABETAL",null,"CUNDINAMARCA","25335"]
["GUTIÉRREZ","25","CUNDINAMARCA","25339","GUTIÉRREZ",null,"CUNDINAMARCA","25339"]
["JERUSALÉN","25","CUNDINAMARCA","25368","JERUSALÉN",null,"CUNDINAMARCA","25368"]
["JUNÍN","25","CUNDINAMARCA","25372","JUNÍN",null,"CUNDINAMARCA","25372"]
["LA CALERA","25","CUNDINAMARCA","25377","LA CALERA",null,"CUNDINAMARCA","25377"]
["LA MESA","25","CUNDINAMARCA","25386","LA MESA",null,"CUNDINAMARCA","25386"]
["LA PALMA","25","CUNDINAMARCA","25394","LA PALMA",null,"CUNDINAMARCA","25394"]
["LA PEÑA","25","CUNDINAMARCA","25398","LA PEÑA",null,"CUNDINAMARCA","25398"]
["LA VEGA","25","CUNDINAMARCA","25402","LA VEGA",null,"CUNDINAMARCA","25402"]
["LENGUAZAQUE","25","CUNDINAMARCA","25407","LENGUAZAQUE",null,"CUNDINAMARCA","25407"]
["MACHETÁ","25","CUNDINAMARCA","25426","MACHETÁ",null,"CUNDINAMARCA","25426"]
["MADRID","25","CUNDINAMARCA","25430","MADRID",null,"CUNDINAMARCA","25430"]
["MANTA","25","CUNDINAMARCA","25436","MANTA",null,"CUNDINAMARCA","25436"]
["MEDINA","25","CUNDINAMARCA","25438","MEDINA",null,"CUNDINAMARCA","25438"]
["MOSQUERA (CUN)","25","CUNDINAMARCA","25473","MOSQUERA (CUN)","x","CUNDINAMARCA","25473"]
["NARIÑO (CUN)","25","CUNDINAMARCA","25483","NARIÑO (CUN)","x","CUNDINAMARCA","25483"]
["NEMOCÓN","25","CUNDINAMARCA","25486","NEMOCÓN",null,"CUNDINAMARCA","25486"]
["NILO","25","CUNDINAMARCA","25488","NILO",null,"CUNDINAMARCA","25488"]
["NIMAIMA","25","CUNDINAMARCA","25489","NIMAIMA",null,"CUNDINAMARCA","25489"]
["NOCAIMA","25","CUNDINAMARCA","25491","NOCAIMA",null,"CUNDINAMARCA","25491"]
["VENECIA","25","CUNDINAMARCA","25506","VENECIA",null,"CUNDINAMARCA","25506"]
["PACHO","25","CUNDINAMARCA","25513","PACHO",null,"CUNDINAMARCA","25513"]
["PAIME","25","CUNDINAMARCA","25518","PAIME",null,"CUNDINAMARCA","25518"]
["PANDI","25","CUNDINAMARCA","25524","PANDI",null,"CUNDINAMARCA","25524"]
["PARATEBUENO","25","CUNDINAMARCA","25530","PARATEBUENO",null,"CUNDINAMARCA","25530"]
["PASCA","25","CUNDINAMARCA","25535","PASCA",null,"CUNDINAMARCA","25535"]
["PUERTO SALGAR","25","CUNDINAMARCA","25572","PUERTO SALGAR",null,"CUNDINAMARCA","25572"]
["PULÍ","25","CUNDINAMARCA","25580","PULÍ",null,"CUNDINAMARCA","25580"]
["QUEBRADANEGRA","25","CUNDINAMARCA","25592","QUEBRADANEGRA",null,"CUNDINAMARCA","25592"]
["QUETAME","25","CUNDINAMARCA","25594","QUETAME",null,"CUNDINAMARCA","25594"]
["QUIPILE","25","CUNDINAMARCA","25596","QUIPILE",null,"CUNDINAMARCA","25596"]
["APULO","25","CUNDINAMARCA","25599","APULO",null,"CUNDINAMARCA","25599"]
["RICAURTE","25","CUNDINAMARCA","25612","RICAURTE (CUN)",null,"CUNDINAMARCA","25612"]
["SAN ANTONIO DEL TEQUENDAMA","25","CUNDINAMARCA","25645","SAN ANTONIO DEL TEQUENDAMA",null,"CUNDINAMARCA","25645"]
["SAN BERNARDO (CUN)","25","CUNDINAMARCA","25649","SAN BERNARDO (CUN)","x","CUNDINAMARCA","25649"]
["SAN CAYETANO (CUN)","25","CUNDINAMARCA","25653","SAN CAYETANO (CUN)","x","CUNDINAMARCA","25653"]
["SAN FRANCISCO","25","CUNDINAMARCA","25658","SAN FRANCISCO",null,"CUNDINAMARCA","25658"]
["SAN JUAN DE RIOSECO","25","CUNDINAMARCA","25662","SAN JUAN DE RIOSECO",null,"CUNDINAMARCA","25662"]
["SASAIMA","25","CUNDINAMARCA","25718","SASAIMA",null,"CUNDINAMARCA","25718"]
["SESQUILÉ","25","CUNDINAMARCA","25736","SESQUILÉ",null,"CUNDINAMARCA","25736"]
["SIBATÉ","25","CUNDINAMARCA","25740","SIBATÉ",null,"CUNDINAMARCA","25740"]
["SILVANIA","25","CUNDINAMARCA","25743","SILVANIA",null,"CUNDINAMARCA","25743"]
["SIMIJACA","25","CUNDINAMARCA","25745","SIMIJACA",null,"CUNDINAMARCA","25745"]
["SOACHA","25","CUNDINAMARCA","25754","SOACHA",null,"CUNDINAMARCA","25754"]
["SOPÓ","25","CUNDINAMARCA","25758","SOPÓ",null,"CUNDINAMARCA","25758"]
["SUBACHOQUE","25","CUNDINAMARCA","25769","SUBACHOQUE",null,"CUNDINAMARCA","25769"]
["SUESCA","25","CUNDINAMARCA","25772","SUESCA",null,"CUNDINAMARCA","25772"]
["SUPATÁ","25","CUNDINAMARCA","25777","SUPATÁ",null,"CUNDINAMARCA","25777"]
["SUSA","25","CUNDINAMARCA","25779","SUSA",null,"CUNDINAMARCA","25779"]
["SUTATAUSA","25","CUNDINAMARCA","25781","SUTATAUSA",null,"CUNDINAMARCA","25781"]
["TABIO","25","CUNDINAMARCA","25785","TABIO",null,"CUNDINAMARCA","25785"]
["TAUSA","25","CUNDINAMARCA","25793","TAUSA",null,"CUNDINAMARCA","25793"]
["TENA","25","CUNDINAMARCA","25797","TENA",null,"CUNDINAMARCA","25797"]
["TENJO","25","CUNDINAMARCA","25799","TENJO",null,"CUNDINAMARCA","25799"]
["TIBACUY","25","CUNDINAMARCA","25805","TIBACUY",null,"CUNDINAMARCA","25805"]
["TIBIRITA","25","CUNDINAMARCA","25807","TIBIRITA",null,"CUNDINAMARCA","25807"]
["TOCAIMA","25","CUNDINAMARCA","25815","TOCAIMA",null,"CUNDINAMARCA","25815"]
["TOCANCIPÁ","25","CUNDINAMARCA","25817","TOCANCIPÁ",null,"CUNDINAMARCA","25817"]
["TOPAIPÍ","25","CUNDINAMARCA","25823","TOPAIPÍ",null,"CUNDINAMARCA","25823"]
["UBALÁ","25","CUNDINAMARCA","25839","UBALÁ",null,"CUNDINAMARCA","25839"]
["UBAQUE","25","CUNDINAMARCA","25841","UBAQUE",null,"CUNDINAMARCA","25841"]
["VILLA DE SAN DIEGO DE UBATÉ","25","CUNDINAMARCA","25843","VILLA DE SAN DIEGO DE UBATÉ",null,"CUNDINAMARCA","25843"]
["UNE","25","CUNDINAMARCA","25845","UNE",null,"CUNDINAMARCA","25845"]
["ÚTICA","25","CUNDINAMARCA","25851","ÚTICA",null,"CUNDINAMARCA","25851"]
["VERGARA","25","CUNDINAMARCA","25862","VERGARA",null,"CUNDINAMARCA","25862"]
["VIANÍ","25","CUNDINAMARCA","25867","VIANÍ",null,"CUNDINAMARCA","25867"]
["VILLAGÓMEZ","25","CUNDINAMARCA","25871","VILLAGÓMEZ",null,"CUNDINAMARCA","25871"]
["VILLAPINZÓN","25","CUNDINAMARCA","25873","VILLAPINZÓN",null,"CUNDINAMARCA","25873"]
["VILLETA","25","CUNDINAMARCA","25875","VILLETA",null,"CUNDINAMARCA","25875"]
["VIOTÁ","25","CUNDINAMARCA","25878","VIOTÁ",null,"CUNDINAMARCA","25878"]
["YACOPÍ","25","CUNDINAMARCA","25885","YACOPÍ",null,"CUNDINAMARCA","25885"]
["ZIPACÓN","25","CUNDINAMARCA","25898","ZIPACÓN",null,"CUNDINAMARCA","25898"]
["ZIPAQUIRÁ","25","CUNDINAMARCA","25899","ZIPAQUIRÁ",null,"CUNDINAMARCA","25899"]
["QUIBDÓ","27","CHOCÓ","27001","QUIBDÓ",null,"CHOCÓ","27001"]
["ACANDÍ","27","CHOCÓ","27006","ACANDÍ",null,"CHOCÓ","27006"]
["ALTO BAUDÓ","27","CHOCÓ","27025","ALTO BAUDÓ",null,"CHOCÓ","27025"]
["ATRATO","27","CHOCÓ","27050","ATRATO",null,"CHOCÓ","27050"]
["BAGADÓ","27","CHOCÓ","27073","BAGADÓ",null,"CHOCÓ","27073"]
["BAHÍA SOLANO","27","CHOCÓ","27075","BAHÍA SOLANO",null,"CHOCÓ","27075"]
["BAJO BAUDÓ","27","CHOCÓ","27077","BAJO BAUDÓ",null,"CHOCÓ","27077"]
["BOJAYÁ","27","CHOCÓ","27099","BOJAYÁ",null,"CHOCÓ","27099"]
["EL CANTÓN DEL SAN PABLO","27","CHOCÓ","27135","EL CANTÓN DEL SAN PABLO",null,"CHOCÓ","27135"]
["CARMEN DEL DARIÉN","27","CHOCÓ","27150","CARMEN DEL DARIÉN",null,"CHOCÓ","27150"]
["CÉRTEGUI","27","CHOCÓ","27160","CÉRTEGUI",null,"CHOCÓ","27160"]
["CONDOTO","27","CHOCÓ","27205","CONDOTO",null,"CHOCÓ","27205"]
["EL CARMEN DE ATRATO","27","CHOCÓ","27245","EL CARMEN DE ATRATO",null,"CHOCÓ","27245"]
["EL LITORAL DEL SAN JUAN","27","CHOCÓ","27250","EL LITORAL DEL SAN JUAN",null,"CHOCÓ","27250"]
["ISTMINA","27","CHOCÓ","27361","ISTMINA",null,"CHOCÓ","27361"]
["JURADÓ","27","CHOCÓ","27372","JURADÓ",null,"CHOCÓ","27372"]
["LLORÓ","27","CHOCÓ","27413","LLORÓ",null,"CHOCÓ","27413"]
["MEDIO ATRATO","27","CHOCÓ","27425","MEDIO ATRATO",null,"CHOCÓ","27425"]
["MEDIO BAUDÓ","27","CHOCÓ","27430","MEDIO BAUDÓ",null,"CHOCÓ","27430"]
["MEDIO SAN JUAN","27","CHOCÓ","27450","MEDIO SAN JUAN",null,"CHOCÓ","27450"]
["NÓVITA","27","CHOCÓ","27491","NÓVITA",null,"CHOCÓ","27491"]
["NUQUÍ","27","CHOCÓ","27495","NUQUÍ",null,"CHOCÓ","27495"]
["RÍO IRÓ","27","CHOCÓ","27580","RÍO IRÓ",null,"CHOCÓ","27580"]
["RÍO QUITO","27","CHOCÓ","27600","RÍO QUITO",null,"CHOCÓ","27600"]
["RIOSUCIO","27","CHOCÓ","27615","RIOSUCIO",null,"CHOCÓ","27615"]
["SAN JOSÉ DEL PALMAR","27","CHOCÓ","27660","SAN JOSÉ DEL PALMAR",null,"CHOCÓ","27660"]
["SIPÍ","27","CHOCÓ","27745","SIPÍ",null,"CHOCÓ","27745"]
["TADÓ","27","CHOCÓ","27787","TADÓ",null,"CHOCÓ","27787"]
["UNGUÍA","27","CHOCÓ","27800","UNGUÍA",null,"CHOCÓ","27800"]
["UNIÓN PANAMERICANA","27","CHOCÓ","27810","UNIÓN PANAMERICANA",null,"CHOCÓ","27810"]
["NEIVA","41","HUILA","41001","NEIVA",null,"HUILA","41001"]
["ACEVEDO","41","HUILA","41006","ACEVEDO",null,"HUILA","41006"]
["AGRADO","41","HUILA","41013","AGRADO",null,"HUILA","41013"]
["AIPE","41","HUILA","41016","AIPE",null,"HUILA","41016"]
["ALGECIRAS","41","HUILA","41020","ALGECIRAS",null,"HUILA","41020"]
["ALTAMIRA","41","HUILA","41026","ALTAMIRA",null,"HUILA","41026"]
["BARAYA","41","HUILA","41078","BARAYA",null,"HUILA","41078"]
["CAMPOALEGRE","41","HUILA","41132","CAMPOALEGRE",null,"HUILA","41132"]
["COLOMBIA","41","HUILA","41206","COLOMBIA",null,"HUILA","41206"]
["ELÍAS","41","HUILA","41244","ELÍAS",null,"HUILA","41244"]
["GARZÓN","41","HUILA","41298","GARZÓN",null,"HUILA","41298"]
["GIGANTE","41","HUILA","41306","GIGANTE",null,"HUILA","41306"]
["GUADALUPE (HUI)","41","HUILA","41319","GUADALUPE (HUI)","x","HUILA","41319"]
["HOBO","41","HUILA","41349","HOBO",null,"HUILA","41349"]
["ÍQUIRA","41","HUILA","41357","ÍQUIRA",null,"HUILA","41357"]
["ISNOS","41","HUILA","41359","ISNOS",null,"HUILA","41359"]
["LA ARGENTINA","41","HUILA","41378","LA ARGENTINA",null,"HUILA","41378"]
["LA PLATA","41","HUILA","41396","LA PLATA",null,"HUILA","41396"]
["NÁTAGA","41","HUILA","41483","NÁTAGA",null,"HUILA","41483"]
["OPORAPA","41","HUILA","41503","OPORAPA",null,"HUILA","41503"]
["PAICOL","41","HUILA","41518","PAICOL",null,"HUILA","41518"]
["PALERMO","41","HUILA","41524","PALERMO",null,"HUILA","41524"]
["PALESTINA","41","HUILA","41530","PALESTINA",null,"HUILA","41530"]
["PITAL","41","HUILA","41548","PITAL",null,"HUILA","41548"]
["PITALITO","41","HUILA","41551","PITALITO",null,"HUILA","41551"]
["RIVERA","41","HUILA","41615","RIVERA",null,"HUILA","41615"]
["SALADOBLANCO","41","HUILA","41660","SALADOBLANCO",null,"HUILA","41660"]
["SAN AGUSTÍN","41","HUILA","41668","SAN AGUSTÍN",null,"HUILA","41668"]
["SANTA MARÍA","41","HUILA","41676","SANTA MARÍA",null,"HUILA","41676"]
["SUAZA","41","HUILA","41770","SUAZA",null,"HUILA","41770"]
["TARQUI","41","HUILA","41791","TARQUI",null,"HUILA","41791"]
["TESALIA","41","HUILA","41797","TESALIA",null,"HUILA","41797"]
["TELLO","41","HUILA","41799","TELLO",null,"HUILA","41799"]
["TERUEL","41","HUILA","41801","TERUEL",null,"HUILA","41801"]
["TIMANÁ","41","HUILA","41807","TIMANÁ",null,"HUILA","41807"]
["VILLAVIEJA","41","HUILA","41872","VILLAVIEJA",null,"HUILA","41872"]
["YAGUARÁ","41","HUILA","41885","YAGUARÁ",null,"HUILA","41885"]
["RIOHACHA","44","LA_GUAJIRA","44001","RIOHACHA",null,"LA_GUAJIRA","44001"]
["ALBANIA (GUAJ)","44","LA_GUAJIRA","44035","ALBANIA (GUAJ)","x","LA_GUAJIRA","44035"]
["BARRANCAS","44","LA_GUAJIRA","44078","BARRANCAS",null,"LA_GUAJIRA","44078"]
["DIBULLA","44","LA_GUAJIRA","44090","DIBULLA",null,"LA_GUAJIRA","44090"]
["DISTRACCIÓN","44","LA_GUAJIRA","44098","DISTRACCIÓN",null,"LA_GUAJIRA","44098"]
["EL MOLINO","44","LA_GUAJIRA","44110","EL MOLINO",null,"LA_GUAJIRA","44110"]
["FONSECA","44","LA_GUAJIRA","44279","FONSECA",null,"LA_GUAJIRA","44279"]
["HATONUEVO","44","LA_GUAJIRA","44378","HATONUEVO",null,"LA_GUAJIRA","44378"]
["LA JAGUA DEL PILAR","44","LA_GUAJIRA","44420","LA JAGUA DEL PILAR",null,"LA_GUAJIRA","44420"]
["MAICAO","44","LA_GUAJIRA","44430","MAICAO",null,"LA_GUAJIRA","44430"]
["MANAURE","44","LA_GUAJIRA","44560","MANAURE",null,"LA_GUAJIRA","44560"]
["SAN JUAN DEL CESAR","44","LA_GUAJIRA","44650","SAN JUAN DEL CESAR",null,"LA_GUAJIRA","44650"]
["URIBIA","44","LA_GUAJIRA","44847","URIBIA",null,"LA_GUAJIRA","44847"]
["URUMITA","44","LA_GUAJIRA","44855","URUMITA",null,"LA_GUAJIRA","44855"]
["VILLANUEVA (GUAJ)","44","LA_GUAJIRA","44874","VILLANUEVA (GUAJ)","x","LA_GUAJIRA","44874"]
["SANTA MARTA","47","MAGDALENA","47001","SANTA MARTA",null,"MAGDALENA","47001"]
["ALGARROBO","47","MAGDALENA","47030","ALGARROBO",null,"MAGDALENA","47030"]
["ARACATACA","47","MAGDALENA","47053","ARACATACA",null,"MAGDALENA","47053"]
["ARIGUANÍ","47","MAGDALENA","47058","ARIGUANÍ",null,"MAGDALENA","47058"]
["CERRO DE SAN ANTONIO","47","MAGDALENA","47161","CERRO DE SAN ANTONIO",null,"MAGDALENA","47161"]
["CHIVOLO","47","MAGDALENA","47170","CHIVOLO",null,"MAGDALENA","47170"]
["CIÉNAGA","47","MAGDALENA","47189","CIÉNAGA",null,"MAGDALENA","47189"]
["CONCORDIA","47","MAGDALENA","47205","CONCORDIA",null,"MAGDALENA","47205"]
["EL BANCO","47","MAGDALENA","47245","EL BANCO",null,"MAGDALENA","47245"]
["EL PIÑÓN","47","MAGDALENA","47258","EL PIÑÓN",null,"MAGDALENA","47258"]
["EL RETÉN","47","MAGDALENA","47268","EL RETÉN",null,"MAGDALENA","47268"]
["FUNDACIÓN","47","MAGDALENA","47288","FUNDACIÓN",null,"MAGDALENA","47288"]
["GUAMAL (MAG)","47","MAGDALENA","47318","GUAMAL (MAG)","x","MAGDALENA","47318"]
["NUEVA GRANADA","47","MAGDALENA","47460","NUEVA GRANADA",null,"MAGDALENA","47460"]
["PEDRAZA","47","MAGDALENA","47541","PEDRAZA",null,"MAGDALENA","47541"]
["PIJIÑO DEL CARMEN","47","MAGDALENA","47545","PIJIÑO DEL CARMEN",null,"MAGDALENA","47545"]
["PIVIJAY","47","MAGDALENA","47551","PIVIJAY",null,"MAGDALENA","47551"]
["PLATO","47","MAGDALENA","47555","PLATO",null,"MAGDALENA","47555"]
["PUEBLOVIEJO","47","MAGDALENA","47570","PUEBLOVIEJO",null,"MAGDALENA","47570"]
["REMOLINO","47","MAGDALENA","47605","REMOLINO",null,"MAGDALENA","47605"]
["SABANAS DE SAN ÁNGEL","47","MAGDALENA","47660","SABANAS DE SAN ÁNGEL",null,"MAGDALENA","47660"]
["SALAMINA","47","MAGDALENA","47675","SALAMINA",null,"MAGDALENA","47675"]
["SAN SEBASTIÁN DE BUENAVISTA","47","MAGDALENA","47692","SAN SEBASTIÁN DE BUENAVISTA",null,"MAGDALENA","47692"]
["SAN ZENÓN","47","MAGDALENA","47703","SAN ZENÓN",null,"MAGDALENA","47703"]
["SANTA ANA","47","MAGDALENA","47707","SANTA ANA",null,"MAGDALENA","47707"]
["SANTA BÁRBARA DE PINTO","47","MAGDALENA","47720","SANTA BÁRBARA DE PINTO",null,"MAGDALENA","47720"]
["SITIONUEVO","47","MAGDALENA","47745","SITIONUEVO",null,"MAGDALENA","47745"]
["TENERIFE","47","MAGDALENA","47798","TENERIFE",null,"MAGDALENA","47798"]
["ZAPAYÁN","47","MAGDALENA","47960","ZAPAYÁN",null,"MAGDALENA","47960"]
["ZONA BANANERA","47","MAGDALENA","47980","ZONA BANANERA",null,"MAGDALENA","47980"]
["VILLAVICENCIO","50","META","50001","VILLAVICENCIO",null,"META","50001"]
["ACACÍAS","50","META","50006","ACACÍAS",null,"META","50006"]
["BARRANCA DE UPÍA","50","META","50110","BARRANCA DE UPÍA",null,"META","50110"]
["CABUYARO","50","META","50124","CABUYARO",null,"META","50124"]
["CASTILLA LA NUEVA","50","META","50150","CASTILLA LA NUEVA",null,"META","50150"]
["CUBARRAL","50","META","50223","CUBARRAL",null,"META","50223"]
["CUMARAL","50","META","50226","CUMARAL",null,"META","50226"]
["EL CALVARIO","50","META","50245","EL CALVARIO",null,"META","50245"]
["EL CASTILLO","50","META","50251","EL CASTILLO",null,"META","50251"]
["EL DORADO","50","META","50270","EL DORADO",null,"META","50270"]
["FUENTE DE ORO","50","META","50287","FUENTE DE ORO",null,"META","50287"]
["GRANADA","50","META","50313","GRANADA",null,"META","50313"]
["GUAMAL","50","META","50318","GUAMAL",null,"META","50318"]
["MAPIRIPÁN","50","META","50325","MAPIRIPÁN",null,"META","50325"]
["MESETAS","50","META","50330","MESETAS",null,"META","50330"]
["LA MACARENA","50","META","50350","LA MACARENA",null,"META","50350"]
["URIBE","50","META","50370","URIBE",null,"META","50370"]
["LEJANÍAS","50","META","50400","LEJANÍAS",null,"META","50400"]
["PUERTO CONCORDIA","50","META","50450","PUERTO CONCORDIA",null,"META","50450"]
["PUERTO GAITÁN","50","META","50568","PUERTO GAITÁN",null,"META","50568"]
["PUERTO LÓPEZ","50","META","50573","PUERTO LÓPEZ",null,"META","50573"]
["PUERTO LLERAS","50","META","50577","PUERTO LLERAS",null,"META","50577"]
["PUERTO RICO","50","META","50590","PUERTO RICO",null,"META","50590"]
["RESTREPO (MET)","50","META","50606","RESTREPO (MET)","x","META","50606"]
["SAN CARLOS DE GUAROA","50","META","50680","SAN CARLOS DE GUAROA",null,"META","50680"]
["SAN JUAN DE ARAMA","50","META","50683","SAN JUAN DE ARAMA",null,"META","50683"]
["SAN JUANITO","50","META","50686","SAN JUANITO",null,"META","50686"]
["SAN MARTÍN","50","META","50689","SAN MARTÍN",null,"META","50689"]
["VISTAHERMOSA","50","META","50711","VISTAHERMOSA",null,"META","50711"]
["PASTO","52","NARIÑO","52001","PASTO",null,"NARIÑO","52001"]
["ALBÁN","52","NARIÑO","52019","ALBÁN",null,"NARIÑO","52019"]
["ALDANA","52","NARIÑO","52022","ALDANA",null,"NARIÑO","52022"]
["ANCUYA","52","NARIÑO","52036","ANCUYA",null,"NARIÑO","52036"]
["ARBOLEDA","52","NARIÑO","52051","ARBOLEDA",null,"NARIÑO","52051"]
["BARBACOAS","52","NARIÑO","52079","BARBACOAS",null,"NARIÑO","52079"]
["BELÉN","52","NARIÑO","52083","BELÉN",null,"NARIÑO","52083"]
["BUESACO","52","NARIÑO","52110","BUESACO",null,"NARIÑO","52110"]
["COLÓN","52","NARIÑO","52203","COLÓN",null,"NARIÑO","52203"]
["CONSACÁ","52","NARIÑO","52207","CONSACÁ",null,"NARIÑO","52207"]
["CONTADERO","52","NARIÑO","52210","CONTADERO",null,"NARIÑO","52210"]
["CÓRDOBA (NAR)","52","NARIÑO","52215","CÓRDOBA (NAR)","x","NARIÑO","52215"]
["CUASPUD CARLOSAMA","52","NARIÑO","52224","CUASPUD CARLOSAMA",null,"NARIÑO","52224"]
["CUMBAL","52","NARIÑO","52227","CUMBAL",null,"NARIÑO","52227"]
["CUMBITARA","52","NARIÑO","52233","CUMBITARA",null,"NARIÑO","52233"]
["CHACHAGÜÍ","52","NARIÑO","52240","CHACHAGÜÍ",null,"NARIÑO","52240"]
["EL CHARCO","52","NARIÑO","52250","EL CHARCO",null,"NARIÑO","52250"]
["EL PEÑOL","52","NARIÑO","52254","EL PEÑOL",null,"NARIÑO","52254"]
["EL ROSARIO","52","NARIÑO","52256","EL ROSARIO",null,"NARIÑO","52256"]
["EL TABLÓN DE GÓMEZ","52","NARIÑO","52258","EL TABLÓN DE GÓMEZ",null,"NARIÑO","52258"]
["EL TAMBO","52","NARIÑO","52260","EL TAMBO",null,"NARIÑO","52260"]
["FUNES","52","NARIÑO","52287","FUNES",null,"NARIÑO","52287"]
["GUACHUCAL","52","NARIÑO","52317","GUACHUCAL",null,"NARIÑO","52317"]
["GUAITARILLA","52","NARIÑO","52320","GUAITARILLA",null,"NARIÑO","52320"]
["GUALMATÁN","52","NARIÑO","52323","GUALMATÁN",null,"NARIÑO","52323"]
["ILES","52","NARIÑO","52352","ILES",null,"NARIÑO","52352"]
["IMUÉS","52","NARIÑO","52354","IMUÉS",null,"NARIÑO","52354"]
["IPIALES","52","NARIÑO","52356","IPIALES",null,"NARIÑO","52356"]
["LA CRUZ","52","NARIÑO","52378","LA CRUZ",null,"NARIÑO","52378"]
["LA FLORIDA","52","NARIÑO","52381","LA FLORIDA",null,"NARIÑO","52381"]
["LA LLANADA","52","NARIÑO","52385","LA LLANADA",null,"NARIÑO","52385"]
["LA TOLA","52","NARIÑO","52390","LA TOLA",null,"NARIÑO","52390"]
["LA UNIÓN (NAR)","52","NARIÑO","52399","LA UNIÓN (NAR)","x","NARIÑO","52399"]
["LEIVA","52","NARIÑO","52405","LEIVA",null,"NARIÑO","52405"]
["LINARES","52","NARIÑO","52411","LINARES",null,"NARIÑO","52411"]
["LOS ANDES","52","NARIÑO","52418","LOS ANDES",null,"NARIÑO","52418"]
["MAGÜÍ","52","NARIÑO","52427","MAGÜÍ",null,"NARIÑO","52427"]
["MALLAMA","52","NARIÑO","52435","MALLAMA",null,"NARIÑO","52435"]
["MOSQUERA","52","NARIÑO","52473","MOSQUERA",null,"NARIÑO","52473"]
["NARIÑO","52","NARIÑO","52480","NARIÑO",null,"NARIÑO","52480"]
["OLAYA HERRERA","52","NARIÑO","52490","OLAYA HERRERA",null,"NARIÑO","52490"]
["OSPINA","52","NARIÑO","52506","OSPINA",null,"NARIÑO","52506"]
["FRANCISCO PIZARRO","52","NARIÑO","52520","FRANCISCO PIZARRO",null,"NARIÑO","52520"]
["POLICARPA","52","NARIÑO","52540","POLICARPA",null,"NARIÑO","52540"]
["POTOSÍ","52","NARIÑO","52560","POTOSÍ",null,"NARIÑO","52560"]
["PROVIDENCIA","52","NARIÑO","52565","PROVIDENCIA",null,"NARIÑO","52565"]
["PUERRES","52","NARIÑO","52573","PUERRES",null,"NARIÑO","52573"]
["PUPIALES","52","NARIÑO","52585","PUPIALES",null,"NARIÑO","52585"]
["RICAURTE","52","NARIÑO","52612","RICAURTE",null,"NARIÑO","52612"]
["ROBERTO PAYÁN","52","NARIÑO","52621","ROBERTO PAYÁN",null,"NARIÑO","52621"]
["SAMANIEGO","52","NARIÑO","52678","SAMANIEGO",null,"NARIÑO","52678"]
["SANDONÁ","52","NARIÑO","52683","SANDONÁ",null,"NARIÑO","52683"]
["SAN BERNARDO","52","NARIÑO","52685","SAN BERNARDO",null,"NARIÑO","52685"]
["SAN LORENZO","52","NARIÑO","52687","SAN LORENZO",null,"NARIÑO","52687"]
["SAN PABLO","52","NARIÑO","52693","SAN PABLO",null,"NARIÑO","52693"]
["SAN PEDRO DE CARTAGO","52","NARIÑO","52694","SAN PEDRO DE CARTAGO",null,"NARIÑO","52694"]
["SANTA BÁRBARA (NAR)","52","NARIÑO","52696","SANTA BÁRBARA (NAR)","x","NARIÑO","52696"]
["SANTACRUZ","52","NARIÑO","52699","SANTACRUZ",null,"NARIÑO","52699"]
["SAPUYES","52","NARIÑO","52720","SAPUYES",null,"NARIÑO","52720"]
["TAMINANGO","52","NARIÑO","52786","TAMINANGO",null,"NARIÑO","52786"]
["TANGUA","52","NARIÑO","52788","TANGUA",null,"NARIÑO","52788"]
["SAN ANDRÉS DE TUMACO","52","NARIÑO","52835","SAN ANDRÉS DE TUMACO",null,"NARIÑO","52835"]
["TÚQUERRES","52","NARIÑO","52838","TÚQUERRES",null,"NARIÑO","52838"]
["YACUANQUER","52","NARIÑO","52885","YACUANQUER",null,"NARIÑO","52885"]
["SAN JOSÉ DE CÚCUTA","54","NORTE DE SANTANDER","54001","SAN JOSÉ DE CÚCUTA",null,"NORTE DE SANTANDER","54001"]
["ÁBREGO","54","NORTE DE SANTANDER","54003","ÁBREGO",null,"NORTE DE SANTANDER","54003"]
["ARBOLEDAS","54","NORTE DE SANTANDER","54051","ARBOLEDAS",null,"NORTE DE SANTANDER","54051"]
["BOCHALEMA","54","NORTE DE SANTANDER","54099","BOCHALEMA",null,"NORTE DE SANTANDER","54099"]
["BUCARASICA","54","NORTE DE SANTANDER","54109","BUCARASICA",null,"NORTE DE SANTANDER","54109"]
["CÁCOTA","54","NORTE DE SANTANDER","54125","CÁCOTA",null,"NORTE DE SANTANDER","54125"]
["CÁCHIRA","54","NORTE DE SANTANDER","54128","CÁCHIRA",null,"NORTE DE SANTANDER","54128"]
["CHINÁCOTA","54","NORTE DE SANTANDER","54172","CHINÁCOTA",null,"NORTE DE SANTANDER","54172"]
["CHITAGÁ","54","NORTE DE SANTANDER","54174","CHITAGÁ",null,"NORTE DE SANTANDER","54174"]
["CONVENCIÓN","54","NORTE DE SANTANDER","54206","CONVENCIÓN",null,"NORTE DE SANTANDER","54206"]
["CUCUTILLA","54","NORTE DE SANTANDER","54223","CUCUTILLA",null,"NORTE DE SANTANDER","54223"]
["DURANIA","54","NORTE DE SANTANDER","54239","DURANIA",null,"NORTE DE SANTANDER","54239"]
["EL CARMEN","54","NORTE DE SANTANDER","54245","EL CARMEN",null,"NORTE DE SANTANDER","54245"]
["EL TARRA","54","NORTE DE SANTANDER","54250","EL TARRA",null,"NORTE DE SANTANDER","54250"]
["EL ZULIA","54","NORTE DE SANTANDER","54261","EL ZULIA",null,"NORTE DE SANTANDER","54261"]
["GRAMALOTE","54","NORTE DE SANTANDER","54313","GRAMALOTE",null,"NORTE DE SANTANDER","54313"]
["HACARÍ","54","NORTE DE SANTANDER","54344","HACARÍ",null,"NORTE DE SANTANDER","54344"]
["HERRÁN","54","NORTE DE SANTANDER","54347","HERRÁN",null,"NORTE DE SANTANDER","54347"]
["LABATECA","54","NORTE DE SANTANDER","54377","LABATECA",null,"NORTE DE SANTANDER","54377"]
["LA ESPERANZA","54","NORTE DE SANTANDER","54385","LA ESPERANZA",null,"NORTE DE SANTANDER","54385"]
["LA PLAYA","54","NORTE DE SANTANDER","54398","LA PLAYA",null,"NORTE DE SANTANDER","54398"]
["LOS PATIOS","54","NORTE DE SANTANDER","54405","LOS PATIOS",null,"NORTE DE SANTANDER","54405"]
["LOURDES","54","NORTE DE SANTANDER","54418","LOURDES",null,"NORTE DE SANTANDER","54418"]
["MUTISCUA","54","NORTE DE SANTANDER","54480","MUTISCUA",null,"NORTE DE SANTANDER","54480"]
["OCAÑA","54","NORTE DE SANTANDER","54498","OCAÑA",null,"NORTE DE SANTANDER","54498"]
["PAMPLONA","54","NORTE DE SANTANDER","54518","PAMPLONA",null,"NORTE DE SANTANDER","54518"]
["PAMPLONITA","54","NORTE DE SANTANDER","54520","PAMPLONITA",null,"NORTE DE SANTANDER","54520"]
["PUERTO SANTANDER","54","NORTE DE SANTANDER","54553","PUERTO SANTANDER",null,"NORTE DE SANTANDER","54553"]
["RAGONVALIA","54","NORTE DE SANTANDER","54599","RAGONVALIA",null,"NORTE DE SANTANDER","54599"]
["SALAZAR","54","NORTE DE SANTANDER","54660","SALAZAR",null,"NORTE DE SANTANDER","54660"]
["SAN CALIXTO","54","NORTE DE SANTANDER","54670","SAN CALIXTO",null,"NORTE DE SANTANDER","54670"]
["SAN CAYETANO","54","NORTE DE SANTANDER","54673","SAN CAYETANO",null,"NORTE DE SANTANDER","54673"]
["SANTIAGO","54","NORTE DE SANTANDER","54680","SANTIAGO",null,"NORTE DE SANTANDER","54680"]
["SARDINATA","54","NORTE DE SANTANDER","54720","SARDINATA",null,"NORTE DE SANTANDER","54720"]
["SILOS","54","NORTE DE SANTANDER","54743","SILOS",null,"NORTE DE SANTANDER","54743"]
["TEORAMA","54","NORTE DE SANTANDER","54800","TEORAMA",null,"NORTE DE SANTANDER","54800"]
["TIBÚ","54","NORTE DE SANTANDER","54810","TIBÚ",null,"NORTE DE SANTANDER","54810"]
["TOLEDO","54","NORTE DE SANTANDER","54820","TOLEDO",null,"NORTE DE SANTANDER","54820"]
["VILLA CARO","54","NORTE DE SANTANDER","54871","VILLA CARO",null,"NORTE DE SANTANDER","54871"]
["VILLA DEL ROSARIO","54","NORTE DE SANTANDER","54874","VILLA DEL ROSARIO",null,"NORTE DE SANTANDER","54874"]
["ARMENIA","63","QUINDÍO","63001","ARMENIA",null,"QUINDÍO","63001"]
["BUENAVISTA","63","QUINDÍO","63111","BUENAVISTA",null,"QUINDÍO","63111"]
["CALARCÁ","63","QUINDÍO","63130","CALARCÁ",null,"QUINDÍO","63130"]
["CIRCASIA","63","QUINDÍO","63190","CIRCASIA",null,"QUINDÍO","63190"]
["CÓRDOBA","63","QUINDÍO","63212","CÓRDOBA",null,"QUINDÍO","63212"]
["FILANDIA","63","QUINDÍO","63272","FILANDIA",null,"QUINDÍO","63272"]
["GÉNOVA","63","QUINDÍO","63302","GÉNOVA",null,"QUINDÍO","63302"]
["LA TEBAIDA","63","QUINDÍO","63401","LA TEBAIDA",null,"QUINDÍO","63401"]
["MONTENEGRO","63","QUINDÍO","63470","MONTENEGRO",null,"QUINDÍO","63470"]
["PIJAO","63","QUINDÍO","63548","PIJAO",null,"QUINDÍO","63548"]
["QUIMBAYA","63","QUINDÍO","63594","QUIMBAYA",null,"QUINDÍO","63594"]
["SALENTO","63","QUINDÍO","63690","SALENTO",null,"QUINDÍO","63690"]
["PEREIRA","66","RISARALDA","66001","PEREIRA",null,"RISARALDA","66001"]
["APÍA","66","RISARALDA","66045","APÍA",null,"RISARALDA","66045"]
["BALBOA","66","RISARALDA","66075","BALBOA",null,"RISARALDA","66075"]
["BELÉN DE UMBRÍA","66","RISARALDA","66088","BELÉN DE UMBRÍA",null,"RISARALDA","66088"]
["DOSQUEBRADAS","66","RISARALDA","66170","DOSQUEBRADAS",null,"RISARALDA","66170"]
["GUÁTICA","66","RISARALDA","66318","GUÁTICA",null,"RISARALDA","66318"]
["LA CELIA","66","RISARALDA","66383","LA CELIA",null,"RISARALDA","66383"]
["LA VIRGINIA","66","RISARALDA","66400","LA VIRGINIA",null,"RISARALDA","66400"]
["MARSELLA","66","RISARALDA","66440","MARSELLA",null,"RISARALDA","66440"]
["MISTRATÓ","66","RISARALDA","66456","MISTRATÓ",null,"RISARALDA","66456"]
["PUEBLO RICO","66","RISARALDA","66572","PUEBLO RICO",null,"RISARALDA","66572"]
["QUINCHÍA","66","RISARALDA","66594","QUINCHÍA",null,"RISARALDA","66594"]
["SANTA ROSA DE CABAL","66","RISARALDA","66682","SANTA ROSA DE CABAL",null,"RISARALDA","66682"]
["SANTUARIO","66","RISARALDA","66687","SANTUARIO",null,"RISARALDA","66687"]
["BUCARAMANGA","68","SANTANDER","68001","BUCARAMANGA",null,"SANTANDER","68001"]
["AGUADA","68","SANTANDER","68013","AGUADA",null,"SANTANDER","68013"]
["ALBANIA","68","SANTANDER","68020","ALBANIA",null,"SANTANDER","68020"]
["ARATOCA","68","SANTANDER","68051","ARATOCA",null,"SANTANDER","68051"]
["BARBOSA","68","SANTANDER","68077","BARBOSA",null,"SANTANDER","68077"]
["BARICHARA","68","SANTANDER","68079","BARICHARA",null,"SANTANDER","68079"]
["BARRANCABERMEJA","68","SANTANDER","68081","BARRANCABERMEJA",null,"SANTANDER","68081"]
["BETULIA","68","SANTANDER","68092","BETULIA",null,"SANTANDER","68092"]
["BOLÍVAR (SANT)","68","SANTANDER","68101","BOLÍVAR (SANT)","x","SANTANDER","68101"]
["CABRERA","68","SANTANDER","68121","CABRERA",null,"SANTANDER","68121"]
["CALIFORNIA","68","SANTANDER","68132","CALIFORNIA",null,"SANTANDER","68132"]
["CAPITANEJO","68","SANTANDER","68147","CAPITANEJO",null,"SANTANDER","68147"]
["CARCASÍ","68","SANTANDER","68152","CARCASÍ",null,"SANTANDER","68152"]
["CEPITÁ","68","SANTANDER","68160","CEPITÁ",null,"SANTANDER","68160"]
["CERRITO","68","SANTANDER","68162","CERRITO",null,"SANTANDER","68162"]
["CHARALÁ","68","SANTANDER","68167","CHARALÁ",null,"SANTANDER","68167"]
["CHARTA","68","SANTANDER","68169","CHARTA",null,"SANTANDER","68169"]
["CHIMA","68","SANTANDER","68176","CHIMA",null,"SANTANDER","68176"]
["CHIPATÁ","68","SANTANDER","68179","CHIPATÁ",null,"SANTANDER","68179"]
["CIMITARRA","68","SANTANDER","68190","CIMITARRA",null,"SANTANDER","68190"]
["CONCEPCIÓN","68","SANTANDER","68207","CONCEPCIÓN",null,"SANTANDER","68207"]
["CONFINES","68","SANTANDER","68209","CONFINES",null,"SANTANDER","68209"]
["CONTRATACIÓN","68","SANTANDER","68211","CONTRATACIÓN",null,"SANTANDER","68211"]
["COROMORO","68","SANTANDER","68217","COROMORO",null,"SANTANDER","68217"]
["CURITÍ","68","SANTANDER","68229","CURITÍ",null,"SANTANDER","68229"]
["EL CARMEN DE CHUCURI","68","SANTANDER","68235","EL CARMEN DE CHUCURI",null,"SANTANDER","68235"]
["EL GUACAMAYO","68","SANTANDER","68245","EL GUACAMAYO",null,"SANTANDER","68245"]
["EL PEÑÓN","68","SANTANDER","68250","EL PEÑÓN",null,"SANTANDER","68250"]
["EL PLAYÓN","68","SANTANDER","68255","EL PLAYÓN",null,"SANTANDER","68255"]
["ENCINO","68","SANTANDER","68264","ENCINO",null,"SANTANDER","68264"]
["ENCISO","68","SANTANDER","68266","ENCISO",null,"SANTANDER","68266"]
["FLORIÁN","68","SANTANDER","68271","FLORIÁN",null,"SANTANDER","68271"]
["FLORIDABLANCA","68","SANTANDER","68276","FLORIDABLANCA",null,"SANTANDER","68276"]
["GALÁN","68","SANTANDER","68296","GALÁN",null,"SANTANDER","68296"]
["GÁMBITA","68","SANTANDER","68298","GÁMBITA",null,"SANTANDER","68298"]
["GIRÓN","68","SANTANDER","68307","GIRÓN",null,"SANTANDER","68307"]
["GUACA","68","SANTANDER","68318","GUACA",null,"SANTANDER","68318"]
["GUADALUPE","68","SANTANDER","68320","GUADALUPE",null,"SANTANDER","68320"]
["GUAPOTÁ","68","SANTANDER","68322","GUAPOTÁ",null,"SANTANDER","68322"]
["GUAVATÁ","68","SANTANDER","68324","GUAVATÁ",null,"SANTANDER","68324"]
["GÜEPSA","68","SANTANDER","68327","GÜEPSA",null,"SANTANDER","68327"]
["HATO","68","SANTANDER","68344","HATO",null,"SANTANDER","68344"]
["JESÚS MARÍA","68","SANTANDER","68368","JESÚS MARÍA",null,"SANTANDER","68368"]
["JORDÁN","68","SANTANDER","68370","JORDÁN",null,"SANTANDER","68370"]
["LA BELLEZA","68","SANTANDER","68377","LA BELLEZA",null,"SANTANDER","68377"]
["LANDÁZURI","68","SANTANDER","68385","LANDÁZURI",null,"SANTANDER","68385"]
["LA PAZ","68","SANTANDER","68397","LA PAZ",null,"SANTANDER","68397"]
["LEBRIJA","68","SANTANDER","68406","LEBRIJA",null,"SANTANDER","68406"]
["LOS SANTOS","68","SANTANDER","68418","LOS SANTOS",null,"SANTANDER","68418"]
["MACARAVITA","68","SANTANDER","68425","MACARAVITA",null,"SANTANDER","68425"]
["MÁLAGA","68","SANTANDER","68432","MÁLAGA",null,"SANTANDER","68432"]
["MATANZA","68","SANTANDER","68444","MATANZA",null,"SANTANDER","68444"]
["MOGOTES","68","SANTANDER","68464","MOGOTES",null,"SANTANDER","68464"]
["MOLAGAVITA","68","SANTANDER","68468","MOLAGAVITA",null,"SANTANDER","68468"]
["OCAMONTE","68","SANTANDER","68498","OCAMONTE",null,"SANTANDER","68498"]
["OIBA","68","SANTANDER","68500","OIBA",null,"SANTANDER","68500"]
["ONZAGA","68","SANTANDER","68502","ONZAGA",null,"SANTANDER","68502"]
["PALMAR","68","SANTANDER","68522","PALMAR",null,"SANTANDER","68522"]
["PALMAS DEL SOCORRO","68","SANTANDER","68524","PALMAS DEL SOCORRO",null,"SANTANDER","68524"]
["PÁRAMO","68","SANTANDER","68533","PÁRAMO",null,"SANTANDER","68533"]
["PIEDECUESTA","68","SANTANDER","68547","PIEDECUESTA",null,"SANTANDER","68547"]
["PINCHOTE","68","SANTANDER","68549","PINCHOTE",null,"SANTANDER","68549"]
["PUENTE NACIONAL","68","SANTANDER","68572","PUENTE NACIONAL",null,"SANTANDER","68572"]
["PUERTO PARRA","68","SANTANDER","68573","PUERTO PARRA",null,"SANTANDER","68573"]
["PUERTO WILCHES","68","SANTANDER","68575","PUERTO WILCHES",null,"SANTANDER","68575"]
["RIONEGRO","68","SANTANDER","68615","RIONEGRO",null,"SANTANDER","68615"]
["SABANA DE TORRES","68","SANTANDER","68655","SABANA DE TORRES",null,"SANTANDER","68655"]
["SAN ANDRÉS","68","SANTANDER","68669","SAN ANDRÉS",null,"SANTANDER","68669"]
["SAN BENITO","68","SANTANDER","68673","SAN BENITO",null,"SANTANDER","68673"]
["SAN GIL","68","SANTANDER","68679","SAN GIL",null,"SANTANDER","68679"]
["SAN JOAQUÍN","68","SANTANDER","68682","SAN JOAQUÍN",null,"SANTANDER","68682"]
["SAN JOSÉ DE MIRANDA","68","SANTANDER","68684","SAN JOSÉ DE MIRANDA",null,"SANTANDER","68684"]
["SAN MIGUEL","68","SANTANDER","68686","SAN MIGUEL",null,"SANTANDER","68686"]
["SAN VICENTE DE CHUCURÍ","68","SANTANDER","68689","SAN VICENTE DE CHUCURÍ",null,"SANTANDER","68689"]
["SANTA BÁRBARA","68","SANTANDER","68705","SANTA BÁRBARA",null,"SANTANDER","68705"]
["SANTA HELENA DEL OPÓN","68","SANTANDER","68720","SANTA HELENA DEL OPÓN",null,"SANTANDER","68720"]
["SIMACOTA","68","SANTANDER","68745","SIMACOTA",null,"SANTANDER","68745"]
["SOCORRO","68","SANTANDER","68755","SOCORRO",null,"SANTANDER","68755"]
["SUAITA","68","SANTANDER","68770","SUAITA",null,"SANTANDER","68770"]
["SUCRE","68","SANTANDER","68773","SUCRE",null,"SANTANDER","68773"]
["SURATÁ","68","SANTANDER","68780","SURATÁ",null,"SANTANDER","68780"]
["TONA","68","SANTANDER","68820","TONA",null,"SANTANDER","68820"]
["VALLE DE SAN JOSÉ","68","SANTANDER","68855","VALLE DE SAN JOSÉ",null,"SANTANDER","68855"]
["VÉLEZ","68","SANTANDER","68861","VÉLEZ",null,"SANTANDER","68861"]
["VETAS","68","SANTANDER","68867","VETAS",null,"SANTANDER","68867"]
["VILLANUEVA","68","SANTANDER","68872","VILLANUEVA",null,"SANTANDER","68872"]
["ZAPATOCA","68","SANTANDER","68895","ZAPATOCA",null,"SANTANDER","68895"]
["SINCELEJO","70","SUCRE","70001","SINCELEJO",null,"SUCRE","70001"]
["BUENAVISTA (SUC)","70","SUCRE","70110","BUENAVISTA (SUC)","x","SUCRE","70110"]
["CAIMITO","70","SUCRE","70124","CAIMITO",null,"SUCRE","70124"]
["COLOSÓ","70","SUCRE","70204","COLOSÓ",null,"SUCRE","70204"]
["COROZAL","70","SUCRE","70215","COROZAL",null,"SUCRE","70215"]
["COVEÑAS","70","SUCRE","70221","COVEÑAS",null,"SUCRE","70221"]
["CHALÁN","70","SUCRE","70230","CHALÁN",null,"SUCRE","70230"]
["EL ROBLE","70","SUCRE","70233","EL ROBLE",null,"SUCRE","70233"]
["GALERAS","70","SUCRE","70235","GALERAS",null,"SUCRE","70235"]
["GUARANDA","70","SUCRE","70265","GUARANDA",null,"SUCRE","70265"]
["LA UNIÓN (SUC)","70","SUCRE","70400","LA UNIÓN (SUC)",null,"SUCRE","70400"]
["LOS PALMITOS","70","SUCRE","70418","LOS PALMITOS",null,"SUCRE","70418"]
["MAJAGUAL","70","SUCRE","70429","MAJAGUAL",null,"SUCRE","70429"]
["MORROA","70","SUCRE","70473","MORROA",null,"SUCRE","70473"]
["OVEJAS","70","SUCRE","70508","OVEJAS",null,"SUCRE","70508"]
["PALMITO","70","SUCRE","70523","PALMITO",null,"SUCRE","70523"]
["SAMPUÉS","70","SUCRE","70670","SAMPUÉS",null,"SUCRE","70670"]
["SAN BENITO ABAD","70","SUCRE","70678","SAN BENITO ABAD",null,"SUCRE","70678"]
["SAN JUAN DE BETULIA","70","SUCRE","70702","SAN JUAN DE BETULIA",null,"SUCRE","70702"]
["SAN MARCOS","70","SUCRE","70708","SAN MARCOS",null,"SUCRE","70708"]
["SAN ONOFRE","70","SUCRE","70713","SAN ONOFRE",null,"SUCRE","70713"]
["SAN PEDRO (SUC)","70","SUCRE","70717","SAN PEDRO (SUC)","x","SUCRE","70717"]
["SAN LUIS DE SINCÉ","70","SUCRE","70742","SAN LUIS DE SINCÉ",null,"SUCRE","70742"]
["SUCRE (SUC)","70","SUCRE","70771","SUCRE (SUC)","x","SUCRE","70771"]
["SANTIAGO DE TOLÚ","70","SUCRE","70820","SANTIAGO DE TOLÚ",null,"SUCRE","70820"]
["SAN JOSÉ DE TOLUVIEJO","70","SUCRE","70823","SAN JOSÉ DE TOLUVIEJO",null,"SUCRE","70823"]
["IBAGUÉ","73","TOLIMA","73001","IBAGUÉ",null,"TOLIMA","73001"]
["ALPUJARRA","73","TOLIMA","73024","ALPUJARRA",null,"TOLIMA","73024"]
["ALVARADO","73","TOLIMA","73026","ALVARADO",null,"TOLIMA","73026"]
["AMBALEMA","73","TOLIMA","73030","AMBALEMA",null,"TOLIMA","73030"]
["ANZOÁTEGUI","73","TOLIMA","73043","ANZOÁTEGUI",null,"TOLIMA","73043"]
["ARMERO","73","TOLIMA","73055","ARMERO",null,"TOLIMA","73055"]
["ATACO","73","TOLIMA","73067","ATACO",null,"TOLIMA","73067"]
["CAJAMARCA","73","TOLIMA","73124","CAJAMARCA",null,"TOLIMA","73124"]
["CARMEN DE APICALÁ","73","TOLIMA","73148","CARMEN DE APICALÁ",null,"TOLIMA","73148"]
["CASABIANCA","73","TOLIMA","73152","CASABIANCA",null,"TOLIMA","73152"]
["CHAPARRAL","73","TOLIMA","73168","CHAPARRAL",null,"TOLIMA","73168"]
["COELLO","73","TOLIMA","73200","COELLO",null,"TOLIMA","73200"]
["COYAIMA","73","TOLIMA","73217","COYAIMA",null,"TOLIMA","73217"]
["CUNDAY","73","TOLIMA","73226","CUNDAY",null,"TOLIMA","73226"]
["DOLORES","73","TOLIMA","73236","DOLORES",null,"TOLIMA","73236"]
["ESPINAL","73","TOLIMA","73268","ESPINAL",null,"TOLIMA","73268"]
["FALAN","73","TOLIMA","73270","FALAN",null,"TOLIMA","73270"]
["FLANDES","73","TOLIMA","73275","FLANDES",null,"TOLIMA","73275"]
["FRESNO","73","TOLIMA","73283","FRESNO",null,"TOLIMA","73283"]
["GUAMO","73","TOLIMA","73319","GUAMO",null,"TOLIMA","73319"]
["HERVEO","73","TOLIMA","73347","HERVEO",null,"TOLIMA","73347"]
["HONDA","73","TOLIMA","73349","HONDA",null,"TOLIMA","73349"]
["ICONONZO","73","TOLIMA","73352","ICONONZO",null,"TOLIMA","73352"]
["LÉRIDA","73","TOLIMA","73408","LÉRIDA",null,"TOLIMA","73408"]
["LÍBANO","73","TOLIMA","73411","LÍBANO",null,"TOLIMA","73411"]
["SAN SEBASTIÁN DE MARIQUITA","73","TOLIMA","73443","SAN SEBASTIÁN DE MARIQUITA",null,"TOLIMA","73443"]
["MELGAR","73","TOLIMA","73449","MELGAR",null,"TOLIMA","73449"]
["MURILLO","73","TOLIMA","73461","MURILLO",null,"TOLIMA","73461"]
["NATAGAIMA","73","TOLIMA","73483","NATAGAIMA",null,"TOLIMA","73483"]
["ORTEGA","73","TOLIMA","73504","ORTEGA",null,"TOLIMA","73504"]
["PALOCABILDO","73","TOLIMA","73520","PALOCABILDO",null,"TOLIMA","73520"]
["PIEDRAS","73","TOLIMA","73547","PIEDRAS",null,"TOLIMA","73547"]
["PLANADAS","73","TOLIMA","73555","PLANADAS",null,"TOLIMA","73555"]
["PRADO","73","TOLIMA","73563","PRADO",null,"TOLIMA","73563"]
["PURIFICACIÓN","73","TOLIMA","73585","PURIFICACIÓN",null,"TOLIMA","73585"]
["RIOBLANCO","73","TOLIMA","73616","RIOBLANCO",null,"TOLIMA","73616"]
["RONCESVALLES","73","TOLIMA","73622","RONCESVALLES",null,"TOLIMA","73622"]
["ROVIRA","73","TOLIMA","73624","ROVIRA",null,"TOLIMA","73624"]
["SALDAÑA","73","TOLIMA","73671","SALDAÑA",null,"TOLIMA","73671"]
["SAN ANTONIO","73","TOLIMA","73675","SAN ANTONIO",null,"TOLIMA","73675"]
["SAN LUIS","73","TOLIMA","73678","SAN LUIS",null,"TOLIMA","73678"]
["SANTA ISABEL","73","TOLIMA","73686","SANTA ISABEL",null,"TOLIMA","73686"]
["SUÁREZ","73","TOLIMA","73770","SUÁREZ",null,"TOLIMA","73770"]
["VALLE DE SAN JUAN","73","TOLIMA","73854","VALLE DE SAN JUAN",null,"TOLIMA","73854"]
["VENADILLO","73","TOLIMA","73861","VENADILLO",null,"TOLIMA","73861"]
["VILLAHERMOSA","73","TOLIMA","73870","VILLAHERMOSA",null,"TOLIMA","73870"]
["VILLARRICA","73","TOLIMA","73873","VILLARRICA",null,"TOLIMA","73873"]
["CALI","76","VALLE DEL CAUCA","76001","CALI",null,"VALLE DEL CAUCA","76001"]
["ALCALÁ","76","VALLE DEL CAUCA","76020","ALCALÁ",null,"VALLE DEL CAUCA","76020"]
["ANDALUCÍA","76","VALLE DEL CAUCA","76036","ANDALUCÍA",null,"VALLE DEL CAUCA","76036"]
["ANSERMANUEVO","76","VALLE DEL CAUCA","76041","ANSERMANUEVO",null,"VALLE DEL CAUCA","76041"]
["ARGELIA","76","VALLE DEL CAUCA","76054","ARGELIA",null,"VALLE DEL CAUCA","76054"]
["BOLÍVAR","76","VALLE DEL CAUCA","76100","BOLÍVAR",null,"VALLE DEL CAUCA","76100"]
["BUENAVENTURA","76","VALLE DEL CAUCA","76109","BUENAVENTURA",null,"VALLE DEL CAUCA","76109"]
["GUADALAJARA DE BUGA","76","VALLE DEL CAUCA","76111","GUADALAJARA DE BUGA",null,"VALLE DEL CAUCA","76111"]
["BUGALAGRANDE","76","VALLE DEL CAUCA","76113","BUGALAGRANDE",null,"VALLE DEL CAUCA","76113"]
["CAICEDONIA","76","VALLE DEL CAUCA","76122","CAICEDONIA",null,"VALLE DEL CAUCA","76122"]
["CALIMA","76","VALLE DEL CAUCA","76126","CALIMA",null,"VALLE DEL CAUCA","76126"]
["CANDELARIA","76","VALLE DEL CAUCA","76130","CANDELARIA",null,"VALLE DEL CAUCA","76130"]
["CARTAGO","76","VALLE DEL CAUCA","76147","CARTAGO",null,"VALLE DEL CAUCA","76147"]
["DAGUA","76","VALLE DEL CAUCA","76233","DAGUA",null,"VALLE DEL CAUCA","76233"]
["EL ÁGUILA","76","VALLE DEL CAUCA","76243","EL ÁGUILA",null,"VALLE DEL CAUCA","76243"]
["EL CAIRO","76","VALLE DEL CAUCA","76246","EL CAIRO",null,"VALLE DEL CAUCA","76246"]
["EL CERRITO","76","VALLE DEL CAUCA","76248","EL CERRITO",null,"VALLE DEL CAUCA","76248"]
["EL DOVIO","76","VALLE DEL CAUCA","76250","EL DOVIO",null,"VALLE DEL CAUCA","76250"]
["FLORIDA","76","VALLE DEL CAUCA","76275","FLORIDA",null,"VALLE DEL CAUCA","76275"]
["GINEBRA","76","VALLE DEL CAUCA","76306","GINEBRA",null,"VALLE DEL CAUCA","76306"]
["GUACARÍ","76","VALLE DEL CAUCA","76318","GUACARÍ",null,"VALLE DEL CAUCA","76318"]
["JAMUNDÍ","76","VALLE DEL CAUCA","76364","JAMUNDÍ",null,"VALLE DEL CAUCA","76364"]
["LA CUMBRE","76","VALLE DEL CAUCA","76377","LA CUMBRE",null,"VALLE DEL CAUCA","76377"]
["LA UNIÓN","76","VALLE DEL CAUCA","76400","LA UNIÓN",null,"VALLE DEL CAUCA","76400"]
["LA VICTORIA","76","VALLE DEL CAUCA","76403","LA VICTORIA",null,"VALLE DEL CAUCA","76403"]
["OBANDO","76","VALLE DEL CAUCA","76497","OBANDO",null,"VALLE DEL CAUCA","76497"]
["PALMIRA","76","VALLE DEL CAUCA","76520","PALMIRA",null,"VALLE DEL CAUCA","76520"]
["PRADERA","76","VALLE DEL CAUCA","76563","PRADERA",null,"VALLE DEL CAUCA","76563"]
["RESTREPO","76","VALLE DEL CAUCA","76606","RESTREPO",null,"VALLE DEL CAUCA","76606"]
["RIOFRÍO","76","VALLE DEL CAUCA","76616","RIOFRÍO",null,"VALLE DEL CAUCA","76616"]
["ROLDANILLO","76","VALLE DEL CAUCA","76622","ROLDANILLO",null,"VALLE DEL CAUCA","76622"]
["SAN PEDRO","76","VALLE DEL CAUCA","76670","SAN PEDRO",null,"VALLE DEL CAUCA","76670"]
["SEVILLA","76","VALLE DEL CAUCA","76736","SEVILLA",null,"VALLE DEL CAUCA","76736"]
["TORO","76","VALLE DEL CAUCA","76823","TORO",null,"VALLE DEL CAUCA","76823"]
["TRUJILLO","76","VALLE DEL CAUCA","76828","TRUJILLO",null,"VALLE DEL CAUCA","76828"]
["TULUÁ","76","VALLE DEL CAUCA","76834","TULUÁ",null,"VALLE DEL CAUCA","76834"]
["ULLOA","76","VALLE DEL CAUCA","76845","ULLOA",null,"VALLE DEL CAUCA","76845"]
["VERSALLES","76","VALLE DEL CAUCA","76863","VERSALLES",null,"VALLE DEL CAUCA","76863"]
["VIJES","76","VALLE DEL CAUCA","76869","VIJES",null,"VALLE DEL CAUCA","76869"]
["YOTOCO","76","VALLE DEL CAUCA","76890","YOTOCO",null,"VALLE DEL CAUCA","76890"]
["YUMBO","76","VALLE DEL CAUCA","76892","YUMBO",null,"VALLE DEL CAUCA","76892"]
["ZARZAL","76","VALLE DEL CAUCA","76895","ZARZAL",null,"VALLE DEL CAUCA","76895"]
["ARAUCA","81","ARAUCA","81001","ARAUCA",null,"ARAUCA","81001"]
["ARAUQUITA","81","ARAUCA","81065","ARAUQUITA",null,"ARAUCA","81065"]
["CRAVO NORTE","81","ARAUCA","81220","CRAVO NORTE",null,"ARAUCA","81220"]
["FORTUL","81","ARAUCA","81300","FORTUL",null,"ARAUCA","81300"]
["PUERTO RONDÓN","81","ARAUCA","81591","PUERTO RONDÓN",null,"ARAUCA","81591"]
["SARAVENA","81","ARAUCA","81736","SARAVENA",null,"ARAUCA","81736"]
["TAME","81","ARAUCA","81794","TAME",null,"ARAUCA","81794"]
["YOPAL","85","CASANARE","85001","YOPAL",null,"CASANARE","85001"]
["AGUAZUL","85","CASANARE","85010","AGUAZUL",null,"CASANARE","85010"]
["CHÁMEZA","85","CASANARE","85015","CHÁMEZA",null,"CASANARE","85015"]
["HATO COROZAL","85","CASANARE","85125","HATO COROZAL",null,"CASANARE","85125"]
["LA SALINA","85","CASANARE","85136","LA SALINA",null,"CASANARE","85136"]
["MANÍ","85","CASANARE","85139","MANÍ",null,"CASANARE","85139"]
["MONTERREY","85","CASANARE","85162","MONTERREY",null,"CASANARE","85162"]
["NUNCHÍA","85","CASANARE","85225","NUNCHÍA",null,"CASANARE","85225"]
["OROCUÉ","85","CASANARE","85230","OROCUÉ",null,"CASANARE","85230"]
["PAZ DE ARIPORO","85","CASANARE","85250","PAZ DE ARIPORO",null,"CASANARE","85250"]
["PORE","85","CASANARE","85263","PORE",null,"CASANARE","85263"]
["RECETOR","85","CASANARE","85279","RECETOR",null,"CASANARE","85279"]
["SABANALARGA","85","CASANARE","85300","SABANALARGA",null,"CASANARE","85300"]
["SÁCAMA","85","CASANARE","85315","SÁCAMA",null,"CASANARE","85315"]
["SAN LUIS DE PALENQUE","85","CASANARE","85325","SAN LUIS DE PALENQUE",null,"CASANARE","85325"]
["TÁMARA","85","CASANARE","85400","TÁMARA",null,"CASANARE","85400"]
["TAURAMENA","85","CASANARE","85410","TAURAMENA",null,"CASANARE","85410"]
["TRINIDAD","85","CASANARE","85430","TRINIDAD",null,"CASANARE","85430"]
["VILLANUEVA (CAS)","85","CASANARE","85440","VILLANUEVA (CAS)","x","CASANARE","85440"]
["MOCOA","86","PUTUMAYO","86001","MOCOA",null,"PUTUMAYO","86001"]
["COLÓN (PUT)","86","PUTUMAYO","86219","COLÓN (PUT)","x","PUTUMAYO","86219"]
["ORITO","86","PUTUMAYO","86320","ORITO",null,"PUTUMAYO","86320"]
["PUERTO ASÍS","86","PUTUMAYO","86568","PUERTO ASÍS",null,"PUTUMAYO","86568"]
["PUERTO CAICEDO","86","PUTUMAYO","86569","PUERTO CAICEDO",null,"PUTUMAYO","86569"]
["PUERTO GUZMÁN","86","PUTUMAYO","86571","PUERTO GUZMÁN",null,"PUTUMAYO","86571"]
["PUERTO LEGUÍZAMO","86","PUTUMAYO","86573","PUERTO LEGUÍZAMO",null,"PUTUMAYO","86573"]
["SIBUNDOY","86","PUTUMAYO","86749","SIBUNDOY",null,"PUTUMAYO","86749"]
["SAN FRANCISCO (PUT)","86","PUTUMAYO","86755","SAN FRANCISCO (PUT)","x","PUTUMAYO","86755"]
["SAN MIGUEL (PUT)","86","PUTUMAYO","86757","SAN MIGUEL (PUT)","x","PUTUMAYO","86757"]
["SANTIAGO (PUT)","86","PUTUMAYO","86760","SANTIAGO (PUT)","x","PUTUMAYO","86760"]
["VALLE DEL GUAMUEZ","86","PUTUMAYO","86865","VALLE DEL GUAMUEZ",null,"PUTUMAYO","86865"]
["VILLAGARZÓN","86","PUTUMAYO","86885","VILLAGARZÓN",null,"PUTUMAYO","86885"]
["SAN ANDRÉS (INSULAR)","88","ARCHIPIÉLAGO DE SAN ANDRÉS, PROVIDENCIA Y SANTA CATALINA","88001","SAN ANDRÉS (INSULAR)","x","ARCHIPIÉLAGO DE SAN ANDRÉS, PROVIDENCIA Y SANTA CATALINA","88001"]
["PROVIDENCIA (INSULAR)","88","ARCHIPIÉLAGO DE SAN ANDRÉS, PROVIDENCIA Y SANTA CATALINA","88564","PROVIDENCIA (INSULAR)","x","ARCHIPIÉLAGO DE SAN ANDRÉS, PROVIDENCIA Y SANTA CATALINA","88564"]
["LETICIA","91","AMAZONAS","91001","LETICIA",null,"AMAZONAS","91001"]
["EL ENCANTO","91","AMAZONAS","91263","EL ENCANTO",null,"AMAZONAS","91263"]
["LA CHORRERA","91","AMAZONAS","91405","LA CHORRERA",null,"AMAZONAS","91405"]
["LA PEDRERA","91","AMAZONAS","91407","LA PEDRERA",null,"AMAZONAS","91407"]
["LA VICTORIA (AMZ)","91","AMAZONAS","91430","LA VICTORIA (AMZ)","x","AMAZONAS","91430"]
["MIRITÍ - PARANÁ","91","AMAZONAS","91460","MIRITÍ - PARANÁ",null,"AMAZONAS","91460"]
["PUERTO ALEGRÍA","91","AMAZONAS","91530","PUERTO ALEGRÍA",null,"AMAZONAS","91530"]
["PUERTO ARICA","91","AMAZONAS","91536","PUERTO ARICA",null,"AMAZONAS","91536"]
["PUERTO NARIÑO","91","AMAZONAS","91540","PUERTO NARIÑO",null,"AMAZONAS","91540"]
["PUERTO SANTANDER","91","AMAZONAS","91669","PUERTO SANTANDER (AMZ)","x","AMAZONAS","91669"]
["TARAPACÁ","91","AMAZONAS","91798","TARAPACÁ",null,"AMAZONAS","91798"]
["INÍRIDA","94","GUAINÍA","94001","INÍRIDA",null,"GUAINÍA","94001"]
["BARRANCOMINAS*","94","GUAINÍA","94343","BARRANCOMINAS*",null,"GUAINÍA","94343"]
["MAPIRIPANA*","94","GUAINÍA","94663","MAPIRIPANA*",null,"GUAINÍA","94663"]
["SAN FELIPE","94","GUAINÍA","94883","SAN FELIPE",null,"GUAINÍA","94883"]
["PUERTO COLOMBIA","94","GUAINÍA","94884","PUERTO COLOMBIA",null,"GUAINÍA","94884"]
["LA GUADALUPE","94","GUAINÍA","94885","LA GUADALUPE",null,"GUAINÍA","94885"]
["CACAHUAL","94","GUAINÍA","94886","CACAHUAL",null,"GUAINÍA","94886"]
["PANA PANA","94","GUAINÍA","94887","PANA PANA",null,"GUAINÍA","94887"]
["MORICHAL","94","GUAINÍA","94888","MORICHAL",null,"GUAINÍA","94888"]
["SAN JOSÉ DEL GUAVIARE","95","GUAVIARE","95001","SAN JOSÉ DEL GUAVIARE",null,"GUAVIARE","95001"]
["CALAMAR","95","GUAVIARE","95015","CALAMAR",null,"GUAVIARE","95015"]
["EL RETORNO","95","GUAVIARE","95025","EL RETORNO",null,"GUAVIARE","95025"]
["MIRAFLORES","95","GUAVIARE","95200","MIRAFLORES",null,"GUAVIARE","95200"]
["MITÚ","97","VAUPÉS","97001","MITÚ",null,"VAUPÉS","97001"]
["CARURÚ","97","VAUPÉS","97161","CARURÚ",null,"VAUPÉS","97161"]
["PACOA","97","VAUPÉS","97511","PACOA",null,"VAUPÉS","97511"]
["TARAIRA","97","VAUPÉS","97666","TARAIRA",null,"VAUPÉS","97666"]
["PAPUNAHUA","97","VAUPÉS","97777","PAPUNAHUA",null,"VAUPÉS","97777"]
["YAVARATÉ","97","VAUPÉS","97889","YAVARATÉ",null,"VAUPÉS","97889"]
["PUERTO CARREÑO","99","VICHADA","99001","PUERTO CARREÑO",null,"VICHADA","99001"]
["LA PRIMAVERA","99","VICHADA","99524","LA PRIMAVERA",null,"VICHADA","99524"]
["SANTA ROSALÍA","99","VICHADA","99624","SANTA ROSALÍA",null,"VICHADA","99624"]
["CUMARIBO","99","VICHADA","99773","CUMARIBO",null,"VICHADA","99773"]